{"text_format":"1","workbook":"xlsx","n_sheets":26,"sheets":["SolCotizacion","ResumenCotizacion","Evaluar","csvRequisicion","Listas","Cotizacion","CSV","ProveedorCSV","csvTemp","Version","TempCantProduc","Consolidado","Hoja1","Hoja2","TempCalculos","DatosCCE","Parametros","ConsolidadoEva","Empates","CalculosEva","ListasEmpates","ListasAutomaticas","ListaProveedores","Cuadro Totales","TablaDinamicaMinimos","TempMinimos"],"not_rendered":{"charts":0,"images":4,"macros":1,"external_links":1,"defined_names":10,"comments":0,"pivot_tables":0},"unopened":[],"bounds":{"document_bytes":16777216,"sheet_cells":100000,"rows_first":2000,"rows_last":500,"rows_between":2000,"halvings":0,"cell_chars":16384,"cell_head_chars":4096},"cells_cut":0,"cells_raw":0,"read":"whole","date_system":"1900"}

{"sheet":"SolCotizacion","index":0,"n_rows":35,"n_cols":16,"rows_kept":35,"cut":false,"hidden":false,"merged":[[9,3,9,5],[13,1,13,2],[7,3,7,5],[1,1,1,10],[5,1,5,2],[7,1,7,2],[9,1,9,2],[5,3,5,5],[9,8,9,10],[0,1,0,10],[32,5,32,6],[29,1,29,7],[27,1,27,10],[28,1,28,10],[11,1,11,2],[30,2,30,6],[31,2,31,6],[21,1,21,13],[22,3,22,6],[23,3,23,6],[3,1,3,10],[5,8,5,10],[15,1,15,10],[7,8,7,10],[11,3,11,5]]}
[null,"SOLICITUD DE COTIZACIÓN"]
[null,"Acuerdo Marco Atención a Emergencias"]
[null,"Versión 20","2024-07-30"]
[null,"Información de la Entidad Compradora"]
[]
[null,"Nombre de la Entidad",null,"",null,null,null,"NIT",""]
[]
[null,"Dirección de la Entidad",null,"",null,null,null,"Correo de contacto",""]
[]
[null,"Ciudad",null,"",null,null,null,"Teléfono de contacto",""]
[]
[null,"Nombre funcionario comprador",null,""]
[]
[null,"Fecha estimada creación solicitud",null,null,"Fecha estimada generacion OC",null,"Fecha estimada vencimiento OC"]
[]
[null,"Solicitud de Cotización"]
[]
[null,null,"Categoría","UNO (1)","Segmento","N/A","Grupo","N/A"]
[null,"Cantidad de filas:"]
[null,1]
[]
[null,"Solicitud"]
[null,"Item","Cod. Matriz","Artículo",null,null,null,"Requiere distribución?","Región","Departamento","Municipio","Dirección de entrega","Unidad","Cantidad"]
[null,1,{"$f":"INDEX(Consolidado!$A:$O,MATCH($D$18&$F$18&$H$18&D24,Consolidado!$J:$J,0),2)","v":{"$error":"#N/A"}},null,null,null,null,null,"Servicio de distribucion Region Caribe occidental",null,null,"Departamento",{"$f":"IFERROR(VLOOKUP(C24,Consolidado!$B:$O,14,0),\"\")","v":""},1]
[null,"1. Si requiere agregue o elimine filas"]
[]
[]
[null,"Gravamenes adicionales*"]
[null,"Si los hay, indique los gravámenes adicionales a los que está sujeta la Orden de Compra. Son gravámenes adicionales por ejemplo; estampillas y demás impuestos territoriales. \nLos impuestos como ICA y retención en la fuente NO son gravámenes adicionales.\n"]
[null,"Gravamenes adicionales (estampillas)"]
[null,"No","Descripción",null,null,null,null,"Porcentaje"]
[null,1,null,null,null,null,null,null,null,null,null,null,"","","",""]
[null,null,null,null,null,"Total porcentaje:",null,{"$f":"SUM(H32:H32)","v":0}]
[null,null,null,"Filas a agregar o eliminar Gravamenes:"]
[null,null,null,1]

{"sheet":"ResumenCotizacion","index":1,"n_rows":20,"n_cols":17,"rows_kept":20,"cut":false,"hidden":false,"merged":[[5,13,5,15],[3,13,3,16],[17,13,17,15],[15,1,15,10],[11,3,11,5],[13,1,13,2],[11,1,11,2],[11,13,11,15],[7,13,7,15],[9,13,9,15],[13,13,13,15],[14,13,14,15],[15,13,15,15],[3,1,3,10],[5,8,5,10],[7,8,7,10],[5,1,5,2],[5,3,5,5],[0,1,0,10],[1,1,1,10],[9,8,9,10],[7,1,7,2],[7,3,7,5],[9,1,9,2],[9,3,9,5]]}
[null,"RESUMEN DE COTIZACIÓN",null,null,null,null,null,null,null,null,null,null,null,null,"JM GRUPO"]
[null,"Acuerdo Marco Atención a Emergencias"]
[null,{"$f":"+SolCotizacion!$B$3","v":"Versión 20"},{"$f":"+SolCotizacion!$C$3","v":"2024-07-30"}]
[null,"Información de la Entidad Compradora",null,null,null,null,null,null,null,null,null,null,null,"Distribución"]
[]
[null,"Nombre de la Entidad",null,"",null,null,null,"NIT","",null,null,null,null,"Región",null,null,"Valor"]
[]
[null,"Dirección de la Entidad",null,"",null,null,null,"Correo de contacto","",null,null,null,null,"Servicio de distribucion Region Pacifico sur",null,null,{"$f":"IFERROR(SUMIFS($S:$S,$I:$I,N8),0)","v":0}]
[]
[null,"Ciudad",null,"",null,null,null,"Teléfono de contacto","",null,null,null,null,"Servicio de distribucion Region Caribe central",null,null,{"$f":"IFERROR(SUMIFS($S:$S,$I:$I,N10),0)","v":0}]
[]
[null,"Nombre funcionario comprador",null,"",null,null,null,null,null,null,null,null,null,"Servicio de distribucion Region San Andres y Providencia",null,null,{"$f":"IFERROR(SUMIFS($S:$S,$I:$I,N12),0)","v":0}]
[]
[null,"Fecha estimada creación solicitud",null,null,"Fecha estimada generacion OC",null,"Fecha estimada vencimiento OC",null,null,null,null,null,null,"Servicio de distribucion Region Caribe occidental",null,null,{"$f":"IFERROR(SUMIFS($S:$S,$I:$I,N14),0)","v":0}]
[null,null,null,null,null,null,null,null,null,null,null,null,null,"Servicio de distribucion Region Orinoquia",null,null,{"$f":"IFERROR(SUMIFS($S:$S,$I:$I,N15),0)","v":0}]
[null,"Solicitud de Cotización",null,null,null,null,null,null,null,null,null,null,null,"Servicio de distribucion Region Resto del pais",null,null,{"$f":"IFERROR(SUMIFS($S:$S,$I:$I,N16),0)","v":0}]
[]
[null,null,"Categoría","UNO (1)","Segmento","N/A","Grupo","N/A",null,null,null,null,null,"Distribución Total ",null,null,{"$f":"SUM($Q8:Q$16)","v":0}]
[null,"Cantidad de filas:"]
[null,1]

{"sheet":"Evaluar","index":2,"n_rows":1,"n_cols":3,"rows_kept":1,"cut":false,"hidden":true,"merged":[]}
[null,"Opciones","Carpeta de cotizaciones"]

{"sheet":"csvRequisicion","index":3,"n_rows":7,"n_cols":41,"rows_kept":7,"cut":false,"hidden":true,"merged":[]}
["Solicitud","Registrar identificador","¿Enviar para aprobación?","Límite de recepción de la sol.","Justificación","Nombre del departamento","Nota del comprador","Solicitado por (correo electrónico)","Solicitado por (inicio de sesión)","Nombre de tarjeta de compras","Enviar a nombre","Enviar a id.","Enviar a la atención","Enviar a calle 1","Enviar a calle 2","Enviar a ciudad","Enviar a estado","Enviar a código postal","Enviar a código de país","Enviar a nombre de país","Enviar a código de ubicación","Ocultar precio","Entidad Compradora 2","N.I.T.","Agregación","Necesidad del bien o servicio*","Modalidad de selección","Destinación del gasto*","Origen de los    recursos*","Asociado al Acuerdo de Paz","Supervisor de la Orden de Compra*","Correo electrónico del supervisor*","Teléfono del      supervisor*","Vencimiento de la Orden de Compra*","Especificaciones adicionales de entrega","Gravámenes      adicionales","Integración con SIIF","Código Unidad / Subunidad Ejecutora","Acepto términos y condiciones","codigoAMP","fechaAMP"]
["Línea de solicitudes","Registrar identificador","Número de línea","Número de artículo del catálogo","Nombre de artículo del catálogo","Sin descripción de artículo del catálogo","Número de parte del proveedor","Cantidad","Precio","Límite de recepción de la sol.","Anulación del método de transmisión","Correos electrónicos de transmisión","Nombre del proveedor","Número del proveedor","Código de sitio del proveedor","Código de unidad de medida","Nombre de mercancía","Nombre del contrato","Código de divisa","Etiquetas de activos","Nombre del Cuadro de cuentas","Nombre de la cuenta","Código de cuentas","Segmento 1 de la cuenta","Segmento 2 de la cuenta","Segmento 3 de la cuenta","Segmento 4 de la cuenta","Segmento 5 de la cuenta","Segmento 6 de la cuenta","Segmento 7 de la cuenta","Segmento 8 de la cuenta","Segmento 9 de la cuenta","Segmento 10 de la cuenta","Segmento 11 de la cuenta","Segmento 12 de la cuenta","Segmento 13 de la cuenta","Segmento 14 de la cuenta","Segmento 15 de la cuenta","Segmento 16 de la cuenta","Segmento 17 de la cuenta","Segmento 18 de la cuenta"]
["Asignación de cuentas","Registrar identificador","Número de línea","Monto","Porcentaje","Nombre de período de presupuesto","Nombre de la cuenta","Código de cuentas","Segmento 1 de la cuenta","Segmento 2 de la cuenta","Segmento 3 de la cuenta","Segmento 4 de la cuenta","Segmento 5 de la cuenta","Segmento 6 de la cuenta","Segmento 7 de la cuenta","Segmento 8 de la cuenta","Segmento 9 de la cuenta","Segmento 10 de la cuenta","Segmento 11 de la cuenta","Segmento 12 de la cuenta","Segmento 13 de la cuenta","Segmento 14 de la cuenta","Segmento 15 de la cuenta","Segmento 16 de la cuenta","Segmento 17 de la cuenta","Segmento 18 de la cuenta","Segmento 19 de la cuenta","Segmento 20 de la cuenta"]
["Solicitud",1,"no",null,null,"Digite nombre de la entidad",null,"crear.entidad@colombiacompra.gov.co","digite.usuario",null,"Direccion",4394,null,null,null,null,null,null,null,null,null,null,"Suministro de alimentos PAE II","Necesidad","Material Pedagógico","Necesidad","Selección Abreviada AMP","Funcionamiento","Recursos propios","No","Digite supervisor","Digite correo",1,"2020-01-01",null,"Gravámenes",null,null,"Sí","mat-pedag01","2021-06-17T09:00:00"]
["Línea de solicitudes",1,1,null,"mpg01-FE3-262 FERRETERÍA 262 ESPÁTULAS PARA PINTURA",null,null,100,11975,null,null,null,"DEICY BRAVO JOJOA",null,null,"Und","Material Pedagógico",null,"COP"]
["Línea de solicitudes",1,2,null,"mpg01-FE3-295 FERRETERÍA 295 PLASTICO BURBUJA",null,null,100,5672,null,null,null,"DEICY BRAVO JOJOA",null,null,"Und","Material Pedagógico",null,"COP"]
["Línea de solicitudes",1,3,null,"mpg01-IVA",null,null,1,335293,null,null,null,"DEICY BRAVO JOJOA",null,null,"Und","Material Pedagógico",null,"COP"]

{"sheet":"Listas","index":4,"n_rows":5,"n_cols":2,"rows_kept":5,"cut":false,"hidden":true,"merged":[]}
["Categoria","Proveedores"]
["UNO (1)"]
["DOS (2)"]
["TRES (3)"]
["CUATRO (4)"]

{"sheet":"Cotizacion","index":5,"n_rows":20,"n_cols":17,"rows_kept":20,"cut":false,"hidden":false,"merged":[[13,13,13,15],[14,13,14,15],[15,13,15,15],[17,13,17,15],[3,13,3,16],[5,13,5,15],[7,13,7,15],[9,13,9,15],[11,13,11,15],[9,1,9,2],[9,3,9,5],[18,5,18,10],[18,3,18,4],[9,8,9,10],[15,1,15,10],[13,1,13,2],[11,1,11,2],[11,3,11,5],[0,1,0,10],[1,1,1,10],[3,1,3,10],[5,8,5,10],[7,1,7,2],[7,3,7,5],[7,8,7,10],[5,1,5,2],[5,3,5,5]]}
[null,"COTIZACIÓN"]
[null,"Acuerdo Marco Atención a Emergencias"]
[null,{"$f":"+SolCotizacion!$B$3","v":"Versión 20"},{"$f":"+SolCotizacion!$C$3","v":"2024-07-30"}]
[null,"Información de la Entidad Compradora",null,null,null,null,null,null,null,null,null,null,null,"Distribución"]
[]
[null,"Nombre de la Entidad",null,"",null,null,null,"NIT","",null,null,null,null,"Región",null,null,"Valor"]
[]
[null,"Dirección de la Entidad",null,null,null,null,null,"Correo de contacto","",null,null,null,null,"Servicio de distribucion Region Pacifico sur",null,null,{"$f":"SUMIFS($W:$W,$I:$I,N8)","v":0}]
[]
[null,"Ciudad",null,"",null,null,null,"Teléfono de contacto","",null,null,null,null,"Servicio de distribucion Region Caribe central",null,null,{"$f":"SUMIFS($W:$W,$I:$I,N10)","v":0}]
[]
[null,"Nombre funcionario comprador",null,"",null,null,null,null,null,null,null,null,null,"Servicio de distribucion Region San Andres y Providencia",null,null,{"$f":"SUMIFS($W:$W,$I:$I,N12)","v":0}]
[]
[null,"Fecha estimada \ncreación solicitud",null,null,"Fecha estimada generacion OC",null,"Fecha estimada vencimiento OC",null,null,null,null,null,null,"Servicio de distribucion Region Caribe occidental",null,null,{"$f":"SUMIFS($W:$W,$I:$I,N14)","v":0}]
[null,null,null,null,null,null,null,null,null,null,null,null,null,"Servicio de distribucion Region Orinoquia",null,null,{"$f":"SUMIFS($W:$W,$I:$I,N15)","v":0}]
[null,"Solicitud de Cotización",null,null,null,null,null,null,null,null,null,null,null,"Servicio de distribucion Region Resto del pais",null,null,{"$f":"SUMIFS($W:$W,$I:$I,N16)","v":0}]
[]
[null,null,"Categoría","UNO (1)","Segmento","N/A","Grupo","N/A",null,null,null,null,null,"Distribución Total ",null,null,{"$f":"SUM($Q8:Q$16)","v":0}]
[null,"Cantidad de filas:",null,"Proveedor"]
[null,1]

{"sheet":"CSV","index":6,"n_rows":8,"n_cols":7,"rows_kept":8,"cut":false,"hidden":true,"merged":[]}
["Tipo","Cantidad","Código de unidad de medida*","Precio base","Divisa","Descripción","Mercancía"]
["item",1,"Und","25947,44","COP","ate01C1-076APLICACI’–N DE ESQUEMA DE PINTURA EXTINTOR RODANTE / UNIDAD"]
["item",1,"Und","25947,44","COP","ate01C1-076APLICACI’–N DE ESQUEMA DE PINTURA EXTINTOR RODANTE / UNIDAD"]
["item",1,"Und","214066,41","COP","ate01C1-009EXTINTOR DE AGENTE LIMPIO HCFC DE 2500 GRAMOS / UNIDAD"]
["item",1,"Und","3827,97","COP","ate01Servicio de distribucion Region Caribe occidental"]
["item",1,"Und","3827,97","COP","ate01Servicio de distribucion Region Orinoquia"]
["item",1,"Und","31580,79","COP","ate01Servicio de distribucion Region Resto del pais"]
["item",1,"Und",0,"COP","ate01--IVA"]

{"sheet":"ProveedorCSV","index":7,"n_rows":3,"n_cols":1,"rows_kept":3,"cut":false,"hidden":true,"merged":[]}
["Proveedor"]
["AGROSUMINISTROS DE COLOMBIA SAS"]
["DEICY BRAVO JOJOA"]

{"sheet":"csvTemp","index":8,"n_rows":3,"n_cols":16,"rows_kept":3,"cut":false,"hidden":true,"merged":[]}
["llaveTVEC","Item","Cod. Matriz","Grupo","Segmento","Artículo",null,null,null,"Unidad","Cantidad","Valor Máximo","Subtotal","IVA","Total","Proveedor"]
["mpg01-FE3-262 FERRETERÍA 262 ESPÁTULAS PARA PINTURA",2,"FE3-262","FERRETERÍA",3,"262 ESPÁTULAS PARA PINTURA",null,null,null,"Und",100,11975,1197500,227525,1425025,"DEICY BRAVO JOJOA"]
["mpg01-FE3-295 FERRETERÍA 295 PLASTICO BURBUJA",3,"FE3-295","FERRETERÍA",3,"295 PLASTICO BURBUJA",null,null,null,"Und",100,5672,567200,107768,674968,"DEICY BRAVO JOJOA"]

{"sheet":"Version","index":9,"n_rows":2,"n_cols":4,"rows_kept":2,"cut":false,"hidden":true,"merged":[]}
["NombreAMP","codigoAMP","fechaAMP","version"]
["Material Pedagógico","mat-pedag01","2021-06-17T09:00:00",1]

{"sheet":"TempCantProduc","index":10,"n_rows":4,"n_cols":14,"rows_kept":4,"cut":false,"hidden":true,"merged":[]}
["llave","Item","Cod. Matriz","Artículo",null,null,null,"Requiere distribución?","Región","Departamento","Municipio","Dirección de entrega","Unidad","Cantidad"]
[{"$f":"B2&C2","v":"1C1-076"},1,"C1-076","APLICACIÓN DE ESQUEMA DE PINTURA EXTINTOR RODANTE / UNIDAD",null,null,null,"Si","Servicio de distribucion Region Caribe occidental","Departamento","Departamento","Departamento","Und",1]
[{"$f":"B3&C3","v":"2C1-076"},2,"C1-076","APLICACIÓN DE ESQUEMA DE PINTURA EXTINTOR RODANTE / UNIDAD",null,null,null,"Si","Servicio de distribucion Region Orinoquia","Departamento","Departamento","Departamento","Und",1]
["3C1-009",3,"C1-009","EXTINTOR DE AGENTE LIMPIO HCFC DE 2500 GRAMOS / UNIDAD",null,null,null,"Si","Servicio de distribucion Region Resto del pais","Departamento","Departamento","Departamento","Und",1]

{"sheet":"Consolidado","index":11,"n_rows":1576,"n_cols":17,"rows_kept":1576,"cut":false,"hidden":true,"merged":[]}
["llaveTVEC","CÓDIGO MATRIZ ","CATEGORÍA","SEGMENTO","GRUPO","ARTICULO","PROVEEDOR","VALOR","cruce","llaveSimuladorRC","Valor2","llaveSimuladorRC","TablaDinamicProveedor","Proveedor-TablaDinamica","UNIDAD DE MEDIDA","RCDistribucion","Valor3"]
[{"$f":"\"ate01-\"&B2&\" \"&C2&\" \"&D2&\" \"&E2","v":"ate01-C1-001 UNO (1) N/A N/A"},"C1-001","UNO (1)","N/A","N/A","EXTINTOR POLVO QUÍMICO SECO CLASE ABC PORTÁTIL DE 5 LIBRAS / UNIDAD","IMPLESEG S.A.S.",50597.51,{"$f":"B2&G2","v":"C1-001IMPLESEG S.A.S."},{"$f":"C2&D2&E2&F2","v":"UNO (1)N/AN/AEXTINTOR POLVO QUÍMICO SECO CLASE ABC PORTÁTIL DE 5 LIBRAS / UNIDAD"},{"$f":"H2","v":50597.51},{"$f":"C2&D2&E2&F2&G2","v":"UNO (1)N/AN/AEXTINTOR POLVO QUÍMICO SECO CLASE ABC PORTÁTIL DE 5 LIBRAS / UNIDADIMPLESEG S.A.S."},{"$f":"B2&H2","v":"C1-00150597.51"},{"$f":"G2","v":"IMPLESEG S.A.S."},"Und",{"$f":"C2&D2&E2&F2&G2","v":"UNO (1)N/AN/AEXTINTOR POLVO QUÍMICO SECO CLASE ABC PORTÁTIL DE 5 LIBRAS / UNIDADIMPLESEG S.A.S."},{"$f":"H2","v":50597.51}]
[{"$f":"\"ate01-\"&B3&\" \"&C3&\" \"&D3&\" \"&E3","v":"ate01-C1-001 UNO (1) N/A N/A"},"C1-001","UNO (1)","N/A","N/A","EXTINTOR POLVO QUÍMICO SECO CLASE ABC PORTÁTIL DE 5 LIBRAS / UNIDAD","JM GRUPO",552680.54,{"$f":"B3&G3","v":"C1-001JM GRUPO"},{"$f":"C3&D3&E3&F3","v":"UNO (1)N/AN/AEXTINTOR POLVO QUÍMICO SECO CLASE ABC PORTÁTIL DE 5 LIBRAS / UNIDAD"},{"$f":"H3","v":552680.54},{"$f":"C3&D3&E3&F3&G3","v":"UNO (1)N/AN/AEXTINTOR POLVO QUÍMICO SECO CLASE ABC PORTÁTIL DE 5 LIBRAS / UNIDADJM GRUPO"},{"$f":"B3&H3","v":"C1-001552680.54"},{"$f":"G3","v":"JM GRUPO"},"Und",{"$f":"C3&D3&E3&F3&G3","v":"UNO (1)N/AN/AEXTINTOR POLVO QUÍMICO SECO CLASE ABC PORTÁTIL DE 5 LIBRAS / UNIDADJM GRUPO"},{"$f":"H3","v":552680.54}]
[{"$f":"\"ate01-\"&B4&\" \"&C4&\" \"&D4&\" \"&E4","v":"ate01-C1-002 UNO (1) N/A N/A"},"C1-002","UNO (1)","N/A","N/A","EXTINTOR POLVO QUÍMICO SECO CLASE ABC PORTÁTIL DE 10 LIBRAS / UNIDAD","IMPLESEG S.A.S.",84329.19,{"$f":"B4&G4","v":"C1-002IMPLESEG S.A.S."},{"$f":"C4&D4&E4&F4","v":"UNO (1)N/AN/AEXTINTOR POLVO QUÍMICO SECO CLASE ABC PORTÁTIL DE 10 LIBRAS / UNIDAD"},{"$f":"H4","v":84329.19},{"$f":"C4&D4&E4&F4&G4","v":"UNO (1)N/AN/AEXTINTOR POLVO QUÍMICO SECO CLASE ABC PORTÁTIL DE 10 LIBRAS / UNIDADIMPLESEG S.A.S."},{"$f":"B4&H4","v":"C1-00284329.19"},{"$f":"G4","v":"IMPLESEG S.A.S."},"Und",{"$f":"C4&D4&E4&F4&G4","v":"UNO (1)N/AN/AEXTINTOR POLVO QUÍMICO SECO CLASE ABC PORTÁTIL DE 10 LIBRAS / UNIDADIMPLESEG S.A.S."},{"$f":"H4","v":84329.19}]
[{"$f":"\"ate01-\"&B5&\" \"&C5&\" \"&D5&\" \"&E5","v":"ate01-C1-002 UNO (1) N/A N/A"},"C1-002","UNO (1)","N/A","N/A","EXTINTOR POLVO QUÍMICO SECO CLASE ABC PORTÁTIL DE 10 LIBRAS / UNIDAD","JM GRUPO",924896.61,{"$f":"B5&G5","v":"C1-002JM GRUPO"},{"$f":"C5&D5&E5&F5","v":"UNO (1)N/AN/AEXTINTOR POLVO QUÍMICO SECO CLASE ABC PORTÁTIL DE 10 LIBRAS / UNIDAD"},{"$f":"H5","v":924896.61},{"$f":"C5&D5&E5&F5&G5","v":"UNO (1)N/AN/AEXTINTOR POLVO QUÍMICO SECO CLASE ABC PORTÁTIL DE 10 LIBRAS / UNIDADJM GRUPO"},{"$f":"B5&H5","v":"C1-002924896.61"},{"$f":"G5","v":"JM GRUPO"},"Und",{"$f":"C5&D5&E5&F5&G5","v":"UNO (1)N/AN/AEXTINTOR POLVO QUÍMICO SECO CLASE ABC PORTÁTIL DE 10 LIBRAS / UNIDADJM GRUPO"},{"$f":"H5","v":924896.61}]
[{"$f":"\"ate01-\"&B6&\" \"&C6&\" \"&D6&\" \"&E6","v":"ate01-C1-003 UNO (1) N/A N/A"},"C1-003","UNO (1)","N/A","N/A","EXTINTOR POLVO QUÍMICO SECO CLASE ABC PORTÁTIL DE 20 LIBRAS / UNIDAD","IMPLESEG S.A.S.",103789.77,{"$f":"B6&G6","v":"C1-003IMPLESEG S.A.S."},{"$f":"C6&D6&E6&F6","v":"UNO (1)N/AN/AEXTINTOR POLVO QUÍMICO SECO CLASE ABC PORTÁTIL DE 20 LIBRAS / UNIDAD"},{"$f":"H6","v":103789.77},{"$f":"C6&D6&E6&F6&G6","v":"UNO (1)N/AN/AEXTINTOR POLVO QUÍMICO SECO CLASE ABC PORTÁTIL DE 20 LIBRAS / UNIDADIMPLESEG S.A.S."},{"$f":"B6&H6","v":"C1-003103789.77"},{"$f":"G6","v":"IMPLESEG S.A.S."},"Und",{"$f":"C6&D6&E6&F6&G6","v":"UNO (1)N/AN/AEXTINTOR POLVO QUÍMICO SECO CLASE ABC PORTÁTIL DE 20 LIBRAS / UNIDADIMPLESEG S.A.S."},{"$f":"H6","v":103789.77}]
[{"$f":"\"ate01-\"&B7&\" \"&C7&\" \"&D7&\" \"&E7","v":"ate01-C1-003 UNO (1) N/A N/A"},"C1-003","UNO (1)","N/A","N/A","EXTINTOR POLVO QUÍMICO SECO CLASE ABC PORTÁTIL DE 20 LIBRAS / UNIDAD","JM GRUPO",1556846.59,{"$f":"B7&G7","v":"C1-003JM GRUPO"},{"$f":"C7&D7&E7&F7","v":"UNO (1)N/AN/AEXTINTOR POLVO QUÍMICO SECO CLASE ABC PORTÁTIL DE 20 LIBRAS / UNIDAD"},{"$f":"H7","v":1556846.59},{"$f":"C7&D7&E7&F7&G7","v":"UNO (1)N/AN/AEXTINTOR POLVO QUÍMICO SECO CLASE ABC PORTÁTIL DE 20 LIBRAS / UNIDADJM GRUPO"},{"$f":"B7&H7","v":"C1-0031556846.59"},{"$f":"G7","v":"JM GRUPO"},"Und",{"$f":"C7&D7&E7&F7&G7","v":"UNO (1)N/AN/AEXTINTOR POLVO QUÍMICO SECO CLASE ABC PORTÁTIL DE 20 LIBRAS / UNIDADJM GRUPO"},{"$f":"H7","v":1556846.59}]
[{"$f":"\"ate01-\"&B8&\" \"&C8&\" \"&D8&\" \"&E8","v":"ate01-C1-004 UNO (1) N/A N/A"},"C1-004","UNO (1)","N/A","N/A","EXTINTOR POLVO QUÍMICO SECO CLASE ABC PORTÁTIL DE 30 LIBRAS / UNIDAD","IMPLESEG S.A.S.",127142.47,{"$f":"B8&G8","v":"C1-004IMPLESEG S.A.S."},{"$f":"C8&D8&E8&F8","v":"UNO (1)N/AN/AEXTINTOR POLVO QUÍMICO SECO CLASE ABC PORTÁTIL DE 30 LIBRAS / UNIDAD"},{"$f":"H8","v":127142.47},{"$f":"C8&D8&E8&F8&G8","v":"UNO (1)N/AN/AEXTINTOR POLVO QUÍMICO SECO CLASE ABC PORTÁTIL DE 30 LIBRAS / UNIDADIMPLESEG S.A.S."},{"$f":"B8&H8","v":"C1-004127142.47"},{"$f":"G8","v":"IMPLESEG S.A.S."},"Und",{"$f":"C8&D8&E8&F8&G8","v":"UNO (1)N/AN/AEXTINTOR POLVO QUÍMICO SECO CLASE ABC PORTÁTIL DE 30 LIBRAS / UNIDADIMPLESEG S.A.S."},{"$f":"H8","v":127142.47}]
[{"$f":"\"ate01-\"&B9&\" \"&C9&\" \"&D9&\" \"&E9","v":"ate01-C1-004 UNO (1) N/A N/A"},"C1-004","UNO (1)","N/A","N/A","EXTINTOR POLVO QUÍMICO SECO CLASE ABC PORTÁTIL DE 30 LIBRAS / UNIDAD","JM GRUPO",1816321.02,{"$f":"B9&G9","v":"C1-004JM GRUPO"},{"$f":"C9&D9&E9&F9","v":"UNO (1)N/AN/AEXTINTOR POLVO QUÍMICO SECO CLASE ABC PORTÁTIL DE 30 LIBRAS / UNIDAD"},{"$f":"H9","v":1816321.02},{"$f":"C9&D9&E9&F9&G9","v":"UNO (1)N/AN/AEXTINTOR POLVO QUÍMICO SECO CLASE ABC PORTÁTIL DE 30 LIBRAS / UNIDADJM GRUPO"},{"$f":"B9&H9","v":"C1-0041816321.02"},{"$f":"G9","v":"JM GRUPO"},"Und",{"$f":"C9&D9&E9&F9&G9","v":"UNO (1)N/AN/AEXTINTOR POLVO QUÍMICO SECO CLASE ABC PORTÁTIL DE 30 LIBRAS / UNIDADJM GRUPO"},{"$f":"H9","v":1816321.02}]
[{"$f":"\"ate01-\"&B10&\" \"&C10&\" \"&D10&\" \"&E10","v":"ate01-C1-005 UNO (1) N/A N/A"},"C1-005","UNO (1)","N/A","N/A","EXTINTOR POLVO QUÍMICO SECO CLASE ABC RODANTE DE 50 LIBRAS / UNIDAD","IMPLESEG S.A.S.",415159.09,{"$f":"B10&G10","v":"C1-005IMPLESEG S.A.S."},{"$f":"C10&D10&E10&F10","v":"UNO (1)N/AN/AEXTINTOR POLVO QUÍMICO SECO CLASE ABC RODANTE DE 50 LIBRAS / UNIDAD"},{"$f":"H10","v":415159.09},{"$f":"C10&D10&E10&F10&G10","v":"UNO (1)N/AN/AEXTINTOR POLVO QUÍMICO SECO CLASE ABC RODANTE DE 50 LIBRAS / UNIDADIMPLESEG S.A.S."},{"$f":"B10&H10","v":"C1-005415159.09"},{"$f":"G10","v":"IMPLESEG S.A.S."},"Und",{"$f":"C10&D10&E10&F10&G10","v":"UNO (1)N/AN/AEXTINTOR POLVO QUÍMICO SECO CLASE ABC RODANTE DE 50 LIBRAS / UNIDADIMPLESEG S.A.S."},{"$f":"H10","v":415159.09}]
[{"$f":"\"ate01-\"&B11&\" \"&C11&\" \"&D11&\" \"&E11","v":"ate01-C1-005 UNO (1) N/A N/A"},"C1-005","UNO (1)","N/A","N/A","EXTINTOR POLVO QUÍMICO SECO CLASE ABC RODANTE DE 50 LIBRAS / UNIDAD","JM GRUPO",2075795.46,{"$f":"B11&G11","v":"C1-005JM GRUPO"},{"$f":"C11&D11&E11&F11","v":"UNO (1)N/AN/AEXTINTOR POLVO QUÍMICO SECO CLASE ABC RODANTE DE 50 LIBRAS / UNIDAD"},{"$f":"H11","v":2075795.46},{"$f":"C11&D11&E11&F11&G11","v":"UNO (1)N/AN/AEXTINTOR POLVO QUÍMICO SECO CLASE ABC RODANTE DE 50 LIBRAS / UNIDADJM GRUPO"},{"$f":"B11&H11","v":"C1-0052075795.46"},{"$f":"G11","v":"JM GRUPO"},"Und",{"$f":"C11&D11&E11&F11&G11","v":"UNO (1)N/AN/AEXTINTOR POLVO QUÍMICO SECO CLASE ABC RODANTE DE 50 LIBRAS / UNIDADJM GRUPO"},{"$f":"H11","v":2075795.46}]
[{"$f":"\"ate01-\"&B12&\" \"&C12&\" \"&D12&\" \"&E12","v":"ate01-C1-006 UNO (1) N/A N/A"},"C1-006","UNO (1)","N/A","N/A","EXTINTOR POLVO QUÍMICO SECO CLASE ABC RODANTE DE 150 LIBRAS / UNIDAD","IMPLESEG S.A.S.",1504951.71,{"$f":"B12&G12","v":"C1-006IMPLESEG S.A.S."},{"$f":"C12&D12&E12&F12","v":"UNO (1)N/AN/AEXTINTOR POLVO QUÍMICO SECO CLASE ABC RODANTE DE 150 LIBRAS / UNIDAD"},{"$f":"H12","v":1504951.71},{"$f":"C12&D12&E12&F12&G12","v":"UNO (1)N/AN/AEXTINTOR POLVO QUÍMICO SECO CLASE ABC RODANTE DE 150 LIBRAS / UNIDADIMPLESEG S.A.S."},{"$f":"B12&H12","v":"C1-0061504951.71"},{"$f":"G12","v":"IMPLESEG S.A.S."},"Und",{"$f":"C12&D12&E12&F12&G12","v":"UNO (1)N/AN/AEXTINTOR POLVO QUÍMICO SECO CLASE ABC RODANTE DE 150 LIBRAS / UNIDADIMPLESEG S.A.S."},{"$f":"H12","v":1504951.71}]
[{"$f":"\"ate01-\"&B13&\" \"&C13&\" \"&D13&\" \"&E13","v":"ate01-C1-006 UNO (1) N/A N/A"},"C1-006","UNO (1)","N/A","N/A","EXTINTOR POLVO QUÍMICO SECO CLASE ABC RODANTE DE 150 LIBRAS / UNIDAD","JM GRUPO",2465007.1,{"$f":"B13&G13","v":"C1-006JM GRUPO"},{"$f":"C13&D13&E13&F13","v":"UNO (1)N/AN/AEXTINTOR POLVO QUÍMICO SECO CLASE ABC RODANTE DE 150 LIBRAS / UNIDAD"},{"$f":"H13","v":2465007.1},{"$f":"C13&D13&E13&F13&G13","v":"UNO (1)N/AN/AEXTINTOR POLVO QUÍMICO SECO CLASE ABC RODANTE DE 150 LIBRAS / UNIDADJM GRUPO"},{"$f":"B13&H13","v":"C1-0062465007.1"},{"$f":"G13","v":"JM GRUPO"},"Und",{"$f":"C13&D13&E13&F13&G13","v":"UNO (1)N/AN/AEXTINTOR POLVO QUÍMICO SECO CLASE ABC RODANTE DE 150 LIBRAS / UNIDADJM GRUPO"},{"$f":"H13","v":2465007.1}]
[{"$f":"\"ate01-\"&B14&\" \"&C14&\" \"&D14&\" \"&E14","v":"ate01-C1-007 UNO (1) N/A N/A"},"C1-007","UNO (1)","N/A","N/A","EXTINTOR DE AGUA DE  2 1/2  GALONES / UNIDAD","IMPLESEG S.A.S.",220553.27,{"$f":"B14&G14","v":"C1-007IMPLESEG S.A.S."},{"$f":"C14&D14&E14&F14","v":"UNO (1)N/AN/AEXTINTOR DE AGUA DE  2 1/2  GALONES / UNIDAD"},{"$f":"H14","v":220553.27},{"$f":"C14&D14&E14&F14&G14","v":"UNO (1)N/AN/AEXTINTOR DE AGUA DE  2 1/2  GALONES / UNIDADIMPLESEG S.A.S."},{"$f":"B14&H14","v":"C1-007220553.27"},{"$f":"G14","v":"IMPLESEG S.A.S."},"Und",{"$f":"C14&D14&E14&F14&G14","v":"UNO (1)N/AN/AEXTINTOR DE AGUA DE  2 1/2  GALONES / UNIDADIMPLESEG S.A.S."},{"$f":"H14","v":220553.27}]
[{"$f":"\"ate01-\"&B15&\" \"&C15&\" \"&D15&\" \"&E15","v":"ate01-C1-007 UNO (1) N/A N/A"},"C1-007","UNO (1)","N/A","N/A","EXTINTOR DE AGUA DE  2 1/2  GALONES / UNIDAD","JM GRUPO",115466.12,{"$f":"B15&G15","v":"C1-007JM GRUPO"},{"$f":"C15&D15&E15&F15","v":"UNO (1)N/AN/AEXTINTOR DE AGUA DE  2 1/2  GALONES / UNIDAD"},{"$f":"H15","v":115466.12},{"$f":"C15&D15&E15&F15&G15","v":"UNO (1)N/AN/AEXTINTOR DE AGUA DE  2 1/2  GALONES / UNIDADJM GRUPO"},{"$f":"B15&H15","v":"C1-007115466.12"},{"$f":"G15","v":"JM GRUPO"},"Und",{"$f":"C15&D15&E15&F15&G15","v":"UNO (1)N/AN/AEXTINTOR DE AGUA DE  2 1/2  GALONES / UNIDADJM GRUPO"},{"$f":"H15","v":115466.12}]
[{"$f":"\"ate01-\"&B16&\" \"&C16&\" \"&D16&\" \"&E16","v":"ate01-C1-008 UNO (1) N/A N/A"},"C1-008","UNO (1)","N/A","N/A","EXTINTOR DE AGUA DE 14 GALONES TIPO SATELITE / UNIDAD","IMPLESEG S.A.S.",1530899.15,{"$f":"B16&G16","v":"C1-008IMPLESEG S.A.S."},{"$f":"C16&D16&E16&F16","v":"UNO (1)N/AN/AEXTINTOR DE AGUA DE 14 GALONES TIPO SATELITE / UNIDAD"},{"$f":"H16","v":1530899.15},{"$f":"C16&D16&E16&F16&G16","v":"UNO (1)N/AN/AEXTINTOR DE AGUA DE 14 GALONES TIPO SATELITE / UNIDADIMPLESEG S.A.S."},{"$f":"B16&H16","v":"C1-0081530899.15"},{"$f":"G16","v":"IMPLESEG S.A.S."},"Und",{"$f":"C16&D16&E16&F16&G16","v":"UNO (1)N/AN/AEXTINTOR DE AGUA DE 14 GALONES TIPO SATELITE / UNIDADIMPLESEG S.A.S."},{"$f":"H16","v":1530899.15}]
[{"$f":"\"ate01-\"&B17&\" \"&C17&\" \"&D17&\" \"&E17","v":"ate01-C1-008 UNO (1) N/A N/A"},"C1-008","UNO (1)","N/A","N/A","EXTINTOR DE AGUA DE 14 GALONES TIPO SATELITE / UNIDAD","JM GRUPO",973029.12,{"$f":"B17&G17","v":"C1-008JM GRUPO"},{"$f":"C17&D17&E17&F17","v":"UNO (1)N/AN/AEXTINTOR DE AGUA DE 14 GALONES TIPO SATELITE / UNIDAD"},{"$f":"H17","v":973029.12},{"$f":"C17&D17&E17&F17&G17","v":"UNO (1)N/AN/AEXTINTOR DE AGUA DE 14 GALONES TIPO SATELITE / UNIDADJM GRUPO"},{"$f":"B17&H17","v":"C1-008973029.12"},{"$f":"G17","v":"JM GRUPO"},"Und",{"$f":"C17&D17&E17&F17&G17","v":"UNO (1)N/AN/AEXTINTOR DE AGUA DE 14 GALONES TIPO SATELITE / UNIDADJM GRUPO"},{"$f":"H17","v":973029.12}]
[{"$f":"\"ate01-\"&B18&\" \"&C18&\" \"&D18&\" \"&E18","v":"ate01-C1-009 UNO (1) N/A N/A"},"C1-009","UNO (1)","N/A","N/A","EXTINTOR DE AGENTE LIMPIO HCFC DE 2500 GRAMOS / UNIDAD","IMPLESEG S.A.S.",422943.32,{"$f":"B18&G18","v":"C1-009IMPLESEG S.A.S."},{"$f":"C18&D18&E18&F18","v":"UNO (1)N/AN/AEXTINTOR DE AGENTE LIMPIO HCFC DE 2500 GRAMOS / UNIDAD"},{"$f":"H18","v":422943.32},{"$f":"C18&D18&E18&F18&G18","v":"UNO (1)N/AN/AEXTINTOR DE AGENTE LIMPIO HCFC DE 2500 GRAMOS / UNIDADIMPLESEG S.A.S."},{"$f":"B18&H18","v":"C1-009422943.32"},{"$f":"G18","v":"IMPLESEG S.A.S."},"Und",{"$f":"C18&D18&E18&F18&G18","v":"UNO (1)N/AN/AEXTINTOR DE AGENTE LIMPIO HCFC DE 2500 GRAMOS / UNIDADIMPLESEG S.A.S."},{"$f":"H18","v":422943.32}]
[{"$f":"\"ate01-\"&B19&\" \"&C19&\" \"&D19&\" \"&E19","v":"ate01-C1-009 UNO (1) N/A N/A"},"C1-009","UNO (1)","N/A","N/A","EXTINTOR DE AGENTE LIMPIO HCFC DE 2500 GRAMOS / UNIDAD","JM GRUPO",214066.41,{"$f":"B19&G19","v":"C1-009JM GRUPO"},{"$f":"C19&D19&E19&F19","v":"UNO (1)N/AN/AEXTINTOR DE AGENTE LIMPIO HCFC DE 2500 GRAMOS / UNIDAD"},{"$f":"H19","v":214066.41},{"$f":"C19&D19&E19&F19&G19","v":"UNO (1)N/AN/AEXTINTOR DE AGENTE LIMPIO HCFC DE 2500 GRAMOS / UNIDADJM GRUPO"},{"$f":"B19&H19","v":"C1-009214066.41"},{"$f":"G19","v":"JM GRUPO"},"Und",{"$f":"C19&D19&E19&F19&G19","v":"UNO (1)N/AN/AEXTINTOR DE AGENTE LIMPIO HCFC DE 2500 GRAMOS / UNIDADJM GRUPO"},{"$f":"H19","v":214066.41}]
[{"$f":"\"ate01-\"&B20&\" \"&C20&\" \"&D20&\" \"&E20","v":"ate01-C1-010 UNO (1) N/A N/A"},"C1-010","UNO (1)","N/A","N/A","EXTINTOR DE AGENTE LIMPIO HCFC DE 3700 GRAMOS / UNIDAD","IMPLESEG S.A.S.",609764.92000000004,{"$f":"B20&G20","v":"C1-010IMPLESEG S.A.S."},{"$f":"C20&D20&E20&F20","v":"UNO (1)N/AN/AEXTINTOR DE AGENTE LIMPIO HCFC DE 3700 GRAMOS / UNIDAD"},{"$f":"H20","v":609764.92000000004},{"$f":"C20&D20&E20&F20&G20","v":"UNO (1)N/AN/AEXTINTOR DE AGENTE LIMPIO HCFC DE 3700 GRAMOS / UNIDADIMPLESEG S.A.S."},{"$f":"B20&H20","v":"C1-010609764.92"},{"$f":"G20","v":"IMPLESEG S.A.S."},"Und",{"$f":"C20&D20&E20&F20&G20","v":"UNO (1)N/AN/AEXTINTOR DE AGENTE LIMPIO HCFC DE 3700 GRAMOS / UNIDADIMPLESEG S.A.S."},{"$f":"H20","v":609764.92000000004}]
[{"$f":"\"ate01-\"&B21&\" \"&C21&\" \"&D21&\" \"&E21","v":"ate01-C1-010 UNO (1) N/A N/A"},"C1-010","UNO (1)","N/A","N/A","EXTINTOR DE AGENTE LIMPIO HCFC DE 3700 GRAMOS / UNIDAD","JM GRUPO",381427.42,{"$f":"B21&G21","v":"C1-010JM GRUPO"},{"$f":"C21&D21&E21&F21","v":"UNO (1)N/AN/AEXTINTOR DE AGENTE LIMPIO HCFC DE 3700 GRAMOS / UNIDAD"},{"$f":"H21","v":381427.42},{"$f":"C21&D21&E21&F21&G21","v":"UNO (1)N/AN/AEXTINTOR DE AGENTE LIMPIO HCFC DE 3700 GRAMOS / UNIDADJM GRUPO"},{"$f":"B21&H21","v":"C1-010381427.42"},{"$f":"G21","v":"JM GRUPO"},"Und",{"$f":"C21&D21&E21&F21&G21","v":"UNO (1)N/AN/AEXTINTOR DE AGENTE LIMPIO HCFC DE 3700 GRAMOS / UNIDADJM GRUPO"},{"$f":"H21","v":381427.42}]
[{"$f":"\"ate01-\"&B22&\" \"&C22&\" \"&D22&\" \"&E22","v":"ate01-C1-011 UNO (1) N/A N/A"},"C1-011","UNO (1)","N/A","N/A","EXTINTOR DE AGENTE LIMPIO HCFC DE 7000 GRAMOS / UNIDAD","IMPLESEG S.A.S.",882213.07,{"$f":"B22&G22","v":"C1-011IMPLESEG S.A.S."},{"$f":"C22&D22&E22&F22","v":"UNO (1)N/AN/AEXTINTOR DE AGENTE LIMPIO HCFC DE 7000 GRAMOS / UNIDAD"},{"$f":"H22","v":882213.07},{"$f":"C22&D22&E22&F22&G22","v":"UNO (1)N/AN/AEXTINTOR DE AGENTE LIMPIO HCFC DE 7000 GRAMOS / UNIDADIMPLESEG S.A.S."},{"$f":"B22&H22","v":"C1-011882213.07"},{"$f":"G22","v":"IMPLESEG S.A.S."},"Und",{"$f":"C22&D22&E22&F22&G22","v":"UNO (1)N/AN/AEXTINTOR DE AGENTE LIMPIO HCFC DE 7000 GRAMOS / UNIDADIMPLESEG S.A.S."},{"$f":"H22","v":882213.07}]
[{"$f":"\"ate01-\"&B23&\" \"&C23&\" \"&D23&\" \"&E23","v":"ate01-C1-011 UNO (1) N/A N/A"},"C1-011","UNO (1)","N/A","N/A","EXTINTOR DE AGENTE LIMPIO HCFC DE 7000 GRAMOS / UNIDAD","JM GRUPO",596791.18999999994,{"$f":"B23&G23","v":"C1-011JM GRUPO"},{"$f":"C23&D23&E23&F23","v":"UNO (1)N/AN/AEXTINTOR DE AGENTE LIMPIO HCFC DE 7000 GRAMOS / UNIDAD"},{"$f":"H23","v":596791.18999999994},{"$f":"C23&D23&E23&F23&G23","v":"UNO (1)N/AN/AEXTINTOR DE AGENTE LIMPIO HCFC DE 7000 GRAMOS / UNIDADJM GRUPO"},{"$f":"B23&H23","v":"C1-011596791.19"},{"$f":"G23","v":"JM GRUPO"},"Und",{"$f":"C23&D23&E23&F23&G23","v":"UNO (1)N/AN/AEXTINTOR DE AGENTE LIMPIO HCFC DE 7000 GRAMOS / UNIDADJM GRUPO"},{"$f":"H23","v":596791.18999999994}]
[{"$f":"\"ate01-\"&B24&\" \"&C24&\" \"&D24&\" \"&E24","v":"ate01-C1-012 UNO (1) N/A N/A"},"C1-012","UNO (1)","N/A","N/A","EXTINTOR DE AGENTE LIMPIO HCFC DE 9000 GRAMOS / UNIDAD","IMPLESEG S.A.S.",1232503.55,{"$f":"B24&G24","v":"C1-012IMPLESEG S.A.S."},{"$f":"C24&D24&E24&F24","v":"UNO (1)N/AN/AEXTINTOR DE AGENTE LIMPIO HCFC DE 9000 GRAMOS / UNIDAD"},{"$f":"H24","v":1232503.55},{"$f":"C24&D24&E24&F24&G24","v":"UNO (1)N/AN/AEXTINTOR DE AGENTE LIMPIO HCFC DE 9000 GRAMOS / UNIDADIMPLESEG S.A.S."},{"$f":"B24&H24","v":"C1-0121232503.55"},{"$f":"G24","v":"IMPLESEG S.A.S."},"Und",{"$f":"C24&D24&E24&F24&G24","v":"UNO (1)N/AN/AEXTINTOR DE AGENTE LIMPIO HCFC DE 9000 GRAMOS / UNIDADIMPLESEG S.A.S."},{"$f":"H24","v":1232503.55}]
[{"$f":"\"ate01-\"&B25&\" \"&C25&\" \"&D25&\" \"&E25","v":"ate01-C1-012 UNO (1) N/A N/A"},"C1-012","UNO (1)","N/A","N/A","EXTINTOR DE AGENTE LIMPIO HCFC DE 9000 GRAMOS / UNIDAD","JM GRUPO",674633.52,{"$f":"B25&G25","v":"C1-012JM GRUPO"},{"$f":"C25&D25&E25&F25","v":"UNO (1)N/AN/AEXTINTOR DE AGENTE LIMPIO HCFC DE 9000 GRAMOS / UNIDAD"},{"$f":"H25","v":674633.52},{"$f":"C25&D25&E25&F25&G25","v":"UNO (1)N/AN/AEXTINTOR DE AGENTE LIMPIO HCFC DE 9000 GRAMOS / UNIDADJM GRUPO"},{"$f":"B25&H25","v":"C1-012674633.52"},{"$f":"G25","v":"JM GRUPO"},"Und",{"$f":"C25&D25&E25&F25&G25","v":"UNO (1)N/AN/AEXTINTOR DE AGENTE LIMPIO HCFC DE 9000 GRAMOS / UNIDADJM GRUPO"},{"$f":"H25","v":674633.52}]
[{"$f":"\"ate01-\"&B26&\" \"&C26&\" \"&D26&\" \"&E26","v":"ate01-C1-013 UNO (1) N/A N/A"},"C1-013","UNO (1)","N/A","N/A","EXTINTOR DE CO2 DE 5 LIBRAS / UNIDAD","IMPLESEG S.A.S.",490406.68,{"$f":"B26&G26","v":"C1-013IMPLESEG S.A.S."},{"$f":"C26&D26&E26&F26","v":"UNO (1)N/AN/AEXTINTOR DE CO2 DE 5 LIBRAS / UNIDAD"},{"$f":"H26","v":490406.68},{"$f":"C26&D26&E26&F26&G26","v":"UNO (1)N/AN/AEXTINTOR DE CO2 DE 5 LIBRAS / UNIDADIMPLESEG S.A.S."},{"$f":"B26&H26","v":"C1-013490406.68"},{"$f":"G26","v":"IMPLESEG S.A.S."},"Und",{"$f":"C26&D26&E26&F26&G26","v":"UNO (1)N/AN/AEXTINTOR DE CO2 DE 5 LIBRAS / UNIDADIMPLESEG S.A.S."},{"$f":"H26","v":490406.68}]
[{"$f":"\"ate01-\"&B27&\" \"&C27&\" \"&D27&\" \"&E27","v":"ate01-C1-013 UNO (1) N/A N/A"},"C1-013","UNO (1)","N/A","N/A","EXTINTOR DE CO2 DE 5 LIBRAS / UNIDAD","JM GRUPO",304882.46000000002,{"$f":"B27&G27","v":"C1-013JM GRUPO"},{"$f":"C27&D27&E27&F27","v":"UNO (1)N/AN/AEXTINTOR DE CO2 DE 5 LIBRAS / UNIDAD"},{"$f":"H27","v":304882.46000000002},{"$f":"C27&D27&E27&F27&G27","v":"UNO (1)N/AN/AEXTINTOR DE CO2 DE 5 LIBRAS / UNIDADJM GRUPO"},{"$f":"B27&H27","v":"C1-013304882.46"},{"$f":"G27","v":"JM GRUPO"},"Und",{"$f":"C27&D27&E27&F27&G27","v":"UNO (1)N/AN/AEXTINTOR DE CO2 DE 5 LIBRAS / UNIDADJM GRUPO"},{"$f":"H27","v":304882.46000000002}]
[{"$f":"\"ate01-\"&B28&\" \"&C28&\" \"&D28&\" \"&E28","v":"ate01-C1-014 UNO (1) N/A N/A"},"C1-014","UNO (1)","N/A","N/A","EXTINTOR DE CO2 DE 10 LIBRAS / UNIDAD","IMPLESEG S.A.S.",700580.97,{"$f":"B28&G28","v":"C1-014IMPLESEG S.A.S."},{"$f":"C28&D28&E28&F28","v":"UNO (1)N/AN/AEXTINTOR DE CO2 DE 10 LIBRAS / UNIDAD"},{"$f":"H28","v":700580.97},{"$f":"C28&D28&E28&F28&G28","v":"UNO (1)N/AN/AEXTINTOR DE CO2 DE 10 LIBRAS / UNIDADIMPLESEG S.A.S."},{"$f":"B28&H28","v":"C1-014700580.97"},{"$f":"G28","v":"IMPLESEG S.A.S."},"Und",{"$f":"C28&D28&E28&F28&G28","v":"UNO (1)N/AN/AEXTINTOR DE CO2 DE 10 LIBRAS / UNIDADIMPLESEG S.A.S."},{"$f":"H28","v":700580.97}]
[{"$f":"\"ate01-\"&B29&\" \"&C29&\" \"&D29&\" \"&E29","v":"ate01-C1-014 UNO (1) N/A N/A"},"C1-014","UNO (1)","N/A","N/A","EXTINTOR DE CO2 DE 10 LIBRAS / UNIDAD","JM GRUPO",398293.25,{"$f":"B29&G29","v":"C1-014JM GRUPO"},{"$f":"C29&D29&E29&F29","v":"UNO (1)N/AN/AEXTINTOR DE CO2 DE 10 LIBRAS / UNIDAD"},{"$f":"H29","v":398293.25},{"$f":"C29&D29&E29&F29&G29","v":"UNO (1)N/AN/AEXTINTOR DE CO2 DE 10 LIBRAS / UNIDADJM GRUPO"},{"$f":"B29&H29","v":"C1-014398293.25"},{"$f":"G29","v":"JM GRUPO"},"Und",{"$f":"C29&D29&E29&F29&G29","v":"UNO (1)N/AN/AEXTINTOR DE CO2 DE 10 LIBRAS / UNIDADJM GRUPO"},{"$f":"H29","v":398293.25}]
[{"$f":"\"ate01-\"&B30&\" \"&C30&\" \"&D30&\" \"&E30","v":"ate01-C1-015 UNO (1) N/A N/A"},"C1-015","UNO (1)","N/A","N/A","EXTINTOR DE CO2 DE 15 LIBRAS / UNIDAD","IMPLESEG S.A.S.",934107.96,{"$f":"B30&G30","v":"C1-015IMPLESEG S.A.S."},{"$f":"C30&D30&E30&F30","v":"UNO (1)N/AN/AEXTINTOR DE CO2 DE 15 LIBRAS / UNIDAD"},{"$f":"H30","v":934107.96},{"$f":"C30&D30&E30&F30&G30","v":"UNO (1)N/AN/AEXTINTOR DE CO2 DE 15 LIBRAS / UNIDADIMPLESEG S.A.S."},{"$f":"B30&H30","v":"C1-015934107.96"},{"$f":"G30","v":"IMPLESEG S.A.S."},"Und",{"$f":"C30&D30&E30&F30&G30","v":"UNO (1)N/AN/AEXTINTOR DE CO2 DE 15 LIBRAS / UNIDADIMPLESEG S.A.S."},{"$f":"H30","v":934107.96}]
[{"$f":"\"ate01-\"&B31&\" \"&C31&\" \"&D31&\" \"&E31","v":"ate01-C1-015 UNO (1) N/A N/A"},"C1-015","UNO (1)","N/A","N/A","EXTINTOR DE CO2 DE 15 LIBRAS / UNIDAD","JM GRUPO",843291.9,{"$f":"B31&G31","v":"C1-015JM GRUPO"},{"$f":"C31&D31&E31&F31","v":"UNO (1)N/AN/AEXTINTOR DE CO2 DE 15 LIBRAS / UNIDAD"},{"$f":"H31","v":843291.9},{"$f":"C31&D31&E31&F31&G31","v":"UNO (1)N/AN/AEXTINTOR DE CO2 DE 15 LIBRAS / UNIDADJM GRUPO"},{"$f":"B31&H31","v":"C1-015843291.9"},{"$f":"G31","v":"JM GRUPO"},"Und",{"$f":"C31&D31&E31&F31&G31","v":"UNO (1)N/AN/AEXTINTOR DE CO2 DE 15 LIBRAS / UNIDADJM GRUPO"},{"$f":"H31","v":843291.9}]
[{"$f":"\"ate01-\"&B32&\" \"&C32&\" \"&D32&\" \"&E32","v":"ate01-C1-016 UNO (1) N/A N/A"},"C1-016","UNO (1)","N/A","N/A","EXTINTOR DE CO2 DE 20 LIBRAS / UNIDAD","IMPLESEG S.A.S.",1755284.85,{"$f":"B32&G32","v":"C1-016IMPLESEG S.A.S."},{"$f":"C32&D32&E32&F32","v":"UNO (1)N/AN/AEXTINTOR DE CO2 DE 20 LIBRAS / UNIDAD"},{"$f":"H32","v":1755284.85},{"$f":"C32&D32&E32&F32&G32","v":"UNO (1)N/AN/AEXTINTOR DE CO2 DE 20 LIBRAS / UNIDADIMPLESEG S.A.S."},{"$f":"B32&H32","v":"C1-0161755284.85"},{"$f":"G32","v":"IMPLESEG S.A.S."},"Und",{"$f":"C32&D32&E32&F32&G32","v":"UNO (1)N/AN/AEXTINTOR DE CO2 DE 20 LIBRAS / UNIDADIMPLESEG S.A.S."},{"$f":"H32","v":1755284.85}]
[{"$f":"\"ate01-\"&B33&\" \"&C33&\" \"&D33&\" \"&E33","v":"ate01-C1-016 UNO (1) N/A N/A"},"C1-016","UNO (1)","N/A","N/A","EXTINTOR DE CO2 DE 20 LIBRAS / UNIDAD","JM GRUPO",1238990.4099999999,{"$f":"B33&G33","v":"C1-016JM GRUPO"},{"$f":"C33&D33&E33&F33","v":"UNO (1)N/AN/AEXTINTOR DE CO2 DE 20 LIBRAS / UNIDAD"},{"$f":"H33","v":1238990.4099999999},{"$f":"C33&D33&E33&F33&G33","v":"UNO (1)N/AN/AEXTINTOR DE CO2 DE 20 LIBRAS / UNIDADJM GRUPO"},{"$f":"B33&H33","v":"C1-0161238990.41"},{"$f":"G33","v":"JM GRUPO"},"Und",{"$f":"C33&D33&E33&F33&G33","v":"UNO (1)N/AN/AEXTINTOR DE CO2 DE 20 LIBRAS / UNIDADJM GRUPO"},{"$f":"H33","v":1238990.4099999999}]
[{"$f":"\"ate01-\"&B34&\" \"&C34&\" \"&D34&\" \"&E34","v":"ate01-C1-017 UNO (1) N/A N/A"},"C1-017","UNO (1)","N/A","N/A","PRUEBA HIDROSTATICA EXTINTOR CO2 DE 5 A 20 / UNIDAD","IMPLESEG S.A.S.",4398091.62,{"$f":"B34&G34","v":"C1-017IMPLESEG S.A.S."},{"$f":"C34&D34&E34&F34","v":"UNO (1)N/AN/APRUEBA HIDROSTATICA EXTINTOR CO2 DE 5 A 20 / UNIDAD"},{"$f":"H34","v":4398091.62},{"$f":"C34&D34&E34&F34&G34","v":"UNO (1)N/AN/APRUEBA HIDROSTATICA EXTINTOR CO2 DE 5 A 20 / UNIDADIMPLESEG S.A.S."},{"$f":"B34&H34","v":"C1-0174398091.62"},{"$f":"G34","v":"IMPLESEG S.A.S."},"Und",{"$f":"C34&D34&E34&F34&G34","v":"UNO (1)N/AN/APRUEBA HIDROSTATICA EXTINTOR CO2 DE 5 A 20 / UNIDADIMPLESEG S.A.S."},{"$f":"H34","v":4398091.62}]
[{"$f":"\"ate01-\"&B35&\" \"&C35&\" \"&D35&\" \"&E35","v":"ate01-C1-017 UNO (1) N/A N/A"},"C1-017","UNO (1)","N/A","N/A","PRUEBA HIDROSTATICA EXTINTOR CO2 DE 5 A 20 / UNIDAD","JM GRUPO",45408.03,{"$f":"B35&G35","v":"C1-017JM GRUPO"},{"$f":"C35&D35&E35&F35","v":"UNO (1)N/AN/APRUEBA HIDROSTATICA EXTINTOR CO2 DE 5 A 20 / UNIDAD"},{"$f":"H35","v":45408.03},{"$f":"C35&D35&E35&F35&G35","v":"UNO (1)N/AN/APRUEBA HIDROSTATICA EXTINTOR CO2 DE 5 A 20 / UNIDADJM GRUPO"},{"$f":"B35&H35","v":"C1-01745408.03"},{"$f":"G35","v":"JM GRUPO"},"Und",{"$f":"C35&D35&E35&F35&G35","v":"UNO (1)N/AN/APRUEBA HIDROSTATICA EXTINTOR CO2 DE 5 A 20 / UNIDADJM GRUPO"},{"$f":"H35","v":45408.03}]
[{"$f":"\"ate01-\"&B36&\" \"&C36&\" \"&D36&\" \"&E36","v":"ate01-C1-018 UNO (1) N/A N/A"},"C1-018","UNO (1)","N/A","N/A","EXTINTOR DE CO2 DE 100 LIBRAS / UNIDAD","IMPLESEG S.A.S.",8368050.4299999997,{"$f":"B36&G36","v":"C1-018IMPLESEG S.A.S."},{"$f":"C36&D36&E36&F36","v":"UNO (1)N/AN/AEXTINTOR DE CO2 DE 100 LIBRAS / UNIDAD"},{"$f":"H36","v":8368050.4299999997},{"$f":"C36&D36&E36&F36&G36","v":"UNO (1)N/AN/AEXTINTOR DE CO2 DE 100 LIBRAS / UNIDADIMPLESEG S.A.S."},{"$f":"B36&H36","v":"C1-0188368050.43"},{"$f":"G36","v":"IMPLESEG S.A.S."},"Und",{"$f":"C36&D36&E36&F36&G36","v":"UNO (1)N/AN/AEXTINTOR DE CO2 DE 100 LIBRAS / UNIDADIMPLESEG S.A.S."},{"$f":"H36","v":8368050.4299999997}]
[{"$f":"\"ate01-\"&B37&\" \"&C37&\" \"&D37&\" \"&E37","v":"ate01-C1-018 UNO (1) N/A N/A"},"C1-018","UNO (1)","N/A","N/A","EXTINTOR DE CO2 DE 100 LIBRAS / UNIDAD","JM GRUPO",3762379.26,{"$f":"B37&G37","v":"C1-018JM GRUPO"},{"$f":"C37&D37&E37&F37","v":"UNO (1)N/AN/AEXTINTOR DE CO2 DE 100 LIBRAS / UNIDAD"},{"$f":"H37","v":3762379.26},{"$f":"C37&D37&E37&F37&G37","v":"UNO (1)N/AN/AEXTINTOR DE CO2 DE 100 LIBRAS / UNIDADJM GRUPO"},{"$f":"B37&H37","v":"C1-0183762379.26"},{"$f":"G37","v":"JM GRUPO"},"Und",{"$f":"C37&D37&E37&F37&G37","v":"UNO (1)N/AN/AEXTINTOR DE CO2 DE 100 LIBRAS / UNIDADJM GRUPO"},{"$f":"H37","v":3762379.26}]
[{"$f":"\"ate01-\"&B38&\" \"&C38&\" \"&D38&\" \"&E38","v":"ate01-C1-019 UNO (1) N/A N/A"},"C1-019","UNO (1)","N/A","N/A","EXTINTOR DE CO2 DE 150 LIBRAS / UNIDAD","IMPLESEG S.A.S.",11935823.869999999,{"$f":"B38&G38","v":"C1-019IMPLESEG S.A.S."},{"$f":"C38&D38&E38&F38","v":"UNO (1)N/AN/AEXTINTOR DE CO2 DE 150 LIBRAS / UNIDAD"},{"$f":"H38","v":11935823.869999999},{"$f":"C38&D38&E38&F38&G38","v":"UNO (1)N/AN/AEXTINTOR DE CO2 DE 150 LIBRAS / UNIDADIMPLESEG S.A.S."},{"$f":"B38&H38","v":"C1-01911935823.87"},{"$f":"G38","v":"IMPLESEG S.A.S."},"Und",{"$f":"C38&D38&E38&F38&G38","v":"UNO (1)N/AN/AEXTINTOR DE CO2 DE 150 LIBRAS / UNIDADIMPLESEG S.A.S."},{"$f":"H38","v":11935823.869999999}]
[{"$f":"\"ate01-\"&B39&\" \"&C39&\" \"&D39&\" \"&E39","v":"ate01-C1-019 UNO (1) N/A N/A"},"C1-019","UNO (1)","N/A","N/A","EXTINTOR DE CO2 DE 150 LIBRAS / UNIDAD","JM GRUPO",4540802.5599999996,{"$f":"B39&G39","v":"C1-019JM GRUPO"},{"$f":"C39&D39&E39&F39","v":"UNO (1)N/AN/AEXTINTOR DE CO2 DE 150 LIBRAS / UNIDAD"},{"$f":"H39","v":4540802.5599999996},{"$f":"C39&D39&E39&F39&G39","v":"UNO (1)N/AN/AEXTINTOR DE CO2 DE 150 LIBRAS / UNIDADJM GRUPO"},{"$f":"B39&H39","v":"C1-0194540802.56"},{"$f":"G39","v":"JM GRUPO"},"Und",{"$f":"C39&D39&E39&F39&G39","v":"UNO (1)N/AN/AEXTINTOR DE CO2 DE 150 LIBRAS / UNIDADJM GRUPO"},{"$f":"H39","v":4540802.5599999996}]
[{"$f":"\"ate01-\"&B40&\" \"&C40&\" \"&D40&\" \"&E40","v":"ate01-C1-020 UNO (1) N/A N/A"},"C1-020","UNO (1)","N/A","N/A","EXTINTOR DE CO2 DE 50 LIBRAS TIPO CARRETILLA / UNIDAD","IMPLESEG S.A.S.",3243430.4,{"$f":"B40&G40","v":"C1-020IMPLESEG S.A.S."},{"$f":"C40&D40&E40&F40","v":"UNO (1)N/AN/AEXTINTOR DE CO2 DE 50 LIBRAS TIPO CARRETILLA / UNIDAD"},{"$f":"H40","v":3243430.4},{"$f":"C40&D40&E40&F40&G40","v":"UNO (1)N/AN/AEXTINTOR DE CO2 DE 50 LIBRAS TIPO CARRETILLA / UNIDADIMPLESEG S.A.S."},{"$f":"B40&H40","v":"C1-0203243430.4"},{"$f":"G40","v":"IMPLESEG S.A.S."},"Und",{"$f":"C40&D40&E40&F40&G40","v":"UNO (1)N/AN/AEXTINTOR DE CO2 DE 50 LIBRAS TIPO CARRETILLA / UNIDADIMPLESEG S.A.S."},{"$f":"H40","v":3243430.4}]
[{"$f":"\"ate01-\"&B41&\" \"&C41&\" \"&D41&\" \"&E41","v":"ate01-C1-020 UNO (1) N/A N/A"},"C1-020","UNO (1)","N/A","N/A","EXTINTOR DE CO2 DE 50 LIBRAS TIPO CARRETILLA / UNIDAD","JM GRUPO",2315809.31,{"$f":"B41&G41","v":"C1-020JM GRUPO"},{"$f":"C41&D41&E41&F41","v":"UNO (1)N/AN/AEXTINTOR DE CO2 DE 50 LIBRAS TIPO CARRETILLA / UNIDAD"},{"$f":"H41","v":2315809.31},{"$f":"C41&D41&E41&F41&G41","v":"UNO (1)N/AN/AEXTINTOR DE CO2 DE 50 LIBRAS TIPO CARRETILLA / UNIDADJM GRUPO"},{"$f":"B41&H41","v":"C1-0202315809.31"},{"$f":"G41","v":"JM GRUPO"},"Und",{"$f":"C41&D41&E41&F41&G41","v":"UNO (1)N/AN/AEXTINTOR DE CO2 DE 50 LIBRAS TIPO CARRETILLA / UNIDADJM GRUPO"},{"$f":"H41","v":2315809.31}]
[{"$f":"\"ate01-\"&B42&\" \"&C42&\" \"&D42&\" \"&E42","v":"ate01-C1-021 UNO (1) N/A N/A"},"C1-021","UNO (1)","N/A","N/A","EXTINTOR DE CO2 DE 100 LIBRAS TIPO CARRETILLA / UNIDAD","IMPLESEG S.A.S.",5280304.6900000004,{"$f":"B42&G42","v":"C1-021IMPLESEG S.A.S."},{"$f":"C42&D42&E42&F42","v":"UNO (1)N/AN/AEXTINTOR DE CO2 DE 100 LIBRAS TIPO CARRETILLA / UNIDAD"},{"$f":"H42","v":5280304.6900000004},{"$f":"C42&D42&E42&F42&G42","v":"UNO (1)N/AN/AEXTINTOR DE CO2 DE 100 LIBRAS TIPO CARRETILLA / UNIDADIMPLESEG S.A.S."},{"$f":"B42&H42","v":"C1-0215280304.69"},{"$f":"G42","v":"IMPLESEG S.A.S."},"Und",{"$f":"C42&D42&E42&F42&G42","v":"UNO (1)N/AN/AEXTINTOR DE CO2 DE 100 LIBRAS TIPO CARRETILLA / UNIDADIMPLESEG S.A.S."},{"$f":"H42","v":5280304.6900000004}]
[{"$f":"\"ate01-\"&B43&\" \"&C43&\" \"&D43&\" \"&E43","v":"ate01-C1-021 UNO (1) N/A N/A"},"C1-021","UNO (1)","N/A","N/A","EXTINTOR DE CO2 DE 100 LIBRAS TIPO CARRETILLA / UNIDAD","JM GRUPO",3762379.26,{"$f":"B43&G43","v":"C1-021JM GRUPO"},{"$f":"C43&D43&E43&F43","v":"UNO (1)N/AN/AEXTINTOR DE CO2 DE 100 LIBRAS TIPO CARRETILLA / UNIDAD"},{"$f":"H43","v":3762379.26},{"$f":"C43&D43&E43&F43&G43","v":"UNO (1)N/AN/AEXTINTOR DE CO2 DE 100 LIBRAS TIPO CARRETILLA / UNIDADJM GRUPO"},{"$f":"B43&H43","v":"C1-0213762379.26"},{"$f":"G43","v":"JM GRUPO"},"Und",{"$f":"C43&D43&E43&F43&G43","v":"UNO (1)N/AN/AEXTINTOR DE CO2 DE 100 LIBRAS TIPO CARRETILLA / UNIDADJM GRUPO"},{"$f":"H43","v":3762379.26}]
[{"$f":"\"ate01-\"&B44&\" \"&C44&\" \"&D44&\" \"&E44","v":"ate01-C1-022 UNO (1) N/A N/A"},"C1-022","UNO (1)","N/A","N/A","EXTINTOR DE AFFF DE 6 LITROS  / UNIDAD","IMPLESEG S.A.S.",1232503.55,{"$f":"B44&G44","v":"C1-022IMPLESEG S.A.S."},{"$f":"C44&D44&E44&F44","v":"UNO (1)N/AN/AEXTINTOR DE AFFF DE 6 LITROS  / UNIDAD"},{"$f":"H44","v":1232503.55},{"$f":"C44&D44&E44&F44&G44","v":"UNO (1)N/AN/AEXTINTOR DE AFFF DE 6 LITROS  / UNIDADIMPLESEG S.A.S."},{"$f":"B44&H44","v":"C1-0221232503.55"},{"$f":"G44","v":"IMPLESEG S.A.S."},"Und",{"$f":"C44&D44&E44&F44&G44","v":"UNO (1)N/AN/AEXTINTOR DE AFFF DE 6 LITROS  / UNIDADIMPLESEG S.A.S."},{"$f":"H44","v":1232503.55}]
[{"$f":"\"ate01-\"&B45&\" \"&C45&\" \"&D45&\" \"&E45","v":"ate01-C1-022 UNO (1) N/A N/A"},"C1-022","UNO (1)","N/A","N/A","EXTINTOR DE AFFF DE 6 LITROS  / UNIDAD","JM GRUPO",551383.17000000004,{"$f":"B45&G45","v":"C1-022JM GRUPO"},{"$f":"C45&D45&E45&F45","v":"UNO (1)N/AN/AEXTINTOR DE AFFF DE 6 LITROS  / UNIDAD"},{"$f":"H45","v":551383.17000000004},{"$f":"C45&D45&E45&F45&G45","v":"UNO (1)N/AN/AEXTINTOR DE AFFF DE 6 LITROS  / UNIDADJM GRUPO"},{"$f":"B45&H45","v":"C1-022551383.17"},{"$f":"G45","v":"JM GRUPO"},"Und",{"$f":"C45&D45&E45&F45&G45","v":"UNO (1)N/AN/AEXTINTOR DE AFFF DE 6 LITROS  / UNIDADJM GRUPO"},{"$f":"H45","v":551383.17000000004}]
[{"$f":"\"ate01-\"&B46&\" \"&C46&\" \"&D46&\" \"&E46","v":"ate01-C1-023 UNO (1) N/A N/A"},"C1-023","UNO (1)","N/A","N/A","EXTINTOR DE AFFF DE 9,5 LITROS  / UNIDAD","IMPLESEG S.A.S.",1887676.49,{"$f":"B46&G46","v":"C1-023IMPLESEG S.A.S."},{"$f":"C46&D46&E46&F46","v":"UNO (1)N/AN/AEXTINTOR DE AFFF DE 9,5 LITROS  / UNIDAD"},{"$f":"H46","v":1887676.49},{"$f":"C46&D46&E46&F46&G46","v":"UNO (1)N/AN/AEXTINTOR DE AFFF DE 9,5 LITROS  / UNIDADIMPLESEG S.A.S."},{"$f":"B46&H46","v":"C1-0231887676.49"},{"$f":"G46","v":"IMPLESEG S.A.S."},"Und",{"$f":"C46&D46&E46&F46&G46","v":"UNO (1)N/AN/AEXTINTOR DE AFFF DE 9,5 LITROS  / UNIDADIMPLESEG S.A.S."},{"$f":"H46","v":1887676.49}]
[{"$f":"\"ate01-\"&B47&\" \"&C47&\" \"&D47&\" \"&E47","v":"ate01-C1-023 UNO (1) N/A N/A"},"C1-023","UNO (1)","N/A","N/A","EXTINTOR DE AFFF DE 9,5 LITROS  / UNIDAD","JM GRUPO",810857.6,{"$f":"B47&G47","v":"C1-023JM GRUPO"},{"$f":"C47&D47&E47&F47","v":"UNO (1)N/AN/AEXTINTOR DE AFFF DE 9,5 LITROS  / UNIDAD"},{"$f":"H47","v":810857.6},{"$f":"C47&D47&E47&F47&G47","v":"UNO (1)N/AN/AEXTINTOR DE AFFF DE 9,5 LITROS  / UNIDADJM GRUPO"},{"$f":"B47&H47","v":"C1-023810857.6"},{"$f":"G47","v":"JM GRUPO"},"Und",{"$f":"C47&D47&E47&F47&G47","v":"UNO (1)N/AN/AEXTINTOR DE AFFF DE 9,5 LITROS  / UNIDADJM GRUPO"},{"$f":"H47","v":810857.6}]
[{"$f":"\"ate01-\"&B48&\" \"&C48&\" \"&D48&\" \"&E48","v":"ate01-C1-024 UNO (1) N/A N/A"},"C1-024","UNO (1)","N/A","N/A","EXTINTOR TIPO K DE 6 LITROS  / UNIDAD","IMPLESEG S.A.S.",564356.89,{"$f":"B48&G48","v":"C1-024IMPLESEG S.A.S."},{"$f":"C48&D48&E48&F48","v":"UNO (1)N/AN/AEXTINTOR TIPO K DE 6 LITROS  / UNIDAD"},{"$f":"H48","v":564356.89},{"$f":"C48&D48&E48&F48&G48","v":"UNO (1)N/AN/AEXTINTOR TIPO K DE 6 LITROS  / UNIDADIMPLESEG S.A.S."},{"$f":"B48&H48","v":"C1-024564356.89"},{"$f":"G48","v":"IMPLESEG S.A.S."},"Und",{"$f":"C48&D48&E48&F48&G48","v":"UNO (1)N/AN/AEXTINTOR TIPO K DE 6 LITROS  / UNIDADIMPLESEG S.A.S."},{"$f":"H48","v":564356.89}]
[{"$f":"\"ate01-\"&B49&\" \"&C49&\" \"&D49&\" \"&E49","v":"ate01-C1-024 UNO (1) N/A N/A"},"C1-024","UNO (1)","N/A","N/A","EXTINTOR TIPO K DE 6 LITROS  / UNIDAD","JM GRUPO",460567.12,{"$f":"B49&G49","v":"C1-024JM GRUPO"},{"$f":"C49&D49&E49&F49","v":"UNO (1)N/AN/AEXTINTOR TIPO K DE 6 LITROS  / UNIDAD"},{"$f":"H49","v":460567.12},{"$f":"C49&D49&E49&F49&G49","v":"UNO (1)N/AN/AEXTINTOR TIPO K DE 6 LITROS  / UNIDADJM GRUPO"},{"$f":"B49&H49","v":"C1-024460567.12"},{"$f":"G49","v":"JM GRUPO"},"Und",{"$f":"C49&D49&E49&F49&G49","v":"UNO (1)N/AN/AEXTINTOR TIPO K DE 6 LITROS  / UNIDADJM GRUPO"},{"$f":"H49","v":460567.12}]
[{"$f":"\"ate01-\"&B50&\" \"&C50&\" \"&D50&\" \"&E50","v":"ate01-C1-025 UNO (1) N/A N/A"},"C1-025","UNO (1)","N/A","N/A","EXTINTOR TIPO K DE 2 1/2  GALONES  / UNIDAD","IMPLESEG S.A.S.",711089.68,{"$f":"B50&G50","v":"C1-025IMPLESEG S.A.S."},{"$f":"C50&D50&E50&F50","v":"UNO (1)N/AN/AEXTINTOR TIPO K DE 2 1/2  GALONES  / UNIDAD"},{"$f":"H50","v":711089.68},{"$f":"C50&D50&E50&F50&G50","v":"UNO (1)N/AN/AEXTINTOR TIPO K DE 2 1/2  GALONES  / UNIDADIMPLESEG S.A.S."},{"$f":"B50&H50","v":"C1-025711089.68"},{"$f":"G50","v":"IMPLESEG S.A.S."},"Und",{"$f":"C50&D50&E50&F50&G50","v":"UNO (1)N/AN/AEXTINTOR TIPO K DE 2 1/2  GALONES  / UNIDADIMPLESEG S.A.S."},{"$f":"H50","v":711089.68}]
[{"$f":"\"ate01-\"&B51&\" \"&C51&\" \"&D51&\" \"&E51","v":"ate01-C1-025 UNO (1) N/A N/A"},"C1-025","UNO (1)","N/A","N/A","EXTINTOR TIPO K DE 2 1/2  GALONES  / UNIDAD","JM GRUPO",720041.55,{"$f":"B51&G51","v":"C1-025JM GRUPO"},{"$f":"C51&D51&E51&F51","v":"UNO (1)N/AN/AEXTINTOR TIPO K DE 2 1/2  GALONES  / UNIDAD"},{"$f":"H51","v":720041.55},{"$f":"C51&D51&E51&F51&G51","v":"UNO (1)N/AN/AEXTINTOR TIPO K DE 2 1/2  GALONES  / UNIDADJM GRUPO"},{"$f":"B51&H51","v":"C1-025720041.55"},{"$f":"G51","v":"JM GRUPO"},"Und",{"$f":"C51&D51&E51&F51&G51","v":"UNO (1)N/AN/AEXTINTOR TIPO K DE 2 1/2  GALONES  / UNIDADJM GRUPO"},{"$f":"H51","v":720041.55}]
[{"$f":"\"ate01-\"&B52&\" \"&C52&\" \"&D52&\" \"&E52","v":"ate01-C1-026 UNO (1) N/A N/A"},"C1-026","UNO (1)","N/A","N/A","EXTINTOR BC 5 LIBRAS / UNIDAD","IMPLESEG S.A.S.",38921.160000000003,{"$f":"B52&G52","v":"C1-026IMPLESEG S.A.S."},{"$f":"C52&D52&E52&F52","v":"UNO (1)N/AN/AEXTINTOR BC 5 LIBRAS / UNIDAD"},{"$f":"H52","v":38921.160000000003},{"$f":"C52&D52&E52&F52&G52","v":"UNO (1)N/AN/AEXTINTOR BC 5 LIBRAS / UNIDADIMPLESEG S.A.S."},{"$f":"B52&H52","v":"C1-02638921.16"},{"$f":"G52","v":"IMPLESEG S.A.S."},"Und",{"$f":"C52&D52&E52&F52&G52","v":"UNO (1)N/AN/AEXTINTOR BC 5 LIBRAS / UNIDADIMPLESEG S.A.S."},{"$f":"H52","v":38921.160000000003}]
[{"$f":"\"ate01-\"&B53&\" \"&C53&\" \"&D53&\" \"&E53","v":"ate01-C1-026 UNO (1) N/A N/A"},"C1-026","UNO (1)","N/A","N/A","EXTINTOR BC 5 LIBRAS / UNIDAD","JM GRUPO",97302.91,{"$f":"B53&G53","v":"C1-026JM GRUPO"},{"$f":"C53&D53&E53&F53","v":"UNO (1)N/AN/AEXTINTOR BC 5 LIBRAS / UNIDAD"},{"$f":"H53","v":97302.91},{"$f":"C53&D53&E53&F53&G53","v":"UNO (1)N/AN/AEXTINTOR BC 5 LIBRAS / UNIDADJM GRUPO"},{"$f":"B53&H53","v":"C1-02697302.91"},{"$f":"G53","v":"JM GRUPO"},"Und",{"$f":"C53&D53&E53&F53&G53","v":"UNO (1)N/AN/AEXTINTOR BC 5 LIBRAS / UNIDADJM GRUPO"},{"$f":"H53","v":97302.91}]
[{"$f":"\"ate01-\"&B54&\" \"&C54&\" \"&D54&\" \"&E54","v":"ate01-C1-027 UNO (1) N/A N/A"},"C1-027","UNO (1)","N/A","N/A","EXTINTOR BC 10 LIBRAS / UNIDAD","IMPLESEG S.A.S.",75247.59,{"$f":"B54&G54","v":"C1-027IMPLESEG S.A.S."},{"$f":"C54&D54&E54&F54","v":"UNO (1)N/AN/AEXTINTOR BC 10 LIBRAS / UNIDAD"},{"$f":"H54","v":75247.59},{"$f":"C54&D54&E54&F54&G54","v":"UNO (1)N/AN/AEXTINTOR BC 10 LIBRAS / UNIDADIMPLESEG S.A.S."},{"$f":"B54&H54","v":"C1-02775247.59"},{"$f":"G54","v":"IMPLESEG S.A.S."},"Und",{"$f":"C54&D54&E54&F54&G54","v":"UNO (1)N/AN/AEXTINTOR BC 10 LIBRAS / UNIDADIMPLESEG S.A.S."},{"$f":"H54","v":75247.59}]
[{"$f":"\"ate01-\"&B55&\" \"&C55&\" \"&D55&\" \"&E55","v":"ate01-C1-027 UNO (1) N/A N/A"},"C1-027","UNO (1)","N/A","N/A","EXTINTOR BC 10 LIBRAS / UNIDAD","JM GRUPO",97302.91,{"$f":"B55&G55","v":"C1-027JM GRUPO"},{"$f":"C55&D55&E55&F55","v":"UNO (1)N/AN/AEXTINTOR BC 10 LIBRAS / UNIDAD"},{"$f":"H55","v":97302.91},{"$f":"C55&D55&E55&F55&G55","v":"UNO (1)N/AN/AEXTINTOR BC 10 LIBRAS / UNIDADJM GRUPO"},{"$f":"B55&H55","v":"C1-02797302.91"},{"$f":"G55","v":"JM GRUPO"},"Und",{"$f":"C55&D55&E55&F55&G55","v":"UNO (1)N/AN/AEXTINTOR BC 10 LIBRAS / UNIDADJM GRUPO"},{"$f":"H55","v":97302.91}]
[{"$f":"\"ate01-\"&B56&\" \"&C56&\" \"&D56&\" \"&E56","v":"ate01-C1-028 UNO (1) N/A N/A"},"C1-028","UNO (1)","N/A","N/A","EXTINTOR BC 20 LIBRAS / UNIDAD","IMPLESEG S.A.S.",97302.91,{"$f":"B56&G56","v":"C1-028IMPLESEG S.A.S."},{"$f":"C56&D56&E56&F56","v":"UNO (1)N/AN/AEXTINTOR BC 20 LIBRAS / UNIDAD"},{"$f":"H56","v":97302.91},{"$f":"C56&D56&E56&F56&G56","v":"UNO (1)N/AN/AEXTINTOR BC 20 LIBRAS / UNIDADIMPLESEG S.A.S."},{"$f":"B56&H56","v":"C1-02897302.91"},{"$f":"G56","v":"IMPLESEG S.A.S."},"Und",{"$f":"C56&D56&E56&F56&G56","v":"UNO (1)N/AN/AEXTINTOR BC 20 LIBRAS / UNIDADIMPLESEG S.A.S."},{"$f":"H56","v":97302.91}]
[{"$f":"\"ate01-\"&B57&\" \"&C57&\" \"&D57&\" \"&E57","v":"ate01-C1-028 UNO (1) N/A N/A"},"C1-028","UNO (1)","N/A","N/A","EXTINTOR BC 20 LIBRAS / UNIDAD","JM GRUPO",259474.43,{"$f":"B57&G57","v":"C1-028JM GRUPO"},{"$f":"C57&D57&E57&F57","v":"UNO (1)N/AN/AEXTINTOR BC 20 LIBRAS / UNIDAD"},{"$f":"H57","v":259474.43},{"$f":"C57&D57&E57&F57&G57","v":"UNO (1)N/AN/AEXTINTOR BC 20 LIBRAS / UNIDADJM GRUPO"},{"$f":"B57&H57","v":"C1-028259474.43"},{"$f":"G57","v":"JM GRUPO"},"Und",{"$f":"C57&D57&E57&F57&G57","v":"UNO (1)N/AN/AEXTINTOR BC 20 LIBRAS / UNIDADJM GRUPO"},{"$f":"H57","v":259474.43}]
[{"$f":"\"ate01-\"&B58&\" \"&C58&\" \"&D58&\" \"&E58","v":"ate01-C1-029 UNO (1) N/A N/A"},"C1-029","UNO (1)","N/A","N/A","EXTINTOR BC 30 LIBRAS / UNIDAD","IMPLESEG S.A.S.",136224.07999999999,{"$f":"B58&G58","v":"C1-029IMPLESEG S.A.S."},{"$f":"C58&D58&E58&F58","v":"UNO (1)N/AN/AEXTINTOR BC 30 LIBRAS / UNIDAD"},{"$f":"H58","v":136224.07999999999},{"$f":"C58&D58&E58&F58&G58","v":"UNO (1)N/AN/AEXTINTOR BC 30 LIBRAS / UNIDADIMPLESEG S.A.S."},{"$f":"B58&H58","v":"C1-029136224.08"},{"$f":"G58","v":"IMPLESEG S.A.S."},"Und",{"$f":"C58&D58&E58&F58&G58","v":"UNO (1)N/AN/AEXTINTOR BC 30 LIBRAS / UNIDADIMPLESEG S.A.S."},{"$f":"H58","v":136224.07999999999}]
[{"$f":"\"ate01-\"&B59&\" \"&C59&\" \"&D59&\" \"&E59","v":"ate01-C1-029 UNO (1) N/A N/A"},"C1-029","UNO (1)","N/A","N/A","EXTINTOR BC 30 LIBRAS / UNIDAD","JM GRUPO",583817.47,{"$f":"B59&G59","v":"C1-029JM GRUPO"},{"$f":"C59&D59&E59&F59","v":"UNO (1)N/AN/AEXTINTOR BC 30 LIBRAS / UNIDAD"},{"$f":"H59","v":583817.47},{"$f":"C59&D59&E59&F59&G59","v":"UNO (1)N/AN/AEXTINTOR BC 30 LIBRAS / UNIDADJM GRUPO"},{"$f":"B59&H59","v":"C1-029583817.47"},{"$f":"G59","v":"JM GRUPO"},"Und",{"$f":"C59&D59&E59&F59&G59","v":"UNO (1)N/AN/AEXTINTOR BC 30 LIBRAS / UNIDADJM GRUPO"},{"$f":"H59","v":583817.47}]
[{"$f":"\"ate01-\"&B60&\" \"&C60&\" \"&D60&\" \"&E60","v":"ate01-C1-030 UNO (1) N/A N/A"},"C1-030","UNO (1)","N/A","N/A","EXTINTOR BC 150 LIBRAS / UNIDAD","IMPLESEG S.A.S.",1362240.77,{"$f":"B60&G60","v":"C1-030IMPLESEG S.A.S."},{"$f":"C60&D60&E60&F60","v":"UNO (1)N/AN/AEXTINTOR BC 150 LIBRAS / UNIDAD"},{"$f":"H60","v":1362240.77},{"$f":"C60&D60&E60&F60&G60","v":"UNO (1)N/AN/AEXTINTOR BC 150 LIBRAS / UNIDADIMPLESEG S.A.S."},{"$f":"B60&H60","v":"C1-0301362240.77"},{"$f":"G60","v":"IMPLESEG S.A.S."},"Und",{"$f":"C60&D60&E60&F60&G60","v":"UNO (1)N/AN/AEXTINTOR BC 150 LIBRAS / UNIDADIMPLESEG S.A.S."},{"$f":"H60","v":1362240.77}]
[{"$f":"\"ate01-\"&B61&\" \"&C61&\" \"&D61&\" \"&E61","v":"ate01-C1-030 UNO (1) N/A N/A"},"C1-030","UNO (1)","N/A","N/A","EXTINTOR BC 150 LIBRAS / UNIDAD","JM GRUPO",1018437.15,{"$f":"B61&G61","v":"C1-030JM GRUPO"},{"$f":"C61&D61&E61&F61","v":"UNO (1)N/AN/AEXTINTOR BC 150 LIBRAS / UNIDAD"},{"$f":"H61","v":1018437.15},{"$f":"C61&D61&E61&F61&G61","v":"UNO (1)N/AN/AEXTINTOR BC 150 LIBRAS / UNIDADJM GRUPO"},{"$f":"B61&H61","v":"C1-0301018437.15"},{"$f":"G61","v":"JM GRUPO"},"Und",{"$f":"C61&D61&E61&F61&G61","v":"UNO (1)N/AN/AEXTINTOR BC 150 LIBRAS / UNIDADJM GRUPO"},{"$f":"H61","v":1018437.15}]
[{"$f":"\"ate01-\"&B62&\" \"&C62&\" \"&D62&\" \"&E62","v":"ate01-C1-031 UNO (1) N/A N/A"},"C1-031","UNO (1)","N/A","N/A","TUBO SIFON EXT. PQS 10/20 LBS PVC / UNIDAD","IMPLESEG S.A.S.",4540.8,{"$f":"B62&G62","v":"C1-031IMPLESEG S.A.S."},{"$f":"C62&D62&E62&F62","v":"UNO (1)N/AN/ATUBO SIFON EXT. PQS 10/20 LBS PVC / UNIDAD"},{"$f":"H62","v":4540.8},{"$f":"C62&D62&E62&F62&G62","v":"UNO (1)N/AN/ATUBO SIFON EXT. PQS 10/20 LBS PVC / UNIDADIMPLESEG S.A.S."},{"$f":"B62&H62","v":"C1-0314540.8"},{"$f":"G62","v":"IMPLESEG S.A.S."},"Und",{"$f":"C62&D62&E62&F62&G62","v":"UNO (1)N/AN/ATUBO SIFON EXT. PQS 10/20 LBS PVC / UNIDADIMPLESEG S.A.S."},{"$f":"H62","v":4540.8}]
[{"$f":"\"ate01-\"&B63&\" \"&C63&\" \"&D63&\" \"&E63","v":"ate01-C1-031 UNO (1) N/A N/A"},"C1-031","UNO (1)","N/A","N/A","TUBO SIFON EXT. PQS 10/20 LBS PVC / UNIDAD","JM GRUPO",12973.72,{"$f":"B63&G63","v":"C1-031JM GRUPO"},{"$f":"C63&D63&E63&F63","v":"UNO (1)N/AN/ATUBO SIFON EXT. PQS 10/20 LBS PVC / UNIDAD"},{"$f":"H63","v":12973.72},{"$f":"C63&D63&E63&F63&G63","v":"UNO (1)N/AN/ATUBO SIFON EXT. PQS 10/20 LBS PVC / UNIDADJM GRUPO"},{"$f":"B63&H63","v":"C1-03112973.72"},{"$f":"G63","v":"JM GRUPO"},"Und",{"$f":"C63&D63&E63&F63&G63","v":"UNO (1)N/AN/ATUBO SIFON EXT. PQS 10/20 LBS PVC / UNIDADJM GRUPO"},{"$f":"H63","v":12973.72}]
[{"$f":"\"ate01-\"&B64&\" \"&C64&\" \"&D64&\" \"&E64","v":"ate01-C1-032 UNO (1) N/A N/A"},"C1-032","UNO (1)","N/A","N/A","GABINETE CONTRA INCENDIOS / UNIDAD","IMPLESEG S.A.S.",376237.93,{"$f":"B64&G64","v":"C1-032IMPLESEG S.A.S."},{"$f":"C64&D64&E64&F64","v":"UNO (1)N/AN/AGABINETE CONTRA INCENDIOS / UNIDAD"},{"$f":"H64","v":376237.93},{"$f":"C64&D64&E64&F64&G64","v":"UNO (1)N/AN/AGABINETE CONTRA INCENDIOS / UNIDADIMPLESEG S.A.S."},{"$f":"B64&H64","v":"C1-032376237.93"},{"$f":"G64","v":"IMPLESEG S.A.S."},"Und",{"$f":"C64&D64&E64&F64&G64","v":"UNO (1)N/AN/AGABINETE CONTRA INCENDIOS / UNIDADIMPLESEG S.A.S."},{"$f":"H64","v":376237.93}]
[{"$f":"\"ate01-\"&B65&\" \"&C65&\" \"&D65&\" \"&E65","v":"ate01-C1-032 UNO (1) N/A N/A"},"C1-032","UNO (1)","N/A","N/A","GABINETE CONTRA INCENDIOS / UNIDAD","JM GRUPO",1472517.4,{"$f":"B65&G65","v":"C1-032JM GRUPO"},{"$f":"C65&D65&E65&F65","v":"UNO (1)N/AN/AGABINETE CONTRA INCENDIOS / UNIDAD"},{"$f":"H65","v":1472517.4},{"$f":"C65&D65&E65&F65&G65","v":"UNO (1)N/AN/AGABINETE CONTRA INCENDIOS / UNIDADJM GRUPO"},{"$f":"B65&H65","v":"C1-0321472517.4"},{"$f":"G65","v":"JM GRUPO"},"Und",{"$f":"C65&D65&E65&F65&G65","v":"UNO (1)N/AN/AGABINETE CONTRA INCENDIOS / UNIDADJM GRUPO"},{"$f":"H65","v":1472517.4}]
[{"$f":"\"ate01-\"&B66&\" \"&C66&\" \"&D66&\" \"&E66","v":"ate01-C1-033 UNO (1) N/A N/A"},"C1-033","UNO (1)","N/A","N/A","AVISO O SEÑALIZACIÓN DEL EXTINTOR / UNIDAD","IMPLESEG S.A.S.",4540.8,{"$f":"B66&G66","v":"C1-033IMPLESEG S.A.S."},{"$f":"C66&D66&E66&F66","v":"UNO (1)N/AN/AAVISO O SEÑALIZACIÓN DEL EXTINTOR / UNIDAD"},{"$f":"H66","v":4540.8},{"$f":"C66&D66&E66&F66&G66","v":"UNO (1)N/AN/AAVISO O SEÑALIZACIÓN DEL EXTINTOR / UNIDADIMPLESEG S.A.S."},{"$f":"B66&H66","v":"C1-0334540.8"},{"$f":"G66","v":"IMPLESEG S.A.S."},"Und",{"$f":"C66&D66&E66&F66&G66","v":"UNO (1)N/AN/AAVISO O SEÑALIZACIÓN DEL EXTINTOR / UNIDADIMPLESEG S.A.S."},{"$f":"H66","v":4540.8}]
[{"$f":"\"ate01-\"&B67&\" \"&C67&\" \"&D67&\" \"&E67","v":"ate01-C1-033 UNO (1) N/A N/A"},"C1-033","UNO (1)","N/A","N/A","AVISO O SEÑALIZACIÓN DEL EXTINTOR / UNIDAD","JM GRUPO",15568.47,{"$f":"B67&G67","v":"C1-033JM GRUPO"},{"$f":"C67&D67&E67&F67","v":"UNO (1)N/AN/AAVISO O SEÑALIZACIÓN DEL EXTINTOR / UNIDAD"},{"$f":"H67","v":15568.47},{"$f":"C67&D67&E67&F67&G67","v":"UNO (1)N/AN/AAVISO O SEÑALIZACIÓN DEL EXTINTOR / UNIDADJM GRUPO"},{"$f":"B67&H67","v":"C1-03315568.47"},{"$f":"G67","v":"JM GRUPO"},"Und",{"$f":"C67&D67&E67&F67&G67","v":"UNO (1)N/AN/AAVISO O SEÑALIZACIÓN DEL EXTINTOR / UNIDADJM GRUPO"},{"$f":"H67","v":15568.47}]
[{"$f":"\"ate01-\"&B68&\" \"&C68&\" \"&D68&\" \"&E68","v":"ate01-C1-034 UNO (1) N/A N/A"},"C1-034","UNO (1)","N/A","N/A","SOPORTE DE PISO TIPO PEDESTAL PARA EXTINTOR 10LB / UNIDAD","IMPLESEG S.A.S.",38013,{"$f":"B68&G68","v":"C1-034IMPLESEG S.A.S."},{"$f":"C68&D68&E68&F68","v":"UNO (1)N/AN/ASOPORTE DE PISO TIPO PEDESTAL PARA EXTINTOR 10LB / UNIDAD"},{"$f":"H68","v":38013},{"$f":"C68&D68&E68&F68&G68","v":"UNO (1)N/AN/ASOPORTE DE PISO TIPO PEDESTAL PARA EXTINTOR 10LB / UNIDADIMPLESEG S.A.S."},{"$f":"B68&H68","v":"C1-03438013"},{"$f":"G68","v":"IMPLESEG S.A.S."},"Und",{"$f":"C68&D68&E68&F68&G68","v":"UNO (1)N/AN/ASOPORTE DE PISO TIPO PEDESTAL PARA EXTINTOR 10LB / UNIDADIMPLESEG S.A.S."},{"$f":"H68","v":38013}]
[{"$f":"\"ate01-\"&B69&\" \"&C69&\" \"&D69&\" \"&E69","v":"ate01-C1-034 UNO (1) N/A N/A"},"C1-034","UNO (1)","N/A","N/A","SOPORTE DE PISO TIPO PEDESTAL PARA EXTINTOR 10LB / UNIDAD","JM GRUPO",50597.51,{"$f":"B69&G69","v":"C1-034JM GRUPO"},{"$f":"C69&D69&E69&F69","v":"UNO (1)N/AN/ASOPORTE DE PISO TIPO PEDESTAL PARA EXTINTOR 10LB / UNIDAD"},{"$f":"H69","v":50597.51},{"$f":"C69&D69&E69&F69&G69","v":"UNO (1)N/AN/ASOPORTE DE PISO TIPO PEDESTAL PARA EXTINTOR 10LB / UNIDADJM GRUPO"},{"$f":"B69&H69","v":"C1-03450597.51"},{"$f":"G69","v":"JM GRUPO"},"Und",{"$f":"C69&D69&E69&F69&G69","v":"UNO (1)N/AN/ASOPORTE DE PISO TIPO PEDESTAL PARA EXTINTOR 10LB / UNIDADJM GRUPO"},{"$f":"H69","v":50597.51}]
[{"$f":"\"ate01-\"&B70&\" \"&C70&\" \"&D70&\" \"&E70","v":"ate01-C1-035 UNO (1) N/A N/A"},"C1-035","UNO (1)","N/A","N/A","SOPORTE DE PISO TIPO PEDESTAL PARA EXTINTOR 20LB / UNIDAD","IMPLESEG S.A.S.",41256.43,{"$f":"B70&G70","v":"C1-035IMPLESEG S.A.S."},{"$f":"C70&D70&E70&F70","v":"UNO (1)N/AN/ASOPORTE DE PISO TIPO PEDESTAL PARA EXTINTOR 20LB / UNIDAD"},{"$f":"H70","v":41256.43},{"$f":"C70&D70&E70&F70&G70","v":"UNO (1)N/AN/ASOPORTE DE PISO TIPO PEDESTAL PARA EXTINTOR 20LB / UNIDADIMPLESEG S.A.S."},{"$f":"B70&H70","v":"C1-03541256.43"},{"$f":"G70","v":"IMPLESEG S.A.S."},"Und",{"$f":"C70&D70&E70&F70&G70","v":"UNO (1)N/AN/ASOPORTE DE PISO TIPO PEDESTAL PARA EXTINTOR 20LB / UNIDADIMPLESEG S.A.S."},{"$f":"H70","v":41256.43}]
[{"$f":"\"ate01-\"&B71&\" \"&C71&\" \"&D71&\" \"&E71","v":"ate01-C1-035 UNO (1) N/A N/A"},"C1-035","UNO (1)","N/A","N/A","SOPORTE DE PISO TIPO PEDESTAL PARA EXTINTOR 20LB / UNIDAD","JM GRUPO",50597.51,{"$f":"B71&G71","v":"C1-035JM GRUPO"},{"$f":"C71&D71&E71&F71","v":"UNO (1)N/AN/ASOPORTE DE PISO TIPO PEDESTAL PARA EXTINTOR 20LB / UNIDAD"},{"$f":"H71","v":50597.51},{"$f":"C71&D71&E71&F71&G71","v":"UNO (1)N/AN/ASOPORTE DE PISO TIPO PEDESTAL PARA EXTINTOR 20LB / UNIDADJM GRUPO"},{"$f":"B71&H71","v":"C1-03550597.51"},{"$f":"G71","v":"JM GRUPO"},"Und",{"$f":"C71&D71&E71&F71&G71","v":"UNO (1)N/AN/ASOPORTE DE PISO TIPO PEDESTAL PARA EXTINTOR 20LB / UNIDADJM GRUPO"},{"$f":"H71","v":50597.51}]
[{"$f":"\"ate01-\"&B72&\" \"&C72&\" \"&D72&\" \"&E72","v":"ate01-C1-036 UNO (1) N/A N/A"},"C1-036","UNO (1)","N/A","N/A","SOPORTE DE PISO TIPO PEDESTAL PARA EXTINTOR 30LB / UNIDAD","IMPLESEG S.A.S.",58381.75,{"$f":"B72&G72","v":"C1-036IMPLESEG S.A.S."},{"$f":"C72&D72&E72&F72","v":"UNO (1)N/AN/ASOPORTE DE PISO TIPO PEDESTAL PARA EXTINTOR 30LB / UNIDAD"},{"$f":"H72","v":58381.75},{"$f":"C72&D72&E72&F72&G72","v":"UNO (1)N/AN/ASOPORTE DE PISO TIPO PEDESTAL PARA EXTINTOR 30LB / UNIDADIMPLESEG S.A.S."},{"$f":"B72&H72","v":"C1-03658381.75"},{"$f":"G72","v":"IMPLESEG S.A.S."},"Und",{"$f":"C72&D72&E72&F72&G72","v":"UNO (1)N/AN/ASOPORTE DE PISO TIPO PEDESTAL PARA EXTINTOR 30LB / UNIDADIMPLESEG S.A.S."},{"$f":"H72","v":58381.75}]
[{"$f":"\"ate01-\"&B73&\" \"&C73&\" \"&D73&\" \"&E73","v":"ate01-C1-036 UNO (1) N/A N/A"},"C1-036","UNO (1)","N/A","N/A","SOPORTE DE PISO TIPO PEDESTAL PARA EXTINTOR 30LB / UNIDAD","JM GRUPO",50597.51,{"$f":"B73&G73","v":"C1-036JM GRUPO"},{"$f":"C73&D73&E73&F73","v":"UNO (1)N/AN/ASOPORTE DE PISO TIPO PEDESTAL PARA EXTINTOR 30LB / UNIDAD"},{"$f":"H73","v":50597.51},{"$f":"C73&D73&E73&F73&G73","v":"UNO (1)N/AN/ASOPORTE DE PISO TIPO PEDESTAL PARA EXTINTOR 30LB / UNIDADJM GRUPO"},{"$f":"B73&H73","v":"C1-03650597.51"},{"$f":"G73","v":"JM GRUPO"},"Und",{"$f":"C73&D73&E73&F73&G73","v":"UNO (1)N/AN/ASOPORTE DE PISO TIPO PEDESTAL PARA EXTINTOR 30LB / UNIDADJM GRUPO"},{"$f":"H73","v":50597.51}]
[{"$f":"\"ate01-\"&B74&\" \"&C74&\" \"&D74&\" \"&E74","v":"ate01-C1-037 UNO (1) N/A N/A"},"C1-037","UNO (1)","N/A","N/A","MANTENIMIENTO PREVENTIVO DE EXTINTORES / UNIDAD","IMPLESEG S.A.S.",32434.3,{"$f":"B74&G74","v":"C1-037IMPLESEG S.A.S."},{"$f":"C74&D74&E74&F74","v":"UNO (1)N/AN/AMANTENIMIENTO PREVENTIVO DE EXTINTORES / UNIDAD"},{"$f":"H74","v":32434.3},{"$f":"C74&D74&E74&F74&G74","v":"UNO (1)N/AN/AMANTENIMIENTO PREVENTIVO DE EXTINTORES / UNIDADIMPLESEG S.A.S."},{"$f":"B74&H74","v":"C1-03732434.3"},{"$f":"G74","v":"IMPLESEG S.A.S."},"Und",{"$f":"C74&D74&E74&F74&G74","v":"UNO (1)N/AN/AMANTENIMIENTO PREVENTIVO DE EXTINTORES / UNIDADIMPLESEG S.A.S."},{"$f":"H74","v":32434.3}]
[{"$f":"\"ate01-\"&B75&\" \"&C75&\" \"&D75&\" \"&E75","v":"ate01-C1-037 UNO (1) N/A N/A"},"C1-037","UNO (1)","N/A","N/A","MANTENIMIENTO PREVENTIVO DE EXTINTORES / UNIDAD","JM GRUPO",76544.960000000006,{"$f":"B75&G75","v":"C1-037JM GRUPO"},{"$f":"C75&D75&E75&F75","v":"UNO (1)N/AN/AMANTENIMIENTO PREVENTIVO DE EXTINTORES / UNIDAD"},{"$f":"H75","v":76544.960000000006},{"$f":"C75&D75&E75&F75&G75","v":"UNO (1)N/AN/AMANTENIMIENTO PREVENTIVO DE EXTINTORES / UNIDADJM GRUPO"},{"$f":"B75&H75","v":"C1-03776544.96"},{"$f":"G75","v":"JM GRUPO"},"Und",{"$f":"C75&D75&E75&F75&G75","v":"UNO (1)N/AN/AMANTENIMIENTO PREVENTIVO DE EXTINTORES / UNIDADJM GRUPO"},{"$f":"H75","v":76544.960000000006}]
[{"$f":"\"ate01-\"&B76&\" \"&C76&\" \"&D76&\" \"&E76","v":"ate01-C1-038 UNO (1) N/A N/A"},"C1-038","UNO (1)","N/A","N/A","RECARGA DE EXTINTOR POLVO QUÍMICO SECO CLASE ABC PORTÁTIL DE 5 LIBRAS / UNIDAD","IMPLESEG S.A.S.",20757.95,{"$f":"B76&G76","v":"C1-038IMPLESEG S.A.S."},{"$f":"C76&D76&E76&F76","v":"UNO (1)N/AN/ARECARGA DE EXTINTOR POLVO QUÍMICO SECO CLASE ABC PORTÁTIL DE 5 LIBRAS / UNIDAD"},{"$f":"H76","v":20757.95},{"$f":"C76&D76&E76&F76&G76","v":"UNO (1)N/AN/ARECARGA DE EXTINTOR POLVO QUÍMICO SECO CLASE ABC PORTÁTIL DE 5 LIBRAS / UNIDADIMPLESEG S.A.S."},{"$f":"B76&H76","v":"C1-03820757.95"},{"$f":"G76","v":"IMPLESEG S.A.S."},"Und",{"$f":"C76&D76&E76&F76&G76","v":"UNO (1)N/AN/ARECARGA DE EXTINTOR POLVO QUÍMICO SECO CLASE ABC PORTÁTIL DE 5 LIBRAS / UNIDADIMPLESEG S.A.S."},{"$f":"H76","v":20757.95}]
[{"$f":"\"ate01-\"&B77&\" \"&C77&\" \"&D77&\" \"&E77","v":"ate01-C1-038 UNO (1) N/A N/A"},"C1-038","UNO (1)","N/A","N/A","RECARGA DE EXTINTOR POLVO QUÍMICO SECO CLASE ABC PORTÁTIL DE 5 LIBRAS / UNIDAD","JM GRUPO",103789.77,{"$f":"B77&G77","v":"C1-038JM GRUPO"},{"$f":"C77&D77&E77&F77","v":"UNO (1)N/AN/ARECARGA DE EXTINTOR POLVO QUÍMICO SECO CLASE ABC PORTÁTIL DE 5 LIBRAS / UNIDAD"},{"$f":"H77","v":103789.77},{"$f":"C77&D77&E77&F77&G77","v":"UNO (1)N/AN/ARECARGA DE EXTINTOR POLVO QUÍMICO SECO CLASE ABC PORTÁTIL DE 5 LIBRAS / UNIDADJM GRUPO"},{"$f":"B77&H77","v":"C1-038103789.77"},{"$f":"G77","v":"JM GRUPO"},"Und",{"$f":"C77&D77&E77&F77&G77","v":"UNO (1)N/AN/ARECARGA DE EXTINTOR POLVO QUÍMICO SECO CLASE ABC PORTÁTIL DE 5 LIBRAS / UNIDADJM GRUPO"},{"$f":"H77","v":103789.77}]
[{"$f":"\"ate01-\"&B78&\" \"&C78&\" \"&D78&\" \"&E78","v":"ate01-C1-039 UNO (1) N/A N/A"},"C1-039","UNO (1)","N/A","N/A","RECARGA DE EXTINTOR POLVO QUÍMICO SECO CLASE ABC PORTÁTIL DE 10 LIBRAS / UNIDAD","IMPLESEG S.A.S.",23352.7,{"$f":"B78&G78","v":"C1-039IMPLESEG S.A.S."},{"$f":"C78&D78&E78&F78","v":"UNO (1)N/AN/ARECARGA DE EXTINTOR POLVO QUÍMICO SECO CLASE ABC PORTÁTIL DE 10 LIBRAS / UNIDAD"},{"$f":"H78","v":23352.7},{"$f":"C78&D78&E78&F78&G78","v":"UNO (1)N/AN/ARECARGA DE EXTINTOR POLVO QUÍMICO SECO CLASE ABC PORTÁTIL DE 10 LIBRAS / UNIDADIMPLESEG S.A.S."},{"$f":"B78&H78","v":"C1-03923352.7"},{"$f":"G78","v":"IMPLESEG S.A.S."},"Und",{"$f":"C78&D78&E78&F78&G78","v":"UNO (1)N/AN/ARECARGA DE EXTINTOR POLVO QUÍMICO SECO CLASE ABC PORTÁTIL DE 10 LIBRAS / UNIDADIMPLESEG S.A.S."},{"$f":"H78","v":23352.7}]
[{"$f":"\"ate01-\"&B79&\" \"&C79&\" \"&D79&\" \"&E79","v":"ate01-C1-039 UNO (1) N/A N/A"},"C1-039","UNO (1)","N/A","N/A","RECARGA DE EXTINTOR POLVO QUÍMICO SECO CLASE ABC PORTÁTIL DE 10 LIBRAS / UNIDAD","JM GRUPO",129737.22,{"$f":"B79&G79","v":"C1-039JM GRUPO"},{"$f":"C79&D79&E79&F79","v":"UNO (1)N/AN/ARECARGA DE EXTINTOR POLVO QUÍMICO SECO CLASE ABC PORTÁTIL DE 10 LIBRAS / UNIDAD"},{"$f":"H79","v":129737.22},{"$f":"C79&D79&E79&F79&G79","v":"UNO (1)N/AN/ARECARGA DE EXTINTOR POLVO QUÍMICO SECO CLASE ABC PORTÁTIL DE 10 LIBRAS / UNIDADJM GRUPO"},{"$f":"B79&H79","v":"C1-039129737.22"},{"$f":"G79","v":"JM GRUPO"},"Und",{"$f":"C79&D79&E79&F79&G79","v":"UNO (1)N/AN/ARECARGA DE EXTINTOR POLVO QUÍMICO SECO CLASE ABC PORTÁTIL DE 10 LIBRAS / UNIDADJM GRUPO"},{"$f":"H79","v":129737.22}]
[{"$f":"\"ate01-\"&B80&\" \"&C80&\" \"&D80&\" \"&E80","v":"ate01-C1-040 UNO (1) N/A N/A"},"C1-040","UNO (1)","N/A","N/A","RECARGA DE EXTINTOR POLVO QUÍMICO SECO CLASE ABC PORTÁTIL DE 20 LIBRAS / UNIDAD","IMPLESEG S.A.S.",38921.160000000003,{"$f":"B80&G80","v":"C1-040IMPLESEG S.A.S."},{"$f":"C80&D80&E80&F80","v":"UNO (1)N/AN/ARECARGA DE EXTINTOR POLVO QUÍMICO SECO CLASE ABC PORTÁTIL DE 20 LIBRAS / UNIDAD"},{"$f":"H80","v":38921.160000000003},{"$f":"C80&D80&E80&F80&G80","v":"UNO (1)N/AN/ARECARGA DE EXTINTOR POLVO QUÍMICO SECO CLASE ABC PORTÁTIL DE 20 LIBRAS / UNIDADIMPLESEG S.A.S."},{"$f":"B80&H80","v":"C1-04038921.16"},{"$f":"G80","v":"IMPLESEG S.A.S."},"Und",{"$f":"C80&D80&E80&F80&G80","v":"UNO (1)N/AN/ARECARGA DE EXTINTOR POLVO QUÍMICO SECO CLASE ABC PORTÁTIL DE 20 LIBRAS / UNIDADIMPLESEG S.A.S."},{"$f":"H80","v":38921.160000000003}]
[{"$f":"\"ate01-\"&B81&\" \"&C81&\" \"&D81&\" \"&E81","v":"ate01-C1-040 UNO (1) N/A N/A"},"C1-040","UNO (1)","N/A","N/A","RECARGA DE EXTINTOR POLVO QUÍMICO SECO CLASE ABC PORTÁTIL DE 20 LIBRAS / UNIDAD","JM GRUPO",155684.66,{"$f":"B81&G81","v":"C1-040JM GRUPO"},{"$f":"C81&D81&E81&F81","v":"UNO (1)N/AN/ARECARGA DE EXTINTOR POLVO QUÍMICO SECO CLASE ABC PORTÁTIL DE 20 LIBRAS / UNIDAD"},{"$f":"H81","v":155684.66},{"$f":"C81&D81&E81&F81&G81","v":"UNO (1)N/AN/ARECARGA DE EXTINTOR POLVO QUÍMICO SECO CLASE ABC PORTÁTIL DE 20 LIBRAS / UNIDADJM GRUPO"},{"$f":"B81&H81","v":"C1-040155684.66"},{"$f":"G81","v":"JM GRUPO"},"Und",{"$f":"C81&D81&E81&F81&G81","v":"UNO (1)N/AN/ARECARGA DE EXTINTOR POLVO QUÍMICO SECO CLASE ABC PORTÁTIL DE 20 LIBRAS / UNIDADJM GRUPO"},{"$f":"H81","v":155684.66}]
[{"$f":"\"ate01-\"&B82&\" \"&C82&\" \"&D82&\" \"&E82","v":"ate01-C1-041 UNO (1) N/A N/A"},"C1-041","UNO (1)","N/A","N/A","RECARGA DE EXTINTOR POLVO QUÍMICO SECO CLASE ABC PORTÁTIL DE 30 LIBRAS / UNIDAD","IMPLESEG S.A.S.",58381.75,{"$f":"B82&G82","v":"C1-041IMPLESEG S.A.S."},{"$f":"C82&D82&E82&F82","v":"UNO (1)N/AN/ARECARGA DE EXTINTOR POLVO QUÍMICO SECO CLASE ABC PORTÁTIL DE 30 LIBRAS / UNIDAD"},{"$f":"H82","v":58381.75},{"$f":"C82&D82&E82&F82&G82","v":"UNO (1)N/AN/ARECARGA DE EXTINTOR POLVO QUÍMICO SECO CLASE ABC PORTÁTIL DE 30 LIBRAS / UNIDADIMPLESEG S.A.S."},{"$f":"B82&H82","v":"C1-04158381.75"},{"$f":"G82","v":"IMPLESEG S.A.S."},"Und",{"$f":"C82&D82&E82&F82&G82","v":"UNO (1)N/AN/ARECARGA DE EXTINTOR POLVO QUÍMICO SECO CLASE ABC PORTÁTIL DE 30 LIBRAS / UNIDADIMPLESEG S.A.S."},{"$f":"H82","v":58381.75}]
[{"$f":"\"ate01-\"&B83&\" \"&C83&\" \"&D83&\" \"&E83","v":"ate01-C1-041 UNO (1) N/A N/A"},"C1-041","UNO (1)","N/A","N/A","RECARGA DE EXTINTOR POLVO QUÍMICO SECO CLASE ABC PORTÁTIL DE 30 LIBRAS / UNIDAD","JM GRUPO",285421.88,{"$f":"B83&G83","v":"C1-041JM GRUPO"},{"$f":"C83&D83&E83&F83","v":"UNO (1)N/AN/ARECARGA DE EXTINTOR POLVO QUÍMICO SECO CLASE ABC PORTÁTIL DE 30 LIBRAS / UNIDAD"},{"$f":"H83","v":285421.88},{"$f":"C83&D83&E83&F83&G83","v":"UNO (1)N/AN/ARECARGA DE EXTINTOR POLVO QUÍMICO SECO CLASE ABC PORTÁTIL DE 30 LIBRAS / UNIDADJM GRUPO"},{"$f":"B83&H83","v":"C1-041285421.88"},{"$f":"G83","v":"JM GRUPO"},"Und",{"$f":"C83&D83&E83&F83&G83","v":"UNO (1)N/AN/ARECARGA DE EXTINTOR POLVO QUÍMICO SECO CLASE ABC PORTÁTIL DE 30 LIBRAS / UNIDADJM GRUPO"},{"$f":"H83","v":285421.88}]
[{"$f":"\"ate01-\"&B84&\" \"&C84&\" \"&D84&\" \"&E84","v":"ate01-C1-042 UNO (1) N/A N/A"},"C1-042","UNO (1)","N/A","N/A","RECARGA DE EXTINTOR POLVO QUÍMICO SECO CLASE ABC RODANTE DE 50 LIBRAS / UNIDAD","IMPLESEG S.A.S.",164377.04999999999,{"$f":"B84&G84","v":"C1-042IMPLESEG S.A.S."},{"$f":"C84&D84&E84&F84","v":"UNO (1)N/AN/ARECARGA DE EXTINTOR POLVO QUÍMICO SECO CLASE ABC RODANTE DE 50 LIBRAS / UNIDAD"},{"$f":"H84","v":164377.04999999999},{"$f":"C84&D84&E84&F84&G84","v":"UNO (1)N/AN/ARECARGA DE EXTINTOR POLVO QUÍMICO SECO CLASE ABC RODANTE DE 50 LIBRAS / UNIDADIMPLESEG S.A.S."},{"$f":"B84&H84","v":"C1-042164377.05"},{"$f":"G84","v":"IMPLESEG S.A.S."},"Und",{"$f":"C84&D84&E84&F84&G84","v":"UNO (1)N/AN/ARECARGA DE EXTINTOR POLVO QUÍMICO SECO CLASE ABC RODANTE DE 50 LIBRAS / UNIDADIMPLESEG S.A.S."},{"$f":"H84","v":164377.04999999999}]
[{"$f":"\"ate01-\"&B85&\" \"&C85&\" \"&D85&\" \"&E85","v":"ate01-C1-042 UNO (1) N/A N/A"},"C1-042","UNO (1)","N/A","N/A","RECARGA DE EXTINTOR POLVO QUÍMICO SECO CLASE ABC RODANTE DE 50 LIBRAS / UNIDAD","JM GRUPO",843291.9,{"$f":"B85&G85","v":"C1-042JM GRUPO"},{"$f":"C85&D85&E85&F85","v":"UNO (1)N/AN/ARECARGA DE EXTINTOR POLVO QUÍMICO SECO CLASE ABC RODANTE DE 50 LIBRAS / UNIDAD"},{"$f":"H85","v":843291.9},{"$f":"C85&D85&E85&F85&G85","v":"UNO (1)N/AN/ARECARGA DE EXTINTOR POLVO QUÍMICO SECO CLASE ABC RODANTE DE 50 LIBRAS / UNIDADJM GRUPO"},{"$f":"B85&H85","v":"C1-042843291.9"},{"$f":"G85","v":"JM GRUPO"},"Und",{"$f":"C85&D85&E85&F85&G85","v":"UNO (1)N/AN/ARECARGA DE EXTINTOR POLVO QUÍMICO SECO CLASE ABC RODANTE DE 50 LIBRAS / UNIDADJM GRUPO"},{"$f":"H85","v":843291.9}]
[{"$f":"\"ate01-\"&B86&\" \"&C86&\" \"&D86&\" \"&E86","v":"ate01-C1-043 UNO (1) N/A N/A"},"C1-043","UNO (1)","N/A","N/A","RECARGA DE EXTINTOR POLVO QUÍMICO SECO CLASE ABC RODANTE DE 150 LIBRAS / UNIDAD","IMPLESEG S.A.S.",285421.88,{"$f":"B86&G86","v":"C1-043IMPLESEG S.A.S."},{"$f":"C86&D86&E86&F86","v":"UNO (1)N/AN/ARECARGA DE EXTINTOR POLVO QUÍMICO SECO CLASE ABC RODANTE DE 150 LIBRAS / UNIDAD"},{"$f":"H86","v":285421.88},{"$f":"C86&D86&E86&F86&G86","v":"UNO (1)N/AN/ARECARGA DE EXTINTOR POLVO QUÍMICO SECO CLASE ABC RODANTE DE 150 LIBRAS / UNIDADIMPLESEG S.A.S."},{"$f":"B86&H86","v":"C1-043285421.88"},{"$f":"G86","v":"IMPLESEG S.A.S."},"Und",{"$f":"C86&D86&E86&F86&G86","v":"UNO (1)N/AN/ARECARGA DE EXTINTOR POLVO QUÍMICO SECO CLASE ABC RODANTE DE 150 LIBRAS / UNIDADIMPLESEG S.A.S."},{"$f":"H86","v":285421.88}]
[{"$f":"\"ate01-\"&B87&\" \"&C87&\" \"&D87&\" \"&E87","v":"ate01-C1-043 UNO (1) N/A N/A"},"C1-043","UNO (1)","N/A","N/A","RECARGA DE EXTINTOR POLVO QUÍMICO SECO CLASE ABC RODANTE DE 150 LIBRAS / UNIDAD","JM GRUPO",1102766.3400000001,{"$f":"B87&G87","v":"C1-043JM GRUPO"},{"$f":"C87&D87&E87&F87","v":"UNO (1)N/AN/ARECARGA DE EXTINTOR POLVO QUÍMICO SECO CLASE ABC RODANTE DE 150 LIBRAS / UNIDAD"},{"$f":"H87","v":1102766.3400000001},{"$f":"C87&D87&E87&F87&G87","v":"UNO (1)N/AN/ARECARGA DE EXTINTOR POLVO QUÍMICO SECO CLASE ABC RODANTE DE 150 LIBRAS / UNIDADJM GRUPO"},{"$f":"B87&H87","v":"C1-0431102766.34"},{"$f":"G87","v":"JM GRUPO"},"Und",{"$f":"C87&D87&E87&F87&G87","v":"UNO (1)N/AN/ARECARGA DE EXTINTOR POLVO QUÍMICO SECO CLASE ABC RODANTE DE 150 LIBRAS / UNIDADJM GRUPO"},{"$f":"H87","v":1102766.3400000001}]
[{"$f":"\"ate01-\"&B88&\" \"&C88&\" \"&D88&\" \"&E88","v":"ate01-C1-044 UNO (1) N/A N/A"},"C1-044","UNO (1)","N/A","N/A","RECARGA DE EXTINTOR DE AGUA DE  2 1/2  GALONES / UNIDAD","IMPLESEG S.A.S.",23352.7,{"$f":"B88&G88","v":"C1-044IMPLESEG S.A.S."},{"$f":"C88&D88&E88&F88","v":"UNO (1)N/AN/ARECARGA DE EXTINTOR DE AGUA DE  2 1/2  GALONES / UNIDAD"},{"$f":"H88","v":23352.7},{"$f":"C88&D88&E88&F88&G88","v":"UNO (1)N/AN/ARECARGA DE EXTINTOR DE AGUA DE  2 1/2  GALONES / UNIDADIMPLESEG S.A.S."},{"$f":"B88&H88","v":"C1-04423352.7"},{"$f":"G88","v":"IMPLESEG S.A.S."},"Und",{"$f":"C88&D88&E88&F88&G88","v":"UNO (1)N/AN/ARECARGA DE EXTINTOR DE AGUA DE  2 1/2  GALONES / UNIDADIMPLESEG S.A.S."},{"$f":"H88","v":23352.7}]
[{"$f":"\"ate01-\"&B89&\" \"&C89&\" \"&D89&\" \"&E89","v":"ate01-C1-044 UNO (1) N/A N/A"},"C1-044","UNO (1)","N/A","N/A","RECARGA DE EXTINTOR DE AGUA DE  2 1/2  GALONES / UNIDAD","JM GRUPO",144008.31,{"$f":"B89&G89","v":"C1-044JM GRUPO"},{"$f":"C89&D89&E89&F89","v":"UNO (1)N/AN/ARECARGA DE EXTINTOR DE AGUA DE  2 1/2  GALONES / UNIDAD"},{"$f":"H89","v":144008.31},{"$f":"C89&D89&E89&F89&G89","v":"UNO (1)N/AN/ARECARGA DE EXTINTOR DE AGUA DE  2 1/2  GALONES / UNIDADJM GRUPO"},{"$f":"B89&H89","v":"C1-044144008.31"},{"$f":"G89","v":"JM GRUPO"},"Und",{"$f":"C89&D89&E89&F89&G89","v":"UNO (1)N/AN/ARECARGA DE EXTINTOR DE AGUA DE  2 1/2  GALONES / UNIDADJM GRUPO"},{"$f":"H89","v":144008.31}]
[{"$f":"\"ate01-\"&B90&\" \"&C90&\" \"&D90&\" \"&E90","v":"ate01-C1-045 UNO (1) N/A N/A"},"C1-045","UNO (1)","N/A","N/A","RECARGA DE EXTINTOR DE AGUA DE 14 GALONES TIPO SATELITE / UNIDAD","IMPLESEG S.A.S.",176053.4,{"$f":"B90&G90","v":"C1-045IMPLESEG S.A.S."},{"$f":"C90&D90&E90&F90","v":"UNO (1)N/AN/ARECARGA DE EXTINTOR DE AGUA DE 14 GALONES TIPO SATELITE / UNIDAD"},{"$f":"H90","v":176053.4},{"$f":"C90&D90&E90&F90&G90","v":"UNO (1)N/AN/ARECARGA DE EXTINTOR DE AGUA DE 14 GALONES TIPO SATELITE / UNIDADIMPLESEG S.A.S."},{"$f":"B90&H90","v":"C1-045176053.4"},{"$f":"G90","v":"IMPLESEG S.A.S."},"Und",{"$f":"C90&D90&E90&F90&G90","v":"UNO (1)N/AN/ARECARGA DE EXTINTOR DE AGUA DE 14 GALONES TIPO SATELITE / UNIDADIMPLESEG S.A.S."},{"$f":"H90","v":176053.4}]
[{"$f":"\"ate01-\"&B91&\" \"&C91&\" \"&D91&\" \"&E91","v":"ate01-C1-045 UNO (1) N/A N/A"},"C1-045","UNO (1)","N/A","N/A","RECARGA DE EXTINTOR DE AGUA DE 14 GALONES TIPO SATELITE / UNIDAD","JM GRUPO",351587.86,{"$f":"B91&G91","v":"C1-045JM GRUPO"},{"$f":"C91&D91&E91&F91","v":"UNO (1)N/AN/ARECARGA DE EXTINTOR DE AGUA DE 14 GALONES TIPO SATELITE / UNIDAD"},{"$f":"H91","v":351587.86},{"$f":"C91&D91&E91&F91&G91","v":"UNO (1)N/AN/ARECARGA DE EXTINTOR DE AGUA DE 14 GALONES TIPO SATELITE / UNIDADJM GRUPO"},{"$f":"B91&H91","v":"C1-045351587.86"},{"$f":"G91","v":"JM GRUPO"},"Und",{"$f":"C91&D91&E91&F91&G91","v":"UNO (1)N/AN/ARECARGA DE EXTINTOR DE AGUA DE 14 GALONES TIPO SATELITE / UNIDADJM GRUPO"},{"$f":"H91","v":351587.86}]
[{"$f":"\"ate01-\"&B92&\" \"&C92&\" \"&D92&\" \"&E92","v":"ate01-C1-046 UNO (1) N/A N/A"},"C1-046","UNO (1)","N/A","N/A","RECARGA DE EXTINTOR DE AGENTE LIMPIO HCFC DE 2500 GRAMOS / UNIDAD","IMPLESEG S.A.S.",220553.27,{"$f":"B92&G92","v":"C1-046IMPLESEG S.A.S."},{"$f":"C92&D92&E92&F92","v":"UNO (1)N/AN/ARECARGA DE EXTINTOR DE AGENTE LIMPIO HCFC DE 2500 GRAMOS / UNIDAD"},{"$f":"H92","v":220553.27},{"$f":"C92&D92&E92&F92&G92","v":"UNO (1)N/AN/ARECARGA DE EXTINTOR DE AGENTE LIMPIO HCFC DE 2500 GRAMOS / UNIDADIMPLESEG S.A.S."},{"$f":"B92&H92","v":"C1-046220553.27"},{"$f":"G92","v":"IMPLESEG S.A.S."},"Und",{"$f":"C92&D92&E92&F92&G92","v":"UNO (1)N/AN/ARECARGA DE EXTINTOR DE AGENTE LIMPIO HCFC DE 2500 GRAMOS / UNIDADIMPLESEG S.A.S."},{"$f":"H92","v":220553.27}]
[{"$f":"\"ate01-\"&B93&\" \"&C93&\" \"&D93&\" \"&E93","v":"ate01-C1-046 UNO (1) N/A N/A"},"C1-046","UNO (1)","N/A","N/A","RECARGA DE EXTINTOR DE AGENTE LIMPIO HCFC DE 2500 GRAMOS / UNIDAD","JM GRUPO",285421.88,{"$f":"B93&G93","v":"C1-046JM GRUPO"},{"$f":"C93&D93&E93&F93","v":"UNO (1)N/AN/ARECARGA DE EXTINTOR DE AGENTE LIMPIO HCFC DE 2500 GRAMOS / UNIDAD"},{"$f":"H93","v":285421.88},{"$f":"C93&D93&E93&F93&G93","v":"UNO (1)N/AN/ARECARGA DE EXTINTOR DE AGENTE LIMPIO HCFC DE 2500 GRAMOS / UNIDADJM GRUPO"},{"$f":"B93&H93","v":"C1-046285421.88"},{"$f":"G93","v":"JM GRUPO"},"Und",{"$f":"C93&D93&E93&F93&G93","v":"UNO (1)N/AN/ARECARGA DE EXTINTOR DE AGENTE LIMPIO HCFC DE 2500 GRAMOS / UNIDADJM GRUPO"},{"$f":"H93","v":285421.88}]
[{"$f":"\"ate01-\"&B94&\" \"&C94&\" \"&D94&\" \"&E94","v":"ate01-C1-047 UNO (1) N/A N/A"},"C1-047","UNO (1)","N/A","N/A","RECARGA DE EXTINTOR DE AGENTE LIMPIO HCFC DE 3700 GRAMOS / UNIDAD","IMPLESEG S.A.S.",356777.34,{"$f":"B94&G94","v":"C1-047IMPLESEG S.A.S."},{"$f":"C94&D94&E94&F94","v":"UNO (1)N/AN/ARECARGA DE EXTINTOR DE AGENTE LIMPIO HCFC DE 3700 GRAMOS / UNIDAD"},{"$f":"H94","v":356777.34},{"$f":"C94&D94&E94&F94&G94","v":"UNO (1)N/AN/ARECARGA DE EXTINTOR DE AGENTE LIMPIO HCFC DE 3700 GRAMOS / UNIDADIMPLESEG S.A.S."},{"$f":"B94&H94","v":"C1-047356777.34"},{"$f":"G94","v":"IMPLESEG S.A.S."},"Und",{"$f":"C94&D94&E94&F94&G94","v":"UNO (1)N/AN/ARECARGA DE EXTINTOR DE AGENTE LIMPIO HCFC DE 3700 GRAMOS / UNIDADIMPLESEG S.A.S."},{"$f":"H94","v":356777.34}]
[{"$f":"\"ate01-\"&B95&\" \"&C95&\" \"&D95&\" \"&E95","v":"ate01-C1-047 UNO (1) N/A N/A"},"C1-047","UNO (1)","N/A","N/A","RECARGA DE EXTINTOR DE AGENTE LIMPIO HCFC DE 3700 GRAMOS / UNIDAD","JM GRUPO",454080.26,{"$f":"B95&G95","v":"C1-047JM GRUPO"},{"$f":"C95&D95&E95&F95","v":"UNO (1)N/AN/ARECARGA DE EXTINTOR DE AGENTE LIMPIO HCFC DE 3700 GRAMOS / UNIDAD"},{"$f":"H95","v":454080.26},{"$f":"C95&D95&E95&F95&G95","v":"UNO (1)N/AN/ARECARGA DE EXTINTOR DE AGENTE LIMPIO HCFC DE 3700 GRAMOS / UNIDADJM GRUPO"},{"$f":"B95&H95","v":"C1-047454080.26"},{"$f":"G95","v":"JM GRUPO"},"Und",{"$f":"C95&D95&E95&F95&G95","v":"UNO (1)N/AN/ARECARGA DE EXTINTOR DE AGENTE LIMPIO HCFC DE 3700 GRAMOS / UNIDADJM GRUPO"},{"$f":"H95","v":454080.26}]
[{"$f":"\"ate01-\"&B96&\" \"&C96&\" \"&D96&\" \"&E96","v":"ate01-C1-048 UNO (1) N/A N/A"},"C1-048","UNO (1)","N/A","N/A","RECARGA DE EXTINTOR DE AGENTE LIMPIO HCFC DE 7000 GRAMOS / UNIDAD","IMPLESEG S.A.S.",745988.99,{"$f":"B96&G96","v":"C1-048IMPLESEG S.A.S."},{"$f":"C96&D96&E96&F96","v":"UNO (1)N/AN/ARECARGA DE EXTINTOR DE AGENTE LIMPIO HCFC DE 7000 GRAMOS / UNIDAD"},{"$f":"H96","v":745988.99},{"$f":"C96&D96&E96&F96&G96","v":"UNO (1)N/AN/ARECARGA DE EXTINTOR DE AGENTE LIMPIO HCFC DE 7000 GRAMOS / UNIDADIMPLESEG S.A.S."},{"$f":"B96&H96","v":"C1-048745988.99"},{"$f":"G96","v":"IMPLESEG S.A.S."},"Und",{"$f":"C96&D96&E96&F96&G96","v":"UNO (1)N/AN/ARECARGA DE EXTINTOR DE AGENTE LIMPIO HCFC DE 7000 GRAMOS / UNIDADIMPLESEG S.A.S."},{"$f":"H96","v":745988.99}]
[{"$f":"\"ate01-\"&B97&\" \"&C97&\" \"&D97&\" \"&E97","v":"ate01-C1-048 UNO (1) N/A N/A"},"C1-048","UNO (1)","N/A","N/A","RECARGA DE EXTINTOR DE AGENTE LIMPIO HCFC DE 7000 GRAMOS / UNIDAD","JM GRUPO",672038.78,{"$f":"B97&G97","v":"C1-048JM GRUPO"},{"$f":"C97&D97&E97&F97","v":"UNO (1)N/AN/ARECARGA DE EXTINTOR DE AGENTE LIMPIO HCFC DE 7000 GRAMOS / UNIDAD"},{"$f":"H97","v":672038.78},{"$f":"C97&D97&E97&F97&G97","v":"UNO (1)N/AN/ARECARGA DE EXTINTOR DE AGENTE LIMPIO HCFC DE 7000 GRAMOS / UNIDADJM GRUPO"},{"$f":"B97&H97","v":"C1-048672038.78"},{"$f":"G97","v":"JM GRUPO"},"Und",{"$f":"C97&D97&E97&F97&G97","v":"UNO (1)N/AN/ARECARGA DE EXTINTOR DE AGENTE LIMPIO HCFC DE 7000 GRAMOS / UNIDADJM GRUPO"},{"$f":"H97","v":672038.78}]
[{"$f":"\"ate01-\"&B98&\" \"&C98&\" \"&D98&\" \"&E98","v":"ate01-C1-049 UNO (1) N/A N/A"},"C1-049","UNO (1)","N/A","N/A","RECARGA DE EXTINTOR DE AGENTE LIMPIO HCFC DE 9000 GRAMOS / UNIDAD","IMPLESEG S.A.S.",819939.21,{"$f":"B98&G98","v":"C1-049IMPLESEG S.A.S."},{"$f":"C98&D98&E98&F98","v":"UNO (1)N/AN/ARECARGA DE EXTINTOR DE AGENTE LIMPIO HCFC DE 9000 GRAMOS / UNIDAD"},{"$f":"H98","v":819939.21},{"$f":"C98&D98&E98&F98&G98","v":"UNO (1)N/AN/ARECARGA DE EXTINTOR DE AGENTE LIMPIO HCFC DE 9000 GRAMOS / UNIDADIMPLESEG S.A.S."},{"$f":"B98&H98","v":"C1-049819939.21"},{"$f":"G98","v":"IMPLESEG S.A.S."},"Und",{"$f":"C98&D98&E98&F98&G98","v":"UNO (1)N/AN/ARECARGA DE EXTINTOR DE AGENTE LIMPIO HCFC DE 9000 GRAMOS / UNIDADIMPLESEG S.A.S."},{"$f":"H98","v":819939.21}]
[{"$f":"\"ate01-\"&B99&\" \"&C99&\" \"&D99&\" \"&E99","v":"ate01-C1-049 UNO (1) N/A N/A"},"C1-049","UNO (1)","N/A","N/A","RECARGA DE EXTINTOR DE AGENTE LIMPIO HCFC DE 9000 GRAMOS / UNIDAD","JM GRUPO",889997.3,{"$f":"B99&G99","v":"C1-049JM GRUPO"},{"$f":"C99&D99&E99&F99","v":"UNO (1)N/AN/ARECARGA DE EXTINTOR DE AGENTE LIMPIO HCFC DE 9000 GRAMOS / UNIDAD"},{"$f":"H99","v":889997.3},{"$f":"C99&D99&E99&F99&G99","v":"UNO (1)N/AN/ARECARGA DE EXTINTOR DE AGENTE LIMPIO HCFC DE 9000 GRAMOS / UNIDADJM GRUPO"},{"$f":"B99&H99","v":"C1-049889997.3"},{"$f":"G99","v":"JM GRUPO"},"Und",{"$f":"C99&D99&E99&F99&G99","v":"UNO (1)N/AN/ARECARGA DE EXTINTOR DE AGENTE LIMPIO HCFC DE 9000 GRAMOS / UNIDADJM GRUPO"},{"$f":"H99","v":889997.3}]
[{"$f":"\"ate01-\"&B100&\" \"&C100&\" \"&D100&\" \"&E100","v":"ate01-C1-050 UNO (1) N/A N/A"},"C1-050","UNO (1)","N/A","N/A","RECARGA DE EXTINTOR DE CO2 DE 5 LIBRAS / UNIDAD","IMPLESEG S.A.S.",37623.79,{"$f":"B100&G100","v":"C1-050IMPLESEG S.A.S."},{"$f":"C100&D100&E100&F100","v":"UNO (1)N/AN/ARECARGA DE EXTINTOR DE CO2 DE 5 LIBRAS / UNIDAD"},{"$f":"H100","v":37623.79},{"$f":"C100&D100&E100&F100&G100","v":"UNO (1)N/AN/ARECARGA DE EXTINTOR DE CO2 DE 5 LIBRAS / UNIDADIMPLESEG S.A.S."},{"$f":"B100&H100","v":"C1-05037623.79"},{"$f":"G100","v":"IMPLESEG S.A.S."},"Und",{"$f":"C100&D100&E100&F100&G100","v":"UNO (1)N/AN/ARECARGA DE EXTINTOR DE CO2 DE 5 LIBRAS / UNIDADIMPLESEG S.A.S."},{"$f":"H100","v":37623.79}]
[{"$f":"\"ate01-\"&B101&\" \"&C101&\" \"&D101&\" \"&E101","v":"ate01-C1-050 UNO (1) N/A N/A"},"C1-050","UNO (1)","N/A","N/A","RECARGA DE EXTINTOR DE CO2 DE 5 LIBRAS / UNIDAD","JM GRUPO",171901.81,{"$f":"B101&G101","v":"C1-050JM GRUPO"},{"$f":"C101&D101&E101&F101","v":"UNO (1)N/AN/ARECARGA DE EXTINTOR DE CO2 DE 5 LIBRAS / UNIDAD"},{"$f":"H101","v":171901.81},{"$f":"C101&D101&E101&F101&G101","v":"UNO (1)N/AN/ARECARGA DE EXTINTOR DE CO2 DE 5 LIBRAS / UNIDADJM GRUPO"},{"$f":"B101&H101","v":"C1-050171901.81"},{"$f":"G101","v":"JM GRUPO"},"Und",{"$f":"C101&D101&E101&F101&G101","v":"UNO (1)N/AN/ARECARGA DE EXTINTOR DE CO2 DE 5 LIBRAS / UNIDADJM GRUPO"},{"$f":"H101","v":171901.81}]
[{"$f":"\"ate01-\"&B102&\" \"&C102&\" \"&D102&\" \"&E102","v":"ate01-C1-051 UNO (1) N/A N/A"},"C1-051","UNO (1)","N/A","N/A","RECARGA DE EXTINTOR DE CO2 DE 10 LIBRAS / UNIDAD","IMPLESEG S.A.S.",55787,{"$f":"B102&G102","v":"C1-051IMPLESEG S.A.S."},{"$f":"C102&D102&E102&F102","v":"UNO (1)N/AN/ARECARGA DE EXTINTOR DE CO2 DE 10 LIBRAS / UNIDAD"},{"$f":"H102","v":55787},{"$f":"C102&D102&E102&F102&G102","v":"UNO (1)N/AN/ARECARGA DE EXTINTOR DE CO2 DE 10 LIBRAS / UNIDADIMPLESEG S.A.S."},{"$f":"B102&H102","v":"C1-05155787"},{"$f":"G102","v":"IMPLESEG S.A.S."},"Und",{"$f":"C102&D102&E102&F102&G102","v":"UNO (1)N/AN/ARECARGA DE EXTINTOR DE CO2 DE 10 LIBRAS / UNIDADIMPLESEG S.A.S."},{"$f":"H102","v":55787}]
[{"$f":"\"ate01-\"&B103&\" \"&C103&\" \"&D103&\" \"&E103","v":"ate01-C1-051 UNO (1) N/A N/A"},"C1-051","UNO (1)","N/A","N/A","RECARGA DE EXTINTOR DE CO2 DE 10 LIBRAS / UNIDAD","JM GRUPO",415159.09,{"$f":"B103&G103","v":"C1-051JM GRUPO"},{"$f":"C103&D103&E103&F103","v":"UNO (1)N/AN/ARECARGA DE EXTINTOR DE CO2 DE 10 LIBRAS / UNIDAD"},{"$f":"H103","v":415159.09},{"$f":"C103&D103&E103&F103&G103","v":"UNO (1)N/AN/ARECARGA DE EXTINTOR DE CO2 DE 10 LIBRAS / UNIDADJM GRUPO"},{"$f":"B103&H103","v":"C1-051415159.09"},{"$f":"G103","v":"JM GRUPO"},"Und",{"$f":"C103&D103&E103&F103&G103","v":"UNO (1)N/AN/ARECARGA DE EXTINTOR DE CO2 DE 10 LIBRAS / UNIDADJM GRUPO"},{"$f":"H103","v":415159.09}]
[{"$f":"\"ate01-\"&B104&\" \"&C104&\" \"&D104&\" \"&E104","v":"ate01-C1-052 UNO (1) N/A N/A"},"C1-052","UNO (1)","N/A","N/A","RECARGA DE EXTINTOR DE CO2 DE 15 LIBRAS / UNIDAD","IMPLESEG S.A.S.",75247.59,{"$f":"B104&G104","v":"C1-052IMPLESEG S.A.S."},{"$f":"C104&D104&E104&F104","v":"UNO (1)N/AN/ARECARGA DE EXTINTOR DE CO2 DE 15 LIBRAS / UNIDAD"},{"$f":"H104","v":75247.59},{"$f":"C104&D104&E104&F104&G104","v":"UNO (1)N/AN/ARECARGA DE EXTINTOR DE CO2 DE 15 LIBRAS / UNIDADIMPLESEG S.A.S."},{"$f":"B104&H104","v":"C1-05275247.59"},{"$f":"G104","v":"IMPLESEG S.A.S."},"Und",{"$f":"C104&D104&E104&F104&G104","v":"UNO (1)N/AN/ARECARGA DE EXTINTOR DE CO2 DE 15 LIBRAS / UNIDADIMPLESEG S.A.S."},{"$f":"H104","v":75247.59}]
[{"$f":"\"ate01-\"&B105&\" \"&C105&\" \"&D105&\" \"&E105","v":"ate01-C1-052 UNO (1) N/A N/A"},"C1-052","UNO (1)","N/A","N/A","RECARGA DE EXTINTOR DE CO2 DE 15 LIBRAS / UNIDAD","JM GRUPO",454080.26,{"$f":"B105&G105","v":"C1-052JM GRUPO"},{"$f":"C105&D105&E105&F105","v":"UNO (1)N/AN/ARECARGA DE EXTINTOR DE CO2 DE 15 LIBRAS / UNIDAD"},{"$f":"H105","v":454080.26},{"$f":"C105&D105&E105&F105&G105","v":"UNO (1)N/AN/ARECARGA DE EXTINTOR DE CO2 DE 15 LIBRAS / UNIDADJM GRUPO"},{"$f":"B105&H105","v":"C1-052454080.26"},{"$f":"G105","v":"JM GRUPO"},"Und",{"$f":"C105&D105&E105&F105&G105","v":"UNO (1)N/AN/ARECARGA DE EXTINTOR DE CO2 DE 15 LIBRAS / UNIDADJM GRUPO"},{"$f":"H105","v":454080.26}]
[{"$f":"\"ate01-\"&B106&\" \"&C106&\" \"&D106&\" \"&E106","v":"ate01-C1-053 UNO (1) N/A N/A"},"C1-053","UNO (1)","N/A","N/A","RECARGA DE EXTINTOR DE CO2 DE 20 LIBRAS / UNIDAD","IMPLESEG S.A.S.",84329.19,{"$f":"B106&G106","v":"C1-053IMPLESEG S.A.S."},{"$f":"C106&D106&E106&F106","v":"UNO (1)N/AN/ARECARGA DE EXTINTOR DE CO2 DE 20 LIBRAS / UNIDAD"},{"$f":"H106","v":84329.19},{"$f":"C106&D106&E106&F106&G106","v":"UNO (1)N/AN/ARECARGA DE EXTINTOR DE CO2 DE 20 LIBRAS / UNIDADIMPLESEG S.A.S."},{"$f":"B106&H106","v":"C1-05384329.19"},{"$f":"G106","v":"IMPLESEG S.A.S."},"Und",{"$f":"C106&D106&E106&F106&G106","v":"UNO (1)N/AN/ARECARGA DE EXTINTOR DE CO2 DE 20 LIBRAS / UNIDADIMPLESEG S.A.S."},{"$f":"H106","v":84329.19}]
[{"$f":"\"ate01-\"&B107&\" \"&C107&\" \"&D107&\" \"&E107","v":"ate01-C1-053 UNO (1) N/A N/A"},"C1-053","UNO (1)","N/A","N/A","RECARGA DE EXTINTOR DE CO2 DE 20 LIBRAS / UNIDAD","JM GRUPO",518948.86,{"$f":"B107&G107","v":"C1-053JM GRUPO"},{"$f":"C107&D107&E107&F107","v":"UNO (1)N/AN/ARECARGA DE EXTINTOR DE CO2 DE 20 LIBRAS / UNIDAD"},{"$f":"H107","v":518948.86},{"$f":"C107&D107&E107&F107&G107","v":"UNO (1)N/AN/ARECARGA DE EXTINTOR DE CO2 DE 20 LIBRAS / UNIDADJM GRUPO"},{"$f":"B107&H107","v":"C1-053518948.86"},{"$f":"G107","v":"JM GRUPO"},"Und",{"$f":"C107&D107&E107&F107&G107","v":"UNO (1)N/AN/ARECARGA DE EXTINTOR DE CO2 DE 20 LIBRAS / UNIDADJM GRUPO"},{"$f":"H107","v":518948.86}]
[{"$f":"\"ate01-\"&B108&\" \"&C108&\" \"&D108&\" \"&E108","v":"ate01-C1-054 UNO (1) N/A N/A"},"C1-054","UNO (1)","N/A","N/A","PRUEBA HIDROSTATICA EXTINTOR CO2 DE 50 A 100 LIBRAS / UNIDAD","IMPLESEG S.A.S.",77842.33,{"$f":"B108&G108","v":"C1-054IMPLESEG S.A.S."},{"$f":"C108&D108&E108&F108","v":"UNO (1)N/AN/APRUEBA HIDROSTATICA EXTINTOR CO2 DE 50 A 100 LIBRAS / UNIDAD"},{"$f":"H108","v":77842.33},{"$f":"C108&D108&E108&F108&G108","v":"UNO (1)N/AN/APRUEBA HIDROSTATICA EXTINTOR CO2 DE 50 A 100 LIBRAS / UNIDADIMPLESEG S.A.S."},{"$f":"B108&H108","v":"C1-05477842.33"},{"$f":"G108","v":"IMPLESEG S.A.S."},"Und",{"$f":"C108&D108&E108&F108&G108","v":"UNO (1)N/AN/APRUEBA HIDROSTATICA EXTINTOR CO2 DE 50 A 100 LIBRAS / UNIDADIMPLESEG S.A.S."},{"$f":"H108","v":77842.33}]
[{"$f":"\"ate01-\"&B109&\" \"&C109&\" \"&D109&\" \"&E109","v":"ate01-C1-054 UNO (1) N/A N/A"},"C1-054","UNO (1)","N/A","N/A","PRUEBA HIDROSTATICA EXTINTOR CO2 DE 50 A 100 LIBRAS / UNIDAD","JM GRUPO",15568.47,{"$f":"B109&G109","v":"C1-054JM GRUPO"},{"$f":"C109&D109&E109&F109","v":"UNO (1)N/AN/APRUEBA HIDROSTATICA EXTINTOR CO2 DE 50 A 100 LIBRAS / UNIDAD"},{"$f":"H109","v":15568.47},{"$f":"C109&D109&E109&F109&G109","v":"UNO (1)N/AN/APRUEBA HIDROSTATICA EXTINTOR CO2 DE 50 A 100 LIBRAS / UNIDADJM GRUPO"},{"$f":"B109&H109","v":"C1-05415568.47"},{"$f":"G109","v":"JM GRUPO"},"Und",{"$f":"C109&D109&E109&F109&G109","v":"UNO (1)N/AN/APRUEBA HIDROSTATICA EXTINTOR CO2 DE 50 A 100 LIBRAS / UNIDADJM GRUPO"},{"$f":"H109","v":15568.47}]
[{"$f":"\"ate01-\"&B110&\" \"&C110&\" \"&D110&\" \"&E110","v":"ate01-C1-055 UNO (1) N/A N/A"},"C1-055","UNO (1)","N/A","N/A","RECARGA DE EXTINTOR DE CO2 DE 100 LIBRAS / UNIDAD","IMPLESEG S.A.S.",596791.18999999994,{"$f":"B110&G110","v":"C1-055IMPLESEG S.A.S."},{"$f":"C110&D110&E110&F110","v":"UNO (1)N/AN/ARECARGA DE EXTINTOR DE CO2 DE 100 LIBRAS / UNIDAD"},{"$f":"H110","v":596791.18999999994},{"$f":"C110&D110&E110&F110&G110","v":"UNO (1)N/AN/ARECARGA DE EXTINTOR DE CO2 DE 100 LIBRAS / UNIDADIMPLESEG S.A.S."},{"$f":"B110&H110","v":"C1-055596791.19"},{"$f":"G110","v":"IMPLESEG S.A.S."},"Und",{"$f":"C110&D110&E110&F110&G110","v":"UNO (1)N/AN/ARECARGA DE EXTINTOR DE CO2 DE 100 LIBRAS / UNIDADIMPLESEG S.A.S."},{"$f":"H110","v":596791.18999999994}]
[{"$f":"\"ate01-\"&B111&\" \"&C111&\" \"&D111&\" \"&E111","v":"ate01-C1-055 UNO (1) N/A N/A"},"C1-055","UNO (1)","N/A","N/A","RECARGA DE EXTINTOR DE CO2 DE 100 LIBRAS / UNIDAD","JM GRUPO",473540.84,{"$f":"B111&G111","v":"C1-055JM GRUPO"},{"$f":"C111&D111&E111&F111","v":"UNO (1)N/AN/ARECARGA DE EXTINTOR DE CO2 DE 100 LIBRAS / UNIDAD"},{"$f":"H111","v":473540.84},{"$f":"C111&D111&E111&F111&G111","v":"UNO (1)N/AN/ARECARGA DE EXTINTOR DE CO2 DE 100 LIBRAS / UNIDADJM GRUPO"},{"$f":"B111&H111","v":"C1-055473540.84"},{"$f":"G111","v":"JM GRUPO"},"Und",{"$f":"C111&D111&E111&F111&G111","v":"UNO (1)N/AN/ARECARGA DE EXTINTOR DE CO2 DE 100 LIBRAS / UNIDADJM GRUPO"},{"$f":"H111","v":473540.84}]
[{"$f":"\"ate01-\"&B112&\" \"&C112&\" \"&D112&\" \"&E112","v":"ate01-C1-056 UNO (1) N/A N/A"},"C1-056","UNO (1)","N/A","N/A","RECARGA DE EXTINTOR DE CO2 DE 150 LIBRAS / UNIDAD","IMPLESEG S.A.S.",895186.79,{"$f":"B112&G112","v":"C1-056IMPLESEG S.A.S."},{"$f":"C112&D112&E112&F112","v":"UNO (1)N/AN/ARECARGA DE EXTINTOR DE CO2 DE 150 LIBRAS / UNIDAD"},{"$f":"H112","v":895186.79},{"$f":"C112&D112&E112&F112&G112","v":"UNO (1)N/AN/ARECARGA DE EXTINTOR DE CO2 DE 150 LIBRAS / UNIDADIMPLESEG S.A.S."},{"$f":"B112&H112","v":"C1-056895186.79"},{"$f":"G112","v":"IMPLESEG S.A.S."},"Und",{"$f":"C112&D112&E112&F112&G112","v":"UNO (1)N/AN/ARECARGA DE EXTINTOR DE CO2 DE 150 LIBRAS / UNIDADIMPLESEG S.A.S."},{"$f":"H112","v":895186.79}]
[{"$f":"\"ate01-\"&B113&\" \"&C113&\" \"&D113&\" \"&E113","v":"ate01-C1-056 UNO (1) N/A N/A"},"C1-056","UNO (1)","N/A","N/A","RECARGA DE EXTINTOR DE CO2 DE 150 LIBRAS / UNIDAD","JM GRUPO",473540.84,{"$f":"B113&G113","v":"C1-056JM GRUPO"},{"$f":"C113&D113&E113&F113","v":"UNO (1)N/AN/ARECARGA DE EXTINTOR DE CO2 DE 150 LIBRAS / UNIDAD"},{"$f":"H113","v":473540.84},{"$f":"C113&D113&E113&F113&G113","v":"UNO (1)N/AN/ARECARGA DE EXTINTOR DE CO2 DE 150 LIBRAS / UNIDADJM GRUPO"},{"$f":"B113&H113","v":"C1-056473540.84"},{"$f":"G113","v":"JM GRUPO"},"Und",{"$f":"C113&D113&E113&F113&G113","v":"UNO (1)N/AN/ARECARGA DE EXTINTOR DE CO2 DE 150 LIBRAS / UNIDADJM GRUPO"},{"$f":"H113","v":473540.84}]
[{"$f":"\"ate01-\"&B114&\" \"&C114&\" \"&D114&\" \"&E114","v":"ate01-C1-057 UNO (1) N/A N/A"},"C1-057","UNO (1)","N/A","N/A","RECARGA DE EXTINTOR DE CO2 DE 50 LIBRAS TIPO CARRETILLA / UNIDAD","IMPLESEG S.A.S.",298395.59999999998,{"$f":"B114&G114","v":"C1-057IMPLESEG S.A.S."},{"$f":"C114&D114&E114&F114","v":"UNO (1)N/AN/ARECARGA DE EXTINTOR DE CO2 DE 50 LIBRAS TIPO CARRETILLA / UNIDAD"},{"$f":"H114","v":298395.59999999998},{"$f":"C114&D114&E114&F114&G114","v":"UNO (1)N/AN/ARECARGA DE EXTINTOR DE CO2 DE 50 LIBRAS TIPO CARRETILLA / UNIDADIMPLESEG S.A.S."},{"$f":"B114&H114","v":"C1-057298395.6"},{"$f":"G114","v":"IMPLESEG S.A.S."},"Und",{"$f":"C114&D114&E114&F114&G114","v":"UNO (1)N/AN/ARECARGA DE EXTINTOR DE CO2 DE 50 LIBRAS TIPO CARRETILLA / UNIDADIMPLESEG S.A.S."},{"$f":"H114","v":298395.59999999998}]
[{"$f":"\"ate01-\"&B115&\" \"&C115&\" \"&D115&\" \"&E115","v":"ate01-C1-057 UNO (1) N/A N/A"},"C1-057","UNO (1)","N/A","N/A","RECARGA DE EXTINTOR DE CO2 DE 50 LIBRAS TIPO CARRETILLA / UNIDAD","JM GRUPO",1686583.81,{"$f":"B115&G115","v":"C1-057JM GRUPO"},{"$f":"C115&D115&E115&F115","v":"UNO (1)N/AN/ARECARGA DE EXTINTOR DE CO2 DE 50 LIBRAS TIPO CARRETILLA / UNIDAD"},{"$f":"H115","v":1686583.81},{"$f":"C115&D115&E115&F115&G115","v":"UNO (1)N/AN/ARECARGA DE EXTINTOR DE CO2 DE 50 LIBRAS TIPO CARRETILLA / UNIDADJM GRUPO"},{"$f":"B115&H115","v":"C1-0571686583.81"},{"$f":"G115","v":"JM GRUPO"},"Und",{"$f":"C115&D115&E115&F115&G115","v":"UNO (1)N/AN/ARECARGA DE EXTINTOR DE CO2 DE 50 LIBRAS TIPO CARRETILLA / UNIDADJM GRUPO"},{"$f":"H115","v":1686583.81}]
[{"$f":"\"ate01-\"&B116&\" \"&C116&\" \"&D116&\" \"&E116","v":"ate01-C1-058 UNO (1) N/A N/A"},"C1-058","UNO (1)","N/A","N/A","RECARGA DE EXTINTOR DE CO2 DE 100 LIBRAS TIPO CARRETILLA / UNIDAD","IMPLESEG S.A.S.",596791.18999999994,{"$f":"B116&G116","v":"C1-058IMPLESEG S.A.S."},{"$f":"C116&D116&E116&F116","v":"UNO (1)N/AN/ARECARGA DE EXTINTOR DE CO2 DE 100 LIBRAS TIPO CARRETILLA / UNIDAD"},{"$f":"H116","v":596791.18999999994},{"$f":"C116&D116&E116&F116&G116","v":"UNO (1)N/AN/ARECARGA DE EXTINTOR DE CO2 DE 100 LIBRAS TIPO CARRETILLA / UNIDADIMPLESEG S.A.S."},{"$f":"B116&H116","v":"C1-058596791.19"},{"$f":"G116","v":"IMPLESEG S.A.S."},"Und",{"$f":"C116&D116&E116&F116&G116","v":"UNO (1)N/AN/ARECARGA DE EXTINTOR DE CO2 DE 100 LIBRAS TIPO CARRETILLA / UNIDADIMPLESEG S.A.S."},{"$f":"H116","v":596791.18999999994}]
[{"$f":"\"ate01-\"&B117&\" \"&C117&\" \"&D117&\" \"&E117","v":"ate01-C1-058 UNO (1) N/A N/A"},"C1-058","UNO (1)","N/A","N/A","RECARGA DE EXTINTOR DE CO2 DE 100 LIBRAS TIPO CARRETILLA / UNIDAD","JM GRUPO",646091.34,{"$f":"B117&G117","v":"C1-058JM GRUPO"},{"$f":"C117&D117&E117&F117","v":"UNO (1)N/AN/ARECARGA DE EXTINTOR DE CO2 DE 100 LIBRAS TIPO CARRETILLA / UNIDAD"},{"$f":"H117","v":646091.34},{"$f":"C117&D117&E117&F117&G117","v":"UNO (1)N/AN/ARECARGA DE EXTINTOR DE CO2 DE 100 LIBRAS TIPO CARRETILLA / UNIDADJM GRUPO"},{"$f":"B117&H117","v":"C1-058646091.34"},{"$f":"G117","v":"JM GRUPO"},"Und",{"$f":"C117&D117&E117&F117&G117","v":"UNO (1)N/AN/ARECARGA DE EXTINTOR DE CO2 DE 100 LIBRAS TIPO CARRETILLA / UNIDADJM GRUPO"},{"$f":"H117","v":646091.34}]
[{"$f":"\"ate01-\"&B118&\" \"&C118&\" \"&D118&\" \"&E118","v":"ate01-C1-059 UNO (1) N/A N/A"},"C1-059","UNO (1)","N/A","N/A","RECARGA DE EXTINTOR DE AFFF DE 6 LITROS  / UNIDAD","IMPLESEG S.A.S.",319153.55,{"$f":"B118&G118","v":"C1-059IMPLESEG S.A.S."},{"$f":"C118&D118&E118&F118","v":"UNO (1)N/AN/ARECARGA DE EXTINTOR DE AFFF DE 6 LITROS  / UNIDAD"},{"$f":"H118","v":319153.55},{"$f":"C118&D118&E118&F118&G118","v":"UNO (1)N/AN/ARECARGA DE EXTINTOR DE AFFF DE 6 LITROS  / UNIDADIMPLESEG S.A.S."},{"$f":"B118&H118","v":"C1-059319153.55"},{"$f":"G118","v":"IMPLESEG S.A.S."},"Und",{"$f":"C118&D118&E118&F118&G118","v":"UNO (1)N/AN/ARECARGA DE EXTINTOR DE AFFF DE 6 LITROS  / UNIDADIMPLESEG S.A.S."},{"$f":"H118","v":319153.55}]
[{"$f":"\"ate01-\"&B119&\" \"&C119&\" \"&D119&\" \"&E119","v":"ate01-C1-059 UNO (1) N/A N/A"},"C1-059","UNO (1)","N/A","N/A","RECARGA DE EXTINTOR DE AFFF DE 6 LITROS  / UNIDAD","JM GRUPO",40218.54,{"$f":"B119&G119","v":"C1-059JM GRUPO"},{"$f":"C119&D119&E119&F119","v":"UNO (1)N/AN/ARECARGA DE EXTINTOR DE AFFF DE 6 LITROS  / UNIDAD"},{"$f":"H119","v":40218.54},{"$f":"C119&D119&E119&F119&G119","v":"UNO (1)N/AN/ARECARGA DE EXTINTOR DE AFFF DE 6 LITROS  / UNIDADJM GRUPO"},{"$f":"B119&H119","v":"C1-05940218.54"},{"$f":"G119","v":"JM GRUPO"},"Und",{"$f":"C119&D119&E119&F119&G119","v":"UNO (1)N/AN/ARECARGA DE EXTINTOR DE AFFF DE 6 LITROS  / UNIDADJM GRUPO"},{"$f":"H119","v":40218.54}]
[{"$f":"\"ate01-\"&B120&\" \"&C120&\" \"&D120&\" \"&E120","v":"ate01-C1-060 UNO (1) N/A N/A"},"C1-060","UNO (1)","N/A","N/A","RECARGA DE EXTINTOR DE AFFF DE 9,5 LITROS  / UNIDAD","IMPLESEG S.A.S.",587709.59,{"$f":"B120&G120","v":"C1-060IMPLESEG S.A.S."},{"$f":"C120&D120&E120&F120","v":"UNO (1)N/AN/ARECARGA DE EXTINTOR DE AFFF DE 9,5 LITROS  / UNIDAD"},{"$f":"H120","v":587709.59},{"$f":"C120&D120&E120&F120&G120","v":"UNO (1)N/AN/ARECARGA DE EXTINTOR DE AFFF DE 9,5 LITROS  / UNIDADIMPLESEG S.A.S."},{"$f":"B120&H120","v":"C1-060587709.59"},{"$f":"G120","v":"IMPLESEG S.A.S."},"Und",{"$f":"C120&D120&E120&F120&G120","v":"UNO (1)N/AN/ARECARGA DE EXTINTOR DE AFFF DE 9,5 LITROS  / UNIDADIMPLESEG S.A.S."},{"$f":"H120","v":587709.59}]
[{"$f":"\"ate01-\"&B121&\" \"&C121&\" \"&D121&\" \"&E121","v":"ate01-C1-060 UNO (1) N/A N/A"},"C1-060","UNO (1)","N/A","N/A","RECARGA DE EXTINTOR DE AFFF DE 9,5 LITROS  / UNIDAD","JM GRUPO",46705.4,{"$f":"B121&G121","v":"C1-060JM GRUPO"},{"$f":"C121&D121&E121&F121","v":"UNO (1)N/AN/ARECARGA DE EXTINTOR DE AFFF DE 9,5 LITROS  / UNIDAD"},{"$f":"H121","v":46705.4},{"$f":"C121&D121&E121&F121&G121","v":"UNO (1)N/AN/ARECARGA DE EXTINTOR DE AFFF DE 9,5 LITROS  / UNIDADJM GRUPO"},{"$f":"B121&H121","v":"C1-06046705.4"},{"$f":"G121","v":"JM GRUPO"},"Und",{"$f":"C121&D121&E121&F121&G121","v":"UNO (1)N/AN/ARECARGA DE EXTINTOR DE AFFF DE 9,5 LITROS  / UNIDADJM GRUPO"},{"$f":"H121","v":46705.4}]
[{"$f":"\"ate01-\"&B122&\" \"&C122&\" \"&D122&\" \"&E122","v":"ate01-C1-061 UNO (1) N/A N/A"},"C1-061","UNO (1)","N/A","N/A","RECARGA DE EXTINTOR TIPO K DE 6 LITROS  / UNIDAD","IMPLESEG S.A.S.",254284.94,{"$f":"B122&G122","v":"C1-061IMPLESEG S.A.S."},{"$f":"C122&D122&E122&F122","v":"UNO (1)N/AN/ARECARGA DE EXTINTOR TIPO K DE 6 LITROS  / UNIDAD"},{"$f":"H122","v":254284.94},{"$f":"C122&D122&E122&F122&G122","v":"UNO (1)N/AN/ARECARGA DE EXTINTOR TIPO K DE 6 LITROS  / UNIDADIMPLESEG S.A.S."},{"$f":"B122&H122","v":"C1-061254284.94"},{"$f":"G122","v":"IMPLESEG S.A.S."},"Und",{"$f":"C122&D122&E122&F122&G122","v":"UNO (1)N/AN/ARECARGA DE EXTINTOR TIPO K DE 6 LITROS  / UNIDADIMPLESEG S.A.S."},{"$f":"H122","v":254284.94}]
[{"$f":"\"ate01-\"&B123&\" \"&C123&\" \"&D123&\" \"&E123","v":"ate01-C1-061 UNO (1) N/A N/A"},"C1-061","UNO (1)","N/A","N/A","RECARGA DE EXTINTOR TIPO K DE 6 LITROS  / UNIDAD","JM GRUPO",376237.93,{"$f":"B123&G123","v":"C1-061JM GRUPO"},{"$f":"C123&D123&E123&F123","v":"UNO (1)N/AN/ARECARGA DE EXTINTOR TIPO K DE 6 LITROS  / UNIDAD"},{"$f":"H123","v":376237.93},{"$f":"C123&D123&E123&F123&G123","v":"UNO (1)N/AN/ARECARGA DE EXTINTOR TIPO K DE 6 LITROS  / UNIDADJM GRUPO"},{"$f":"B123&H123","v":"C1-061376237.93"},{"$f":"G123","v":"JM GRUPO"},"Und",{"$f":"C123&D123&E123&F123&G123","v":"UNO (1)N/AN/ARECARGA DE EXTINTOR TIPO K DE 6 LITROS  / UNIDADJM GRUPO"},{"$f":"H123","v":376237.93}]
[{"$f":"\"ate01-\"&B124&\" \"&C124&\" \"&D124&\" \"&E124","v":"ate01-C1-062 UNO (1) N/A N/A"},"C1-062","UNO (1)","N/A","N/A","RECARGA DE EXTINTOR TIPO K DE 2,5 GALONES  / UNIDAD","IMPLESEG S.A.S.",483400.87,{"$f":"B124&G124","v":"C1-062IMPLESEG S.A.S."},{"$f":"C124&D124&E124&F124","v":"UNO (1)N/AN/ARECARGA DE EXTINTOR TIPO K DE 2,5 GALONES  / UNIDAD"},{"$f":"H124","v":483400.87},{"$f":"C124&D124&E124&F124&G124","v":"UNO (1)N/AN/ARECARGA DE EXTINTOR TIPO K DE 2,5 GALONES  / UNIDADIMPLESEG S.A.S."},{"$f":"B124&H124","v":"C1-062483400.87"},{"$f":"G124","v":"IMPLESEG S.A.S."},"Und",{"$f":"C124&D124&E124&F124&G124","v":"UNO (1)N/AN/ARECARGA DE EXTINTOR TIPO K DE 2,5 GALONES  / UNIDADIMPLESEG S.A.S."},{"$f":"H124","v":483400.87}]
[{"$f":"\"ate01-\"&B125&\" \"&C125&\" \"&D125&\" \"&E125","v":"ate01-C1-062 UNO (1) N/A N/A"},"C1-062","UNO (1)","N/A","N/A","RECARGA DE EXTINTOR TIPO K DE 2,5 GALONES  / UNIDAD","JM GRUPO",583817.47,{"$f":"B125&G125","v":"C1-062JM GRUPO"},{"$f":"C125&D125&E125&F125","v":"UNO (1)N/AN/ARECARGA DE EXTINTOR TIPO K DE 2,5 GALONES  / UNIDAD"},{"$f":"H125","v":583817.47},{"$f":"C125&D125&E125&F125&G125","v":"UNO (1)N/AN/ARECARGA DE EXTINTOR TIPO K DE 2,5 GALONES  / UNIDADJM GRUPO"},{"$f":"B125&H125","v":"C1-062583817.47"},{"$f":"G125","v":"JM GRUPO"},"Und",{"$f":"C125&D125&E125&F125&G125","v":"UNO (1)N/AN/ARECARGA DE EXTINTOR TIPO K DE 2,5 GALONES  / UNIDADJM GRUPO"},{"$f":"H125","v":583817.47}]
[{"$f":"\"ate01-\"&B126&\" \"&C126&\" \"&D126&\" \"&E126","v":"ate01-C1-063 UNO (1) N/A N/A"},"C1-063","UNO (1)","N/A","N/A","RECARGA DE EXTINTOR BC 5 LIBRAS / UNIDAD","IMPLESEG S.A.S.",19460.580000000002,{"$f":"B126&G126","v":"C1-063IMPLESEG S.A.S."},{"$f":"C126&D126&E126&F126","v":"UNO (1)N/AN/ARECARGA DE EXTINTOR BC 5 LIBRAS / UNIDAD"},{"$f":"H126","v":19460.580000000002},{"$f":"C126&D126&E126&F126&G126","v":"UNO (1)N/AN/ARECARGA DE EXTINTOR BC 5 LIBRAS / UNIDADIMPLESEG S.A.S."},{"$f":"B126&H126","v":"C1-06319460.58"},{"$f":"G126","v":"IMPLESEG S.A.S."},"Und",{"$f":"C126&D126&E126&F126&G126","v":"UNO (1)N/AN/ARECARGA DE EXTINTOR BC 5 LIBRAS / UNIDADIMPLESEG S.A.S."},{"$f":"H126","v":19460.580000000002}]
[{"$f":"\"ate01-\"&B127&\" \"&C127&\" \"&D127&\" \"&E127","v":"ate01-C1-063 UNO (1) N/A N/A"},"C1-063","UNO (1)","N/A","N/A","RECARGA DE EXTINTOR BC 5 LIBRAS / UNIDAD","JM GRUPO",25947.439999999999,{"$f":"B127&G127","v":"C1-063JM GRUPO"},{"$f":"C127&D127&E127&F127","v":"UNO (1)N/AN/ARECARGA DE EXTINTOR BC 5 LIBRAS / UNIDAD"},{"$f":"H127","v":25947.439999999999},{"$f":"C127&D127&E127&F127&G127","v":"UNO (1)N/AN/ARECARGA DE EXTINTOR BC 5 LIBRAS / UNIDADJM GRUPO"},{"$f":"B127&H127","v":"C1-06325947.44"},{"$f":"G127","v":"JM GRUPO"},"Und",{"$f":"C127&D127&E127&F127&G127","v":"UNO (1)N/AN/ARECARGA DE EXTINTOR BC 5 LIBRAS / UNIDADJM GRUPO"},{"$f":"H127","v":25947.439999999999}]
[{"$f":"\"ate01-\"&B128&\" \"&C128&\" \"&D128&\" \"&E128","v":"ate01-C1-064 UNO (1) N/A N/A"},"C1-064","UNO (1)","N/A","N/A","RECARGA DE EXTINTOR BC 10 LIBRAS / UNIDAD","IMPLESEG S.A.S.",19460.580000000002,{"$f":"B128&G128","v":"C1-064IMPLESEG S.A.S."},{"$f":"C128&D128&E128&F128","v":"UNO (1)N/AN/ARECARGA DE EXTINTOR BC 10 LIBRAS / UNIDAD"},{"$f":"H128","v":19460.580000000002},{"$f":"C128&D128&E128&F128&G128","v":"UNO (1)N/AN/ARECARGA DE EXTINTOR BC 10 LIBRAS / UNIDADIMPLESEG S.A.S."},{"$f":"B128&H128","v":"C1-06419460.58"},{"$f":"G128","v":"IMPLESEG S.A.S."},"Und",{"$f":"C128&D128&E128&F128&G128","v":"UNO (1)N/AN/ARECARGA DE EXTINTOR BC 10 LIBRAS / UNIDADIMPLESEG S.A.S."},{"$f":"H128","v":19460.580000000002}]
[{"$f":"\"ate01-\"&B129&\" \"&C129&\" \"&D129&\" \"&E129","v":"ate01-C1-064 UNO (1) N/A N/A"},"C1-064","UNO (1)","N/A","N/A","RECARGA DE EXTINTOR BC 10 LIBRAS / UNIDAD","JM GRUPO",32434.3,{"$f":"B129&G129","v":"C1-064JM GRUPO"},{"$f":"C129&D129&E129&F129","v":"UNO (1)N/AN/ARECARGA DE EXTINTOR BC 10 LIBRAS / UNIDAD"},{"$f":"H129","v":32434.3},{"$f":"C129&D129&E129&F129&G129","v":"UNO (1)N/AN/ARECARGA DE EXTINTOR BC 10 LIBRAS / UNIDADJM GRUPO"},{"$f":"B129&H129","v":"C1-06432434.3"},{"$f":"G129","v":"JM GRUPO"},"Und",{"$f":"C129&D129&E129&F129&G129","v":"UNO (1)N/AN/ARECARGA DE EXTINTOR BC 10 LIBRAS / UNIDADJM GRUPO"},{"$f":"H129","v":32434.3}]
[{"$f":"\"ate01-\"&B130&\" \"&C130&\" \"&D130&\" \"&E130","v":"ate01-C1-065 UNO (1) N/A N/A"},"C1-065","UNO (1)","N/A","N/A","RECARGA DE EXTINTOR BC 20 LIBRAS / UNIDAD","IMPLESEG S.A.S.",36326.42,{"$f":"B130&G130","v":"C1-065IMPLESEG S.A.S."},{"$f":"C130&D130&E130&F130","v":"UNO (1)N/AN/ARECARGA DE EXTINTOR BC 20 LIBRAS / UNIDAD"},{"$f":"H130","v":36326.42},{"$f":"C130&D130&E130&F130&G130","v":"UNO (1)N/AN/ARECARGA DE EXTINTOR BC 20 LIBRAS / UNIDADIMPLESEG S.A.S."},{"$f":"B130&H130","v":"C1-06536326.42"},{"$f":"G130","v":"IMPLESEG S.A.S."},"Und",{"$f":"C130&D130&E130&F130&G130","v":"UNO (1)N/AN/ARECARGA DE EXTINTOR BC 20 LIBRAS / UNIDADIMPLESEG S.A.S."},{"$f":"H130","v":36326.42}]
[{"$f":"\"ate01-\"&B131&\" \"&C131&\" \"&D131&\" \"&E131","v":"ate01-C1-065 UNO (1) N/A N/A"},"C1-065","UNO (1)","N/A","N/A","RECARGA DE EXTINTOR BC 20 LIBRAS / UNIDAD","JM GRUPO",36326.42,{"$f":"B131&G131","v":"C1-065JM GRUPO"},{"$f":"C131&D131&E131&F131","v":"UNO (1)N/AN/ARECARGA DE EXTINTOR BC 20 LIBRAS / UNIDAD"},{"$f":"H131","v":36326.42},{"$f":"C131&D131&E131&F131&G131","v":"UNO (1)N/AN/ARECARGA DE EXTINTOR BC 20 LIBRAS / UNIDADJM GRUPO"},{"$f":"B131&H131","v":"C1-06536326.42"},{"$f":"G131","v":"JM GRUPO"},"Und",{"$f":"C131&D131&E131&F131&G131","v":"UNO (1)N/AN/ARECARGA DE EXTINTOR BC 20 LIBRAS / UNIDADJM GRUPO"},{"$f":"H131","v":36326.42}]
[{"$f":"\"ate01-\"&B132&\" \"&C132&\" \"&D132&\" \"&E132","v":"ate01-C1-066 UNO (1) N/A N/A"},"C1-066","UNO (1)","N/A","N/A","RECARGA DE EXTINTOR BC 30 LIBRAS / UNIDAD","IMPLESEG S.A.S.",51894.89,{"$f":"B132&G132","v":"C1-066IMPLESEG S.A.S."},{"$f":"C132&D132&E132&F132","v":"UNO (1)N/AN/ARECARGA DE EXTINTOR BC 30 LIBRAS / UNIDAD"},{"$f":"H132","v":51894.89},{"$f":"C132&D132&E132&F132&G132","v":"UNO (1)N/AN/ARECARGA DE EXTINTOR BC 30 LIBRAS / UNIDADIMPLESEG S.A.S."},{"$f":"B132&H132","v":"C1-06651894.89"},{"$f":"G132","v":"IMPLESEG S.A.S."},"Und",{"$f":"C132&D132&E132&F132&G132","v":"UNO (1)N/AN/ARECARGA DE EXTINTOR BC 30 LIBRAS / UNIDADIMPLESEG S.A.S."},{"$f":"H132","v":51894.89}]
[{"$f":"\"ate01-\"&B133&\" \"&C133&\" \"&D133&\" \"&E133","v":"ate01-C1-066 UNO (1) N/A N/A"},"C1-066","UNO (1)","N/A","N/A","RECARGA DE EXTINTOR BC 30 LIBRAS / UNIDAD","JM GRUPO",127142.47,{"$f":"B133&G133","v":"C1-066JM GRUPO"},{"$f":"C133&D133&E133&F133","v":"UNO (1)N/AN/ARECARGA DE EXTINTOR BC 30 LIBRAS / UNIDAD"},{"$f":"H133","v":127142.47},{"$f":"C133&D133&E133&F133&G133","v":"UNO (1)N/AN/ARECARGA DE EXTINTOR BC 30 LIBRAS / UNIDADJM GRUPO"},{"$f":"B133&H133","v":"C1-066127142.47"},{"$f":"G133","v":"JM GRUPO"},"Und",{"$f":"C133&D133&E133&F133&G133","v":"UNO (1)N/AN/ARECARGA DE EXTINTOR BC 30 LIBRAS / UNIDADJM GRUPO"},{"$f":"H133","v":127142.47}]
[{"$f":"\"ate01-\"&B134&\" \"&C134&\" \"&D134&\" \"&E134","v":"ate01-C1-067 UNO (1) N/A N/A"},"C1-067","UNO (1)","N/A","N/A","RECARGA DE EXTINTOR BC 150 LIBRAS / UNIDAD","IMPLESEG S.A.S.",221850.64,{"$f":"B134&G134","v":"C1-067IMPLESEG S.A.S."},{"$f":"C134&D134&E134&F134","v":"UNO (1)N/AN/ARECARGA DE EXTINTOR BC 150 LIBRAS / UNIDAD"},{"$f":"H134","v":221850.64},{"$f":"C134&D134&E134&F134&G134","v":"UNO (1)N/AN/ARECARGA DE EXTINTOR BC 150 LIBRAS / UNIDADIMPLESEG S.A.S."},{"$f":"B134&H134","v":"C1-067221850.64"},{"$f":"G134","v":"IMPLESEG S.A.S."},"Und",{"$f":"C134&D134&E134&F134&G134","v":"UNO (1)N/AN/ARECARGA DE EXTINTOR BC 150 LIBRAS / UNIDADIMPLESEG S.A.S."},{"$f":"H134","v":221850.64}]
[{"$f":"\"ate01-\"&B135&\" \"&C135&\" \"&D135&\" \"&E135","v":"ate01-C1-067 UNO (1) N/A N/A"},"C1-067","UNO (1)","N/A","N/A","RECARGA DE EXTINTOR BC 150 LIBRAS / UNIDAD","JM GRUPO",214066.41,{"$f":"B135&G135","v":"C1-067JM GRUPO"},{"$f":"C135&D135&E135&F135","v":"UNO (1)N/AN/ARECARGA DE EXTINTOR BC 150 LIBRAS / UNIDAD"},{"$f":"H135","v":214066.41},{"$f":"C135&D135&E135&F135&G135","v":"UNO (1)N/AN/ARECARGA DE EXTINTOR BC 150 LIBRAS / UNIDADJM GRUPO"},{"$f":"B135&H135","v":"C1-067214066.41"},{"$f":"G135","v":"JM GRUPO"},"Und",{"$f":"C135&D135&E135&F135&G135","v":"UNO (1)N/AN/ARECARGA DE EXTINTOR BC 150 LIBRAS / UNIDADJM GRUPO"},{"$f":"H135","v":214066.41}]
[{"$f":"\"ate01-\"&B136&\" \"&C136&\" \"&D136&\" \"&E136","v":"ate01-C1-068 UNO (1) N/A N/A"},"C1-068","UNO (1)","N/A","N/A","RECARGA DE EXTINTOR TIPO HALOGENO HCFC 123 ABC 10 LIBRAS / UNIDAD","IMPLESEG S.A.S.",441106.53,{"$f":"B136&G136","v":"C1-068IMPLESEG S.A.S."},{"$f":"C136&D136&E136&F136","v":"UNO (1)N/AN/ARECARGA DE EXTINTOR TIPO HALOGENO HCFC 123 ABC 10 LIBRAS / UNIDAD"},{"$f":"H136","v":441106.53},{"$f":"C136&D136&E136&F136&G136","v":"UNO (1)N/AN/ARECARGA DE EXTINTOR TIPO HALOGENO HCFC 123 ABC 10 LIBRAS / UNIDADIMPLESEG S.A.S."},{"$f":"B136&H136","v":"C1-068441106.53"},{"$f":"G136","v":"IMPLESEG S.A.S."},"Und",{"$f":"C136&D136&E136&F136&G136","v":"UNO (1)N/AN/ARECARGA DE EXTINTOR TIPO HALOGENO HCFC 123 ABC 10 LIBRAS / UNIDADIMPLESEG S.A.S."},{"$f":"H136","v":441106.53}]
[{"$f":"\"ate01-\"&B137&\" \"&C137&\" \"&D137&\" \"&E137","v":"ate01-C1-068 UNO (1) N/A N/A"},"C1-068","UNO (1)","N/A","N/A","RECARGA DE EXTINTOR TIPO HALOGENO HCFC 123 ABC 10 LIBRAS / UNIDAD","JM GRUPO",330829.90000000002,{"$f":"B137&G137","v":"C1-068JM GRUPO"},{"$f":"C137&D137&E137&F137","v":"UNO (1)N/AN/ARECARGA DE EXTINTOR TIPO HALOGENO HCFC 123 ABC 10 LIBRAS / UNIDAD"},{"$f":"H137","v":330829.90000000002},{"$f":"C137&D137&E137&F137&G137","v":"UNO (1)N/AN/ARECARGA DE EXTINTOR TIPO HALOGENO HCFC 123 ABC 10 LIBRAS / UNIDADJM GRUPO"},{"$f":"B137&H137","v":"C1-068330829.9"},{"$f":"G137","v":"JM GRUPO"},"Und",{"$f":"C137&D137&E137&F137&G137","v":"UNO (1)N/AN/ARECARGA DE EXTINTOR TIPO HALOGENO HCFC 123 ABC 10 LIBRAS / UNIDADJM GRUPO"},{"$f":"H137","v":330829.90000000002}]
[{"$f":"\"ate01-\"&B138&\" \"&C138&\" \"&D138&\" \"&E138","v":"ate01-C1-069 UNO (1) N/A N/A"},"C1-069","UNO (1)","N/A","N/A","RECARGA DE EXTINTOR TIPO FOAM 10 LIBRAS / UNIDAD","IMPLESEG S.A.S.",486514.56,{"$f":"B138&G138","v":"C1-069IMPLESEG S.A.S."},{"$f":"C138&D138&E138&F138","v":"UNO (1)N/AN/ARECARGA DE EXTINTOR TIPO FOAM 10 LIBRAS / UNIDAD"},{"$f":"H138","v":486514.56},{"$f":"C138&D138&E138&F138&G138","v":"UNO (1)N/AN/ARECARGA DE EXTINTOR TIPO FOAM 10 LIBRAS / UNIDADIMPLESEG S.A.S."},{"$f":"B138&H138","v":"C1-069486514.56"},{"$f":"G138","v":"IMPLESEG S.A.S."},"Und",{"$f":"C138&D138&E138&F138&G138","v":"UNO (1)N/AN/ARECARGA DE EXTINTOR TIPO FOAM 10 LIBRAS / UNIDADIMPLESEG S.A.S."},{"$f":"H138","v":486514.56}]
[{"$f":"\"ate01-\"&B139&\" \"&C139&\" \"&D139&\" \"&E139","v":"ate01-C1-069 UNO (1) N/A N/A"},"C1-069","UNO (1)","N/A","N/A","RECARGA DE EXTINTOR TIPO FOAM 10 LIBRAS / UNIDAD","JM GRUPO",330829.90000000002,{"$f":"B139&G139","v":"C1-069JM GRUPO"},{"$f":"C139&D139&E139&F139","v":"UNO (1)N/AN/ARECARGA DE EXTINTOR TIPO FOAM 10 LIBRAS / UNIDAD"},{"$f":"H139","v":330829.90000000002},{"$f":"C139&D139&E139&F139&G139","v":"UNO (1)N/AN/ARECARGA DE EXTINTOR TIPO FOAM 10 LIBRAS / UNIDADJM GRUPO"},{"$f":"B139&H139","v":"C1-069330829.9"},{"$f":"G139","v":"JM GRUPO"},"Und",{"$f":"C139&D139&E139&F139&G139","v":"UNO (1)N/AN/ARECARGA DE EXTINTOR TIPO FOAM 10 LIBRAS / UNIDADJM GRUPO"},{"$f":"H139","v":330829.90000000002}]
[{"$f":"\"ate01-\"&B140&\" \"&C140&\" \"&D140&\" \"&E140","v":"ate01-C1-071 UNO (1) N/A N/A"},"C1-071","UNO (1)","N/A","N/A","MANTENIMIENTO CORRECTIVO - PASADOR DE SEGURIDAD / UNIDAD","IMPLESEG S.A.S.",2983.96,{"$f":"B140&G140","v":"C1-071IMPLESEG S.A.S."},{"$f":"C140&D140&E140&F140","v":"UNO (1)N/AN/AMANTENIMIENTO CORRECTIVO - PASADOR DE SEGURIDAD / UNIDAD"},{"$f":"H140","v":2983.96},{"$f":"C140&D140&E140&F140&G140","v":"UNO (1)N/AN/AMANTENIMIENTO CORRECTIVO - PASADOR DE SEGURIDAD / UNIDADIMPLESEG S.A.S."},{"$f":"B140&H140","v":"C1-0712983.96"},{"$f":"G140","v":"IMPLESEG S.A.S."},"Und",{"$f":"C140&D140&E140&F140&G140","v":"UNO (1)N/AN/AMANTENIMIENTO CORRECTIVO - PASADOR DE SEGURIDAD / UNIDADIMPLESEG S.A.S."},{"$f":"H140","v":2983.96}]
[{"$f":"\"ate01-\"&B141&\" \"&C141&\" \"&D141&\" \"&E141","v":"ate01-C1-071 UNO (1) N/A N/A"},"C1-071","UNO (1)","N/A","N/A","MANTENIMIENTO CORRECTIVO - PASADOR DE SEGURIDAD / UNIDAD","JM GRUPO",12973.72,{"$f":"B141&G141","v":"C1-071JM GRUPO"},{"$f":"C141&D141&E141&F141","v":"UNO (1)N/AN/AMANTENIMIENTO CORRECTIVO - PASADOR DE SEGURIDAD / UNIDAD"},{"$f":"H141","v":12973.72},{"$f":"C141&D141&E141&F141&G141","v":"UNO (1)N/AN/AMANTENIMIENTO CORRECTIVO - PASADOR DE SEGURIDAD / UNIDADJM GRUPO"},{"$f":"B141&H141","v":"C1-07112973.72"},{"$f":"G141","v":"JM GRUPO"},"Und",{"$f":"C141&D141&E141&F141&G141","v":"UNO (1)N/AN/AMANTENIMIENTO CORRECTIVO - PASADOR DE SEGURIDAD / UNIDADJM GRUPO"},{"$f":"H141","v":12973.72}]
[{"$f":"\"ate01-\"&B142&\" \"&C142&\" \"&D142&\" \"&E142","v":"ate01-C1-072 UNO (1) N/A N/A"},"C1-072","UNO (1)","N/A","N/A","MANTENIMIENTO CORRECTIVO   SELLO PLÁSTICO  / UNIDAD","IMPLESEG S.A.S.",454.08,{"$f":"B142&G142","v":"C1-072IMPLESEG S.A.S."},{"$f":"C142&D142&E142&F142","v":"UNO (1)N/AN/AMANTENIMIENTO CORRECTIVO   SELLO PLÁSTICO  / UNIDAD"},{"$f":"H142","v":454.08},{"$f":"C142&D142&E142&F142&G142","v":"UNO (1)N/AN/AMANTENIMIENTO CORRECTIVO   SELLO PLÁSTICO  / UNIDADIMPLESEG S.A.S."},{"$f":"B142&H142","v":"C1-072454.08"},{"$f":"G142","v":"IMPLESEG S.A.S."},"Und",{"$f":"C142&D142&E142&F142&G142","v":"UNO (1)N/AN/AMANTENIMIENTO CORRECTIVO   SELLO PLÁSTICO  / UNIDADIMPLESEG S.A.S."},{"$f":"H142","v":454.08}]
[{"$f":"\"ate01-\"&B143&\" \"&C143&\" \"&D143&\" \"&E143","v":"ate01-C1-072 UNO (1) N/A N/A"},"C1-072","UNO (1)","N/A","N/A","MANTENIMIENTO CORRECTIVO   SELLO PLÁSTICO  / UNIDAD","JM GRUPO",12973.72,{"$f":"B143&G143","v":"C1-072JM GRUPO"},{"$f":"C143&D143&E143&F143","v":"UNO (1)N/AN/AMANTENIMIENTO CORRECTIVO   SELLO PLÁSTICO  / UNIDAD"},{"$f":"H143","v":12973.72},{"$f":"C143&D143&E143&F143&G143","v":"UNO (1)N/AN/AMANTENIMIENTO CORRECTIVO   SELLO PLÁSTICO  / UNIDADJM GRUPO"},{"$f":"B143&H143","v":"C1-07212973.72"},{"$f":"G143","v":"JM GRUPO"},"Und",{"$f":"C143&D143&E143&F143&G143","v":"UNO (1)N/AN/AMANTENIMIENTO CORRECTIVO   SELLO PLÁSTICO  / UNIDADJM GRUPO"},{"$f":"H143","v":12973.72}]
[{"$f":"\"ate01-\"&B144&\" \"&C144&\" \"&D144&\" \"&E144","v":"ate01-C1-073 UNO (1) N/A N/A"},"C1-073","UNO (1)","N/A","N/A","MANTENIMIENTO CORRECTIVO - ANILLO DE VERIFICACIÓN / UNIDAD","IMPLESEG S.A.S.",818.64,{"$f":"B144&G144","v":"C1-073IMPLESEG S.A.S."},{"$f":"C144&D144&E144&F144","v":"UNO (1)N/AN/AMANTENIMIENTO CORRECTIVO - ANILLO DE VERIFICACIÓN / UNIDAD"},{"$f":"H144","v":818.64},{"$f":"C144&D144&E144&F144&G144","v":"UNO (1)N/AN/AMANTENIMIENTO CORRECTIVO - ANILLO DE VERIFICACIÓN / UNIDADIMPLESEG S.A.S."},{"$f":"B144&H144","v":"C1-073818.64"},{"$f":"G144","v":"IMPLESEG S.A.S."},"Und",{"$f":"C144&D144&E144&F144&G144","v":"UNO (1)N/AN/AMANTENIMIENTO CORRECTIVO - ANILLO DE VERIFICACIÓN / UNIDADIMPLESEG S.A.S."},{"$f":"H144","v":818.64}]
[{"$f":"\"ate01-\"&B145&\" \"&C145&\" \"&D145&\" \"&E145","v":"ate01-C1-073 UNO (1) N/A N/A"},"C1-073","UNO (1)","N/A","N/A","MANTENIMIENTO CORRECTIVO - ANILLO DE VERIFICACIÓN / UNIDAD","JM GRUPO",12973.72,{"$f":"B145&G145","v":"C1-073JM GRUPO"},{"$f":"C145&D145&E145&F145","v":"UNO (1)N/AN/AMANTENIMIENTO CORRECTIVO - ANILLO DE VERIFICACIÓN / UNIDAD"},{"$f":"H145","v":12973.72},{"$f":"C145&D145&E145&F145&G145","v":"UNO (1)N/AN/AMANTENIMIENTO CORRECTIVO - ANILLO DE VERIFICACIÓN / UNIDADJM GRUPO"},{"$f":"B145&H145","v":"C1-07312973.72"},{"$f":"G145","v":"JM GRUPO"},"Und",{"$f":"C145&D145&E145&F145&G145","v":"UNO (1)N/AN/AMANTENIMIENTO CORRECTIVO - ANILLO DE VERIFICACIÓN / UNIDADJM GRUPO"},{"$f":"H145","v":12973.72}]
[{"$f":"\"ate01-\"&B146&\" \"&C146&\" \"&D146&\" \"&E146","v":"ate01-C1-074 UNO (1) N/A N/A"},"C1-074","UNO (1)","N/A","N/A","MANTENIMIENTO CORRECTIVO - CALCOMANIA  / UNIDAD","IMPLESEG S.A.S.",2594.7399999999998,{"$f":"B146&G146","v":"C1-074IMPLESEG S.A.S."},{"$f":"C146&D146&E146&F146","v":"UNO (1)N/AN/AMANTENIMIENTO CORRECTIVO - CALCOMANIA  / UNIDAD"},{"$f":"H146","v":2594.7399999999998},{"$f":"C146&D146&E146&F146&G146","v":"UNO (1)N/AN/AMANTENIMIENTO CORRECTIVO - CALCOMANIA  / UNIDADIMPLESEG S.A.S."},{"$f":"B146&H146","v":"C1-0742594.74"},{"$f":"G146","v":"IMPLESEG S.A.S."},"Und",{"$f":"C146&D146&E146&F146&G146","v":"UNO (1)N/AN/AMANTENIMIENTO CORRECTIVO - CALCOMANIA  / UNIDADIMPLESEG S.A.S."},{"$f":"H146","v":2594.7399999999998}]
[{"$f":"\"ate01-\"&B147&\" \"&C147&\" \"&D147&\" \"&E147","v":"ate01-C1-074 UNO (1) N/A N/A"},"C1-074","UNO (1)","N/A","N/A","MANTENIMIENTO CORRECTIVO - CALCOMANIA  / UNIDAD","JM GRUPO",12973.72,{"$f":"B147&G147","v":"C1-074JM GRUPO"},{"$f":"C147&D147&E147&F147","v":"UNO (1)N/AN/AMANTENIMIENTO CORRECTIVO - CALCOMANIA  / UNIDAD"},{"$f":"H147","v":12973.72},{"$f":"C147&D147&E147&F147&G147","v":"UNO (1)N/AN/AMANTENIMIENTO CORRECTIVO - CALCOMANIA  / UNIDADJM GRUPO"},{"$f":"B147&H147","v":"C1-07412973.72"},{"$f":"G147","v":"JM GRUPO"},"Und",{"$f":"C147&D147&E147&F147&G147","v":"UNO (1)N/AN/AMANTENIMIENTO CORRECTIVO - CALCOMANIA  / UNIDADJM GRUPO"},{"$f":"H147","v":12973.72}]
[{"$f":"\"ate01-\"&B148&\" \"&C148&\" \"&D148&\" \"&E148","v":"ate01-C1-075 UNO (1) N/A N/A"},"C1-075","UNO (1)","N/A","N/A","APLICACIÓN DE ESQUEMA DE PINTURA EXTINTOR PORTATIL / UNIDAD","IMPLESEG S.A.S.",37623.79,{"$f":"B148&G148","v":"C1-075IMPLESEG S.A.S."},{"$f":"C148&D148&E148&F148","v":"UNO (1)N/AN/AAPLICACIÓN DE ESQUEMA DE PINTURA EXTINTOR PORTATIL / UNIDAD"},{"$f":"H148","v":37623.79},{"$f":"C148&D148&E148&F148&G148","v":"UNO (1)N/AN/AAPLICACIÓN DE ESQUEMA DE PINTURA EXTINTOR PORTATIL / UNIDADIMPLESEG S.A.S."},{"$f":"B148&H148","v":"C1-07537623.79"},{"$f":"G148","v":"IMPLESEG S.A.S."},"Und",{"$f":"C148&D148&E148&F148&G148","v":"UNO (1)N/AN/AAPLICACIÓN DE ESQUEMA DE PINTURA EXTINTOR PORTATIL / UNIDADIMPLESEG S.A.S."},{"$f":"H148","v":37623.79}]
[{"$f":"\"ate01-\"&B149&\" \"&C149&\" \"&D149&\" \"&E149","v":"ate01-C1-075 UNO (1) N/A N/A"},"C1-075","UNO (1)","N/A","N/A","APLICACIÓN DE ESQUEMA DE PINTURA EXTINTOR PORTATIL / UNIDAD","JM GRUPO",18163.21,{"$f":"B149&G149","v":"C1-075JM GRUPO"},{"$f":"C149&D149&E149&F149","v":"UNO (1)N/AN/AAPLICACIÓN DE ESQUEMA DE PINTURA EXTINTOR PORTATIL / UNIDAD"},{"$f":"H149","v":18163.21},{"$f":"C149&D149&E149&F149&G149","v":"UNO (1)N/AN/AAPLICACIÓN DE ESQUEMA DE PINTURA EXTINTOR PORTATIL / UNIDADJM GRUPO"},{"$f":"B149&H149","v":"C1-07518163.21"},{"$f":"G149","v":"JM GRUPO"},"Und",{"$f":"C149&D149&E149&F149&G149","v":"UNO (1)N/AN/AAPLICACIÓN DE ESQUEMA DE PINTURA EXTINTOR PORTATIL / UNIDADJM GRUPO"},{"$f":"H149","v":18163.21}]
[{"$f":"\"ate01-\"&B150&\" \"&C150&\" \"&D150&\" \"&E150","v":"ate01-C1-076 UNO (1) N/A N/A"},"C1-076","UNO (1)","N/A","N/A","APLICACIÓN DE ESQUEMA DE PINTURA EXTINTOR RODANTE / UNIDAD","IMPLESEG S.A.S.",74391.320000000007,{"$f":"B150&G150","v":"C1-076IMPLESEG S.A.S."},{"$f":"C150&D150&E150&F150","v":"UNO (1)N/AN/AAPLICACIÓN DE ESQUEMA DE PINTURA EXTINTOR RODANTE / UNIDAD"},{"$f":"H150","v":74391.320000000007},{"$f":"C150&D150&E150&F150&G150","v":"UNO (1)N/AN/AAPLICACIÓN DE ESQUEMA DE PINTURA EXTINTOR RODANTE / UNIDADIMPLESEG S.A.S."},{"$f":"B150&H150","v":"C1-07674391.32"},{"$f":"G150","v":"IMPLESEG S.A.S."},"Und",{"$f":"C150&D150&E150&F150&G150","v":"UNO (1)N/AN/AAPLICACIÓN DE ESQUEMA DE PINTURA EXTINTOR RODANTE / UNIDADIMPLESEG S.A.S."},{"$f":"H150","v":74391.320000000007}]
[{"$f":"\"ate01-\"&B151&\" \"&C151&\" \"&D151&\" \"&E151","v":"ate01-C1-076 UNO (1) N/A N/A"},"C1-076","UNO (1)","N/A","N/A","APLICACIÓN DE ESQUEMA DE PINTURA EXTINTOR RODANTE / UNIDAD","JM GRUPO",25947.439999999999,{"$f":"B151&G151","v":"C1-076JM GRUPO"},{"$f":"C151&D151&E151&F151","v":"UNO (1)N/AN/AAPLICACIÓN DE ESQUEMA DE PINTURA EXTINTOR RODANTE / UNIDAD"},{"$f":"H151","v":25947.439999999999},{"$f":"C151&D151&E151&F151&G151","v":"UNO (1)N/AN/AAPLICACIÓN DE ESQUEMA DE PINTURA EXTINTOR RODANTE / UNIDADJM GRUPO"},{"$f":"B151&H151","v":"C1-07625947.44"},{"$f":"G151","v":"JM GRUPO"},"Und",{"$f":"C151&D151&E151&F151&G151","v":"UNO (1)N/AN/AAPLICACIÓN DE ESQUEMA DE PINTURA EXTINTOR RODANTE / UNIDADJM GRUPO"},{"$f":"H151","v":25947.439999999999}]
[{"$f":"\"ate01-\"&B152&\" \"&C152&\" \"&D152&\" \"&E152","v":"ate01-C1-077 UNO (1) N/A N/A"},"C1-077","UNO (1)","N/A","N/A","REPOSICIÓN DE MANÓMETRO EXTINTOR POLVO QUÍMICO SECO CLASE ABC; EXTINTOR DE CO2 Y EXTINTOR BC DE 5 A 30 LIBRAS / UNIDAD","IMPLESEG S.A.S.",8951.8700000000008,{"$f":"B152&G152","v":"C1-077IMPLESEG S.A.S."},{"$f":"C152&D152&E152&F152","v":"UNO (1)N/AN/AREPOSICIÓN DE MANÓMETRO EXTINTOR POLVO QUÍMICO SECO CLASE ABC; EXTINTOR DE CO2 Y EXTINTOR BC DE 5 A 30 LIBRAS / UNIDAD"},{"$f":"H152","v":8951.8700000000008},{"$f":"C152&D152&E152&F152&G152","v":"UNO (1)N/AN/AREPOSICIÓN DE MANÓMETRO EXTINTOR POLVO QUÍMICO SECO CLASE ABC; EXTINTOR DE CO2 Y EXTINTOR BC DE 5 A 30 LIBRAS / UNIDADIMPLESEG S.A.S."},{"$f":"B152&H152","v":"C1-0778951.87"},{"$f":"G152","v":"IMPLESEG S.A.S."},"Und",{"$f":"C152&D152&E152&F152&G152","v":"UNO (1)N/AN/AREPOSICIÓN DE MANÓMETRO EXTINTOR POLVO QUÍMICO SECO CLASE ABC; EXTINTOR DE CO2 Y EXTINTOR BC DE 5 A 30 LIBRAS / UNIDADIMPLESEG S.A.S."},{"$f":"H152","v":8951.8700000000008}]
[{"$f":"\"ate01-\"&B153&\" \"&C153&\" \"&D153&\" \"&E153","v":"ate01-C1-077 UNO (1) N/A N/A"},"C1-077","UNO (1)","N/A","N/A","REPOSICIÓN DE MANÓMETRO EXTINTOR POLVO QUÍMICO SECO CLASE ABC; EXTINTOR DE CO2 Y EXTINTOR BC DE 5 A 30 LIBRAS / UNIDAD","JM GRUPO",10378.98,{"$f":"B153&G153","v":"C1-077JM GRUPO"},{"$f":"C153&D153&E153&F153","v":"UNO (1)N/AN/AREPOSICIÓN DE MANÓMETRO EXTINTOR POLVO QUÍMICO SECO CLASE ABC; EXTINTOR DE CO2 Y EXTINTOR BC DE 5 A 30 LIBRAS / UNIDAD"},{"$f":"H153","v":10378.98},{"$f":"C153&D153&E153&F153&G153","v":"UNO (1)N/AN/AREPOSICIÓN DE MANÓMETRO EXTINTOR POLVO QUÍMICO SECO CLASE ABC; EXTINTOR DE CO2 Y EXTINTOR BC DE 5 A 30 LIBRAS / UNIDADJM GRUPO"},{"$f":"B153&H153","v":"C1-07710378.98"},{"$f":"G153","v":"JM GRUPO"},"Und",{"$f":"C153&D153&E153&F153&G153","v":"UNO (1)N/AN/AREPOSICIÓN DE MANÓMETRO EXTINTOR POLVO QUÍMICO SECO CLASE ABC; EXTINTOR DE CO2 Y EXTINTOR BC DE 5 A 30 LIBRAS / UNIDADJM GRUPO"},{"$f":"H153","v":10378.98}]
[{"$f":"\"ate01-\"&B154&\" \"&C154&\" \"&D154&\" \"&E154","v":"ate01-C1-078 UNO (1) N/A N/A"},"C1-078","UNO (1)","N/A","N/A","REPOSICIÓN DE MANÓMETRO EXTINTOR POLVO QUÍMICO SECO CLASE ABC; EXTINTOR DE CO2, EXTINTOR BC Y EXTINTOR POLVO QUÍMICO SECO CLASE ABC Y CLASE BC TIPO ROBOT DE 31 A 150 LIBRAS / UNIDAD","IMPLESEG S.A.S.",8951.8700000000008,{"$f":"B154&G154","v":"C1-078IMPLESEG S.A.S."},{"$f":"C154&D154&E154&F154","v":"UNO (1)N/AN/AREPOSICIÓN DE MANÓMETRO EXTINTOR POLVO QUÍMICO SECO CLASE ABC; EXTINTOR DE CO2, EXTINTOR BC Y EXTINTOR POLVO QUÍMICO SECO CLASE ABC Y CLASE BC TIPO ROBOT DE 31 A 150 LIBRAS / UNIDAD"},{"$f":"H154","v":8951.8700000000008},{"$f":"C154&D154&E154&F154&G154","v":"UNO (1)N/AN/AREPOSICIÓN DE MANÓMETRO EXTINTOR POLVO QUÍMICO SECO CLASE ABC; EXTINTOR DE CO2, EXTINTOR BC Y EXTINTOR POLVO QUÍMICO SECO CLASE ABC Y CLASE BC TIPO ROBOT DE 31 A 150 LIBRAS / UNIDADIMPLESEG S.A.S."},{"$f":"B154&H154","v":"C1-0788951.87"},{"$f":"G154","v":"IMPLESEG S.A.S."},"Und",{"$f":"C154&D154&E154&F154&G154","v":"UNO (1)N/AN/AREPOSICIÓN DE MANÓMETRO EXTINTOR POLVO QUÍMICO SECO CLASE ABC; EXTINTOR DE CO2, EXTINTOR BC Y EXTINTOR POLVO QUÍMICO SECO CLASE ABC Y CLASE BC TIPO ROBOT DE 31 A 150 LIBRAS / UNIDADIMPLESEG S.A.S."},{"$f":"H154","v":8951.8700000000008}]
[{"$f":"\"ate01-\"&B155&\" \"&C155&\" \"&D155&\" \"&E155","v":"ate01-C1-078 UNO (1) N/A N/A"},"C1-078","UNO (1)","N/A","N/A","REPOSICIÓN DE MANÓMETRO EXTINTOR POLVO QUÍMICO SECO CLASE ABC; EXTINTOR DE CO2, EXTINTOR BC Y EXTINTOR POLVO QUÍMICO SECO CLASE ABC Y CLASE BC TIPO ROBOT DE 31 A 150 LIBRAS / UNIDAD","JM GRUPO",10378.98,{"$f":"B155&G155","v":"C1-078JM GRUPO"},{"$f":"C155&D155&E155&F155","v":"UNO (1)N/AN/AREPOSICIÓN DE MANÓMETRO EXTINTOR POLVO QUÍMICO SECO CLASE ABC; EXTINTOR DE CO2, EXTINTOR BC Y EXTINTOR POLVO QUÍMICO SECO CLASE ABC Y CLASE BC TIPO ROBOT DE 31 A 150 LIBRAS / UNIDAD"},{"$f":"H155","v":10378.98},{"$f":"C155&D155&E155&F155&G155","v":"UNO (1)N/AN/AREPOSICIÓN DE MANÓMETRO EXTINTOR POLVO QUÍMICO SECO CLASE ABC; EXTINTOR DE CO2, EXTINTOR BC Y EXTINTOR POLVO QUÍMICO SECO CLASE ABC Y CLASE BC TIPO ROBOT DE 31 A 150 LIBRAS / UNIDADJM GRUPO"},{"$f":"B155&H155","v":"C1-07810378.98"},{"$f":"G155","v":"JM GRUPO"},"Und",{"$f":"C155&D155&E155&F155&G155","v":"UNO (1)N/AN/AREPOSICIÓN DE MANÓMETRO EXTINTOR POLVO QUÍMICO SECO CLASE ABC; EXTINTOR DE CO2, EXTINTOR BC Y EXTINTOR POLVO QUÍMICO SECO CLASE ABC Y CLASE BC TIPO ROBOT DE 31 A 150 LIBRAS / UNIDADJM GRUPO"},{"$f":"H155","v":10378.98}]
[{"$f":"\"ate01-\"&B156&\" \"&C156&\" \"&D156&\" \"&E156","v":"ate01-C1-079 UNO (1) N/A N/A"},"C1-079","UNO (1)","N/A","N/A","REPOSICIÓN DE MANÓMETRO EXTINTOR DE AGUA Y EXTINTOR TIPO K DE  2 1/2  GALONES / UNIDAD","IMPLESEG S.A.S.",8951.8700000000008,{"$f":"B156&G156","v":"C1-079IMPLESEG S.A.S."},{"$f":"C156&D156&E156&F156","v":"UNO (1)N/AN/AREPOSICIÓN DE MANÓMETRO EXTINTOR DE AGUA Y EXTINTOR TIPO K DE  2 1/2  GALONES / UNIDAD"},{"$f":"H156","v":8951.8700000000008},{"$f":"C156&D156&E156&F156&G156","v":"UNO (1)N/AN/AREPOSICIÓN DE MANÓMETRO EXTINTOR DE AGUA Y EXTINTOR TIPO K DE  2 1/2  GALONES / UNIDADIMPLESEG S.A.S."},{"$f":"B156&H156","v":"C1-0798951.87"},{"$f":"G156","v":"IMPLESEG S.A.S."},"Und",{"$f":"C156&D156&E156&F156&G156","v":"UNO (1)N/AN/AREPOSICIÓN DE MANÓMETRO EXTINTOR DE AGUA Y EXTINTOR TIPO K DE  2 1/2  GALONES / UNIDADIMPLESEG S.A.S."},{"$f":"H156","v":8951.8700000000008}]
[{"$f":"\"ate01-\"&B157&\" \"&C157&\" \"&D157&\" \"&E157","v":"ate01-C1-079 UNO (1) N/A N/A"},"C1-079","UNO (1)","N/A","N/A","REPOSICIÓN DE MANÓMETRO EXTINTOR DE AGUA Y EXTINTOR TIPO K DE  2 1/2  GALONES / UNIDAD","JM GRUPO",7135.55,{"$f":"B157&G157","v":"C1-079JM GRUPO"},{"$f":"C157&D157&E157&F157","v":"UNO (1)N/AN/AREPOSICIÓN DE MANÓMETRO EXTINTOR DE AGUA Y EXTINTOR TIPO K DE  2 1/2  GALONES / UNIDAD"},{"$f":"H157","v":7135.55},{"$f":"C157&D157&E157&F157&G157","v":"UNO (1)N/AN/AREPOSICIÓN DE MANÓMETRO EXTINTOR DE AGUA Y EXTINTOR TIPO K DE  2 1/2  GALONES / UNIDADJM GRUPO"},{"$f":"B157&H157","v":"C1-0797135.55"},{"$f":"G157","v":"JM GRUPO"},"Und",{"$f":"C157&D157&E157&F157&G157","v":"UNO (1)N/AN/AREPOSICIÓN DE MANÓMETRO EXTINTOR DE AGUA Y EXTINTOR TIPO K DE  2 1/2  GALONES / UNIDADJM GRUPO"},{"$f":"H157","v":7135.55}]
[{"$f":"\"ate01-\"&B158&\" \"&C158&\" \"&D158&\" \"&E158","v":"ate01-C1-080 UNO (1) N/A N/A"},"C1-080","UNO (1)","N/A","N/A","REPOSICIÓN DE MANÓMETRO EXTINTOR DE 14 GALONES TIPO SATELITE / UNIDAD","IMPLESEG S.A.S.",8951.8700000000008,{"$f":"B158&G158","v":"C1-080IMPLESEG S.A.S."},{"$f":"C158&D158&E158&F158","v":"UNO (1)N/AN/AREPOSICIÓN DE MANÓMETRO EXTINTOR DE 14 GALONES TIPO SATELITE / UNIDAD"},{"$f":"H158","v":8951.8700000000008},{"$f":"C158&D158&E158&F158&G158","v":"UNO (1)N/AN/AREPOSICIÓN DE MANÓMETRO EXTINTOR DE 14 GALONES TIPO SATELITE / UNIDADIMPLESEG S.A.S."},{"$f":"B158&H158","v":"C1-0808951.87"},{"$f":"G158","v":"IMPLESEG S.A.S."},"Und",{"$f":"C158&D158&E158&F158&G158","v":"UNO (1)N/AN/AREPOSICIÓN DE MANÓMETRO EXTINTOR DE 14 GALONES TIPO SATELITE / UNIDADIMPLESEG S.A.S."},{"$f":"H158","v":8951.8700000000008}]
[{"$f":"\"ate01-\"&B159&\" \"&C159&\" \"&D159&\" \"&E159","v":"ate01-C1-080 UNO (1) N/A N/A"},"C1-080","UNO (1)","N/A","N/A","REPOSICIÓN DE MANÓMETRO EXTINTOR DE 14 GALONES TIPO SATELITE / UNIDAD","JM GRUPO",7135.55,{"$f":"B159&G159","v":"C1-080JM GRUPO"},{"$f":"C159&D159&E159&F159","v":"UNO (1)N/AN/AREPOSICIÓN DE MANÓMETRO EXTINTOR DE 14 GALONES TIPO SATELITE / UNIDAD"},{"$f":"H159","v":7135.55},{"$f":"C159&D159&E159&F159&G159","v":"UNO (1)N/AN/AREPOSICIÓN DE MANÓMETRO EXTINTOR DE 14 GALONES TIPO SATELITE / UNIDADJM GRUPO"},{"$f":"B159&H159","v":"C1-0807135.55"},{"$f":"G159","v":"JM GRUPO"},"Und",{"$f":"C159&D159&E159&F159&G159","v":"UNO (1)N/AN/AREPOSICIÓN DE MANÓMETRO EXTINTOR DE 14 GALONES TIPO SATELITE / UNIDADJM GRUPO"},{"$f":"H159","v":7135.55}]
[{"$f":"\"ate01-\"&B160&\" \"&C160&\" \"&D160&\" \"&E160","v":"ate01-C1-081 UNO (1) N/A N/A"},"C1-081","UNO (1)","N/A","N/A","REPOSICIÓN DE MANÓMETRO EXTINTOR DE AGENTE LIMPIO HCFC DE 2500 GRAMOS Y 3700 GRAMOS / UNIDAD","IMPLESEG S.A.S.",8951.8700000000008,{"$f":"B160&G160","v":"C1-081IMPLESEG S.A.S."},{"$f":"C160&D160&E160&F160","v":"UNO (1)N/AN/AREPOSICIÓN DE MANÓMETRO EXTINTOR DE AGENTE LIMPIO HCFC DE 2500 GRAMOS Y 3700 GRAMOS / UNIDAD"},{"$f":"H160","v":8951.8700000000008},{"$f":"C160&D160&E160&F160&G160","v":"UNO (1)N/AN/AREPOSICIÓN DE MANÓMETRO EXTINTOR DE AGENTE LIMPIO HCFC DE 2500 GRAMOS Y 3700 GRAMOS / UNIDADIMPLESEG S.A.S."},{"$f":"B160&H160","v":"C1-0818951.87"},{"$f":"G160","v":"IMPLESEG S.A.S."},"Und",{"$f":"C160&D160&E160&F160&G160","v":"UNO (1)N/AN/AREPOSICIÓN DE MANÓMETRO EXTINTOR DE AGENTE LIMPIO HCFC DE 2500 GRAMOS Y 3700 GRAMOS / UNIDADIMPLESEG S.A.S."},{"$f":"H160","v":8951.8700000000008}]
[{"$f":"\"ate01-\"&B161&\" \"&C161&\" \"&D161&\" \"&E161","v":"ate01-C1-081 UNO (1) N/A N/A"},"C1-081","UNO (1)","N/A","N/A","REPOSICIÓN DE MANÓMETRO EXTINTOR DE AGENTE LIMPIO HCFC DE 2500 GRAMOS Y 3700 GRAMOS / UNIDAD","JM GRUPO",7135.55,{"$f":"B161&G161","v":"C1-081JM GRUPO"},{"$f":"C161&D161&E161&F161","v":"UNO (1)N/AN/AREPOSICIÓN DE MANÓMETRO EXTINTOR DE AGENTE LIMPIO HCFC DE 2500 GRAMOS Y 3700 GRAMOS / UNIDAD"},{"$f":"H161","v":7135.55},{"$f":"C161&D161&E161&F161&G161","v":"UNO (1)N/AN/AREPOSICIÓN DE MANÓMETRO EXTINTOR DE AGENTE LIMPIO HCFC DE 2500 GRAMOS Y 3700 GRAMOS / UNIDADJM GRUPO"},{"$f":"B161&H161","v":"C1-0817135.55"},{"$f":"G161","v":"JM GRUPO"},"Und",{"$f":"C161&D161&E161&F161&G161","v":"UNO (1)N/AN/AREPOSICIÓN DE MANÓMETRO EXTINTOR DE AGENTE LIMPIO HCFC DE 2500 GRAMOS Y 3700 GRAMOS / UNIDADJM GRUPO"},{"$f":"H161","v":7135.55}]
[{"$f":"\"ate01-\"&B162&\" \"&C162&\" \"&D162&\" \"&E162","v":"ate01-C1-082 UNO (1) N/A N/A"},"C1-082","UNO (1)","N/A","N/A","REPOSICIÓN DE MANÓMETRO EXTINTOR DE AGENTE LIMPIO HCFC DE 7000 GRAMOS Y 9000 GRAMOS / UNIDAD","IMPLESEG S.A.S.",8951.8700000000008,{"$f":"B162&G162","v":"C1-082IMPLESEG S.A.S."},{"$f":"C162&D162&E162&F162","v":"UNO (1)N/AN/AREPOSICIÓN DE MANÓMETRO EXTINTOR DE AGENTE LIMPIO HCFC DE 7000 GRAMOS Y 9000 GRAMOS / UNIDAD"},{"$f":"H162","v":8951.8700000000008},{"$f":"C162&D162&E162&F162&G162","v":"UNO (1)N/AN/AREPOSICIÓN DE MANÓMETRO EXTINTOR DE AGENTE LIMPIO HCFC DE 7000 GRAMOS Y 9000 GRAMOS / UNIDADIMPLESEG S.A.S."},{"$f":"B162&H162","v":"C1-0828951.87"},{"$f":"G162","v":"IMPLESEG S.A.S."},"Und",{"$f":"C162&D162&E162&F162&G162","v":"UNO (1)N/AN/AREPOSICIÓN DE MANÓMETRO EXTINTOR DE AGENTE LIMPIO HCFC DE 7000 GRAMOS Y 9000 GRAMOS / UNIDADIMPLESEG S.A.S."},{"$f":"H162","v":8951.8700000000008}]
[{"$f":"\"ate01-\"&B163&\" \"&C163&\" \"&D163&\" \"&E163","v":"ate01-C1-082 UNO (1) N/A N/A"},"C1-082","UNO (1)","N/A","N/A","REPOSICIÓN DE MANÓMETRO EXTINTOR DE AGENTE LIMPIO HCFC DE 7000 GRAMOS Y 9000 GRAMOS / UNIDAD","JM GRUPO",7135.55,{"$f":"B163&G163","v":"C1-082JM GRUPO"},{"$f":"C163&D163&E163&F163","v":"UNO (1)N/AN/AREPOSICIÓN DE MANÓMETRO EXTINTOR DE AGENTE LIMPIO HCFC DE 7000 GRAMOS Y 9000 GRAMOS / UNIDAD"},{"$f":"H163","v":7135.55},{"$f":"C163&D163&E163&F163&G163","v":"UNO (1)N/AN/AREPOSICIÓN DE MANÓMETRO EXTINTOR DE AGENTE LIMPIO HCFC DE 7000 GRAMOS Y 9000 GRAMOS / UNIDADJM GRUPO"},{"$f":"B163&H163","v":"C1-0827135.55"},{"$f":"G163","v":"JM GRUPO"},"Und",{"$f":"C163&D163&E163&F163&G163","v":"UNO (1)N/AN/AREPOSICIÓN DE MANÓMETRO EXTINTOR DE AGENTE LIMPIO HCFC DE 7000 GRAMOS Y 9000 GRAMOS / UNIDADJM GRUPO"},{"$f":"H163","v":7135.55}]
[{"$f":"\"ate01-\"&B164&\" \"&C164&\" \"&D164&\" \"&E164","v":"ate01-C1-083 UNO (1) N/A N/A"},"C1-083","UNO (1)","N/A","N/A","REPOSICIÓN DE MANÓMETRO EXTINTOR DE AFFF Y EXTINTOR TIPO K DE 6 LITROS A 10 LITROS / UNIDAD","IMPLESEG S.A.S.",8951.8700000000008,{"$f":"B164&G164","v":"C1-083IMPLESEG S.A.S."},{"$f":"C164&D164&E164&F164","v":"UNO (1)N/AN/AREPOSICIÓN DE MANÓMETRO EXTINTOR DE AFFF Y EXTINTOR TIPO K DE 6 LITROS A 10 LITROS / UNIDAD"},{"$f":"H164","v":8951.8700000000008},{"$f":"C164&D164&E164&F164&G164","v":"UNO (1)N/AN/AREPOSICIÓN DE MANÓMETRO EXTINTOR DE AFFF Y EXTINTOR TIPO K DE 6 LITROS A 10 LITROS / UNIDADIMPLESEG S.A.S."},{"$f":"B164&H164","v":"C1-0838951.87"},{"$f":"G164","v":"IMPLESEG S.A.S."},"Und",{"$f":"C164&D164&E164&F164&G164","v":"UNO (1)N/AN/AREPOSICIÓN DE MANÓMETRO EXTINTOR DE AFFF Y EXTINTOR TIPO K DE 6 LITROS A 10 LITROS / UNIDADIMPLESEG S.A.S."},{"$f":"H164","v":8951.8700000000008}]
[{"$f":"\"ate01-\"&B165&\" \"&C165&\" \"&D165&\" \"&E165","v":"ate01-C1-083 UNO (1) N/A N/A"},"C1-083","UNO (1)","N/A","N/A","REPOSICIÓN DE MANÓMETRO EXTINTOR DE AFFF Y EXTINTOR TIPO K DE 6 LITROS A 10 LITROS / UNIDAD","JM GRUPO",7135.55,{"$f":"B165&G165","v":"C1-083JM GRUPO"},{"$f":"C165&D165&E165&F165","v":"UNO (1)N/AN/AREPOSICIÓN DE MANÓMETRO EXTINTOR DE AFFF Y EXTINTOR TIPO K DE 6 LITROS A 10 LITROS / UNIDAD"},{"$f":"H165","v":7135.55},{"$f":"C165&D165&E165&F165&G165","v":"UNO (1)N/AN/AREPOSICIÓN DE MANÓMETRO EXTINTOR DE AFFF Y EXTINTOR TIPO K DE 6 LITROS A 10 LITROS / UNIDADJM GRUPO"},{"$f":"B165&H165","v":"C1-0837135.55"},{"$f":"G165","v":"JM GRUPO"},"Und",{"$f":"C165&D165&E165&F165&G165","v":"UNO (1)N/AN/AREPOSICIÓN DE MANÓMETRO EXTINTOR DE AFFF Y EXTINTOR TIPO K DE 6 LITROS A 10 LITROS / UNIDADJM GRUPO"},{"$f":"H165","v":7135.55}]
[{"$f":"\"ate01-\"&B166&\" \"&C166&\" \"&D166&\" \"&E166","v":"ate01-C1-084 UNO (1) N/A N/A"},"C1-084","UNO (1)","N/A","N/A","REPOSICIÓN DE MAGUERA EXTINTOR POLVO QUÍMICO SECO CLASE ABC DE 5 A 30 LIBRAS / UNIDAD","IMPLESEG S.A.S.",10768.19,{"$f":"B166&G166","v":"C1-084IMPLESEG S.A.S."},{"$f":"C166&D166&E166&F166","v":"UNO (1)N/AN/AREPOSICIÓN DE MAGUERA EXTINTOR POLVO QUÍMICO SECO CLASE ABC DE 5 A 30 LIBRAS / UNIDAD"},{"$f":"H166","v":10768.19},{"$f":"C166&D166&E166&F166&G166","v":"UNO (1)N/AN/AREPOSICIÓN DE MAGUERA EXTINTOR POLVO QUÍMICO SECO CLASE ABC DE 5 A 30 LIBRAS / UNIDADIMPLESEG S.A.S."},{"$f":"B166&H166","v":"C1-08410768.19"},{"$f":"G166","v":"IMPLESEG S.A.S."},"Und",{"$f":"C166&D166&E166&F166&G166","v":"UNO (1)N/AN/AREPOSICIÓN DE MAGUERA EXTINTOR POLVO QUÍMICO SECO CLASE ABC DE 5 A 30 LIBRAS / UNIDADIMPLESEG S.A.S."},{"$f":"H166","v":10768.19}]
[{"$f":"\"ate01-\"&B167&\" \"&C167&\" \"&D167&\" \"&E167","v":"ate01-C1-084 UNO (1) N/A N/A"},"C1-084","UNO (1)","N/A","N/A","REPOSICIÓN DE MAGUERA EXTINTOR POLVO QUÍMICO SECO CLASE ABC DE 5 A 30 LIBRAS / UNIDAD","JM GRUPO",28542.19,{"$f":"B167&G167","v":"C1-084JM GRUPO"},{"$f":"C167&D167&E167&F167","v":"UNO (1)N/AN/AREPOSICIÓN DE MAGUERA EXTINTOR POLVO QUÍMICO SECO CLASE ABC DE 5 A 30 LIBRAS / UNIDAD"},{"$f":"H167","v":28542.19},{"$f":"C167&D167&E167&F167&G167","v":"UNO (1)N/AN/AREPOSICIÓN DE MAGUERA EXTINTOR POLVO QUÍMICO SECO CLASE ABC DE 5 A 30 LIBRAS / UNIDADJM GRUPO"},{"$f":"B167&H167","v":"C1-08428542.19"},{"$f":"G167","v":"JM GRUPO"},"Und",{"$f":"C167&D167&E167&F167&G167","v":"UNO (1)N/AN/AREPOSICIÓN DE MAGUERA EXTINTOR POLVO QUÍMICO SECO CLASE ABC DE 5 A 30 LIBRAS / UNIDADJM GRUPO"},{"$f":"H167","v":28542.19}]
[{"$f":"\"ate01-\"&B168&\" \"&C168&\" \"&D168&\" \"&E168","v":"ate01-C1-085 UNO (1) N/A N/A"},"C1-085","UNO (1)","N/A","N/A","REPOSICIÓN DE MAGUERA EXTINTOR POLVO QUÍMICO SECO CLASE ABC DE 31 A 150 LIBRAS / UNIDAD","IMPLESEG S.A.S.",402185.37,{"$f":"B168&G168","v":"C1-085IMPLESEG S.A.S."},{"$f":"C168&D168&E168&F168","v":"UNO (1)N/AN/AREPOSICIÓN DE MAGUERA EXTINTOR POLVO QUÍMICO SECO CLASE ABC DE 31 A 150 LIBRAS / UNIDAD"},{"$f":"H168","v":402185.37},{"$f":"C168&D168&E168&F168&G168","v":"UNO (1)N/AN/AREPOSICIÓN DE MAGUERA EXTINTOR POLVO QUÍMICO SECO CLASE ABC DE 31 A 150 LIBRAS / UNIDADIMPLESEG S.A.S."},{"$f":"B168&H168","v":"C1-085402185.37"},{"$f":"G168","v":"IMPLESEG S.A.S."},"Und",{"$f":"C168&D168&E168&F168&G168","v":"UNO (1)N/AN/AREPOSICIÓN DE MAGUERA EXTINTOR POLVO QUÍMICO SECO CLASE ABC DE 31 A 150 LIBRAS / UNIDADIMPLESEG S.A.S."},{"$f":"H168","v":402185.37}]
[{"$f":"\"ate01-\"&B169&\" \"&C169&\" \"&D169&\" \"&E169","v":"ate01-C1-085 UNO (1) N/A N/A"},"C1-085","UNO (1)","N/A","N/A","REPOSICIÓN DE MAGUERA EXTINTOR POLVO QUÍMICO SECO CLASE ABC DE 31 A 150 LIBRAS / UNIDAD","JM GRUPO",28542.19,{"$f":"B169&G169","v":"C1-085JM GRUPO"},{"$f":"C169&D169&E169&F169","v":"UNO (1)N/AN/AREPOSICIÓN DE MAGUERA EXTINTOR POLVO QUÍMICO SECO CLASE ABC DE 31 A 150 LIBRAS / UNIDAD"},{"$f":"H169","v":28542.19},{"$f":"C169&D169&E169&F169&G169","v":"UNO (1)N/AN/AREPOSICIÓN DE MAGUERA EXTINTOR POLVO QUÍMICO SECO CLASE ABC DE 31 A 150 LIBRAS / UNIDADJM GRUPO"},{"$f":"B169&H169","v":"C1-08528542.19"},{"$f":"G169","v":"JM GRUPO"},"Und",{"$f":"C169&D169&E169&F169&G169","v":"UNO (1)N/AN/AREPOSICIÓN DE MAGUERA EXTINTOR POLVO QUÍMICO SECO CLASE ABC DE 31 A 150 LIBRAS / UNIDADJM GRUPO"},{"$f":"H169","v":28542.19}]
[{"$f":"\"ate01-\"&B170&\" \"&C170&\" \"&D170&\" \"&E170","v":"ate01-C1-086 UNO (1) N/A N/A"},"C1-086","UNO (1)","N/A","N/A","REPOSICIÓN DE MAGUERA EXTINTOR DE AGUA Y EXTINTOR TIPO K DE  2 1/2  GALONES / UNIDAD","IMPLESEG S.A.S.",50792.12,{"$f":"B170&G170","v":"C1-086IMPLESEG S.A.S."},{"$f":"C170&D170&E170&F170","v":"UNO (1)N/AN/AREPOSICIÓN DE MAGUERA EXTINTOR DE AGUA Y EXTINTOR TIPO K DE  2 1/2  GALONES / UNIDAD"},{"$f":"H170","v":50792.12},{"$f":"C170&D170&E170&F170&G170","v":"UNO (1)N/AN/AREPOSICIÓN DE MAGUERA EXTINTOR DE AGUA Y EXTINTOR TIPO K DE  2 1/2  GALONES / UNIDADIMPLESEG S.A.S."},{"$f":"B170&H170","v":"C1-08650792.12"},{"$f":"G170","v":"IMPLESEG S.A.S."},"Und",{"$f":"C170&D170&E170&F170&G170","v":"UNO (1)N/AN/AREPOSICIÓN DE MAGUERA EXTINTOR DE AGUA Y EXTINTOR TIPO K DE  2 1/2  GALONES / UNIDADIMPLESEG S.A.S."},{"$f":"H170","v":50792.12}]
[{"$f":"\"ate01-\"&B171&\" \"&C171&\" \"&D171&\" \"&E171","v":"ate01-C1-086 UNO (1) N/A N/A"},"C1-086","UNO (1)","N/A","N/A","REPOSICIÓN DE MAGUERA EXTINTOR DE AGUA Y EXTINTOR TIPO K DE  2 1/2  GALONES / UNIDAD","JM GRUPO",28542.19,{"$f":"B171&G171","v":"C1-086JM GRUPO"},{"$f":"C171&D171&E171&F171","v":"UNO (1)N/AN/AREPOSICIÓN DE MAGUERA EXTINTOR DE AGUA Y EXTINTOR TIPO K DE  2 1/2  GALONES / UNIDAD"},{"$f":"H171","v":28542.19},{"$f":"C171&D171&E171&F171&G171","v":"UNO (1)N/AN/AREPOSICIÓN DE MAGUERA EXTINTOR DE AGUA Y EXTINTOR TIPO K DE  2 1/2  GALONES / UNIDADJM GRUPO"},{"$f":"B171&H171","v":"C1-08628542.19"},{"$f":"G171","v":"JM GRUPO"},"Und",{"$f":"C171&D171&E171&F171&G171","v":"UNO (1)N/AN/AREPOSICIÓN DE MAGUERA EXTINTOR DE AGUA Y EXTINTOR TIPO K DE  2 1/2  GALONES / UNIDADJM GRUPO"},{"$f":"H171","v":28542.19}]
[{"$f":"\"ate01-\"&B172&\" \"&C172&\" \"&D172&\" \"&E172","v":"ate01-C1-087 UNO (1) N/A N/A"},"C1-087","UNO (1)","N/A","N/A","REPOSICIÓN DE MAGUERA EXTINTOR DE 14 GALONES TIPO SATELITE / UNIDAD","IMPLESEG S.A.S.",402185.37,{"$f":"B172&G172","v":"C1-087IMPLESEG S.A.S."},{"$f":"C172&D172&E172&F172","v":"UNO (1)N/AN/AREPOSICIÓN DE MAGUERA EXTINTOR DE 14 GALONES TIPO SATELITE / UNIDAD"},{"$f":"H172","v":402185.37},{"$f":"C172&D172&E172&F172&G172","v":"UNO (1)N/AN/AREPOSICIÓN DE MAGUERA EXTINTOR DE 14 GALONES TIPO SATELITE / UNIDADIMPLESEG S.A.S."},{"$f":"B172&H172","v":"C1-087402185.37"},{"$f":"G172","v":"IMPLESEG S.A.S."},"Und",{"$f":"C172&D172&E172&F172&G172","v":"UNO (1)N/AN/AREPOSICIÓN DE MAGUERA EXTINTOR DE 14 GALONES TIPO SATELITE / UNIDADIMPLESEG S.A.S."},{"$f":"H172","v":402185.37}]
[{"$f":"\"ate01-\"&B173&\" \"&C173&\" \"&D173&\" \"&E173","v":"ate01-C1-087 UNO (1) N/A N/A"},"C1-087","UNO (1)","N/A","N/A","REPOSICIÓN DE MAGUERA EXTINTOR DE 14 GALONES TIPO SATELITE / UNIDAD","JM GRUPO",28542.19,{"$f":"B173&G173","v":"C1-087JM GRUPO"},{"$f":"C173&D173&E173&F173","v":"UNO (1)N/AN/AREPOSICIÓN DE MAGUERA EXTINTOR DE 14 GALONES TIPO SATELITE / UNIDAD"},{"$f":"H173","v":28542.19},{"$f":"C173&D173&E173&F173&G173","v":"UNO (1)N/AN/AREPOSICIÓN DE MAGUERA EXTINTOR DE 14 GALONES TIPO SATELITE / UNIDADJM GRUPO"},{"$f":"B173&H173","v":"C1-08728542.19"},{"$f":"G173","v":"JM GRUPO"},"Und",{"$f":"C173&D173&E173&F173&G173","v":"UNO (1)N/AN/AREPOSICIÓN DE MAGUERA EXTINTOR DE 14 GALONES TIPO SATELITE / UNIDADJM GRUPO"},{"$f":"H173","v":28542.19}]
[{"$f":"\"ate01-\"&B174&\" \"&C174&\" \"&D174&\" \"&E174","v":"ate01-C1-088 UNO (1) N/A N/A"},"C1-088","UNO (1)","N/A","N/A","REPOSICIÓN DE MAGUERA EXTINTOR DE AGENTE LIMPIO HCFC DE 2500 GRAMOS Y 3700 GRAMOS / UNIDAD","IMPLESEG S.A.S.",8951.8700000000008,{"$f":"B174&G174","v":"C1-088IMPLESEG S.A.S."},{"$f":"C174&D174&E174&F174","v":"UNO (1)N/AN/AREPOSICIÓN DE MAGUERA EXTINTOR DE AGENTE LIMPIO HCFC DE 2500 GRAMOS Y 3700 GRAMOS / UNIDAD"},{"$f":"H174","v":8951.8700000000008},{"$f":"C174&D174&E174&F174&G174","v":"UNO (1)N/AN/AREPOSICIÓN DE MAGUERA EXTINTOR DE AGENTE LIMPIO HCFC DE 2500 GRAMOS Y 3700 GRAMOS / UNIDADIMPLESEG S.A.S."},{"$f":"B174&H174","v":"C1-0888951.87"},{"$f":"G174","v":"IMPLESEG S.A.S."},"Und",{"$f":"C174&D174&E174&F174&G174","v":"UNO (1)N/AN/AREPOSICIÓN DE MAGUERA EXTINTOR DE AGENTE LIMPIO HCFC DE 2500 GRAMOS Y 3700 GRAMOS / UNIDADIMPLESEG S.A.S."},{"$f":"H174","v":8951.8700000000008}]
[{"$f":"\"ate01-\"&B175&\" \"&C175&\" \"&D175&\" \"&E175","v":"ate01-C1-088 UNO (1) N/A N/A"},"C1-088","UNO (1)","N/A","N/A","REPOSICIÓN DE MAGUERA EXTINTOR DE AGENTE LIMPIO HCFC DE 2500 GRAMOS Y 3700 GRAMOS / UNIDAD","JM GRUPO",28542.19,{"$f":"B175&G175","v":"C1-088JM GRUPO"},{"$f":"C175&D175&E175&F175","v":"UNO (1)N/AN/AREPOSICIÓN DE MAGUERA EXTINTOR DE AGENTE LIMPIO HCFC DE 2500 GRAMOS Y 3700 GRAMOS / UNIDAD"},{"$f":"H175","v":28542.19},{"$f":"C175&D175&E175&F175&G175","v":"UNO (1)N/AN/AREPOSICIÓN DE MAGUERA EXTINTOR DE AGENTE LIMPIO HCFC DE 2500 GRAMOS Y 3700 GRAMOS / UNIDADJM GRUPO"},{"$f":"B175&H175","v":"C1-08828542.19"},{"$f":"G175","v":"JM GRUPO"},"Und",{"$f":"C175&D175&E175&F175&G175","v":"UNO (1)N/AN/AREPOSICIÓN DE MAGUERA EXTINTOR DE AGENTE LIMPIO HCFC DE 2500 GRAMOS Y 3700 GRAMOS / UNIDADJM GRUPO"},{"$f":"H175","v":28542.19}]
[{"$f":"\"ate01-\"&B176&\" \"&C176&\" \"&D176&\" \"&E176","v":"ate01-C1-089 UNO (1) N/A N/A"},"C1-089","UNO (1)","N/A","N/A","REPOSICIÓN DE MAGUERA EXTINTOR DE AGENTE LIMPIO HCFC DE 7000 GRAMOS Y 9000 GRAMOS / UNIDAD","IMPLESEG S.A.S.",8951.8700000000008,{"$f":"B176&G176","v":"C1-089IMPLESEG S.A.S."},{"$f":"C176&D176&E176&F176","v":"UNO (1)N/AN/AREPOSICIÓN DE MAGUERA EXTINTOR DE AGENTE LIMPIO HCFC DE 7000 GRAMOS Y 9000 GRAMOS / UNIDAD"},{"$f":"H176","v":8951.8700000000008},{"$f":"C176&D176&E176&F176&G176","v":"UNO (1)N/AN/AREPOSICIÓN DE MAGUERA EXTINTOR DE AGENTE LIMPIO HCFC DE 7000 GRAMOS Y 9000 GRAMOS / UNIDADIMPLESEG S.A.S."},{"$f":"B176&H176","v":"C1-0898951.87"},{"$f":"G176","v":"IMPLESEG S.A.S."},"Und",{"$f":"C176&D176&E176&F176&G176","v":"UNO (1)N/AN/AREPOSICIÓN DE MAGUERA EXTINTOR DE AGENTE LIMPIO HCFC DE 7000 GRAMOS Y 9000 GRAMOS / UNIDADIMPLESEG S.A.S."},{"$f":"H176","v":8951.8700000000008}]
[{"$f":"\"ate01-\"&B177&\" \"&C177&\" \"&D177&\" \"&E177","v":"ate01-C1-089 UNO (1) N/A N/A"},"C1-089","UNO (1)","N/A","N/A","REPOSICIÓN DE MAGUERA EXTINTOR DE AGENTE LIMPIO HCFC DE 7000 GRAMOS Y 9000 GRAMOS / UNIDAD","JM GRUPO",28542.19,{"$f":"B177&G177","v":"C1-089JM GRUPO"},{"$f":"C177&D177&E177&F177","v":"UNO (1)N/AN/AREPOSICIÓN DE MAGUERA EXTINTOR DE AGENTE LIMPIO HCFC DE 7000 GRAMOS Y 9000 GRAMOS / UNIDAD"},{"$f":"H177","v":28542.19},{"$f":"C177&D177&E177&F177&G177","v":"UNO (1)N/AN/AREPOSICIÓN DE MAGUERA EXTINTOR DE AGENTE LIMPIO HCFC DE 7000 GRAMOS Y 9000 GRAMOS / UNIDADJM GRUPO"},{"$f":"B177&H177","v":"C1-08928542.19"},{"$f":"G177","v":"JM GRUPO"},"Und",{"$f":"C177&D177&E177&F177&G177","v":"UNO (1)N/AN/AREPOSICIÓN DE MAGUERA EXTINTOR DE AGENTE LIMPIO HCFC DE 7000 GRAMOS Y 9000 GRAMOS / UNIDADJM GRUPO"},{"$f":"H177","v":28542.19}]
[{"$f":"\"ate01-\"&B178&\" \"&C178&\" \"&D178&\" \"&E178","v":"ate01-C1-090 UNO (1) N/A N/A"},"C1-090","UNO (1)","N/A","N/A","REPOSICIÓN DE MAGUERA EXTINTOR DE AFFF Y EXTINTOR TIPO K DE 6 LITROS A 10 LITROS / UNIDAD","IMPLESEG S.A.S.",116763.49,{"$f":"B178&G178","v":"C1-090IMPLESEG S.A.S."},{"$f":"C178&D178&E178&F178","v":"UNO (1)N/AN/AREPOSICIÓN DE MAGUERA EXTINTOR DE AFFF Y EXTINTOR TIPO K DE 6 LITROS A 10 LITROS / UNIDAD"},{"$f":"H178","v":116763.49},{"$f":"C178&D178&E178&F178&G178","v":"UNO (1)N/AN/AREPOSICIÓN DE MAGUERA EXTINTOR DE AFFF Y EXTINTOR TIPO K DE 6 LITROS A 10 LITROS / UNIDADIMPLESEG S.A.S."},{"$f":"B178&H178","v":"C1-090116763.49"},{"$f":"G178","v":"IMPLESEG S.A.S."},"Und",{"$f":"C178&D178&E178&F178&G178","v":"UNO (1)N/AN/AREPOSICIÓN DE MAGUERA EXTINTOR DE AFFF Y EXTINTOR TIPO K DE 6 LITROS A 10 LITROS / UNIDADIMPLESEG S.A.S."},{"$f":"H178","v":116763.49}]
[{"$f":"\"ate01-\"&B179&\" \"&C179&\" \"&D179&\" \"&E179","v":"ate01-C1-090 UNO (1) N/A N/A"},"C1-090","UNO (1)","N/A","N/A","REPOSICIÓN DE MAGUERA EXTINTOR DE AFFF Y EXTINTOR TIPO K DE 6 LITROS A 10 LITROS / UNIDAD","JM GRUPO",28542.19,{"$f":"B179&G179","v":"C1-090JM GRUPO"},{"$f":"C179&D179&E179&F179","v":"UNO (1)N/AN/AREPOSICIÓN DE MAGUERA EXTINTOR DE AFFF Y EXTINTOR TIPO K DE 6 LITROS A 10 LITROS / UNIDAD"},{"$f":"H179","v":28542.19},{"$f":"C179&D179&E179&F179&G179","v":"UNO (1)N/AN/AREPOSICIÓN DE MAGUERA EXTINTOR DE AFFF Y EXTINTOR TIPO K DE 6 LITROS A 10 LITROS / UNIDADJM GRUPO"},{"$f":"B179&H179","v":"C1-09028542.19"},{"$f":"G179","v":"JM GRUPO"},"Und",{"$f":"C179&D179&E179&F179&G179","v":"UNO (1)N/AN/AREPOSICIÓN DE MAGUERA EXTINTOR DE AFFF Y EXTINTOR TIPO K DE 6 LITROS A 10 LITROS / UNIDADJM GRUPO"},{"$f":"H179","v":28542.19}]
[{"$f":"\"ate01-\"&B180&\" \"&C180&\" \"&D180&\" \"&E180","v":"ate01-C1-091 UNO (1) N/A N/A"},"C1-091","UNO (1)","N/A","N/A","REPOSICIÓN DE VÁLVULA EXTINTOR POLVO QUÍMICO SECO CLASE ABC DE 5 A 30 LIBRAS / UNIDAD","IMPLESEG S.A.S.",16217.15,{"$f":"B180&G180","v":"C1-091IMPLESEG S.A.S."},{"$f":"C180&D180&E180&F180","v":"UNO (1)N/AN/AREPOSICIÓN DE VÁLVULA EXTINTOR POLVO QUÍMICO SECO CLASE ABC DE 5 A 30 LIBRAS / UNIDAD"},{"$f":"H180","v":16217.15},{"$f":"C180&D180&E180&F180&G180","v":"UNO (1)N/AN/AREPOSICIÓN DE VÁLVULA EXTINTOR POLVO QUÍMICO SECO CLASE ABC DE 5 A 30 LIBRAS / UNIDADIMPLESEG S.A.S."},{"$f":"B180&H180","v":"C1-09116217.15"},{"$f":"G180","v":"IMPLESEG S.A.S."},"Und",{"$f":"C180&D180&E180&F180&G180","v":"UNO (1)N/AN/AREPOSICIÓN DE VÁLVULA EXTINTOR POLVO QUÍMICO SECO CLASE ABC DE 5 A 30 LIBRAS / UNIDADIMPLESEG S.A.S."},{"$f":"H180","v":16217.15}]
[{"$f":"\"ate01-\"&B181&\" \"&C181&\" \"&D181&\" \"&E181","v":"ate01-C1-091 UNO (1) N/A N/A"},"C1-091","UNO (1)","N/A","N/A","REPOSICIÓN DE VÁLVULA EXTINTOR POLVO QUÍMICO SECO CLASE ABC DE 5 A 30 LIBRAS / UNIDAD","JM GRUPO",40218.54,{"$f":"B181&G181","v":"C1-091JM GRUPO"},{"$f":"C181&D181&E181&F181","v":"UNO (1)N/AN/AREPOSICIÓN DE VÁLVULA EXTINTOR POLVO QUÍMICO SECO CLASE ABC DE 5 A 30 LIBRAS / UNIDAD"},{"$f":"H181","v":40218.54},{"$f":"C181&D181&E181&F181&G181","v":"UNO (1)N/AN/AREPOSICIÓN DE VÁLVULA EXTINTOR POLVO QUÍMICO SECO CLASE ABC DE 5 A 30 LIBRAS / UNIDADJM GRUPO"},{"$f":"B181&H181","v":"C1-09140218.54"},{"$f":"G181","v":"JM GRUPO"},"Und",{"$f":"C181&D181&E181&F181&G181","v":"UNO (1)N/AN/AREPOSICIÓN DE VÁLVULA EXTINTOR POLVO QUÍMICO SECO CLASE ABC DE 5 A 30 LIBRAS / UNIDADJM GRUPO"},{"$f":"H181","v":40218.54}]
[{"$f":"\"ate01-\"&B182&\" \"&C182&\" \"&D182&\" \"&E182","v":"ate01-C1-092 UNO (1) N/A N/A"},"C1-092","UNO (1)","N/A","N/A","REPOSICIÓN DE VÁLVULA EXTINTOR POLVO QUÍMICO SECO CLASE ABC DE 31 A 150 LIBRAS / UNIDAD","IMPLESEG S.A.S.",233526.99,{"$f":"B182&G182","v":"C1-092IMPLESEG S.A.S."},{"$f":"C182&D182&E182&F182","v":"UNO (1)N/AN/AREPOSICIÓN DE VÁLVULA EXTINTOR POLVO QUÍMICO SECO CLASE ABC DE 31 A 150 LIBRAS / UNIDAD"},{"$f":"H182","v":233526.99},{"$f":"C182&D182&E182&F182&G182","v":"UNO (1)N/AN/AREPOSICIÓN DE VÁLVULA EXTINTOR POLVO QUÍMICO SECO CLASE ABC DE 31 A 150 LIBRAS / UNIDADIMPLESEG S.A.S."},{"$f":"B182&H182","v":"C1-092233526.99"},{"$f":"G182","v":"IMPLESEG S.A.S."},"Und",{"$f":"C182&D182&E182&F182&G182","v":"UNO (1)N/AN/AREPOSICIÓN DE VÁLVULA EXTINTOR POLVO QUÍMICO SECO CLASE ABC DE 31 A 150 LIBRAS / UNIDADIMPLESEG S.A.S."},{"$f":"H182","v":233526.99}]
[{"$f":"\"ate01-\"&B183&\" \"&C183&\" \"&D183&\" \"&E183","v":"ate01-C1-092 UNO (1) N/A N/A"},"C1-092","UNO (1)","N/A","N/A","REPOSICIÓN DE VÁLVULA EXTINTOR POLVO QUÍMICO SECO CLASE ABC DE 31 A 150 LIBRAS / UNIDAD","JM GRUPO",79139.7,{"$f":"B183&G183","v":"C1-092JM GRUPO"},{"$f":"C183&D183&E183&F183","v":"UNO (1)N/AN/AREPOSICIÓN DE VÁLVULA EXTINTOR POLVO QUÍMICO SECO CLASE ABC DE 31 A 150 LIBRAS / UNIDAD"},{"$f":"H183","v":79139.7},{"$f":"C183&D183&E183&F183&G183","v":"UNO (1)N/AN/AREPOSICIÓN DE VÁLVULA EXTINTOR POLVO QUÍMICO SECO CLASE ABC DE 31 A 150 LIBRAS / UNIDADJM GRUPO"},{"$f":"B183&H183","v":"C1-09279139.7"},{"$f":"G183","v":"JM GRUPO"},"Und",{"$f":"C183&D183&E183&F183&G183","v":"UNO (1)N/AN/AREPOSICIÓN DE VÁLVULA EXTINTOR POLVO QUÍMICO SECO CLASE ABC DE 31 A 150 LIBRAS / UNIDADJM GRUPO"},{"$f":"H183","v":79139.7}]
[{"$f":"\"ate01-\"&B184&\" \"&C184&\" \"&D184&\" \"&E184","v":"ate01-C1-093 UNO (1) N/A N/A"},"C1-093","UNO (1)","N/A","N/A","REPOSICIÓN DE VÁLVULA EXTINTOR DE AGUA Y EXTINTOR TIPO K DE  2 1/2  GALONES / UNIDAD","IMPLESEG S.A.S.",85341.14,{"$f":"B184&G184","v":"C1-093IMPLESEG S.A.S."},{"$f":"C184&D184&E184&F184","v":"UNO (1)N/AN/AREPOSICIÓN DE VÁLVULA EXTINTOR DE AGUA Y EXTINTOR TIPO K DE  2 1/2  GALONES / UNIDAD"},{"$f":"H184","v":85341.14},{"$f":"C184&D184&E184&F184&G184","v":"UNO (1)N/AN/AREPOSICIÓN DE VÁLVULA EXTINTOR DE AGUA Y EXTINTOR TIPO K DE  2 1/2  GALONES / UNIDADIMPLESEG S.A.S."},{"$f":"B184&H184","v":"C1-09385341.14"},{"$f":"G184","v":"IMPLESEG S.A.S."},"Und",{"$f":"C184&D184&E184&F184&G184","v":"UNO (1)N/AN/AREPOSICIÓN DE VÁLVULA EXTINTOR DE AGUA Y EXTINTOR TIPO K DE  2 1/2  GALONES / UNIDADIMPLESEG S.A.S."},{"$f":"H184","v":85341.14}]
[{"$f":"\"ate01-\"&B185&\" \"&C185&\" \"&D185&\" \"&E185","v":"ate01-C1-093 UNO (1) N/A N/A"},"C1-093","UNO (1)","N/A","N/A","REPOSICIÓN DE VÁLVULA EXTINTOR DE AGUA Y EXTINTOR TIPO K DE  2 1/2  GALONES / UNIDAD","JM GRUPO",40218.54,{"$f":"B185&G185","v":"C1-093JM GRUPO"},{"$f":"C185&D185&E185&F185","v":"UNO (1)N/AN/AREPOSICIÓN DE VÁLVULA EXTINTOR DE AGUA Y EXTINTOR TIPO K DE  2 1/2  GALONES / UNIDAD"},{"$f":"H185","v":40218.54},{"$f":"C185&D185&E185&F185&G185","v":"UNO (1)N/AN/AREPOSICIÓN DE VÁLVULA EXTINTOR DE AGUA Y EXTINTOR TIPO K DE  2 1/2  GALONES / UNIDADJM GRUPO"},{"$f":"B185&H185","v":"C1-09340218.54"},{"$f":"G185","v":"JM GRUPO"},"Und",{"$f":"C185&D185&E185&F185&G185","v":"UNO (1)N/AN/AREPOSICIÓN DE VÁLVULA EXTINTOR DE AGUA Y EXTINTOR TIPO K DE  2 1/2  GALONES / UNIDADJM GRUPO"},{"$f":"H185","v":40218.54}]
[{"$f":"\"ate01-\"&B186&\" \"&C186&\" \"&D186&\" \"&E186","v":"ate01-C1-094 UNO (1) N/A N/A"},"C1-094","UNO (1)","N/A","N/A","REPOSICIÓN DE VÁLVULA EXTINTOR DE 14 GALONES TIPO SATELITE / UNIDAD","IMPLESEG S.A.S.",242608.59,{"$f":"B186&G186","v":"C1-094IMPLESEG S.A.S."},{"$f":"C186&D186&E186&F186","v":"UNO (1)N/AN/AREPOSICIÓN DE VÁLVULA EXTINTOR DE 14 GALONES TIPO SATELITE / UNIDAD"},{"$f":"H186","v":242608.59},{"$f":"C186&D186&E186&F186&G186","v":"UNO (1)N/AN/AREPOSICIÓN DE VÁLVULA EXTINTOR DE 14 GALONES TIPO SATELITE / UNIDADIMPLESEG S.A.S."},{"$f":"B186&H186","v":"C1-094242608.59"},{"$f":"G186","v":"IMPLESEG S.A.S."},"Und",{"$f":"C186&D186&E186&F186&G186","v":"UNO (1)N/AN/AREPOSICIÓN DE VÁLVULA EXTINTOR DE 14 GALONES TIPO SATELITE / UNIDADIMPLESEG S.A.S."},{"$f":"H186","v":242608.59}]
[{"$f":"\"ate01-\"&B187&\" \"&C187&\" \"&D187&\" \"&E187","v":"ate01-C1-094 UNO (1) N/A N/A"},"C1-094","UNO (1)","N/A","N/A","REPOSICIÓN DE VÁLVULA EXTINTOR DE 14 GALONES TIPO SATELITE / UNIDAD","JM GRUPO",37623.79,{"$f":"B187&G187","v":"C1-094JM GRUPO"},{"$f":"C187&D187&E187&F187","v":"UNO (1)N/AN/AREPOSICIÓN DE VÁLVULA EXTINTOR DE 14 GALONES TIPO SATELITE / UNIDAD"},{"$f":"H187","v":37623.79},{"$f":"C187&D187&E187&F187&G187","v":"UNO (1)N/AN/AREPOSICIÓN DE VÁLVULA EXTINTOR DE 14 GALONES TIPO SATELITE / UNIDADJM GRUPO"},{"$f":"B187&H187","v":"C1-09437623.79"},{"$f":"G187","v":"JM GRUPO"},"Und",{"$f":"C187&D187&E187&F187&G187","v":"UNO (1)N/AN/AREPOSICIÓN DE VÁLVULA EXTINTOR DE 14 GALONES TIPO SATELITE / UNIDADJM GRUPO"},{"$f":"H187","v":37623.79}]
[{"$f":"\"ate01-\"&B188&\" \"&C188&\" \"&D188&\" \"&E188","v":"ate01-C1-095 UNO (1) N/A N/A"},"C1-095","UNO (1)","N/A","N/A","REPOSICIÓN DE VÁLVULA EXTINTOR DE AGENTE LIMPIO HCFC DE 2500 GRAMOS Y 3700 GRAMOS / UNIDAD","IMPLESEG S.A.S.",19460.580000000002,{"$f":"B188&G188","v":"C1-095IMPLESEG S.A.S."},{"$f":"C188&D188&E188&F188","v":"UNO (1)N/AN/AREPOSICIÓN DE VÁLVULA EXTINTOR DE AGENTE LIMPIO HCFC DE 2500 GRAMOS Y 3700 GRAMOS / UNIDAD"},{"$f":"H188","v":19460.580000000002},{"$f":"C188&D188&E188&F188&G188","v":"UNO (1)N/AN/AREPOSICIÓN DE VÁLVULA EXTINTOR DE AGENTE LIMPIO HCFC DE 2500 GRAMOS Y 3700 GRAMOS / UNIDADIMPLESEG S.A.S."},{"$f":"B188&H188","v":"C1-09519460.58"},{"$f":"G188","v":"IMPLESEG S.A.S."},"Und",{"$f":"C188&D188&E188&F188&G188","v":"UNO (1)N/AN/AREPOSICIÓN DE VÁLVULA EXTINTOR DE AGENTE LIMPIO HCFC DE 2500 GRAMOS Y 3700 GRAMOS / UNIDADIMPLESEG S.A.S."},{"$f":"H188","v":19460.580000000002}]
[{"$f":"\"ate01-\"&B189&\" \"&C189&\" \"&D189&\" \"&E189","v":"ate01-C1-095 UNO (1) N/A N/A"},"C1-095","UNO (1)","N/A","N/A","REPOSICIÓN DE VÁLVULA EXTINTOR DE AGENTE LIMPIO HCFC DE 2500 GRAMOS Y 3700 GRAMOS / UNIDAD","JM GRUPO",37623.79,{"$f":"B189&G189","v":"C1-095JM GRUPO"},{"$f":"C189&D189&E189&F189","v":"UNO (1)N/AN/AREPOSICIÓN DE VÁLVULA EXTINTOR DE AGENTE LIMPIO HCFC DE 2500 GRAMOS Y 3700 GRAMOS / UNIDAD"},{"$f":"H189","v":37623.79},{"$f":"C189&D189&E189&F189&G189","v":"UNO (1)N/AN/AREPOSICIÓN DE VÁLVULA EXTINTOR DE AGENTE LIMPIO HCFC DE 2500 GRAMOS Y 3700 GRAMOS / UNIDADJM GRUPO"},{"$f":"B189&H189","v":"C1-09537623.79"},{"$f":"G189","v":"JM GRUPO"},"Und",{"$f":"C189&D189&E189&F189&G189","v":"UNO (1)N/AN/AREPOSICIÓN DE VÁLVULA EXTINTOR DE AGENTE LIMPIO HCFC DE 2500 GRAMOS Y 3700 GRAMOS / UNIDADJM GRUPO"},{"$f":"H189","v":37623.79}]
[{"$f":"\"ate01-\"&B190&\" \"&C190&\" \"&D190&\" \"&E190","v":"ate01-C1-096 UNO (1) N/A N/A"},"C1-096","UNO (1)","N/A","N/A","REPOSICIÓN DE VÁLVULA EXTINTOR DE AGENTE LIMPIO HCFC DE 7000 GRAMOS Y 9000 GRAMOS / UNIDAD","IMPLESEG S.A.S.",19460.580000000002,{"$f":"B190&G190","v":"C1-096IMPLESEG S.A.S."},{"$f":"C190&D190&E190&F190","v":"UNO (1)N/AN/AREPOSICIÓN DE VÁLVULA EXTINTOR DE AGENTE LIMPIO HCFC DE 7000 GRAMOS Y 9000 GRAMOS / UNIDAD"},{"$f":"H190","v":19460.580000000002},{"$f":"C190&D190&E190&F190&G190","v":"UNO (1)N/AN/AREPOSICIÓN DE VÁLVULA EXTINTOR DE AGENTE LIMPIO HCFC DE 7000 GRAMOS Y 9000 GRAMOS / UNIDADIMPLESEG S.A.S."},{"$f":"B190&H190","v":"C1-09619460.58"},{"$f":"G190","v":"IMPLESEG S.A.S."},"Und",{"$f":"C190&D190&E190&F190&G190","v":"UNO (1)N/AN/AREPOSICIÓN DE VÁLVULA EXTINTOR DE AGENTE LIMPIO HCFC DE 7000 GRAMOS Y 9000 GRAMOS / UNIDADIMPLESEG S.A.S."},{"$f":"H190","v":19460.580000000002}]
[{"$f":"\"ate01-\"&B191&\" \"&C191&\" \"&D191&\" \"&E191","v":"ate01-C1-096 UNO (1) N/A N/A"},"C1-096","UNO (1)","N/A","N/A","REPOSICIÓN DE VÁLVULA EXTINTOR DE AGENTE LIMPIO HCFC DE 7000 GRAMOS Y 9000 GRAMOS / UNIDAD","JM GRUPO",37623.79,{"$f":"B191&G191","v":"C1-096JM GRUPO"},{"$f":"C191&D191&E191&F191","v":"UNO (1)N/AN/AREPOSICIÓN DE VÁLVULA EXTINTOR DE AGENTE LIMPIO HCFC DE 7000 GRAMOS Y 9000 GRAMOS / UNIDAD"},{"$f":"H191","v":37623.79},{"$f":"C191&D191&E191&F191&G191","v":"UNO (1)N/AN/AREPOSICIÓN DE VÁLVULA EXTINTOR DE AGENTE LIMPIO HCFC DE 7000 GRAMOS Y 9000 GRAMOS / UNIDADJM GRUPO"},{"$f":"B191&H191","v":"C1-09637623.79"},{"$f":"G191","v":"JM GRUPO"},"Und",{"$f":"C191&D191&E191&F191&G191","v":"UNO (1)N/AN/AREPOSICIÓN DE VÁLVULA EXTINTOR DE AGENTE LIMPIO HCFC DE 7000 GRAMOS Y 9000 GRAMOS / UNIDADJM GRUPO"},{"$f":"H191","v":37623.79}]
[{"$f":"\"ate01-\"&B192&\" \"&C192&\" \"&D192&\" \"&E192","v":"ate01-C1-097 UNO (1) N/A N/A"},"C1-097","UNO (1)","N/A","N/A","REPOSICIÓN DE VÁLVULA EXTINTOR DE AFFF Y EXTINTOR TIPO K DE 6 LITROS A 10 LITROS / UNIDAD","IMPLESEG S.A.S.",116763.49,{"$f":"B192&G192","v":"C1-097IMPLESEG S.A.S."},{"$f":"C192&D192&E192&F192","v":"UNO (1)N/AN/AREPOSICIÓN DE VÁLVULA EXTINTOR DE AFFF Y EXTINTOR TIPO K DE 6 LITROS A 10 LITROS / UNIDAD"},{"$f":"H192","v":116763.49},{"$f":"C192&D192&E192&F192&G192","v":"UNO (1)N/AN/AREPOSICIÓN DE VÁLVULA EXTINTOR DE AFFF Y EXTINTOR TIPO K DE 6 LITROS A 10 LITROS / UNIDADIMPLESEG S.A.S."},{"$f":"B192&H192","v":"C1-097116763.49"},{"$f":"G192","v":"IMPLESEG S.A.S."},"Und",{"$f":"C192&D192&E192&F192&G192","v":"UNO (1)N/AN/AREPOSICIÓN DE VÁLVULA EXTINTOR DE AFFF Y EXTINTOR TIPO K DE 6 LITROS A 10 LITROS / UNIDADIMPLESEG S.A.S."},{"$f":"H192","v":116763.49}]
[{"$f":"\"ate01-\"&B193&\" \"&C193&\" \"&D193&\" \"&E193","v":"ate01-C1-097 UNO (1) N/A N/A"},"C1-097","UNO (1)","N/A","N/A","REPOSICIÓN DE VÁLVULA EXTINTOR DE AFFF Y EXTINTOR TIPO K DE 6 LITROS A 10 LITROS / UNIDAD","JM GRUPO",37623.79,{"$f":"B193&G193","v":"C1-097JM GRUPO"},{"$f":"C193&D193&E193&F193","v":"UNO (1)N/AN/AREPOSICIÓN DE VÁLVULA EXTINTOR DE AFFF Y EXTINTOR TIPO K DE 6 LITROS A 10 LITROS / UNIDAD"},{"$f":"H193","v":37623.79},{"$f":"C193&D193&E193&F193&G193","v":"UNO (1)N/AN/AREPOSICIÓN DE VÁLVULA EXTINTOR DE AFFF Y EXTINTOR TIPO K DE 6 LITROS A 10 LITROS / UNIDADJM GRUPO"},{"$f":"B193&H193","v":"C1-09737623.79"},{"$f":"G193","v":"JM GRUPO"},"Und",{"$f":"C193&D193&E193&F193&G193","v":"UNO (1)N/AN/AREPOSICIÓN DE VÁLVULA EXTINTOR DE AFFF Y EXTINTOR TIPO K DE 6 LITROS A 10 LITROS / UNIDADJM GRUPO"},{"$f":"H193","v":37623.79}]
[{"$f":"\"ate01-\"&B194&\" \"&C194&\" \"&D194&\" \"&E194","v":"ate01-C1-098 UNO (1) N/A N/A"},"C1-098","UNO (1)","N/A","N/A","REPOSICIÓN DE CORNETAS A EXTINTORES CO2 DE 5 A 30 LIBRAS / UNIDAD","IMPLESEG S.A.S.",67852.56,{"$f":"B194&G194","v":"C1-098IMPLESEG S.A.S."},{"$f":"C194&D194&E194&F194","v":"UNO (1)N/AN/AREPOSICIÓN DE CORNETAS A EXTINTORES CO2 DE 5 A 30 LIBRAS / UNIDAD"},{"$f":"H194","v":67852.56},{"$f":"C194&D194&E194&F194&G194","v":"UNO (1)N/AN/AREPOSICIÓN DE CORNETAS A EXTINTORES CO2 DE 5 A 30 LIBRAS / UNIDADIMPLESEG S.A.S."},{"$f":"B194&H194","v":"C1-09867852.56"},{"$f":"G194","v":"IMPLESEG S.A.S."},"Und",{"$f":"C194&D194&E194&F194&G194","v":"UNO (1)N/AN/AREPOSICIÓN DE CORNETAS A EXTINTORES CO2 DE 5 A 30 LIBRAS / UNIDADIMPLESEG S.A.S."},{"$f":"H194","v":67852.56}]
[{"$f":"\"ate01-\"&B195&\" \"&C195&\" \"&D195&\" \"&E195","v":"ate01-C1-098 UNO (1) N/A N/A"},"C1-098","UNO (1)","N/A","N/A","REPOSICIÓN DE CORNETAS A EXTINTORES CO2 DE 5 A 30 LIBRAS / UNIDAD","JM GRUPO",108979.26,{"$f":"B195&G195","v":"C1-098JM GRUPO"},{"$f":"C195&D195&E195&F195","v":"UNO (1)N/AN/AREPOSICIÓN DE CORNETAS A EXTINTORES CO2 DE 5 A 30 LIBRAS / UNIDAD"},{"$f":"H195","v":108979.26},{"$f":"C195&D195&E195&F195&G195","v":"UNO (1)N/AN/AREPOSICIÓN DE CORNETAS A EXTINTORES CO2 DE 5 A 30 LIBRAS / UNIDADJM GRUPO"},{"$f":"B195&H195","v":"C1-098108979.26"},{"$f":"G195","v":"JM GRUPO"},"Und",{"$f":"C195&D195&E195&F195&G195","v":"UNO (1)N/AN/AREPOSICIÓN DE CORNETAS A EXTINTORES CO2 DE 5 A 30 LIBRAS / UNIDADJM GRUPO"},{"$f":"H195","v":108979.26}]
[{"$f":"\"ate01-\"&B196&\" \"&C196&\" \"&D196&\" \"&E196","v":"ate01-C1-099 UNO (1) N/A N/A"},"C1-099","UNO (1)","N/A","N/A","REPOSICIÓN DE CORNETAS A EXTINTORES CO2 DE 4 A 150 LIBRAS / UNIDAD","IMPLESEG S.A.S.",58381.75,{"$f":"B196&G196","v":"C1-099IMPLESEG S.A.S."},{"$f":"C196&D196&E196&F196","v":"UNO (1)N/AN/AREPOSICIÓN DE CORNETAS A EXTINTORES CO2 DE 4 A 150 LIBRAS / UNIDAD"},{"$f":"H196","v":58381.75},{"$f":"C196&D196&E196&F196&G196","v":"UNO (1)N/AN/AREPOSICIÓN DE CORNETAS A EXTINTORES CO2 DE 4 A 150 LIBRAS / UNIDADIMPLESEG S.A.S."},{"$f":"B196&H196","v":"C1-09958381.75"},{"$f":"G196","v":"IMPLESEG S.A.S."},"Und",{"$f":"C196&D196&E196&F196&G196","v":"UNO (1)N/AN/AREPOSICIÓN DE CORNETAS A EXTINTORES CO2 DE 4 A 150 LIBRAS / UNIDADIMPLESEG S.A.S."},{"$f":"H196","v":58381.75}]
[{"$f":"\"ate01-\"&B197&\" \"&C197&\" \"&D197&\" \"&E197","v":"ate01-C1-099 UNO (1) N/A N/A"},"C1-099","UNO (1)","N/A","N/A","REPOSICIÓN DE CORNETAS A EXTINTORES CO2 DE 4 A 150 LIBRAS / UNIDAD","JM GRUPO",240013.85,{"$f":"B197&G197","v":"C1-099JM GRUPO"},{"$f":"C197&D197&E197&F197","v":"UNO (1)N/AN/AREPOSICIÓN DE CORNETAS A EXTINTORES CO2 DE 4 A 150 LIBRAS / UNIDAD"},{"$f":"H197","v":240013.85},{"$f":"C197&D197&E197&F197&G197","v":"UNO (1)N/AN/AREPOSICIÓN DE CORNETAS A EXTINTORES CO2 DE 4 A 150 LIBRAS / UNIDADJM GRUPO"},{"$f":"B197&H197","v":"C1-099240013.85"},{"$f":"G197","v":"JM GRUPO"},"Und",{"$f":"C197&D197&E197&F197&G197","v":"UNO (1)N/AN/AREPOSICIÓN DE CORNETAS A EXTINTORES CO2 DE 4 A 150 LIBRAS / UNIDADJM GRUPO"},{"$f":"H197","v":240013.85}]
[{"$f":"\"ate01-\"&B198&\" \"&C198&\" \"&D198&\" \"&E198","v":"ate01-C1-100 UNO (1) N/A N/A"},"C1-100","UNO (1)","N/A","N/A","PRUEBA HIDROSTATICA EXTINTOR POLVO QUÍMICO SECO CLASE ABC Y EXTINTOR BC DE 5 A 30 LIBRAS / UNIDAD","IMPLESEG S.A.S.",32434.3,{"$f":"B198&G198","v":"C1-100IMPLESEG S.A.S."},{"$f":"C198&D198&E198&F198","v":"UNO (1)N/AN/APRUEBA HIDROSTATICA EXTINTOR POLVO QUÍMICO SECO CLASE ABC Y EXTINTOR BC DE 5 A 30 LIBRAS / UNIDAD"},{"$f":"H198","v":32434.3},{"$f":"C198&D198&E198&F198&G198","v":"UNO (1)N/AN/APRUEBA HIDROSTATICA EXTINTOR POLVO QUÍMICO SECO CLASE ABC Y EXTINTOR BC DE 5 A 30 LIBRAS / UNIDADIMPLESEG S.A.S."},{"$f":"B198&H198","v":"C1-10032434.3"},{"$f":"G198","v":"IMPLESEG S.A.S."},"Und",{"$f":"C198&D198&E198&F198&G198","v":"UNO (1)N/AN/APRUEBA HIDROSTATICA EXTINTOR POLVO QUÍMICO SECO CLASE ABC Y EXTINTOR BC DE 5 A 30 LIBRAS / UNIDADIMPLESEG S.A.S."},{"$f":"H198","v":32434.3}]
[{"$f":"\"ate01-\"&B199&\" \"&C199&\" \"&D199&\" \"&E199","v":"ate01-C1-100 UNO (1) N/A N/A"},"C1-100","UNO (1)","N/A","N/A","PRUEBA HIDROSTATICA EXTINTOR POLVO QUÍMICO SECO CLASE ABC Y EXTINTOR BC DE 5 A 30 LIBRAS / UNIDAD","JM GRUPO",32434.3,{"$f":"B199&G199","v":"C1-100JM GRUPO"},{"$f":"C199&D199&E199&F199","v":"UNO (1)N/AN/APRUEBA HIDROSTATICA EXTINTOR POLVO QUÍMICO SECO CLASE ABC Y EXTINTOR BC DE 5 A 30 LIBRAS / UNIDAD"},{"$f":"H199","v":32434.3},{"$f":"C199&D199&E199&F199&G199","v":"UNO (1)N/AN/APRUEBA HIDROSTATICA EXTINTOR POLVO QUÍMICO SECO CLASE ABC Y EXTINTOR BC DE 5 A 30 LIBRAS / UNIDADJM GRUPO"},{"$f":"B199&H199","v":"C1-10032434.3"},{"$f":"G199","v":"JM GRUPO"},"Und",{"$f":"C199&D199&E199&F199&G199","v":"UNO (1)N/AN/APRUEBA HIDROSTATICA EXTINTOR POLVO QUÍMICO SECO CLASE ABC Y EXTINTOR BC DE 5 A 30 LIBRAS / UNIDADJM GRUPO"},{"$f":"H199","v":32434.3}]
[{"$f":"\"ate01-\"&B200&\" \"&C200&\" \"&D200&\" \"&E200","v":"ate01-C1-101 UNO (1) N/A N/A"},"C1-101","UNO (1)","N/A","N/A","PRUEBA HIDROSTATICA EXTINTOR POLVO QUÍMICO SECO CLASE ABC Y EXTINTOR BC DE 31 A 150 LIBRAS / UNIDAD","IMPLESEG S.A.S.",116763.49,{"$f":"B200&G200","v":"C1-101IMPLESEG S.A.S."},{"$f":"C200&D200&E200&F200","v":"UNO (1)N/AN/APRUEBA HIDROSTATICA EXTINTOR POLVO QUÍMICO SECO CLASE ABC Y EXTINTOR BC DE 31 A 150 LIBRAS / UNIDAD"},{"$f":"H200","v":116763.49},{"$f":"C200&D200&E200&F200&G200","v":"UNO (1)N/AN/APRUEBA HIDROSTATICA EXTINTOR POLVO QUÍMICO SECO CLASE ABC Y EXTINTOR BC DE 31 A 150 LIBRAS / UNIDADIMPLESEG S.A.S."},{"$f":"B200&H200","v":"C1-101116763.49"},{"$f":"G200","v":"IMPLESEG S.A.S."},"Und",{"$f":"C200&D200&E200&F200&G200","v":"UNO (1)N/AN/APRUEBA HIDROSTATICA EXTINTOR POLVO QUÍMICO SECO CLASE ABC Y EXTINTOR BC DE 31 A 150 LIBRAS / UNIDADIMPLESEG S.A.S."},{"$f":"H200","v":116763.49}]
[{"$f":"\"ate01-\"&B201&\" \"&C201&\" \"&D201&\" \"&E201","v":"ate01-C1-101 UNO (1) N/A N/A"},"C1-101","UNO (1)","N/A","N/A","PRUEBA HIDROSTATICA EXTINTOR POLVO QUÍMICO SECO CLASE ABC Y EXTINTOR BC DE 31 A 150 LIBRAS / UNIDAD","JM GRUPO",32434.3,{"$f":"B201&G201","v":"C1-101JM GRUPO"},{"$f":"C201&D201&E201&F201","v":"UNO (1)N/AN/APRUEBA HIDROSTATICA EXTINTOR POLVO QUÍMICO SECO CLASE ABC Y EXTINTOR BC DE 31 A 150 LIBRAS / UNIDAD"},{"$f":"H201","v":32434.3},{"$f":"C201&D201&E201&F201&G201","v":"UNO (1)N/AN/APRUEBA HIDROSTATICA EXTINTOR POLVO QUÍMICO SECO CLASE ABC Y EXTINTOR BC DE 31 A 150 LIBRAS / UNIDADJM GRUPO"},{"$f":"B201&H201","v":"C1-10132434.3"},{"$f":"G201","v":"JM GRUPO"},"Und",{"$f":"C201&D201&E201&F201&G201","v":"UNO (1)N/AN/APRUEBA HIDROSTATICA EXTINTOR POLVO QUÍMICO SECO CLASE ABC Y EXTINTOR BC DE 31 A 150 LIBRAS / UNIDADJM GRUPO"},{"$f":"H201","v":32434.3}]
[{"$f":"\"ate01-\"&B202&\" \"&C202&\" \"&D202&\" \"&E202","v":"ate01-C1-102 UNO (1) N/A N/A"},"C1-102","UNO (1)","N/A","N/A","PRUEBA HIDROSTATICA EXTINTOR DE AGUA Y EXTINTOR TIPO K DE  2 1/2  GALONES / UNIDAD","IMPLESEG S.A.S.",32434.3,{"$f":"B202&G202","v":"C1-102IMPLESEG S.A.S."},{"$f":"C202&D202&E202&F202","v":"UNO (1)N/AN/APRUEBA HIDROSTATICA EXTINTOR DE AGUA Y EXTINTOR TIPO K DE  2 1/2  GALONES / UNIDAD"},{"$f":"H202","v":32434.3},{"$f":"C202&D202&E202&F202&G202","v":"UNO (1)N/AN/APRUEBA HIDROSTATICA EXTINTOR DE AGUA Y EXTINTOR TIPO K DE  2 1/2  GALONES / UNIDADIMPLESEG S.A.S."},{"$f":"B202&H202","v":"C1-10232434.3"},{"$f":"G202","v":"IMPLESEG S.A.S."},"Und",{"$f":"C202&D202&E202&F202&G202","v":"UNO (1)N/AN/APRUEBA HIDROSTATICA EXTINTOR DE AGUA Y EXTINTOR TIPO K DE  2 1/2  GALONES / UNIDADIMPLESEG S.A.S."},{"$f":"H202","v":32434.3}]
[{"$f":"\"ate01-\"&B203&\" \"&C203&\" \"&D203&\" \"&E203","v":"ate01-C1-102 UNO (1) N/A N/A"},"C1-102","UNO (1)","N/A","N/A","PRUEBA HIDROSTATICA EXTINTOR DE AGUA Y EXTINTOR TIPO K DE  2 1/2  GALONES / UNIDAD","JM GRUPO",32434.3,{"$f":"B203&G203","v":"C1-102JM GRUPO"},{"$f":"C203&D203&E203&F203","v":"UNO (1)N/AN/APRUEBA HIDROSTATICA EXTINTOR DE AGUA Y EXTINTOR TIPO K DE  2 1/2  GALONES / UNIDAD"},{"$f":"H203","v":32434.3},{"$f":"C203&D203&E203&F203&G203","v":"UNO (1)N/AN/APRUEBA HIDROSTATICA EXTINTOR DE AGUA Y EXTINTOR TIPO K DE  2 1/2  GALONES / UNIDADJM GRUPO"},{"$f":"B203&H203","v":"C1-10232434.3"},{"$f":"G203","v":"JM GRUPO"},"Und",{"$f":"C203&D203&E203&F203&G203","v":"UNO (1)N/AN/APRUEBA HIDROSTATICA EXTINTOR DE AGUA Y EXTINTOR TIPO K DE  2 1/2  GALONES / UNIDADJM GRUPO"},{"$f":"H203","v":32434.3}]
[{"$f":"\"ate01-\"&B204&\" \"&C204&\" \"&D204&\" \"&E204","v":"ate01-C1-103 UNO (1) N/A N/A"},"C1-103","UNO (1)","N/A","N/A","PRUEBA HIDROSTATICA EXTINTOR DE 14 GALONES TIPO SATELITE / UNIDAD","IMPLESEG S.A.S.",116763.49,{"$f":"B204&G204","v":"C1-103IMPLESEG S.A.S."},{"$f":"C204&D204&E204&F204","v":"UNO (1)N/AN/APRUEBA HIDROSTATICA EXTINTOR DE 14 GALONES TIPO SATELITE / UNIDAD"},{"$f":"H204","v":116763.49},{"$f":"C204&D204&E204&F204&G204","v":"UNO (1)N/AN/APRUEBA HIDROSTATICA EXTINTOR DE 14 GALONES TIPO SATELITE / UNIDADIMPLESEG S.A.S."},{"$f":"B204&H204","v":"C1-103116763.49"},{"$f":"G204","v":"IMPLESEG S.A.S."},"Und",{"$f":"C204&D204&E204&F204&G204","v":"UNO (1)N/AN/APRUEBA HIDROSTATICA EXTINTOR DE 14 GALONES TIPO SATELITE / UNIDADIMPLESEG S.A.S."},{"$f":"H204","v":116763.49}]
[{"$f":"\"ate01-\"&B205&\" \"&C205&\" \"&D205&\" \"&E205","v":"ate01-C1-103 UNO (1) N/A N/A"},"C1-103","UNO (1)","N/A","N/A","PRUEBA HIDROSTATICA EXTINTOR DE 14 GALONES TIPO SATELITE / UNIDAD","JM GRUPO",32434.3,{"$f":"B205&G205","v":"C1-103JM GRUPO"},{"$f":"C205&D205&E205&F205","v":"UNO (1)N/AN/APRUEBA HIDROSTATICA EXTINTOR DE 14 GALONES TIPO SATELITE / UNIDAD"},{"$f":"H205","v":32434.3},{"$f":"C205&D205&E205&F205&G205","v":"UNO (1)N/AN/APRUEBA HIDROSTATICA EXTINTOR DE 14 GALONES TIPO SATELITE / UNIDADJM GRUPO"},{"$f":"B205&H205","v":"C1-10332434.3"},{"$f":"G205","v":"JM GRUPO"},"Und",{"$f":"C205&D205&E205&F205&G205","v":"UNO (1)N/AN/APRUEBA HIDROSTATICA EXTINTOR DE 14 GALONES TIPO SATELITE / UNIDADJM GRUPO"},{"$f":"H205","v":32434.3}]
[{"$f":"\"ate01-\"&B206&\" \"&C206&\" \"&D206&\" \"&E206","v":"ate01-C1-104 UNO (1) N/A N/A"},"C1-104","UNO (1)","N/A","N/A","PRUEBA HIDROSTATICA EXTINTOR DE AGENTE LIMPIO HCFC DE 2500 GRAMOS Y 3700 GRAMOS / UNIDAD","IMPLESEG S.A.S.",28282.71,{"$f":"B206&G206","v":"C1-104IMPLESEG S.A.S."},{"$f":"C206&D206&E206&F206","v":"UNO (1)N/AN/APRUEBA HIDROSTATICA EXTINTOR DE AGENTE LIMPIO HCFC DE 2500 GRAMOS Y 3700 GRAMOS / UNIDAD"},{"$f":"H206","v":28282.71},{"$f":"C206&D206&E206&F206&G206","v":"UNO (1)N/AN/APRUEBA HIDROSTATICA EXTINTOR DE AGENTE LIMPIO HCFC DE 2500 GRAMOS Y 3700 GRAMOS / UNIDADIMPLESEG S.A.S."},{"$f":"B206&H206","v":"C1-10428282.71"},{"$f":"G206","v":"IMPLESEG S.A.S."},"Und",{"$f":"C206&D206&E206&F206&G206","v":"UNO (1)N/AN/APRUEBA HIDROSTATICA EXTINTOR DE AGENTE LIMPIO HCFC DE 2500 GRAMOS Y 3700 GRAMOS / UNIDADIMPLESEG S.A.S."},{"$f":"H206","v":28282.71}]
[{"$f":"\"ate01-\"&B207&\" \"&C207&\" \"&D207&\" \"&E207","v":"ate01-C1-104 UNO (1) N/A N/A"},"C1-104","UNO (1)","N/A","N/A","PRUEBA HIDROSTATICA EXTINTOR DE AGENTE LIMPIO HCFC DE 2500 GRAMOS Y 3700 GRAMOS / UNIDAD","JM GRUPO",32434.3,{"$f":"B207&G207","v":"C1-104JM GRUPO"},{"$f":"C207&D207&E207&F207","v":"UNO (1)N/AN/APRUEBA HIDROSTATICA EXTINTOR DE AGENTE LIMPIO HCFC DE 2500 GRAMOS Y 3700 GRAMOS / UNIDAD"},{"$f":"H207","v":32434.3},{"$f":"C207&D207&E207&F207&G207","v":"UNO (1)N/AN/APRUEBA HIDROSTATICA EXTINTOR DE AGENTE LIMPIO HCFC DE 2500 GRAMOS Y 3700 GRAMOS / UNIDADJM GRUPO"},{"$f":"B207&H207","v":"C1-10432434.3"},{"$f":"G207","v":"JM GRUPO"},"Und",{"$f":"C207&D207&E207&F207&G207","v":"UNO (1)N/AN/APRUEBA HIDROSTATICA EXTINTOR DE AGENTE LIMPIO HCFC DE 2500 GRAMOS Y 3700 GRAMOS / UNIDADJM GRUPO"},{"$f":"H207","v":32434.3}]
[{"$f":"\"ate01-\"&B208&\" \"&C208&\" \"&D208&\" \"&E208","v":"ate01-C1-105 UNO (1) N/A N/A"},"C1-105","UNO (1)","N/A","N/A","PRUEBA HIDROSTATICA EXTINTOR DE AGENTE LIMPIO HCFC DE 7000 GRAMOS Y 9000 GRAMOS / UNIDAD","IMPLESEG S.A.S.",32434.3,{"$f":"B208&G208","v":"C1-105IMPLESEG S.A.S."},{"$f":"C208&D208&E208&F208","v":"UNO (1)N/AN/APRUEBA HIDROSTATICA EXTINTOR DE AGENTE LIMPIO HCFC DE 7000 GRAMOS Y 9000 GRAMOS / UNIDAD"},{"$f":"H208","v":32434.3},{"$f":"C208&D208&E208&F208&G208","v":"UNO (1)N/AN/APRUEBA HIDROSTATICA EXTINTOR DE AGENTE LIMPIO HCFC DE 7000 GRAMOS Y 9000 GRAMOS / UNIDADIMPLESEG S.A.S."},{"$f":"B208&H208","v":"C1-10532434.3"},{"$f":"G208","v":"IMPLESEG S.A.S."},"Und",{"$f":"C208&D208&E208&F208&G208","v":"UNO (1)N/AN/APRUEBA HIDROSTATICA EXTINTOR DE AGENTE LIMPIO HCFC DE 7000 GRAMOS Y 9000 GRAMOS / UNIDADIMPLESEG S.A.S."},{"$f":"H208","v":32434.3}]
[{"$f":"\"ate01-\"&B209&\" \"&C209&\" \"&D209&\" \"&E209","v":"ate01-C1-105 UNO (1) N/A N/A"},"C1-105","UNO (1)","N/A","N/A","PRUEBA HIDROSTATICA EXTINTOR DE AGENTE LIMPIO HCFC DE 7000 GRAMOS Y 9000 GRAMOS / UNIDAD","JM GRUPO",32434.3,{"$f":"B209&G209","v":"C1-105JM GRUPO"},{"$f":"C209&D209&E209&F209","v":"UNO (1)N/AN/APRUEBA HIDROSTATICA EXTINTOR DE AGENTE LIMPIO HCFC DE 7000 GRAMOS Y 9000 GRAMOS / UNIDAD"},{"$f":"H209","v":32434.3},{"$f":"C209&D209&E209&F209&G209","v":"UNO (1)N/AN/APRUEBA HIDROSTATICA EXTINTOR DE AGENTE LIMPIO HCFC DE 7000 GRAMOS Y 9000 GRAMOS / UNIDADJM GRUPO"},{"$f":"B209&H209","v":"C1-10532434.3"},{"$f":"G209","v":"JM GRUPO"},"Und",{"$f":"C209&D209&E209&F209&G209","v":"UNO (1)N/AN/APRUEBA HIDROSTATICA EXTINTOR DE AGENTE LIMPIO HCFC DE 7000 GRAMOS Y 9000 GRAMOS / UNIDADJM GRUPO"},{"$f":"H209","v":32434.3}]
[{"$f":"\"ate01-\"&B210&\" \"&C210&\" \"&D210&\" \"&E210","v":"ate01-C1-106 UNO (1) N/A N/A"},"C1-106","UNO (1)","N/A","N/A","PRUEBA HIDROSTATICA EXTINTOR DE AFFF Y EXTINTOR TIPO K DE 6 LITROS A 10 LITROS / UNIDAD","IMPLESEG S.A.S.",32434.3,{"$f":"B210&G210","v":"C1-106IMPLESEG S.A.S."},{"$f":"C210&D210&E210&F210","v":"UNO (1)N/AN/APRUEBA HIDROSTATICA EXTINTOR DE AFFF Y EXTINTOR TIPO K DE 6 LITROS A 10 LITROS / UNIDAD"},{"$f":"H210","v":32434.3},{"$f":"C210&D210&E210&F210&G210","v":"UNO (1)N/AN/APRUEBA HIDROSTATICA EXTINTOR DE AFFF Y EXTINTOR TIPO K DE 6 LITROS A 10 LITROS / UNIDADIMPLESEG S.A.S."},{"$f":"B210&H210","v":"C1-10632434.3"},{"$f":"G210","v":"IMPLESEG S.A.S."},"Und",{"$f":"C210&D210&E210&F210&G210","v":"UNO (1)N/AN/APRUEBA HIDROSTATICA EXTINTOR DE AFFF Y EXTINTOR TIPO K DE 6 LITROS A 10 LITROS / UNIDADIMPLESEG S.A.S."},{"$f":"H210","v":32434.3}]
[{"$f":"\"ate01-\"&B211&\" \"&C211&\" \"&D211&\" \"&E211","v":"ate01-C1-106 UNO (1) N/A N/A"},"C1-106","UNO (1)","N/A","N/A","PRUEBA HIDROSTATICA EXTINTOR DE AFFF Y EXTINTOR TIPO K DE 6 LITROS A 10 LITROS / UNIDAD","JM GRUPO",32434.3,{"$f":"B211&G211","v":"C1-106JM GRUPO"},{"$f":"C211&D211&E211&F211","v":"UNO (1)N/AN/APRUEBA HIDROSTATICA EXTINTOR DE AFFF Y EXTINTOR TIPO K DE 6 LITROS A 10 LITROS / UNIDAD"},{"$f":"H211","v":32434.3},{"$f":"C211&D211&E211&F211&G211","v":"UNO (1)N/AN/APRUEBA HIDROSTATICA EXTINTOR DE AFFF Y EXTINTOR TIPO K DE 6 LITROS A 10 LITROS / UNIDADJM GRUPO"},{"$f":"B211&H211","v":"C1-10632434.3"},{"$f":"G211","v":"JM GRUPO"},"Und",{"$f":"C211&D211&E211&F211&G211","v":"UNO (1)N/AN/APRUEBA HIDROSTATICA EXTINTOR DE AFFF Y EXTINTOR TIPO K DE 6 LITROS A 10 LITROS / UNIDADJM GRUPO"},{"$f":"H211","v":32434.3}]
[{"$f":"\"ate01-\"&B212&\" \"&C212&\" \"&D212&\" \"&E212","v":"ate01-C1-107 UNO (1) N/A N/A"},"C1-107","UNO (1)","N/A","N/A","MARTILLO DE FRAGMENTACIÓN DE SEGURIDAD PARA VIDRIO CON GUAYA / UNIDAD","IMPLESEG S.A.S.",84020.42,{"$f":"B212&G212","v":"C1-107IMPLESEG S.A.S."},{"$f":"C212&D212&E212&F212","v":"UNO (1)N/AN/AMARTILLO DE FRAGMENTACIÓN DE SEGURIDAD PARA VIDRIO CON GUAYA / UNIDAD"},{"$f":"H212","v":84020.42},{"$f":"C212&D212&E212&F212&G212","v":"UNO (1)N/AN/AMARTILLO DE FRAGMENTACIÓN DE SEGURIDAD PARA VIDRIO CON GUAYA / UNIDADIMPLESEG S.A.S."},{"$f":"B212&H212","v":"C1-10784020.42"},{"$f":"G212","v":"IMPLESEG S.A.S."},"Und",{"$f":"C212&D212&E212&F212&G212","v":"UNO (1)N/AN/AMARTILLO DE FRAGMENTACIÓN DE SEGURIDAD PARA VIDRIO CON GUAYA / UNIDADIMPLESEG S.A.S."},{"$f":"H212","v":84020.42}]
[{"$f":"\"ate01-\"&B213&\" \"&C213&\" \"&D213&\" \"&E213","v":"ate01-C1-107 UNO (1) N/A N/A"},"C1-107","UNO (1)","N/A","N/A","MARTILLO DE FRAGMENTACIÓN DE SEGURIDAD PARA VIDRIO CON GUAYA / UNIDAD","JM GRUPO",25817.71,{"$f":"B213&G213","v":"C1-107JM GRUPO"},{"$f":"C213&D213&E213&F213","v":"UNO (1)N/AN/AMARTILLO DE FRAGMENTACIÓN DE SEGURIDAD PARA VIDRIO CON GUAYA / UNIDAD"},{"$f":"H213","v":25817.71},{"$f":"C213&D213&E213&F213&G213","v":"UNO (1)N/AN/AMARTILLO DE FRAGMENTACIÓN DE SEGURIDAD PARA VIDRIO CON GUAYA / UNIDADJM GRUPO"},{"$f":"B213&H213","v":"C1-10725817.71"},{"$f":"G213","v":"JM GRUPO"},"Und",{"$f":"C213&D213&E213&F213&G213","v":"UNO (1)N/AN/AMARTILLO DE FRAGMENTACIÓN DE SEGURIDAD PARA VIDRIO CON GUAYA / UNIDADJM GRUPO"},{"$f":"H213","v":25817.71}]
[{"$f":"\"ate01-\"&B214&\" \"&C214&\" \"&D214&\" \"&E214","v":"ate01-C1-108 UNO (1) N/A N/A"},"C1-108","UNO (1)","N/A","N/A","BOQUILLA EN POLICARBONATO DE PULVERIZACIÓN DE 1 1/2in / UNIDAD","IMPLESEG S.A.S.",69279.67,{"$f":"B214&G214","v":"C1-108IMPLESEG S.A.S."},{"$f":"C214&D214&E214&F214","v":"UNO (1)N/AN/ABOQUILLA EN POLICARBONATO DE PULVERIZACIÓN DE 1 1/2in / UNIDAD"},{"$f":"H214","v":69279.67},{"$f":"C214&D214&E214&F214&G214","v":"UNO (1)N/AN/ABOQUILLA EN POLICARBONATO DE PULVERIZACIÓN DE 1 1/2in / UNIDADIMPLESEG S.A.S."},{"$f":"B214&H214","v":"C1-10869279.67"},{"$f":"G214","v":"IMPLESEG S.A.S."},"Und",{"$f":"C214&D214&E214&F214&G214","v":"UNO (1)N/AN/ABOQUILLA EN POLICARBONATO DE PULVERIZACIÓN DE 1 1/2in / UNIDADIMPLESEG S.A.S."},{"$f":"H214","v":69279.67}]
[{"$f":"\"ate01-\"&B215&\" \"&C215&\" \"&D215&\" \"&E215","v":"ate01-C1-108 UNO (1) N/A N/A"},"C1-108","UNO (1)","N/A","N/A","BOQUILLA EN POLICARBONATO DE PULVERIZACIÓN DE 1 1/2in / UNIDAD","JM GRUPO",214066.41,{"$f":"B215&G215","v":"C1-108JM GRUPO"},{"$f":"C215&D215&E215&F215","v":"UNO (1)N/AN/ABOQUILLA EN POLICARBONATO DE PULVERIZACIÓN DE 1 1/2in / UNIDAD"},{"$f":"H215","v":214066.41},{"$f":"C215&D215&E215&F215&G215","v":"UNO (1)N/AN/ABOQUILLA EN POLICARBONATO DE PULVERIZACIÓN DE 1 1/2in / UNIDADJM GRUPO"},{"$f":"B215&H215","v":"C1-108214066.41"},{"$f":"G215","v":"JM GRUPO"},"Und",{"$f":"C215&D215&E215&F215&G215","v":"UNO (1)N/AN/ABOQUILLA EN POLICARBONATO DE PULVERIZACIÓN DE 1 1/2in / UNIDADJM GRUPO"},{"$f":"H215","v":214066.41}]
[{"$f":"\"ate01-\"&B216&\" \"&C216&\" \"&D216&\" \"&E216","v":"ate01-C1-109 UNO (1) N/A N/A"},"C1-109","UNO (1)","N/A","N/A","MANGUERA DOBLE CHAQUETA 1 1/2 100 PIES / UNIDAD","IMPLESEG S.A.S.",1010652.91,{"$f":"B216&G216","v":"C1-109IMPLESEG S.A.S."},{"$f":"C216&D216&E216&F216","v":"UNO (1)N/AN/AMANGUERA DOBLE CHAQUETA 1 1/2 100 PIES / UNIDAD"},{"$f":"H216","v":1010652.91},{"$f":"C216&D216&E216&F216&G216","v":"UNO (1)N/AN/AMANGUERA DOBLE CHAQUETA 1 1/2 100 PIES / UNIDADIMPLESEG S.A.S."},{"$f":"B216&H216","v":"C1-1091010652.91"},{"$f":"G216","v":"IMPLESEG S.A.S."},"Und",{"$f":"C216&D216&E216&F216&G216","v":"UNO (1)N/AN/AMANGUERA DOBLE CHAQUETA 1 1/2 100 PIES / UNIDADIMPLESEG S.A.S."},{"$f":"H216","v":1010652.91}]
[{"$f":"\"ate01-\"&B217&\" \"&C217&\" \"&D217&\" \"&E217","v":"ate01-C1-109 UNO (1) N/A N/A"},"C1-109","UNO (1)","N/A","N/A","MANGUERA DOBLE CHAQUETA 1 1/2 100 PIES / UNIDAD","JM GRUPO",473540.84,{"$f":"B217&G217","v":"C1-109JM GRUPO"},{"$f":"C217&D217&E217&F217","v":"UNO (1)N/AN/AMANGUERA DOBLE CHAQUETA 1 1/2 100 PIES / UNIDAD"},{"$f":"H217","v":473540.84},{"$f":"C217&D217&E217&F217&G217","v":"UNO (1)N/AN/AMANGUERA DOBLE CHAQUETA 1 1/2 100 PIES / UNIDADJM GRUPO"},{"$f":"B217&H217","v":"C1-109473540.84"},{"$f":"G217","v":"JM GRUPO"},"Und",{"$f":"C217&D217&E217&F217&G217","v":"UNO (1)N/AN/AMANGUERA DOBLE CHAQUETA 1 1/2 100 PIES / UNIDADJM GRUPO"},{"$f":"H217","v":473540.84}]
[{"$f":"\"ate01-\"&B218&\" \"&C218&\" \"&D218&\" \"&E218","v":"ate01-C1-110 UNO (1) N/A N/A"},"C1-110","UNO (1)","N/A","N/A","LLAVE SPANNER  / UNIDAD","IMPLESEG S.A.S.",12108.37,{"$f":"B218&G218","v":"C1-110IMPLESEG S.A.S."},{"$f":"C218&D218&E218&F218","v":"UNO (1)N/AN/ALLAVE SPANNER  / UNIDAD"},{"$f":"H218","v":12108.37},{"$f":"C218&D218&E218&F218&G218","v":"UNO (1)N/AN/ALLAVE SPANNER  / UNIDADIMPLESEG S.A.S."},{"$f":"B218&H218","v":"C1-11012108.37"},{"$f":"G218","v":"IMPLESEG S.A.S."},"Und",{"$f":"C218&D218&E218&F218&G218","v":"UNO (1)N/AN/ALLAVE SPANNER  / UNIDADIMPLESEG S.A.S."},{"$f":"H218","v":12108.37}]
[{"$f":"\"ate01-\"&B219&\" \"&C219&\" \"&D219&\" \"&E219","v":"ate01-C1-110 UNO (1) N/A N/A"},"C1-110","UNO (1)","N/A","N/A","LLAVE SPANNER  / UNIDAD","JM GRUPO",97302.91,{"$f":"B219&G219","v":"C1-110JM GRUPO"},{"$f":"C219&D219&E219&F219","v":"UNO (1)N/AN/ALLAVE SPANNER  / UNIDAD"},{"$f":"H219","v":97302.91},{"$f":"C219&D219&E219&F219&G219","v":"UNO (1)N/AN/ALLAVE SPANNER  / UNIDADJM GRUPO"},{"$f":"B219&H219","v":"C1-11097302.91"},{"$f":"G219","v":"JM GRUPO"},"Und",{"$f":"C219&D219&E219&F219&G219","v":"UNO (1)N/AN/ALLAVE SPANNER  / UNIDADJM GRUPO"},{"$f":"H219","v":97302.91}]
[{"$f":"\"ate01-\"&B220&\" \"&C220&\" \"&D220&\" \"&E220","v":"ate01-C1-111 UNO (1) N/A N/A"},"C1-111","UNO (1)","N/A","N/A","HACHA PICO PARA GABINETES CONTRAINCENDIOS / UNIDAD","IMPLESEG S.A.S.",42439.64,{"$f":"B220&G220","v":"C1-111IMPLESEG S.A.S."},{"$f":"C220&D220&E220&F220","v":"UNO (1)N/AN/AHACHA PICO PARA GABINETES CONTRAINCENDIOS / UNIDAD"},{"$f":"H220","v":42439.64},{"$f":"C220&D220&E220&F220&G220","v":"UNO (1)N/AN/AHACHA PICO PARA GABINETES CONTRAINCENDIOS / UNIDADIMPLESEG S.A.S."},{"$f":"B220&H220","v":"C1-11142439.64"},{"$f":"G220","v":"IMPLESEG S.A.S."},"Und",{"$f":"C220&D220&E220&F220&G220","v":"UNO (1)N/AN/AHACHA PICO PARA GABINETES CONTRAINCENDIOS / UNIDADIMPLESEG S.A.S."},{"$f":"H220","v":42439.64}]
[{"$f":"\"ate01-\"&B221&\" \"&C221&\" \"&D221&\" \"&E221","v":"ate01-C1-111 UNO (1) N/A N/A"},"C1-111","UNO (1)","N/A","N/A","HACHA PICO PARA GABINETES CONTRAINCENDIOS / UNIDAD","JM GRUPO",64738.87,{"$f":"B221&G221","v":"C1-111JM GRUPO"},{"$f":"C221&D221&E221&F221","v":"UNO (1)N/AN/AHACHA PICO PARA GABINETES CONTRAINCENDIOS / UNIDAD"},{"$f":"H221","v":64738.87},{"$f":"C221&D221&E221&F221&G221","v":"UNO (1)N/AN/AHACHA PICO PARA GABINETES CONTRAINCENDIOS / UNIDADJM GRUPO"},{"$f":"B221&H221","v":"C1-11164738.87"},{"$f":"G221","v":"JM GRUPO"},"Und",{"$f":"C221&D221&E221&F221&G221","v":"UNO (1)N/AN/AHACHA PICO PARA GABINETES CONTRAINCENDIOS / UNIDADJM GRUPO"},{"$f":"H221","v":64738.87}]
[{"$f":"\"ate01-\"&B222&\" \"&C222&\" \"&D222&\" \"&E222","v":"ate01-C1-112 UNO (1) N/A N/A"},"C1-112","UNO (1)","N/A","N/A","INSPECCIÓN A GABINETE CONTRA INCENDIOS  / UNIDAD","IMPLESEG S.A.S.",259474.43,{"$f":"B222&G222","v":"C1-112IMPLESEG S.A.S."},{"$f":"C222&D222&E222&F222","v":"UNO (1)N/AN/AINSPECCIÓN A GABINETE CONTRA INCENDIOS  / UNIDAD"},{"$f":"H222","v":259474.43},{"$f":"C222&D222&E222&F222&G222","v":"UNO (1)N/AN/AINSPECCIÓN A GABINETE CONTRA INCENDIOS  / UNIDADIMPLESEG S.A.S."},{"$f":"B222&H222","v":"C1-112259474.43"},{"$f":"G222","v":"IMPLESEG S.A.S."},"Und",{"$f":"C222&D222&E222&F222&G222","v":"UNO (1)N/AN/AINSPECCIÓN A GABINETE CONTRA INCENDIOS  / UNIDADIMPLESEG S.A.S."},{"$f":"H222","v":259474.43}]
[{"$f":"\"ate01-\"&B223&\" \"&C223&\" \"&D223&\" \"&E223","v":"ate01-C1-112 UNO (1) N/A N/A"},"C1-112","UNO (1)","N/A","N/A","INSPECCIÓN A GABINETE CONTRA INCENDIOS  / UNIDAD","JM GRUPO",45408.03,{"$f":"B223&G223","v":"C1-112JM GRUPO"},{"$f":"C223&D223&E223&F223","v":"UNO (1)N/AN/AINSPECCIÓN A GABINETE CONTRA INCENDIOS  / UNIDAD"},{"$f":"H223","v":45408.03},{"$f":"C223&D223&E223&F223&G223","v":"UNO (1)N/AN/AINSPECCIÓN A GABINETE CONTRA INCENDIOS  / UNIDADJM GRUPO"},{"$f":"B223&H223","v":"C1-11245408.03"},{"$f":"G223","v":"JM GRUPO"},"Und",{"$f":"C223&D223&E223&F223&G223","v":"UNO (1)N/AN/AINSPECCIÓN A GABINETE CONTRA INCENDIOS  / UNIDADJM GRUPO"},{"$f":"H223","v":45408.03}]
[{"$f":"\"ate01-\"&B224&\" \"&C224&\" \"&D224&\" \"&E224","v":"ate01-C1-113 UNO (1) N/A N/A"},"C1-113","UNO (1)","N/A","N/A","PRUEBA DE MANGUERAS  / UNIDAD","IMPLESEG S.A.S.",32434.3,{"$f":"B224&G224","v":"C1-113IMPLESEG S.A.S."},{"$f":"C224&D224&E224&F224","v":"UNO (1)N/AN/APRUEBA DE MANGUERAS  / UNIDAD"},{"$f":"H224","v":32434.3},{"$f":"C224&D224&E224&F224&G224","v":"UNO (1)N/AN/APRUEBA DE MANGUERAS  / UNIDADIMPLESEG S.A.S."},{"$f":"B224&H224","v":"C1-11332434.3"},{"$f":"G224","v":"IMPLESEG S.A.S."},"Und",{"$f":"C224&D224&E224&F224&G224","v":"UNO (1)N/AN/APRUEBA DE MANGUERAS  / UNIDADIMPLESEG S.A.S."},{"$f":"H224","v":32434.3}]
[{"$f":"\"ate01-\"&B225&\" \"&C225&\" \"&D225&\" \"&E225","v":"ate01-C1-113 UNO (1) N/A N/A"},"C1-113","UNO (1)","N/A","N/A","PRUEBA DE MANGUERAS  / UNIDAD","JM GRUPO",32434.3,{"$f":"B225&G225","v":"C1-113JM GRUPO"},{"$f":"C225&D225&E225&F225","v":"UNO (1)N/AN/APRUEBA DE MANGUERAS  / UNIDAD"},{"$f":"H225","v":32434.3},{"$f":"C225&D225&E225&F225&G225","v":"UNO (1)N/AN/APRUEBA DE MANGUERAS  / UNIDADJM GRUPO"},{"$f":"B225&H225","v":"C1-11332434.3"},{"$f":"G225","v":"JM GRUPO"},"Und",{"$f":"C225&D225&E225&F225&G225","v":"UNO (1)N/AN/APRUEBA DE MANGUERAS  / UNIDADJM GRUPO"},{"$f":"H225","v":32434.3}]
[{"$f":"\"ate01-\"&B226&\" \"&C226&\" \"&D226&\" \"&E226","v":"ate01-C1-114 UNO (1) N/A N/A"},"C1-114","UNO (1)","N/A","N/A","INSPECCIÓN DE HERMETICIDAD DE TUBERÍAS  / UNIDAD","IMPLESEG S.A.S.",843291.9,{"$f":"B226&G226","v":"C1-114IMPLESEG S.A.S."},{"$f":"C226&D226&E226&F226","v":"UNO (1)N/AN/AINSPECCIÓN DE HERMETICIDAD DE TUBERÍAS  / UNIDAD"},{"$f":"H226","v":843291.9},{"$f":"C226&D226&E226&F226&G226","v":"UNO (1)N/AN/AINSPECCIÓN DE HERMETICIDAD DE TUBERÍAS  / UNIDADIMPLESEG S.A.S."},{"$f":"B226&H226","v":"C1-114843291.9"},{"$f":"G226","v":"IMPLESEG S.A.S."},"Und",{"$f":"C226&D226&E226&F226&G226","v":"UNO (1)N/AN/AINSPECCIÓN DE HERMETICIDAD DE TUBERÍAS  / UNIDADIMPLESEG S.A.S."},{"$f":"H226","v":843291.9}]
[{"$f":"\"ate01-\"&B227&\" \"&C227&\" \"&D227&\" \"&E227","v":"ate01-C1-114 UNO (1) N/A N/A"},"C1-114","UNO (1)","N/A","N/A","INSPECCIÓN DE HERMETICIDAD DE TUBERÍAS  / UNIDAD","JM GRUPO",19460.580000000002,{"$f":"B227&G227","v":"C1-114JM GRUPO"},{"$f":"C227&D227&E227&F227","v":"UNO (1)N/AN/AINSPECCIÓN DE HERMETICIDAD DE TUBERÍAS  / UNIDAD"},{"$f":"H227","v":19460.580000000002},{"$f":"C227&D227&E227&F227&G227","v":"UNO (1)N/AN/AINSPECCIÓN DE HERMETICIDAD DE TUBERÍAS  / UNIDADJM GRUPO"},{"$f":"B227&H227","v":"C1-11419460.58"},{"$f":"G227","v":"JM GRUPO"},"Und",{"$f":"C227&D227&E227&F227&G227","v":"UNO (1)N/AN/AINSPECCIÓN DE HERMETICIDAD DE TUBERÍAS  / UNIDADJM GRUPO"},{"$f":"H227","v":19460.580000000002}]
[{"$f":"\"ate01-\"&B228&\" \"&C228&\" \"&D228&\" \"&E228","v":"ate01-C1-115 UNO (1) N/A N/A"},"C1-115","UNO (1)","N/A","N/A","MANGUERA EN PVC P/EXTINTOR DE 4 KGS C/ACOPLES / UNIDAD","IMPLESEG S.A.S.",10768.19,{"$f":"B228&G228","v":"C1-115IMPLESEG S.A.S."},{"$f":"C228&D228&E228&F228","v":"UNO (1)N/AN/AMANGUERA EN PVC P/EXTINTOR DE 4 KGS C/ACOPLES / UNIDAD"},{"$f":"H228","v":10768.19},{"$f":"C228&D228&E228&F228&G228","v":"UNO (1)N/AN/AMANGUERA EN PVC P/EXTINTOR DE 4 KGS C/ACOPLES / UNIDADIMPLESEG S.A.S."},{"$f":"B228&H228","v":"C1-11510768.19"},{"$f":"G228","v":"IMPLESEG S.A.S."},"Und",{"$f":"C228&D228&E228&F228&G228","v":"UNO (1)N/AN/AMANGUERA EN PVC P/EXTINTOR DE 4 KGS C/ACOPLES / UNIDADIMPLESEG S.A.S."},{"$f":"H228","v":10768.19}]
[{"$f":"\"ate01-\"&B229&\" \"&C229&\" \"&D229&\" \"&E229","v":"ate01-C1-115 UNO (1) N/A N/A"},"C1-115","UNO (1)","N/A","N/A","MANGUERA EN PVC P/EXTINTOR DE 4 KGS C/ACOPLES / UNIDAD","JM GRUPO",5838.17,{"$f":"B229&G229","v":"C1-115JM GRUPO"},{"$f":"C229&D229&E229&F229","v":"UNO (1)N/AN/AMANGUERA EN PVC P/EXTINTOR DE 4 KGS C/ACOPLES / UNIDAD"},{"$f":"H229","v":5838.17},{"$f":"C229&D229&E229&F229&G229","v":"UNO (1)N/AN/AMANGUERA EN PVC P/EXTINTOR DE 4 KGS C/ACOPLES / UNIDADJM GRUPO"},{"$f":"B229&H229","v":"C1-1155838.17"},{"$f":"G229","v":"JM GRUPO"},"Und",{"$f":"C229&D229&E229&F229&G229","v":"UNO (1)N/AN/AMANGUERA EN PVC P/EXTINTOR DE 4 KGS C/ACOPLES / UNIDADJM GRUPO"},{"$f":"H229","v":5838.17}]
[{"$f":"\"ate01-\"&B230&\" \"&C230&\" \"&D230&\" \"&E230","v":"ate01-C1-116 UNO (1) N/A N/A"},"C1-116","UNO (1)","N/A","N/A","MANGUERA TERMOPLASTICA AGUA 2.1/2 GL 250 / UNIDAD","IMPLESEG S.A.S.",10768.19,{"$f":"B230&G230","v":"C1-116IMPLESEG S.A.S."},{"$f":"C230&D230&E230&F230","v":"UNO (1)N/AN/AMANGUERA TERMOPLASTICA AGUA 2.1/2 GL 250 / UNIDAD"},{"$f":"H230","v":10768.19},{"$f":"C230&D230&E230&F230&G230","v":"UNO (1)N/AN/AMANGUERA TERMOPLASTICA AGUA 2.1/2 GL 250 / UNIDADIMPLESEG S.A.S."},{"$f":"B230&H230","v":"C1-11610768.19"},{"$f":"G230","v":"IMPLESEG S.A.S."},"Und",{"$f":"C230&D230&E230&F230&G230","v":"UNO (1)N/AN/AMANGUERA TERMOPLASTICA AGUA 2.1/2 GL 250 / UNIDADIMPLESEG S.A.S."},{"$f":"H230","v":10768.19}]
[{"$f":"\"ate01-\"&B231&\" \"&C231&\" \"&D231&\" \"&E231","v":"ate01-C1-116 UNO (1) N/A N/A"},"C1-116","UNO (1)","N/A","N/A","MANGUERA TERMOPLASTICA AGUA 2.1/2 GL 250 / UNIDAD","JM GRUPO",6615.3,{"$f":"B231&G231","v":"C1-116JM GRUPO"},{"$f":"C231&D231&E231&F231","v":"UNO (1)N/AN/AMANGUERA TERMOPLASTICA AGUA 2.1/2 GL 250 / UNIDAD"},{"$f":"H231","v":6615.3},{"$f":"C231&D231&E231&F231&G231","v":"UNO (1)N/AN/AMANGUERA TERMOPLASTICA AGUA 2.1/2 GL 250 / UNIDADJM GRUPO"},{"$f":"B231&H231","v":"C1-1166615.3"},{"$f":"G231","v":"JM GRUPO"},"Und",{"$f":"C231&D231&E231&F231&G231","v":"UNO (1)N/AN/AMANGUERA TERMOPLASTICA AGUA 2.1/2 GL 250 / UNIDADJM GRUPO"},{"$f":"H231","v":6615.3}]
[{"$f":"\"ate01-\"&B232&\" \"&C232&\" \"&D232&\" \"&E232","v":"ate01-C1-117 UNO (1) N/A N/A"},"C1-117","UNO (1)","N/A","N/A","MANGUERA TERMOPLASTICA EXT.AGENTE L. 3.7/9.0 V/PR / UNIDAD","IMPLESEG S.A.S.",10768.19,{"$f":"B232&G232","v":"C1-117IMPLESEG S.A.S."},{"$f":"C232&D232&E232&F232","v":"UNO (1)N/AN/AMANGUERA TERMOPLASTICA EXT.AGENTE L. 3.7/9.0 V/PR / UNIDAD"},{"$f":"H232","v":10768.19},{"$f":"C232&D232&E232&F232&G232","v":"UNO (1)N/AN/AMANGUERA TERMOPLASTICA EXT.AGENTE L. 3.7/9.0 V/PR / UNIDADIMPLESEG S.A.S."},{"$f":"B232&H232","v":"C1-11710768.19"},{"$f":"G232","v":"IMPLESEG S.A.S."},"Und",{"$f":"C232&D232&E232&F232&G232","v":"UNO (1)N/AN/AMANGUERA TERMOPLASTICA EXT.AGENTE L. 3.7/9.0 V/PR / UNIDADIMPLESEG S.A.S."},{"$f":"H232","v":10768.19}]
[{"$f":"\"ate01-\"&B233&\" \"&C233&\" \"&D233&\" \"&E233","v":"ate01-C1-117 UNO (1) N/A N/A"},"C1-117","UNO (1)","N/A","N/A","MANGUERA TERMOPLASTICA EXT.AGENTE L. 3.7/9.0 V/PR / UNIDAD","JM GRUPO",6615.3,{"$f":"B233&G233","v":"C1-117JM GRUPO"},{"$f":"C233&D233&E233&F233","v":"UNO (1)N/AN/AMANGUERA TERMOPLASTICA EXT.AGENTE L. 3.7/9.0 V/PR / UNIDAD"},{"$f":"H233","v":6615.3},{"$f":"C233&D233&E233&F233&G233","v":"UNO (1)N/AN/AMANGUERA TERMOPLASTICA EXT.AGENTE L. 3.7/9.0 V/PR / UNIDADJM GRUPO"},{"$f":"B233&H233","v":"C1-1176615.3"},{"$f":"G233","v":"JM GRUPO"},"Und",{"$f":"C233&D233&E233&F233&G233","v":"UNO (1)N/AN/AMANGUERA TERMOPLASTICA EXT.AGENTE L. 3.7/9.0 V/PR / UNIDADJM GRUPO"},{"$f":"H233","v":6615.3}]
[{"$f":"\"ate01-\"&B234&\" \"&C234&\" \"&D234&\" \"&E234","v":"ate01-C1-118 UNO (1) N/A N/A"},"C1-118","UNO (1)","N/A","N/A","MANGUERA CAUCHO LONA EXT 10/20 LBS 200 ACOPLE 14MM / UNIDAD","IMPLESEG S.A.S.",32434.3,{"$f":"B234&G234","v":"C1-118IMPLESEG S.A.S."},{"$f":"C234&D234&E234&F234","v":"UNO (1)N/AN/AMANGUERA CAUCHO LONA EXT 10/20 LBS 200 ACOPLE 14MM / UNIDAD"},{"$f":"H234","v":32434.3},{"$f":"C234&D234&E234&F234&G234","v":"UNO (1)N/AN/AMANGUERA CAUCHO LONA EXT 10/20 LBS 200 ACOPLE 14MM / UNIDADIMPLESEG S.A.S."},{"$f":"B234&H234","v":"C1-11832434.3"},{"$f":"G234","v":"IMPLESEG S.A.S."},"Und",{"$f":"C234&D234&E234&F234&G234","v":"UNO (1)N/AN/AMANGUERA CAUCHO LONA EXT 10/20 LBS 200 ACOPLE 14MM / UNIDADIMPLESEG S.A.S."},{"$f":"H234","v":32434.3}]
[{"$f":"\"ate01-\"&B235&\" \"&C235&\" \"&D235&\" \"&E235","v":"ate01-C1-118 UNO (1) N/A N/A"},"C1-118","UNO (1)","N/A","N/A","MANGUERA CAUCHO LONA EXT 10/20 LBS 200 ACOPLE 14MM / UNIDAD","JM GRUPO",6615.3,{"$f":"B235&G235","v":"C1-118JM GRUPO"},{"$f":"C235&D235&E235&F235","v":"UNO (1)N/AN/AMANGUERA CAUCHO LONA EXT 10/20 LBS 200 ACOPLE 14MM / UNIDAD"},{"$f":"H235","v":6615.3},{"$f":"C235&D235&E235&F235&G235","v":"UNO (1)N/AN/AMANGUERA CAUCHO LONA EXT 10/20 LBS 200 ACOPLE 14MM / UNIDADJM GRUPO"},{"$f":"B235&H235","v":"C1-1186615.3"},{"$f":"G235","v":"JM GRUPO"},"Und",{"$f":"C235&D235&E235&F235&G235","v":"UNO (1)N/AN/AMANGUERA CAUCHO LONA EXT 10/20 LBS 200 ACOPLE 14MM / UNIDADJM GRUPO"},{"$f":"H235","v":6615.3}]
[{"$f":"\"ate01-\"&B236&\" \"&C236&\" \"&D236&\" \"&E236","v":"ate01-C1-119 UNO (1) N/A N/A"},"C1-119","UNO (1)","N/A","N/A","EXTINTOR POLVO QUÍMICO SECO CLASE ABC TIPO ROBOT DE 75 LIBRAS / UNIDAD","IMPLESEG S.A.S.",934107.96,{"$f":"B236&G236","v":"C1-119IMPLESEG S.A.S."},{"$f":"C236&D236&E236&F236","v":"UNO (1)N/AN/AEXTINTOR POLVO QUÍMICO SECO CLASE ABC TIPO ROBOT DE 75 LIBRAS / UNIDAD"},{"$f":"H236","v":934107.96},{"$f":"C236&D236&E236&F236&G236","v":"UNO (1)N/AN/AEXTINTOR POLVO QUÍMICO SECO CLASE ABC TIPO ROBOT DE 75 LIBRAS / UNIDADIMPLESEG S.A.S."},{"$f":"B236&H236","v":"C1-119934107.96"},{"$f":"G236","v":"IMPLESEG S.A.S."},"Und",{"$f":"C236&D236&E236&F236&G236","v":"UNO (1)N/AN/AEXTINTOR POLVO QUÍMICO SECO CLASE ABC TIPO ROBOT DE 75 LIBRAS / UNIDADIMPLESEG S.A.S."},{"$f":"H236","v":934107.96}]
[{"$f":"\"ate01-\"&B237&\" \"&C237&\" \"&D237&\" \"&E237","v":"ate01-C1-119 UNO (1) N/A N/A"},"C1-119","UNO (1)","N/A","N/A","EXTINTOR POLVO QUÍMICO SECO CLASE ABC TIPO ROBOT DE 75 LIBRAS / UNIDAD","JM GRUPO",1018437.15,{"$f":"B237&G237","v":"C1-119JM GRUPO"},{"$f":"C237&D237&E237&F237","v":"UNO (1)N/AN/AEXTINTOR POLVO QUÍMICO SECO CLASE ABC TIPO ROBOT DE 75 LIBRAS / UNIDAD"},{"$f":"H237","v":1018437.15},{"$f":"C237&D237&E237&F237&G237","v":"UNO (1)N/AN/AEXTINTOR POLVO QUÍMICO SECO CLASE ABC TIPO ROBOT DE 75 LIBRAS / UNIDADJM GRUPO"},{"$f":"B237&H237","v":"C1-1191018437.15"},{"$f":"G237","v":"JM GRUPO"},"Und",{"$f":"C237&D237&E237&F237&G237","v":"UNO (1)N/AN/AEXTINTOR POLVO QUÍMICO SECO CLASE ABC TIPO ROBOT DE 75 LIBRAS / UNIDADJM GRUPO"},{"$f":"H237","v":1018437.15}]
[{"$f":"\"ate01-\"&B238&\" \"&C238&\" \"&D238&\" \"&E238","v":"ate01-C1-120 UNO (1) N/A N/A"},"C1-120","UNO (1)","N/A","N/A","EXTINTOR POLVO QUÍMICO SECO CLASE ABC TIPO ROBOT DE 150 LIBRAS / UNIDAD","IMPLESEG S.A.S.",1504951.71,{"$f":"B238&G238","v":"C1-120IMPLESEG S.A.S."},{"$f":"C238&D238&E238&F238","v":"UNO (1)N/AN/AEXTINTOR POLVO QUÍMICO SECO CLASE ABC TIPO ROBOT DE 150 LIBRAS / UNIDAD"},{"$f":"H238","v":1504951.71},{"$f":"C238&D238&E238&F238&G238","v":"UNO (1)N/AN/AEXTINTOR POLVO QUÍMICO SECO CLASE ABC TIPO ROBOT DE 150 LIBRAS / UNIDADIMPLESEG S.A.S."},{"$f":"B238&H238","v":"C1-1201504951.71"},{"$f":"G238","v":"IMPLESEG S.A.S."},"Und",{"$f":"C238&D238&E238&F238&G238","v":"UNO (1)N/AN/AEXTINTOR POLVO QUÍMICO SECO CLASE ABC TIPO ROBOT DE 150 LIBRAS / UNIDADIMPLESEG S.A.S."},{"$f":"H238","v":1504951.71}]
[{"$f":"\"ate01-\"&B239&\" \"&C239&\" \"&D239&\" \"&E239","v":"ate01-C1-120 UNO (1) N/A N/A"},"C1-120","UNO (1)","N/A","N/A","EXTINTOR POLVO QUÍMICO SECO CLASE ABC TIPO ROBOT DE 150 LIBRAS / UNIDAD","JM GRUPO",1148174.3600000001,{"$f":"B239&G239","v":"C1-120JM GRUPO"},{"$f":"C239&D239&E239&F239","v":"UNO (1)N/AN/AEXTINTOR POLVO QUÍMICO SECO CLASE ABC TIPO ROBOT DE 150 LIBRAS / UNIDAD"},{"$f":"H239","v":1148174.3600000001},{"$f":"C239&D239&E239&F239&G239","v":"UNO (1)N/AN/AEXTINTOR POLVO QUÍMICO SECO CLASE ABC TIPO ROBOT DE 150 LIBRAS / UNIDADJM GRUPO"},{"$f":"B239&H239","v":"C1-1201148174.36"},{"$f":"G239","v":"JM GRUPO"},"Und",{"$f":"C239&D239&E239&F239&G239","v":"UNO (1)N/AN/AEXTINTOR POLVO QUÍMICO SECO CLASE ABC TIPO ROBOT DE 150 LIBRAS / UNIDADJM GRUPO"},{"$f":"H239","v":1148174.3600000001}]
[{"$f":"\"ate01-\"&B240&\" \"&C240&\" \"&D240&\" \"&E240","v":"ate01-C1-121 UNO (1) N/A N/A"},"C1-121","UNO (1)","N/A","N/A","RECARGA EXTINTOR POLVO QUÍMICO SECO CLASE ABC TIPO ROBOT DE 75 LIBRAS / UNIDAD","IMPLESEG S.A.S.",116763.49,{"$f":"B240&G240","v":"C1-121IMPLESEG S.A.S."},{"$f":"C240&D240&E240&F240","v":"UNO (1)N/AN/ARECARGA EXTINTOR POLVO QUÍMICO SECO CLASE ABC TIPO ROBOT DE 75 LIBRAS / UNIDAD"},{"$f":"H240","v":116763.49},{"$f":"C240&D240&E240&F240&G240","v":"UNO (1)N/AN/ARECARGA EXTINTOR POLVO QUÍMICO SECO CLASE ABC TIPO ROBOT DE 75 LIBRAS / UNIDADIMPLESEG S.A.S."},{"$f":"B240&H240","v":"C1-121116763.49"},{"$f":"G240","v":"IMPLESEG S.A.S."},"Und",{"$f":"C240&D240&E240&F240&G240","v":"UNO (1)N/AN/ARECARGA EXTINTOR POLVO QUÍMICO SECO CLASE ABC TIPO ROBOT DE 75 LIBRAS / UNIDADIMPLESEG S.A.S."},{"$f":"H240","v":116763.49}]
[{"$f":"\"ate01-\"&B241&\" \"&C241&\" \"&D241&\" \"&E241","v":"ate01-C1-121 UNO (1) N/A N/A"},"C1-121","UNO (1)","N/A","N/A","RECARGA EXTINTOR POLVO QUÍMICO SECO CLASE ABC TIPO ROBOT DE 75 LIBRAS / UNIDAD","JM GRUPO",291908.74,{"$f":"B241&G241","v":"C1-121JM GRUPO"},{"$f":"C241&D241&E241&F241","v":"UNO (1)N/AN/ARECARGA EXTINTOR POLVO QUÍMICO SECO CLASE ABC TIPO ROBOT DE 75 LIBRAS / UNIDAD"},{"$f":"H241","v":291908.74},{"$f":"C241&D241&E241&F241&G241","v":"UNO (1)N/AN/ARECARGA EXTINTOR POLVO QUÍMICO SECO CLASE ABC TIPO ROBOT DE 75 LIBRAS / UNIDADJM GRUPO"},{"$f":"B241&H241","v":"C1-121291908.74"},{"$f":"G241","v":"JM GRUPO"},"Und",{"$f":"C241&D241&E241&F241&G241","v":"UNO (1)N/AN/ARECARGA EXTINTOR POLVO QUÍMICO SECO CLASE ABC TIPO ROBOT DE 75 LIBRAS / UNIDADJM GRUPO"},{"$f":"H241","v":291908.74}]
[{"$f":"\"ate01-\"&B242&\" \"&C242&\" \"&D242&\" \"&E242","v":"ate01-C1-122 UNO (1) N/A N/A"},"C1-122","UNO (1)","N/A","N/A","RECARGA EXTINTOR POLVO QUÍMICO SECO CLASE ABC TIPO ROBOT DE 150 LIBRAS / UNIDAD","IMPLESEG S.A.S.",285421.88,{"$f":"B242&G242","v":"C1-122IMPLESEG S.A.S."},{"$f":"C242&D242&E242&F242","v":"UNO (1)N/AN/ARECARGA EXTINTOR POLVO QUÍMICO SECO CLASE ABC TIPO ROBOT DE 150 LIBRAS / UNIDAD"},{"$f":"H242","v":285421.88},{"$f":"C242&D242&E242&F242&G242","v":"UNO (1)N/AN/ARECARGA EXTINTOR POLVO QUÍMICO SECO CLASE ABC TIPO ROBOT DE 150 LIBRAS / UNIDADIMPLESEG S.A.S."},{"$f":"B242&H242","v":"C1-122285421.88"},{"$f":"G242","v":"IMPLESEG S.A.S."},"Und",{"$f":"C242&D242&E242&F242&G242","v":"UNO (1)N/AN/ARECARGA EXTINTOR POLVO QUÍMICO SECO CLASE ABC TIPO ROBOT DE 150 LIBRAS / UNIDADIMPLESEG S.A.S."},{"$f":"H242","v":285421.88}]
[{"$f":"\"ate01-\"&B243&\" \"&C243&\" \"&D243&\" \"&E243","v":"ate01-C1-122 UNO (1) N/A N/A"},"C1-122","UNO (1)","N/A","N/A","RECARGA EXTINTOR POLVO QUÍMICO SECO CLASE ABC TIPO ROBOT DE 150 LIBRAS / UNIDAD","JM GRUPO",330829.90000000002,{"$f":"B243&G243","v":"C1-122JM GRUPO"},{"$f":"C243&D243&E243&F243","v":"UNO (1)N/AN/ARECARGA EXTINTOR POLVO QUÍMICO SECO CLASE ABC TIPO ROBOT DE 150 LIBRAS / UNIDAD"},{"$f":"H243","v":330829.90000000002},{"$f":"C243&D243&E243&F243&G243","v":"UNO (1)N/AN/ARECARGA EXTINTOR POLVO QUÍMICO SECO CLASE ABC TIPO ROBOT DE 150 LIBRAS / UNIDADJM GRUPO"},{"$f":"B243&H243","v":"C1-122330829.9"},{"$f":"G243","v":"JM GRUPO"},"Und",{"$f":"C243&D243&E243&F243&G243","v":"UNO (1)N/AN/ARECARGA EXTINTOR POLVO QUÍMICO SECO CLASE ABC TIPO ROBOT DE 150 LIBRAS / UNIDADJM GRUPO"},{"$f":"H243","v":330829.90000000002}]
[{"$f":"\"ate01-\"&B244&\" \"&C244&\" \"&D244&\" \"&E244","v":"ate01-C1-123 UNO (1) N/A N/A"},"C1-123","UNO (1)","N/A","N/A","EXTINTOR POLVO QUÍMICO SECO CLASE BC TIPO ROBOT DE 75 LIBRAS / UNIDAD","IMPLESEG S.A.S.",934107.96,{"$f":"B244&G244","v":"C1-123IMPLESEG S.A.S."},{"$f":"C244&D244&E244&F244","v":"UNO (1)N/AN/AEXTINTOR POLVO QUÍMICO SECO CLASE BC TIPO ROBOT DE 75 LIBRAS / UNIDAD"},{"$f":"H244","v":934107.96},{"$f":"C244&D244&E244&F244&G244","v":"UNO (1)N/AN/AEXTINTOR POLVO QUÍMICO SECO CLASE BC TIPO ROBOT DE 75 LIBRAS / UNIDADIMPLESEG S.A.S."},{"$f":"B244&H244","v":"C1-123934107.96"},{"$f":"G244","v":"IMPLESEG S.A.S."},"Und",{"$f":"C244&D244&E244&F244&G244","v":"UNO (1)N/AN/AEXTINTOR POLVO QUÍMICO SECO CLASE BC TIPO ROBOT DE 75 LIBRAS / UNIDADIMPLESEG S.A.S."},{"$f":"H244","v":934107.96}]
[{"$f":"\"ate01-\"&B245&\" \"&C245&\" \"&D245&\" \"&E245","v":"ate01-C1-123 UNO (1) N/A N/A"},"C1-123","UNO (1)","N/A","N/A","EXTINTOR POLVO QUÍMICO SECO CLASE BC TIPO ROBOT DE 75 LIBRAS / UNIDAD","JM GRUPO",1018437.15,{"$f":"B245&G245","v":"C1-123JM GRUPO"},{"$f":"C245&D245&E245&F245","v":"UNO (1)N/AN/AEXTINTOR POLVO QUÍMICO SECO CLASE BC TIPO ROBOT DE 75 LIBRAS / UNIDAD"},{"$f":"H245","v":1018437.15},{"$f":"C245&D245&E245&F245&G245","v":"UNO (1)N/AN/AEXTINTOR POLVO QUÍMICO SECO CLASE BC TIPO ROBOT DE 75 LIBRAS / UNIDADJM GRUPO"},{"$f":"B245&H245","v":"C1-1231018437.15"},{"$f":"G245","v":"JM GRUPO"},"Und",{"$f":"C245&D245&E245&F245&G245","v":"UNO (1)N/AN/AEXTINTOR POLVO QUÍMICO SECO CLASE BC TIPO ROBOT DE 75 LIBRAS / UNIDADJM GRUPO"},{"$f":"H245","v":1018437.15}]
[{"$f":"\"ate01-\"&B246&\" \"&C246&\" \"&D246&\" \"&E246","v":"ate01-C1-124 UNO (1) N/A N/A"},"C1-124","UNO (1)","N/A","N/A","EXTINTOR POLVO QUÍMICO SECO CLASE BC TIPO ROBOT DE 150 LIBRAS / UNIDAD","IMPLESEG S.A.S.",1362240.77,{"$f":"B246&G246","v":"C1-124IMPLESEG S.A.S."},{"$f":"C246&D246&E246&F246","v":"UNO (1)N/AN/AEXTINTOR POLVO QUÍMICO SECO CLASE BC TIPO ROBOT DE 150 LIBRAS / UNIDAD"},{"$f":"H246","v":1362240.77},{"$f":"C246&D246&E246&F246&G246","v":"UNO (1)N/AN/AEXTINTOR POLVO QUÍMICO SECO CLASE BC TIPO ROBOT DE 150 LIBRAS / UNIDADIMPLESEG S.A.S."},{"$f":"B246&H246","v":"C1-1241362240.77"},{"$f":"G246","v":"IMPLESEG S.A.S."},"Und",{"$f":"C246&D246&E246&F246&G246","v":"UNO (1)N/AN/AEXTINTOR POLVO QUÍMICO SECO CLASE BC TIPO ROBOT DE 150 LIBRAS / UNIDADIMPLESEG S.A.S."},{"$f":"H246","v":1362240.77}]
[{"$f":"\"ate01-\"&B247&\" \"&C247&\" \"&D247&\" \"&E247","v":"ate01-C1-124 UNO (1) N/A N/A"},"C1-124","UNO (1)","N/A","N/A","EXTINTOR POLVO QUÍMICO SECO CLASE BC TIPO ROBOT DE 150 LIBRAS / UNIDAD","JM GRUPO",1148174.3600000001,{"$f":"B247&G247","v":"C1-124JM GRUPO"},{"$f":"C247&D247&E247&F247","v":"UNO (1)N/AN/AEXTINTOR POLVO QUÍMICO SECO CLASE BC TIPO ROBOT DE 150 LIBRAS / UNIDAD"},{"$f":"H247","v":1148174.3600000001},{"$f":"C247&D247&E247&F247&G247","v":"UNO (1)N/AN/AEXTINTOR POLVO QUÍMICO SECO CLASE BC TIPO ROBOT DE 150 LIBRAS / UNIDADJM GRUPO"},{"$f":"B247&H247","v":"C1-1241148174.36"},{"$f":"G247","v":"JM GRUPO"},"Und",{"$f":"C247&D247&E247&F247&G247","v":"UNO (1)N/AN/AEXTINTOR POLVO QUÍMICO SECO CLASE BC TIPO ROBOT DE 150 LIBRAS / UNIDADJM GRUPO"},{"$f":"H247","v":1148174.3600000001}]
[{"$f":"\"ate01-\"&B248&\" \"&C248&\" \"&D248&\" \"&E248","v":"ate01-C1-125 UNO (1) N/A N/A"},"C1-125","UNO (1)","N/A","N/A","RECARGA EXTINTOR POLVO QUÍMICO SECO CLASE BC TIPO ROBOT DE 75 LIBRAS / UNIDAD","IMPLESEG S.A.S.",116763.49,{"$f":"B248&G248","v":"C1-125IMPLESEG S.A.S."},{"$f":"C248&D248&E248&F248","v":"UNO (1)N/AN/ARECARGA EXTINTOR POLVO QUÍMICO SECO CLASE BC TIPO ROBOT DE 75 LIBRAS / UNIDAD"},{"$f":"H248","v":116763.49},{"$f":"C248&D248&E248&F248&G248","v":"UNO (1)N/AN/ARECARGA EXTINTOR POLVO QUÍMICO SECO CLASE BC TIPO ROBOT DE 75 LIBRAS / UNIDADIMPLESEG S.A.S."},{"$f":"B248&H248","v":"C1-125116763.49"},{"$f":"G248","v":"IMPLESEG S.A.S."},"Und",{"$f":"C248&D248&E248&F248&G248","v":"UNO (1)N/AN/ARECARGA EXTINTOR POLVO QUÍMICO SECO CLASE BC TIPO ROBOT DE 75 LIBRAS / UNIDADIMPLESEG S.A.S."},{"$f":"H248","v":116763.49}]
[{"$f":"\"ate01-\"&B249&\" \"&C249&\" \"&D249&\" \"&E249","v":"ate01-C1-125 UNO (1) N/A N/A"},"C1-125","UNO (1)","N/A","N/A","RECARGA EXTINTOR POLVO QUÍMICO SECO CLASE BC TIPO ROBOT DE 75 LIBRAS / UNIDAD","JM GRUPO",291908.74,{"$f":"B249&G249","v":"C1-125JM GRUPO"},{"$f":"C249&D249&E249&F249","v":"UNO (1)N/AN/ARECARGA EXTINTOR POLVO QUÍMICO SECO CLASE BC TIPO ROBOT DE 75 LIBRAS / UNIDAD"},{"$f":"H249","v":291908.74},{"$f":"C249&D249&E249&F249&G249","v":"UNO (1)N/AN/ARECARGA EXTINTOR POLVO QUÍMICO SECO CLASE BC TIPO ROBOT DE 75 LIBRAS / UNIDADJM GRUPO"},{"$f":"B249&H249","v":"C1-125291908.74"},{"$f":"G249","v":"JM GRUPO"},"Und",{"$f":"C249&D249&E249&F249&G249","v":"UNO (1)N/AN/ARECARGA EXTINTOR POLVO QUÍMICO SECO CLASE BC TIPO ROBOT DE 75 LIBRAS / UNIDADJM GRUPO"},{"$f":"H249","v":291908.74}]
[{"$f":"\"ate01-\"&B250&\" \"&C250&\" \"&D250&\" \"&E250","v":"ate01-C1-126 UNO (1) N/A N/A"},"C1-126","UNO (1)","N/A","N/A","RECARGA EXTINTOR POLVO QUÍMICO SECO CLASE BC TIPO ROBOT DE 150 LIBRAS / UNIDAD","IMPLESEG S.A.S.",285421.88,{"$f":"B250&G250","v":"C1-126IMPLESEG S.A.S."},{"$f":"C250&D250&E250&F250","v":"UNO (1)N/AN/ARECARGA EXTINTOR POLVO QUÍMICO SECO CLASE BC TIPO ROBOT DE 150 LIBRAS / UNIDAD"},{"$f":"H250","v":285421.88},{"$f":"C250&D250&E250&F250&G250","v":"UNO (1)N/AN/ARECARGA EXTINTOR POLVO QUÍMICO SECO CLASE BC TIPO ROBOT DE 150 LIBRAS / UNIDADIMPLESEG S.A.S."},{"$f":"B250&H250","v":"C1-126285421.88"},{"$f":"G250","v":"IMPLESEG S.A.S."},"Und",{"$f":"C250&D250&E250&F250&G250","v":"UNO (1)N/AN/ARECARGA EXTINTOR POLVO QUÍMICO SECO CLASE BC TIPO ROBOT DE 150 LIBRAS / UNIDADIMPLESEG S.A.S."},{"$f":"H250","v":285421.88}]
[{"$f":"\"ate01-\"&B251&\" \"&C251&\" \"&D251&\" \"&E251","v":"ate01-C1-126 UNO (1) N/A N/A"},"C1-126","UNO (1)","N/A","N/A","RECARGA EXTINTOR POLVO QUÍMICO SECO CLASE BC TIPO ROBOT DE 150 LIBRAS / UNIDAD","JM GRUPO",330829.90000000002,{"$f":"B251&G251","v":"C1-126JM GRUPO"},{"$f":"C251&D251&E251&F251","v":"UNO (1)N/AN/ARECARGA EXTINTOR POLVO QUÍMICO SECO CLASE BC TIPO ROBOT DE 150 LIBRAS / UNIDAD"},{"$f":"H251","v":330829.90000000002},{"$f":"C251&D251&E251&F251&G251","v":"UNO (1)N/AN/ARECARGA EXTINTOR POLVO QUÍMICO SECO CLASE BC TIPO ROBOT DE 150 LIBRAS / UNIDADJM GRUPO"},{"$f":"B251&H251","v":"C1-126330829.9"},{"$f":"G251","v":"JM GRUPO"},"Und",{"$f":"C251&D251&E251&F251&G251","v":"UNO (1)N/AN/ARECARGA EXTINTOR POLVO QUÍMICO SECO CLASE BC TIPO ROBOT DE 150 LIBRAS / UNIDADJM GRUPO"},{"$f":"H251","v":330829.90000000002}]
[{"$f":"\"ate01-\"&B252&\" \"&C252&\" \"&D252&\" \"&E252","v":"ate01-C1-127 UNO (1) N/A N/A"},"C1-127","UNO (1)","N/A","N/A","REPOSICIÓN DE MAGUERA EXTINTOR POLVO QUÍMICO SECO CLASE ABC Y CLASE BC TIPO ROBOT DE 75 Y 150 LIBRAS / UNIDAD","IMPLESEG S.A.S.",402185.37,{"$f":"B252&G252","v":"C1-127IMPLESEG S.A.S."},{"$f":"C252&D252&E252&F252","v":"UNO (1)N/AN/AREPOSICIÓN DE MAGUERA EXTINTOR POLVO QUÍMICO SECO CLASE ABC Y CLASE BC TIPO ROBOT DE 75 Y 150 LIBRAS / UNIDAD"},{"$f":"H252","v":402185.37},{"$f":"C252&D252&E252&F252&G252","v":"UNO (1)N/AN/AREPOSICIÓN DE MAGUERA EXTINTOR POLVO QUÍMICO SECO CLASE ABC Y CLASE BC TIPO ROBOT DE 75 Y 150 LIBRAS / UNIDADIMPLESEG S.A.S."},{"$f":"B252&H252","v":"C1-127402185.37"},{"$f":"G252","v":"IMPLESEG S.A.S."},"Und",{"$f":"C252&D252&E252&F252&G252","v":"UNO (1)N/AN/AREPOSICIÓN DE MAGUERA EXTINTOR POLVO QUÍMICO SECO CLASE ABC Y CLASE BC TIPO ROBOT DE 75 Y 150 LIBRAS / UNIDADIMPLESEG S.A.S."},{"$f":"H252","v":402185.37}]
[{"$f":"\"ate01-\"&B253&\" \"&C253&\" \"&D253&\" \"&E253","v":"ate01-C1-127 UNO (1) N/A N/A"},"C1-127","UNO (1)","N/A","N/A","REPOSICIÓN DE MAGUERA EXTINTOR POLVO QUÍMICO SECO CLASE ABC Y CLASE BC TIPO ROBOT DE 75 Y 150 LIBRAS / UNIDAD","JM GRUPO",257528.37,{"$f":"B253&G253","v":"C1-127JM GRUPO"},{"$f":"C253&D253&E253&F253","v":"UNO (1)N/AN/AREPOSICIÓN DE MAGUERA EXTINTOR POLVO QUÍMICO SECO CLASE ABC Y CLASE BC TIPO ROBOT DE 75 Y 150 LIBRAS / UNIDAD"},{"$f":"H253","v":257528.37},{"$f":"C253&D253&E253&F253&G253","v":"UNO (1)N/AN/AREPOSICIÓN DE MAGUERA EXTINTOR POLVO QUÍMICO SECO CLASE ABC Y CLASE BC TIPO ROBOT DE 75 Y 150 LIBRAS / UNIDADJM GRUPO"},{"$f":"B253&H253","v":"C1-127257528.37"},{"$f":"G253","v":"JM GRUPO"},"Und",{"$f":"C253&D253&E253&F253&G253","v":"UNO (1)N/AN/AREPOSICIÓN DE MAGUERA EXTINTOR POLVO QUÍMICO SECO CLASE ABC Y CLASE BC TIPO ROBOT DE 75 Y 150 LIBRAS / UNIDADJM GRUPO"},{"$f":"H253","v":257528.37}]
[{"$f":"\"ate01-\"&B254&\" \"&C254&\" \"&D254&\" \"&E254","v":"ate01-C1-128 UNO (1) N/A N/A"},"C1-128","UNO (1)","N/A","N/A","REPOSICIÓN DE VÁLVULA EXTINTOR POLVO QUÍMICO SECO CLASE ABC Y CLASE BC TIPO ROBOT DE 75 Y 150 LIBRAS / UNIDAD","IMPLESEG S.A.S.",402185.37,{"$f":"B254&G254","v":"C1-128IMPLESEG S.A.S."},{"$f":"C254&D254&E254&F254","v":"UNO (1)N/AN/AREPOSICIÓN DE VÁLVULA EXTINTOR POLVO QUÍMICO SECO CLASE ABC Y CLASE BC TIPO ROBOT DE 75 Y 150 LIBRAS / UNIDAD"},{"$f":"H254","v":402185.37},{"$f":"C254&D254&E254&F254&G254","v":"UNO (1)N/AN/AREPOSICIÓN DE VÁLVULA EXTINTOR POLVO QUÍMICO SECO CLASE ABC Y CLASE BC TIPO ROBOT DE 75 Y 150 LIBRAS / UNIDADIMPLESEG S.A.S."},{"$f":"B254&H254","v":"C1-128402185.37"},{"$f":"G254","v":"IMPLESEG S.A.S."},"Und",{"$f":"C254&D254&E254&F254&G254","v":"UNO (1)N/AN/AREPOSICIÓN DE VÁLVULA EXTINTOR POLVO QUÍMICO SECO CLASE ABC Y CLASE BC TIPO ROBOT DE 75 Y 150 LIBRAS / UNIDADIMPLESEG S.A.S."},{"$f":"H254","v":402185.37}]
[{"$f":"\"ate01-\"&B255&\" \"&C255&\" \"&D255&\" \"&E255","v":"ate01-C1-128 UNO (1) N/A N/A"},"C1-128","UNO (1)","N/A","N/A","REPOSICIÓN DE VÁLVULA EXTINTOR POLVO QUÍMICO SECO CLASE ABC Y CLASE BC TIPO ROBOT DE 75 Y 150 LIBRAS / UNIDAD","JM GRUPO",257528.37,{"$f":"B255&G255","v":"C1-128JM GRUPO"},{"$f":"C255&D255&E255&F255","v":"UNO (1)N/AN/AREPOSICIÓN DE VÁLVULA EXTINTOR POLVO QUÍMICO SECO CLASE ABC Y CLASE BC TIPO ROBOT DE 75 Y 150 LIBRAS / UNIDAD"},{"$f":"H255","v":257528.37},{"$f":"C255&D255&E255&F255&G255","v":"UNO (1)N/AN/AREPOSICIÓN DE VÁLVULA EXTINTOR POLVO QUÍMICO SECO CLASE ABC Y CLASE BC TIPO ROBOT DE 75 Y 150 LIBRAS / UNIDADJM GRUPO"},{"$f":"B255&H255","v":"C1-128257528.37"},{"$f":"G255","v":"JM GRUPO"},"Und",{"$f":"C255&D255&E255&F255&G255","v":"UNO (1)N/AN/AREPOSICIÓN DE VÁLVULA EXTINTOR POLVO QUÍMICO SECO CLASE ABC Y CLASE BC TIPO ROBOT DE 75 Y 150 LIBRAS / UNIDADJM GRUPO"},{"$f":"H255","v":257528.37}]
[{"$f":"\"ate01-\"&B256&\" \"&C256&\" \"&D256&\" \"&E256","v":"ate01-C1-129 UNO (1) N/A N/A"},"C1-129","UNO (1)","N/A","N/A","PRUEBA HIDROSTATICA EXTINTOR POLVO QUÍMICO SECO CLASE ABC Y CLASE BC TIPO ROBOT DE 75 Y 150 LIBRAS / UNIDAD","IMPLESEG S.A.S.",116763.49,{"$f":"B256&G256","v":"C1-129IMPLESEG S.A.S."},{"$f":"C256&D256&E256&F256","v":"UNO (1)N/AN/APRUEBA HIDROSTATICA EXTINTOR POLVO QUÍMICO SECO CLASE ABC Y CLASE BC TIPO ROBOT DE 75 Y 150 LIBRAS / UNIDAD"},{"$f":"H256","v":116763.49},{"$f":"C256&D256&E256&F256&G256","v":"UNO (1)N/AN/APRUEBA HIDROSTATICA EXTINTOR POLVO QUÍMICO SECO CLASE ABC Y CLASE BC TIPO ROBOT DE 75 Y 150 LIBRAS / UNIDADIMPLESEG S.A.S."},{"$f":"B256&H256","v":"C1-129116763.49"},{"$f":"G256","v":"IMPLESEG S.A.S."},"Und",{"$f":"C256&D256&E256&F256&G256","v":"UNO (1)N/AN/APRUEBA HIDROSTATICA EXTINTOR POLVO QUÍMICO SECO CLASE ABC Y CLASE BC TIPO ROBOT DE 75 Y 150 LIBRAS / UNIDADIMPLESEG S.A.S."},{"$f":"H256","v":116763.49}]
[{"$f":"\"ate01-\"&B257&\" \"&C257&\" \"&D257&\" \"&E257","v":"ate01-C1-129 UNO (1) N/A N/A"},"C1-129","UNO (1)","N/A","N/A","PRUEBA HIDROSTATICA EXTINTOR POLVO QUÍMICO SECO CLASE ABC Y CLASE BC TIPO ROBOT DE 75 Y 150 LIBRAS / UNIDAD","JM GRUPO",257528.37,{"$f":"B257&G257","v":"C1-129JM GRUPO"},{"$f":"C257&D257&E257&F257","v":"UNO (1)N/AN/APRUEBA HIDROSTATICA EXTINTOR POLVO QUÍMICO SECO CLASE ABC Y CLASE BC TIPO ROBOT DE 75 Y 150 LIBRAS / UNIDAD"},{"$f":"H257","v":257528.37},{"$f":"C257&D257&E257&F257&G257","v":"UNO (1)N/AN/APRUEBA HIDROSTATICA EXTINTOR POLVO QUÍMICO SECO CLASE ABC Y CLASE BC TIPO ROBOT DE 75 Y 150 LIBRAS / UNIDADJM GRUPO"},{"$f":"B257&H257","v":"C1-129257528.37"},{"$f":"G257","v":"JM GRUPO"},"Und",{"$f":"C257&D257&E257&F257&G257","v":"UNO (1)N/AN/APRUEBA HIDROSTATICA EXTINTOR POLVO QUÍMICO SECO CLASE ABC Y CLASE BC TIPO ROBOT DE 75 Y 150 LIBRAS / UNIDADJM GRUPO"},{"$f":"H257","v":257528.37}]
[{"$f":"\"ate01-\"&B258&\" \"&C258&\" \"&D258&\" \"&E258","v":"ate01-C1-130 UNO (1) N/A N/A"},"C1-130","UNO (1)","N/A","N/A","MANGUERA DOBLE CHAQUETA DE 2 1/2in POR 100 PIES / UNIDAD","IMPLESEG S.A.S.",1686583.81,{"$f":"B258&G258","v":"C1-130IMPLESEG S.A.S."},{"$f":"C258&D258&E258&F258","v":"UNO (1)N/AN/AMANGUERA DOBLE CHAQUETA DE 2 1/2in POR 100 PIES / UNIDAD"},{"$f":"H258","v":1686583.81},{"$f":"C258&D258&E258&F258&G258","v":"UNO (1)N/AN/AMANGUERA DOBLE CHAQUETA DE 2 1/2in POR 100 PIES / UNIDADIMPLESEG S.A.S."},{"$f":"B258&H258","v":"C1-1301686583.81"},{"$f":"G258","v":"IMPLESEG S.A.S."},"Und",{"$f":"C258&D258&E258&F258&G258","v":"UNO (1)N/AN/AMANGUERA DOBLE CHAQUETA DE 2 1/2in POR 100 PIES / UNIDADIMPLESEG S.A.S."},{"$f":"H258","v":1686583.81}]
[{"$f":"\"ate01-\"&B259&\" \"&C259&\" \"&D259&\" \"&E259","v":"ate01-C1-130 UNO (1) N/A N/A"},"C1-130","UNO (1)","N/A","N/A","MANGUERA DOBLE CHAQUETA DE 2 1/2in POR 100 PIES / UNIDAD","JM GRUPO",257528.37,{"$f":"B259&G259","v":"C1-130JM GRUPO"},{"$f":"C259&D259&E259&F259","v":"UNO (1)N/AN/AMANGUERA DOBLE CHAQUETA DE 2 1/2in POR 100 PIES / UNIDAD"},{"$f":"H259","v":257528.37},{"$f":"C259&D259&E259&F259&G259","v":"UNO (1)N/AN/AMANGUERA DOBLE CHAQUETA DE 2 1/2in POR 100 PIES / UNIDADJM GRUPO"},{"$f":"B259&H259","v":"C1-130257528.37"},{"$f":"G259","v":"JM GRUPO"},"Und",{"$f":"C259&D259&E259&F259&G259","v":"UNO (1)N/AN/AMANGUERA DOBLE CHAQUETA DE 2 1/2in POR 100 PIES / UNIDADJM GRUPO"},{"$f":"H259","v":257528.37}]
[{"$f":"\"ate01-\"&B260&\" \"&C260&\" \"&D260&\" \"&E260","v":"ate01-C1-131 UNO (1) N/A N/A"},"C1-131","UNO (1)","N/A","N/A","REPOSICIÓN DE MAGUERA EXTINTOR DE CO2 DE 5 A 30 LIBRAS / UNIDAD","IMPLESEG S.A.S.",97302.91,{"$f":"B260&G260","v":"C1-131IMPLESEG S.A.S."},{"$f":"C260&D260&E260&F260","v":"UNO (1)N/AN/AREPOSICIÓN DE MAGUERA EXTINTOR DE CO2 DE 5 A 30 LIBRAS / UNIDAD"},{"$f":"H260","v":97302.91},{"$f":"C260&D260&E260&F260&G260","v":"UNO (1)N/AN/AREPOSICIÓN DE MAGUERA EXTINTOR DE CO2 DE 5 A 30 LIBRAS / UNIDADIMPLESEG S.A.S."},{"$f":"B260&H260","v":"C1-13197302.91"},{"$f":"G260","v":"IMPLESEG S.A.S."},"Und",{"$f":"C260&D260&E260&F260&G260","v":"UNO (1)N/AN/AREPOSICIÓN DE MAGUERA EXTINTOR DE CO2 DE 5 A 30 LIBRAS / UNIDADIMPLESEG S.A.S."},{"$f":"H260","v":97302.91}]
[{"$f":"\"ate01-\"&B261&\" \"&C261&\" \"&D261&\" \"&E261","v":"ate01-C1-131 UNO (1) N/A N/A"},"C1-131","UNO (1)","N/A","N/A","REPOSICIÓN DE MAGUERA EXTINTOR DE CO2 DE 5 A 30 LIBRAS / UNIDAD","JM GRUPO",108979.26,{"$f":"B261&G261","v":"C1-131JM GRUPO"},{"$f":"C261&D261&E261&F261","v":"UNO (1)N/AN/AREPOSICIÓN DE MAGUERA EXTINTOR DE CO2 DE 5 A 30 LIBRAS / UNIDAD"},{"$f":"H261","v":108979.26},{"$f":"C261&D261&E261&F261&G261","v":"UNO (1)N/AN/AREPOSICIÓN DE MAGUERA EXTINTOR DE CO2 DE 5 A 30 LIBRAS / UNIDADJM GRUPO"},{"$f":"B261&H261","v":"C1-131108979.26"},{"$f":"G261","v":"JM GRUPO"},"Und",{"$f":"C261&D261&E261&F261&G261","v":"UNO (1)N/AN/AREPOSICIÓN DE MAGUERA EXTINTOR DE CO2 DE 5 A 30 LIBRAS / UNIDADJM GRUPO"},{"$f":"H261","v":108979.26}]
[{"$f":"\"ate01-\"&B262&\" \"&C262&\" \"&D262&\" \"&E262","v":"ate01-C1-132 UNO (1) N/A N/A"},"C1-132","UNO (1)","N/A","N/A","REPOSICIÓN DE MAGUERA EXTINTOR DE CO2 DE 31 A 150 LIBRAS / UNIDAD","IMPLESEG S.A.S.",454080.26,{"$f":"B262&G262","v":"C1-132IMPLESEG S.A.S."},{"$f":"C262&D262&E262&F262","v":"UNO (1)N/AN/AREPOSICIÓN DE MAGUERA EXTINTOR DE CO2 DE 31 A 150 LIBRAS / UNIDAD"},{"$f":"H262","v":454080.26},{"$f":"C262&D262&E262&F262&G262","v":"UNO (1)N/AN/AREPOSICIÓN DE MAGUERA EXTINTOR DE CO2 DE 31 A 150 LIBRAS / UNIDADIMPLESEG S.A.S."},{"$f":"B262&H262","v":"C1-132454080.26"},{"$f":"G262","v":"IMPLESEG S.A.S."},"Und",{"$f":"C262&D262&E262&F262&G262","v":"UNO (1)N/AN/AREPOSICIÓN DE MAGUERA EXTINTOR DE CO2 DE 31 A 150 LIBRAS / UNIDADIMPLESEG S.A.S."},{"$f":"H262","v":454080.26}]
[{"$f":"\"ate01-\"&B263&\" \"&C263&\" \"&D263&\" \"&E263","v":"ate01-C1-132 UNO (1) N/A N/A"},"C1-132","UNO (1)","N/A","N/A","REPOSICIÓN DE MAGUERA EXTINTOR DE CO2 DE 31 A 150 LIBRAS / UNIDAD","JM GRUPO",240013.85,{"$f":"B263&G263","v":"C1-132JM GRUPO"},{"$f":"C263&D263&E263&F263","v":"UNO (1)N/AN/AREPOSICIÓN DE MAGUERA EXTINTOR DE CO2 DE 31 A 150 LIBRAS / UNIDAD"},{"$f":"H263","v":240013.85},{"$f":"C263&D263&E263&F263&G263","v":"UNO (1)N/AN/AREPOSICIÓN DE MAGUERA EXTINTOR DE CO2 DE 31 A 150 LIBRAS / UNIDADJM GRUPO"},{"$f":"B263&H263","v":"C1-132240013.85"},{"$f":"G263","v":"JM GRUPO"},"Und",{"$f":"C263&D263&E263&F263&G263","v":"UNO (1)N/AN/AREPOSICIÓN DE MAGUERA EXTINTOR DE CO2 DE 31 A 150 LIBRAS / UNIDADJM GRUPO"},{"$f":"H263","v":240013.85}]
[{"$f":"\"ate01-\"&B264&\" \"&C264&\" \"&D264&\" \"&E264","v":"ate01-C1-133 UNO (1) N/A N/A"},"C1-133","UNO (1)","N/A","N/A","REPOSICIÓN DE MAGUERA EXTINTOR BC DE 5 A 30 LIBRAS / UNIDAD","IMPLESEG S.A.S.",11676.35,{"$f":"B264&G264","v":"C1-133IMPLESEG S.A.S."},{"$f":"C264&D264&E264&F264","v":"UNO (1)N/AN/AREPOSICIÓN DE MAGUERA EXTINTOR BC DE 5 A 30 LIBRAS / UNIDAD"},{"$f":"H264","v":11676.35},{"$f":"C264&D264&E264&F264&G264","v":"UNO (1)N/AN/AREPOSICIÓN DE MAGUERA EXTINTOR BC DE 5 A 30 LIBRAS / UNIDADIMPLESEG S.A.S."},{"$f":"B264&H264","v":"C1-13311676.35"},{"$f":"G264","v":"IMPLESEG S.A.S."},"Und",{"$f":"C264&D264&E264&F264&G264","v":"UNO (1)N/AN/AREPOSICIÓN DE MAGUERA EXTINTOR BC DE 5 A 30 LIBRAS / UNIDADIMPLESEG S.A.S."},{"$f":"H264","v":11676.35}]
[{"$f":"\"ate01-\"&B265&\" \"&C265&\" \"&D265&\" \"&E265","v":"ate01-C1-133 UNO (1) N/A N/A"},"C1-133","UNO (1)","N/A","N/A","REPOSICIÓN DE MAGUERA EXTINTOR BC DE 5 A 30 LIBRAS / UNIDAD","JM GRUPO",108979.26,{"$f":"B265&G265","v":"C1-133JM GRUPO"},{"$f":"C265&D265&E265&F265","v":"UNO (1)N/AN/AREPOSICIÓN DE MAGUERA EXTINTOR BC DE 5 A 30 LIBRAS / UNIDAD"},{"$f":"H265","v":108979.26},{"$f":"C265&D265&E265&F265&G265","v":"UNO (1)N/AN/AREPOSICIÓN DE MAGUERA EXTINTOR BC DE 5 A 30 LIBRAS / UNIDADJM GRUPO"},{"$f":"B265&H265","v":"C1-133108979.26"},{"$f":"G265","v":"JM GRUPO"},"Und",{"$f":"C265&D265&E265&F265&G265","v":"UNO (1)N/AN/AREPOSICIÓN DE MAGUERA EXTINTOR BC DE 5 A 30 LIBRAS / UNIDADJM GRUPO"},{"$f":"H265","v":108979.26}]
[{"$f":"\"ate01-\"&B266&\" \"&C266&\" \"&D266&\" \"&E266","v":"ate01-C1-134 UNO (1) N/A N/A"},"C1-134","UNO (1)","N/A","N/A","REPOSICIÓN DE MAGUERA EXTINTOR BC DE 31 A 150 LIBRAS  / UNIDAD","IMPLESEG S.A.S.",324343.03999999998,{"$f":"B266&G266","v":"C1-134IMPLESEG S.A.S."},{"$f":"C266&D266&E266&F266","v":"UNO (1)N/AN/AREPOSICIÓN DE MAGUERA EXTINTOR BC DE 31 A 150 LIBRAS  / UNIDAD"},{"$f":"H266","v":324343.03999999998},{"$f":"C266&D266&E266&F266&G266","v":"UNO (1)N/AN/AREPOSICIÓN DE MAGUERA EXTINTOR BC DE 31 A 150 LIBRAS  / UNIDADIMPLESEG S.A.S."},{"$f":"B266&H266","v":"C1-134324343.04"},{"$f":"G266","v":"IMPLESEG S.A.S."},"Und",{"$f":"C266&D266&E266&F266&G266","v":"UNO (1)N/AN/AREPOSICIÓN DE MAGUERA EXTINTOR BC DE 31 A 150 LIBRAS  / UNIDADIMPLESEG S.A.S."},{"$f":"H266","v":324343.03999999998}]
[{"$f":"\"ate01-\"&B267&\" \"&C267&\" \"&D267&\" \"&E267","v":"ate01-C1-134 UNO (1) N/A N/A"},"C1-134","UNO (1)","N/A","N/A","REPOSICIÓN DE MAGUERA EXTINTOR BC DE 31 A 150 LIBRAS  / UNIDAD","JM GRUPO",240013.85,{"$f":"B267&G267","v":"C1-134JM GRUPO"},{"$f":"C267&D267&E267&F267","v":"UNO (1)N/AN/AREPOSICIÓN DE MAGUERA EXTINTOR BC DE 31 A 150 LIBRAS  / UNIDAD"},{"$f":"H267","v":240013.85},{"$f":"C267&D267&E267&F267&G267","v":"UNO (1)N/AN/AREPOSICIÓN DE MAGUERA EXTINTOR BC DE 31 A 150 LIBRAS  / UNIDADJM GRUPO"},{"$f":"B267&H267","v":"C1-134240013.85"},{"$f":"G267","v":"JM GRUPO"},"Und",{"$f":"C267&D267&E267&F267&G267","v":"UNO (1)N/AN/AREPOSICIÓN DE MAGUERA EXTINTOR BC DE 31 A 150 LIBRAS  / UNIDADJM GRUPO"},{"$f":"H267","v":240013.85}]
[{"$f":"\"ate01-\"&B268&\" \"&C268&\" \"&D268&\" \"&E268","v":"ate01-C1-135 UNO (1) N/A N/A"},"C1-135","UNO (1)","N/A","N/A","REPOSICIÓN DE VÁLVULA EXTINTOR DE CO2 DE 5 A 30 LIBRAS / UNIDAD","IMPLESEG S.A.S.",79918.13,{"$f":"B268&G268","v":"C1-135IMPLESEG S.A.S."},{"$f":"C268&D268&E268&F268","v":"UNO (1)N/AN/AREPOSICIÓN DE VÁLVULA EXTINTOR DE CO2 DE 5 A 30 LIBRAS / UNIDAD"},{"$f":"H268","v":79918.13},{"$f":"C268&D268&E268&F268&G268","v":"UNO (1)N/AN/AREPOSICIÓN DE VÁLVULA EXTINTOR DE CO2 DE 5 A 30 LIBRAS / UNIDADIMPLESEG S.A.S."},{"$f":"B268&H268","v":"C1-13579918.13"},{"$f":"G268","v":"IMPLESEG S.A.S."},"Und",{"$f":"C268&D268&E268&F268&G268","v":"UNO (1)N/AN/AREPOSICIÓN DE VÁLVULA EXTINTOR DE CO2 DE 5 A 30 LIBRAS / UNIDADIMPLESEG S.A.S."},{"$f":"H268","v":79918.13}]
[{"$f":"\"ate01-\"&B269&\" \"&C269&\" \"&D269&\" \"&E269","v":"ate01-C1-135 UNO (1) N/A N/A"},"C1-135","UNO (1)","N/A","N/A","REPOSICIÓN DE VÁLVULA EXTINTOR DE CO2 DE 5 A 30 LIBRAS / UNIDAD","JM GRUPO",37623.79,{"$f":"B269&G269","v":"C1-135JM GRUPO"},{"$f":"C269&D269&E269&F269","v":"UNO (1)N/AN/AREPOSICIÓN DE VÁLVULA EXTINTOR DE CO2 DE 5 A 30 LIBRAS / UNIDAD"},{"$f":"H269","v":37623.79},{"$f":"C269&D269&E269&F269&G269","v":"UNO (1)N/AN/AREPOSICIÓN DE VÁLVULA EXTINTOR DE CO2 DE 5 A 30 LIBRAS / UNIDADJM GRUPO"},{"$f":"B269&H269","v":"C1-13537623.79"},{"$f":"G269","v":"JM GRUPO"},"Und",{"$f":"C269&D269&E269&F269&G269","v":"UNO (1)N/AN/AREPOSICIÓN DE VÁLVULA EXTINTOR DE CO2 DE 5 A 30 LIBRAS / UNIDADJM GRUPO"},{"$f":"H269","v":37623.79}]
[{"$f":"\"ate01-\"&B270&\" \"&C270&\" \"&D270&\" \"&E270","v":"ate01-C1-136 UNO (1) N/A N/A"},"C1-136","UNO (1)","N/A","N/A","REPOSICIÓN DE VÁLVULA EXTINTOR BC DE 5 A 30 LIBRAS / UNIDAD","IMPLESEG S.A.S.",16217.15,{"$f":"B270&G270","v":"C1-136IMPLESEG S.A.S."},{"$f":"C270&D270&E270&F270","v":"UNO (1)N/AN/AREPOSICIÓN DE VÁLVULA EXTINTOR BC DE 5 A 30 LIBRAS / UNIDAD"},{"$f":"H270","v":16217.15},{"$f":"C270&D270&E270&F270&G270","v":"UNO (1)N/AN/AREPOSICIÓN DE VÁLVULA EXTINTOR BC DE 5 A 30 LIBRAS / UNIDADIMPLESEG S.A.S."},{"$f":"B270&H270","v":"C1-13616217.15"},{"$f":"G270","v":"IMPLESEG S.A.S."},"Und",{"$f":"C270&D270&E270&F270&G270","v":"UNO (1)N/AN/AREPOSICIÓN DE VÁLVULA EXTINTOR BC DE 5 A 30 LIBRAS / UNIDADIMPLESEG S.A.S."},{"$f":"H270","v":16217.15}]
[{"$f":"\"ate01-\"&B271&\" \"&C271&\" \"&D271&\" \"&E271","v":"ate01-C1-136 UNO (1) N/A N/A"},"C1-136","UNO (1)","N/A","N/A","REPOSICIÓN DE VÁLVULA EXTINTOR BC DE 5 A 30 LIBRAS / UNIDAD","JM GRUPO",37623.79,{"$f":"B271&G271","v":"C1-136JM GRUPO"},{"$f":"C271&D271&E271&F271","v":"UNO (1)N/AN/AREPOSICIÓN DE VÁLVULA EXTINTOR BC DE 5 A 30 LIBRAS / UNIDAD"},{"$f":"H271","v":37623.79},{"$f":"C271&D271&E271&F271&G271","v":"UNO (1)N/AN/AREPOSICIÓN DE VÁLVULA EXTINTOR BC DE 5 A 30 LIBRAS / UNIDADJM GRUPO"},{"$f":"B271&H271","v":"C1-13637623.79"},{"$f":"G271","v":"JM GRUPO"},"Und",{"$f":"C271&D271&E271&F271&G271","v":"UNO (1)N/AN/AREPOSICIÓN DE VÁLVULA EXTINTOR BC DE 5 A 30 LIBRAS / UNIDADJM GRUPO"},{"$f":"H271","v":37623.79}]
[{"$f":"\"ate01-\"&B272&\" \"&C272&\" \"&D272&\" \"&E272","v":"ate01-C1-137 UNO (1) N/A N/A"},"C1-137","UNO (1)","N/A","N/A","REPOSICIÓN DE VÁLVULA EXTINTOR DE CO2 DE 31 A 150 LIBRAS / UNIDAD","IMPLESEG S.A.S.",282956.87,{"$f":"B272&G272","v":"C1-137IMPLESEG S.A.S."},{"$f":"C272&D272&E272&F272","v":"UNO (1)N/AN/AREPOSICIÓN DE VÁLVULA EXTINTOR DE CO2 DE 31 A 150 LIBRAS / UNIDAD"},{"$f":"H272","v":282956.87},{"$f":"C272&D272&E272&F272&G272","v":"UNO (1)N/AN/AREPOSICIÓN DE VÁLVULA EXTINTOR DE CO2 DE 31 A 150 LIBRAS / UNIDADIMPLESEG S.A.S."},{"$f":"B272&H272","v":"C1-137282956.87"},{"$f":"G272","v":"IMPLESEG S.A.S."},"Und",{"$f":"C272&D272&E272&F272&G272","v":"UNO (1)N/AN/AREPOSICIÓN DE VÁLVULA EXTINTOR DE CO2 DE 31 A 150 LIBRAS / UNIDADIMPLESEG S.A.S."},{"$f":"H272","v":282956.87}]
[{"$f":"\"ate01-\"&B273&\" \"&C273&\" \"&D273&\" \"&E273","v":"ate01-C1-137 UNO (1) N/A N/A"},"C1-137","UNO (1)","N/A","N/A","REPOSICIÓN DE VÁLVULA EXTINTOR DE CO2 DE 31 A 150 LIBRAS / UNIDAD","JM GRUPO",37623.79,{"$f":"B273&G273","v":"C1-137JM GRUPO"},{"$f":"C273&D273&E273&F273","v":"UNO (1)N/AN/AREPOSICIÓN DE VÁLVULA EXTINTOR DE CO2 DE 31 A 150 LIBRAS / UNIDAD"},{"$f":"H273","v":37623.79},{"$f":"C273&D273&E273&F273&G273","v":"UNO (1)N/AN/AREPOSICIÓN DE VÁLVULA EXTINTOR DE CO2 DE 31 A 150 LIBRAS / UNIDADJM GRUPO"},{"$f":"B273&H273","v":"C1-13737623.79"},{"$f":"G273","v":"JM GRUPO"},"Und",{"$f":"C273&D273&E273&F273&G273","v":"UNO (1)N/AN/AREPOSICIÓN DE VÁLVULA EXTINTOR DE CO2 DE 31 A 150 LIBRAS / UNIDADJM GRUPO"},{"$f":"H273","v":37623.79}]
[{"$f":"\"ate01-\"&B274&\" \"&C274&\" \"&D274&\" \"&E274","v":"ate01-C1-138 UNO (1) N/A N/A"},"C1-138","UNO (1)","N/A","N/A","REPOSICIÓN DE VÁLVULA EXTINTOR BC DE 31 A 150 LIBRAS / UNIDAD","IMPLESEG S.A.S.",233526.99,{"$f":"B274&G274","v":"C1-138IMPLESEG S.A.S."},{"$f":"C274&D274&E274&F274","v":"UNO (1)N/AN/AREPOSICIÓN DE VÁLVULA EXTINTOR BC DE 31 A 150 LIBRAS / UNIDAD"},{"$f":"H274","v":233526.99},{"$f":"C274&D274&E274&F274&G274","v":"UNO (1)N/AN/AREPOSICIÓN DE VÁLVULA EXTINTOR BC DE 31 A 150 LIBRAS / UNIDADIMPLESEG S.A.S."},{"$f":"B274&H274","v":"C1-138233526.99"},{"$f":"G274","v":"IMPLESEG S.A.S."},"Und",{"$f":"C274&D274&E274&F274&G274","v":"UNO (1)N/AN/AREPOSICIÓN DE VÁLVULA EXTINTOR BC DE 31 A 150 LIBRAS / UNIDADIMPLESEG S.A.S."},{"$f":"H274","v":233526.99}]
[{"$f":"\"ate01-\"&B275&\" \"&C275&\" \"&D275&\" \"&E275","v":"ate01-C1-138 UNO (1) N/A N/A"},"C1-138","UNO (1)","N/A","N/A","REPOSICIÓN DE VÁLVULA EXTINTOR BC DE 31 A 150 LIBRAS / UNIDAD","JM GRUPO",37623.79,{"$f":"B275&G275","v":"C1-138JM GRUPO"},{"$f":"C275&D275&E275&F275","v":"UNO (1)N/AN/AREPOSICIÓN DE VÁLVULA EXTINTOR BC DE 31 A 150 LIBRAS / UNIDAD"},{"$f":"H275","v":37623.79},{"$f":"C275&D275&E275&F275&G275","v":"UNO (1)N/AN/AREPOSICIÓN DE VÁLVULA EXTINTOR BC DE 31 A 150 LIBRAS / UNIDADJM GRUPO"},{"$f":"B275&H275","v":"C1-13837623.79"},{"$f":"G275","v":"JM GRUPO"},"Und",{"$f":"C275&D275&E275&F275&G275","v":"UNO (1)N/AN/AREPOSICIÓN DE VÁLVULA EXTINTOR BC DE 31 A 150 LIBRAS / UNIDADJM GRUPO"},{"$f":"H275","v":37623.79}]
[{"$f":"\"ate01-\"&B276&\" \"&C276&\" \"&D276&\" \"&E276","v":"ate01-C2S1-001 DOS (2) UNO (1) N/A"},"C2S1-001","DOS (2)","UNO (1)","N/A","BOTIQUÍN TIPO A EN GABINETE / UNIDAD","JM GRUPO",227040.13,{"$f":"B276&G276","v":"C2S1-001JM GRUPO"},{"$f":"C276&D276&E276&F276","v":"DOS (2)UNO (1)N/ABOTIQUÍN TIPO A EN GABINETE / UNIDAD"},{"$f":"H276","v":227040.13},{"$f":"C276&D276&E276&F276&G276","v":"DOS (2)UNO (1)N/ABOTIQUÍN TIPO A EN GABINETE / UNIDADJM GRUPO"},{"$f":"B276&H276","v":"C2S1-001227040.13"},{"$f":"G276","v":"JM GRUPO"},"Und",{"$f":"C276&D276&E276&F276&G276","v":"DOS (2)UNO (1)N/ABOTIQUÍN TIPO A EN GABINETE / UNIDADJM GRUPO"},{"$f":"H276","v":227040.13}]
[{"$f":"\"ate01-\"&B277&\" \"&C277&\" \"&D277&\" \"&E277","v":"ate01-C2S1-001 DOS (2) UNO (1) N/A"},"C2S1-001","DOS (2)","UNO (1)","N/A","BOTIQUÍN TIPO A EN GABINETE / UNIDAD","INCOLDEXT S.A.S.",259474.43,{"$f":"B277&G277","v":"C2S1-001INCOLDEXT S.A.S."},{"$f":"C277&D277&E277&F277","v":"DOS (2)UNO (1)N/ABOTIQUÍN TIPO A EN GABINETE / UNIDAD"},{"$f":"H277","v":259474.43},{"$f":"C277&D277&E277&F277&G277","v":"DOS (2)UNO (1)N/ABOTIQUÍN TIPO A EN GABINETE / UNIDADINCOLDEXT S.A.S."},{"$f":"B277&H277","v":"C2S1-001259474.43"},{"$f":"G277","v":"INCOLDEXT S.A.S."},"Und",{"$f":"C277&D277&E277&F277&G277","v":"DOS (2)UNO (1)N/ABOTIQUÍN TIPO A EN GABINETE / UNIDADINCOLDEXT S.A.S."},{"$f":"H277","v":259474.43}]
[{"$f":"\"ate01-\"&B278&\" \"&C278&\" \"&D278&\" \"&E278","v":"ate01-C2S1-001 DOS (2) UNO (1) N/A"},"C2S1-001","DOS (2)","UNO (1)","N/A","BOTIQUÍN TIPO A EN GABINETE / UNIDAD","RES-Q SOLUTIONS",363264.2,{"$f":"B278&G278","v":"C2S1-001RES-Q SOLUTIONS"},{"$f":"C278&D278&E278&F278","v":"DOS (2)UNO (1)N/ABOTIQUÍN TIPO A EN GABINETE / UNIDAD"},{"$f":"H278","v":363264.2},{"$f":"C278&D278&E278&F278&G278","v":"DOS (2)UNO (1)N/ABOTIQUÍN TIPO A EN GABINETE / UNIDADRES-Q SOLUTIONS"},{"$f":"B278&H278","v":"C2S1-001363264.2"},{"$f":"G278","v":"RES-Q SOLUTIONS"},"Und",{"$f":"C278&D278&E278&F278&G278","v":"DOS (2)UNO (1)N/ABOTIQUÍN TIPO A EN GABINETE / UNIDADRES-Q SOLUTIONS"},{"$f":"H278","v":363264.2}]
[{"$f":"\"ate01-\"&B279&\" \"&C279&\" \"&D279&\" \"&E279","v":"ate01-C2S1-001 DOS (2) UNO (1) N/A"},"C2S1-001","DOS (2)","UNO (1)","N/A","BOTIQUÍN TIPO A EN GABINETE / UNIDAD","INVERSION Y HOGAR S.A.S.",278935.01,{"$f":"B279&G279","v":"C2S1-001INVERSION Y HOGAR S.A.S."},{"$f":"C279&D279&E279&F279","v":"DOS (2)UNO (1)N/ABOTIQUÍN TIPO A EN GABINETE / UNIDAD"},{"$f":"H279","v":278935.01},{"$f":"C279&D279&E279&F279&G279","v":"DOS (2)UNO (1)N/ABOTIQUÍN TIPO A EN GABINETE / UNIDADINVERSION Y HOGAR S.A.S."},{"$f":"B279&H279","v":"C2S1-001278935.01"},{"$f":"G279","v":"INVERSION Y HOGAR S.A.S."},"Und",{"$f":"C279&D279&E279&F279&G279","v":"DOS (2)UNO (1)N/ABOTIQUÍN TIPO A EN GABINETE / UNIDADINVERSION Y HOGAR S.A.S."},{"$f":"H279","v":278935.01}]
[{"$f":"\"ate01-\"&B280&\" \"&C280&\" \"&D280&\" \"&E280","v":"ate01-C2S1-002 DOS (2) UNO (1) N/A"},"C2S1-002","DOS (2)","UNO (1)","N/A","BOTIQUÍN TIPO A EN MALETÍN / UNIDAD","JM GRUPO",973029.12,{"$f":"B280&G280","v":"C2S1-002JM GRUPO"},{"$f":"C280&D280&E280&F280","v":"DOS (2)UNO (1)N/ABOTIQUÍN TIPO A EN MALETÍN / UNIDAD"},{"$f":"H280","v":973029.12},{"$f":"C280&D280&E280&F280&G280","v":"DOS (2)UNO (1)N/ABOTIQUÍN TIPO A EN MALETÍN / UNIDADJM GRUPO"},{"$f":"B280&H280","v":"C2S1-002973029.12"},{"$f":"G280","v":"JM GRUPO"},"Und",{"$f":"C280&D280&E280&F280&G280","v":"DOS (2)UNO (1)N/ABOTIQUÍN TIPO A EN MALETÍN / UNIDADJM GRUPO"},{"$f":"H280","v":973029.12}]
[{"$f":"\"ate01-\"&B281&\" \"&C281&\" \"&D281&\" \"&E281","v":"ate01-C2S1-002 DOS (2) UNO (1) N/A"},"C2S1-002","DOS (2)","UNO (1)","N/A","BOTIQUÍN TIPO A EN MALETÍN / UNIDAD","INCOLDEXT S.A.S.",203871.66,{"$f":"B281&G281","v":"C2S1-002INCOLDEXT S.A.S."},{"$f":"C281&D281&E281&F281","v":"DOS (2)UNO (1)N/ABOTIQUÍN TIPO A EN MALETÍN / UNIDAD"},{"$f":"H281","v":203871.66},{"$f":"C281&D281&E281&F281&G281","v":"DOS (2)UNO (1)N/ABOTIQUÍN TIPO A EN MALETÍN / UNIDADINCOLDEXT S.A.S."},{"$f":"B281&H281","v":"C2S1-002203871.66"},{"$f":"G281","v":"INCOLDEXT S.A.S."},"Und",{"$f":"C281&D281&E281&F281&G281","v":"DOS (2)UNO (1)N/ABOTIQUÍN TIPO A EN MALETÍN / UNIDADINCOLDEXT S.A.S."},{"$f":"H281","v":203871.66}]
[{"$f":"\"ate01-\"&B282&\" \"&C282&\" \"&D282&\" \"&E282","v":"ate01-C2S1-002 DOS (2) UNO (1) N/A"},"C2S1-002","DOS (2)","UNO (1)","N/A","BOTIQUÍN TIPO A EN MALETÍN / UNIDAD","RES-Q SOLUTIONS",311369.32,{"$f":"B282&G282","v":"C2S1-002RES-Q SOLUTIONS"},{"$f":"C282&D282&E282&F282","v":"DOS (2)UNO (1)N/ABOTIQUÍN TIPO A EN MALETÍN / UNIDAD"},{"$f":"H282","v":311369.32},{"$f":"C282&D282&E282&F282&G282","v":"DOS (2)UNO (1)N/ABOTIQUÍN TIPO A EN MALETÍN / UNIDADRES-Q SOLUTIONS"},{"$f":"B282&H282","v":"C2S1-002311369.32"},{"$f":"G282","v":"RES-Q SOLUTIONS"},"Und",{"$f":"C282&D282&E282&F282&G282","v":"DOS (2)UNO (1)N/ABOTIQUÍN TIPO A EN MALETÍN / UNIDADRES-Q SOLUTIONS"},{"$f":"H282","v":311369.32}]
[{"$f":"\"ate01-\"&B283&\" \"&C283&\" \"&D283&\" \"&E283","v":"ate01-C2S1-002 DOS (2) UNO (1) N/A"},"C2S1-002","DOS (2)","UNO (1)","N/A","BOTIQUÍN TIPO A EN MALETÍN / UNIDAD","INVERSION Y HOGAR S.A.S.",252987.57,{"$f":"B283&G283","v":"C2S1-002INVERSION Y HOGAR S.A.S."},{"$f":"C283&D283&E283&F283","v":"DOS (2)UNO (1)N/ABOTIQUÍN TIPO A EN MALETÍN / UNIDAD"},{"$f":"H283","v":252987.57},{"$f":"C283&D283&E283&F283&G283","v":"DOS (2)UNO (1)N/ABOTIQUÍN TIPO A EN MALETÍN / UNIDADINVERSION Y HOGAR S.A.S."},{"$f":"B283&H283","v":"C2S1-002252987.57"},{"$f":"G283","v":"INVERSION Y HOGAR S.A.S."},"Und",{"$f":"C283&D283&E283&F283&G283","v":"DOS (2)UNO (1)N/ABOTIQUÍN TIPO A EN MALETÍN / UNIDADINVERSION Y HOGAR S.A.S."},{"$f":"H283","v":252987.57}]
[{"$f":"\"ate01-\"&B284&\" \"&C284&\" \"&D284&\" \"&E284","v":"ate01-C2S1-003 DOS (2) UNO (1) N/A"},"C2S1-003","DOS (2)","UNO (1)","N/A","BOTIQUÍN TIPO B EN GABINETE / UNIDAD","JM GRUPO",906863.14,{"$f":"B284&G284","v":"C2S1-003JM GRUPO"},{"$f":"C284&D284&E284&F284","v":"DOS (2)UNO (1)N/ABOTIQUÍN TIPO B EN GABINETE / UNIDAD"},{"$f":"H284","v":906863.14},{"$f":"C284&D284&E284&F284&G284","v":"DOS (2)UNO (1)N/ABOTIQUÍN TIPO B EN GABINETE / UNIDADJM GRUPO"},{"$f":"B284&H284","v":"C2S1-003906863.14"},{"$f":"G284","v":"JM GRUPO"},"Und",{"$f":"C284&D284&E284&F284&G284","v":"DOS (2)UNO (1)N/ABOTIQUÍN TIPO B EN GABINETE / UNIDADJM GRUPO"},{"$f":"H284","v":906863.14}]
[{"$f":"\"ate01-\"&B285&\" \"&C285&\" \"&D285&\" \"&E285","v":"ate01-C2S1-003 DOS (2) UNO (1) N/A"},"C2S1-003","DOS (2)","UNO (1)","N/A","BOTIQUÍN TIPO B EN GABINETE / UNIDAD","INCOLDEXT S.A.S.",871091.99,{"$f":"B285&G285","v":"C2S1-003INCOLDEXT S.A.S."},{"$f":"C285&D285&E285&F285","v":"DOS (2)UNO (1)N/ABOTIQUÍN TIPO B EN GABINETE / UNIDAD"},{"$f":"H285","v":871091.99},{"$f":"C285&D285&E285&F285&G285","v":"DOS (2)UNO (1)N/ABOTIQUÍN TIPO B EN GABINETE / UNIDADINCOLDEXT S.A.S."},{"$f":"B285&H285","v":"C2S1-003871091.99"},{"$f":"G285","v":"INCOLDEXT S.A.S."},"Und",{"$f":"C285&D285&E285&F285&G285","v":"DOS (2)UNO (1)N/ABOTIQUÍN TIPO B EN GABINETE / UNIDADINCOLDEXT S.A.S."},{"$f":"H285","v":871091.99}]
[{"$f":"\"ate01-\"&B286&\" \"&C286&\" \"&D286&\" \"&E286","v":"ate01-C2S1-003 DOS (2) UNO (1) N/A"},"C2S1-003","DOS (2)","UNO (1)","N/A","BOTIQUÍN TIPO B EN GABINETE / UNIDAD","RES-Q SOLUTIONS",1556846.59,{"$f":"B286&G286","v":"C2S1-003RES-Q SOLUTIONS"},{"$f":"C286&D286&E286&F286","v":"DOS (2)UNO (1)N/ABOTIQUÍN TIPO B EN GABINETE / UNIDAD"},{"$f":"H286","v":1556846.59},{"$f":"C286&D286&E286&F286&G286","v":"DOS (2)UNO (1)N/ABOTIQUÍN TIPO B EN GABINETE / UNIDADRES-Q SOLUTIONS"},{"$f":"B286&H286","v":"C2S1-0031556846.59"},{"$f":"G286","v":"RES-Q SOLUTIONS"},"Und",{"$f":"C286&D286&E286&F286&G286","v":"DOS (2)UNO (1)N/ABOTIQUÍN TIPO B EN GABINETE / UNIDADRES-Q SOLUTIONS"},{"$f":"H286","v":1556846.59}]
[{"$f":"\"ate01-\"&B287&\" \"&C287&\" \"&D287&\" \"&E287","v":"ate01-C2S1-003 DOS (2) UNO (1) N/A"},"C2S1-003","DOS (2)","UNO (1)","N/A","BOTIQUÍN TIPO B EN GABINETE / UNIDAD","INVERSION Y HOGAR S.A.S.",726528.41,{"$f":"B287&G287","v":"C2S1-003INVERSION Y HOGAR S.A.S."},{"$f":"C287&D287&E287&F287","v":"DOS (2)UNO (1)N/ABOTIQUÍN TIPO B EN GABINETE / UNIDAD"},{"$f":"H287","v":726528.41},{"$f":"C287&D287&E287&F287&G287","v":"DOS (2)UNO (1)N/ABOTIQUÍN TIPO B EN GABINETE / UNIDADINVERSION Y HOGAR S.A.S."},{"$f":"B287&H287","v":"C2S1-003726528.41"},{"$f":"G287","v":"INVERSION Y HOGAR S.A.S."},"Und",{"$f":"C287&D287&E287&F287&G287","v":"DOS (2)UNO (1)N/ABOTIQUÍN TIPO B EN GABINETE / UNIDADINVERSION Y HOGAR S.A.S."},{"$f":"H287","v":726528.41}]
[{"$f":"\"ate01-\"&B288&\" \"&C288&\" \"&D288&\" \"&E288","v":"ate01-C2S1-004 DOS (2) UNO (1) N/A"},"C2S1-004","DOS (2)","UNO (1)","N/A","BOTIQUÍN TIPO B EN MALETÍN / UNIDAD","JM GRUPO",745988.99,{"$f":"B288&G288","v":"C2S1-004JM GRUPO"},{"$f":"C288&D288&E288&F288","v":"DOS (2)UNO (1)N/ABOTIQUÍN TIPO B EN MALETÍN / UNIDAD"},{"$f":"H288","v":745988.99},{"$f":"C288&D288&E288&F288&G288","v":"DOS (2)UNO (1)N/ABOTIQUÍN TIPO B EN MALETÍN / UNIDADJM GRUPO"},{"$f":"B288&H288","v":"C2S1-004745988.99"},{"$f":"G288","v":"JM GRUPO"},"Und",{"$f":"C288&D288&E288&F288&G288","v":"DOS (2)UNO (1)N/ABOTIQUÍN TIPO B EN MALETÍN / UNIDADJM GRUPO"},{"$f":"H288","v":745988.99}]
[{"$f":"\"ate01-\"&B289&\" \"&C289&\" \"&D289&\" \"&E289","v":"ate01-C2S1-004 DOS (2) UNO (1) N/A"},"C2S1-004","DOS (2)","UNO (1)","N/A","BOTIQUÍN TIPO B EN MALETÍN / UNIDAD","INCOLDEXT S.A.S.",778423.3,{"$f":"B289&G289","v":"C2S1-004INCOLDEXT S.A.S."},{"$f":"C289&D289&E289&F289","v":"DOS (2)UNO (1)N/ABOTIQUÍN TIPO B EN MALETÍN / UNIDAD"},{"$f":"H289","v":778423.3},{"$f":"C289&D289&E289&F289&G289","v":"DOS (2)UNO (1)N/ABOTIQUÍN TIPO B EN MALETÍN / UNIDADINCOLDEXT S.A.S."},{"$f":"B289&H289","v":"C2S1-004778423.3"},{"$f":"G289","v":"INCOLDEXT S.A.S."},"Und",{"$f":"C289&D289&E289&F289&G289","v":"DOS (2)UNO (1)N/ABOTIQUÍN TIPO B EN MALETÍN / UNIDADINCOLDEXT S.A.S."},{"$f":"H289","v":778423.3}]
[{"$f":"\"ate01-\"&B290&\" \"&C290&\" \"&D290&\" \"&E290","v":"ate01-C2S1-004 DOS (2) UNO (1) N/A"},"C2S1-004","DOS (2)","UNO (1)","N/A","BOTIQUÍN TIPO B EN MALETÍN / UNIDAD","RES-Q SOLUTIONS",1427109.38,{"$f":"B290&G290","v":"C2S1-004RES-Q SOLUTIONS"},{"$f":"C290&D290&E290&F290","v":"DOS (2)UNO (1)N/ABOTIQUÍN TIPO B EN MALETÍN / UNIDAD"},{"$f":"H290","v":1427109.38},{"$f":"C290&D290&E290&F290&G290","v":"DOS (2)UNO (1)N/ABOTIQUÍN TIPO B EN MALETÍN / UNIDADRES-Q SOLUTIONS"},{"$f":"B290&H290","v":"C2S1-0041427109.38"},{"$f":"G290","v":"RES-Q SOLUTIONS"},"Und",{"$f":"C290&D290&E290&F290&G290","v":"DOS (2)UNO (1)N/ABOTIQUÍN TIPO B EN MALETÍN / UNIDADRES-Q SOLUTIONS"},{"$f":"H290","v":1427109.38}]
[{"$f":"\"ate01-\"&B291&\" \"&C291&\" \"&D291&\" \"&E291","v":"ate01-C2S1-004 DOS (2) UNO (1) N/A"},"C2S1-004","DOS (2)","UNO (1)","N/A","BOTIQUÍN TIPO B EN MALETÍN / UNIDAD","INVERSION Y HOGAR S.A.S.",713554.69,{"$f":"B291&G291","v":"C2S1-004INVERSION Y HOGAR S.A.S."},{"$f":"C291&D291&E291&F291","v":"DOS (2)UNO (1)N/ABOTIQUÍN TIPO B EN MALETÍN / UNIDAD"},{"$f":"H291","v":713554.69},{"$f":"C291&D291&E291&F291&G291","v":"DOS (2)UNO (1)N/ABOTIQUÍN TIPO B EN MALETÍN / UNIDADINVERSION Y HOGAR S.A.S."},{"$f":"B291&H291","v":"C2S1-004713554.69"},{"$f":"G291","v":"INVERSION Y HOGAR S.A.S."},"Und",{"$f":"C291&D291&E291&F291&G291","v":"DOS (2)UNO (1)N/ABOTIQUÍN TIPO B EN MALETÍN / UNIDADINVERSION Y HOGAR S.A.S."},{"$f":"H291","v":713554.69}]
[{"$f":"\"ate01-\"&B292&\" \"&C292&\" \"&D292&\" \"&E292","v":"ate01-C2S1-005 DOS (2) UNO (1) N/A"},"C2S1-005","DOS (2)","UNO (1)","N/A","BOTIQUÍN TIPO C EN GABINETE / UNIDAD","JM GRUPO",869239.35,{"$f":"B292&G292","v":"C2S1-005JM GRUPO"},{"$f":"C292&D292&E292&F292","v":"DOS (2)UNO (1)N/ABOTIQUÍN TIPO C EN GABINETE / UNIDAD"},{"$f":"H292","v":869239.35},{"$f":"C292&D292&E292&F292&G292","v":"DOS (2)UNO (1)N/ABOTIQUÍN TIPO C EN GABINETE / UNIDADJM GRUPO"},{"$f":"B292&H292","v":"C2S1-005869239.35"},{"$f":"G292","v":"JM GRUPO"},"Und",{"$f":"C292&D292&E292&F292&G292","v":"DOS (2)UNO (1)N/ABOTIQUÍN TIPO C EN GABINETE / UNIDADJM GRUPO"},{"$f":"H292","v":869239.35}]
[{"$f":"\"ate01-\"&B293&\" \"&C293&\" \"&D293&\" \"&E293","v":"ate01-C2S1-005 DOS (2) UNO (1) N/A"},"C2S1-005","DOS (2)","UNO (1)","N/A","BOTIQUÍN TIPO C EN GABINETE / UNIDAD","INCOLDEXT S.A.S.",1112032.17,{"$f":"B293&G293","v":"C2S1-005INCOLDEXT S.A.S."},{"$f":"C293&D293&E293&F293","v":"DOS (2)UNO (1)N/ABOTIQUÍN TIPO C EN GABINETE / UNIDAD"},{"$f":"H293","v":1112032.17},{"$f":"C293&D293&E293&F293&G293","v":"DOS (2)UNO (1)N/ABOTIQUÍN TIPO C EN GABINETE / UNIDADINCOLDEXT S.A.S."},{"$f":"B293&H293","v":"C2S1-0051112032.17"},{"$f":"G293","v":"INCOLDEXT S.A.S."},"Und",{"$f":"C293&D293&E293&F293&G293","v":"DOS (2)UNO (1)N/ABOTIQUÍN TIPO C EN GABINETE / UNIDADINCOLDEXT S.A.S."},{"$f":"H293","v":1112032.17}]
[{"$f":"\"ate01-\"&B294&\" \"&C294&\" \"&D294&\" \"&E294","v":"ate01-C2S1-005 DOS (2) UNO (1) N/A"},"C2S1-005","DOS (2)","UNO (1)","N/A","BOTIQUÍN TIPO C EN GABINETE / UNIDAD","RES-Q SOLUTIONS",1686583.81,{"$f":"B294&G294","v":"C2S1-005RES-Q SOLUTIONS"},{"$f":"C294&D294&E294&F294","v":"DOS (2)UNO (1)N/ABOTIQUÍN TIPO C EN GABINETE / UNIDAD"},{"$f":"H294","v":1686583.81},{"$f":"C294&D294&E294&F294&G294","v":"DOS (2)UNO (1)N/ABOTIQUÍN TIPO C EN GABINETE / UNIDADRES-Q SOLUTIONS"},{"$f":"B294&H294","v":"C2S1-0051686583.81"},{"$f":"G294","v":"RES-Q SOLUTIONS"},"Und",{"$f":"C294&D294&E294&F294&G294","v":"DOS (2)UNO (1)N/ABOTIQUÍN TIPO C EN GABINETE / UNIDADRES-Q SOLUTIONS"},{"$f":"H294","v":1686583.81}]
[{"$f":"\"ate01-\"&B295&\" \"&C295&\" \"&D295&\" \"&E295","v":"ate01-C2S1-005 DOS (2) UNO (1) N/A"},"C2S1-005","DOS (2)","UNO (1)","N/A","BOTIQUÍN TIPO C EN GABINETE / UNIDAD","INVERSION Y HOGAR S.A.S.",791397.02,{"$f":"B295&G295","v":"C2S1-005INVERSION Y HOGAR S.A.S."},{"$f":"C295&D295&E295&F295","v":"DOS (2)UNO (1)N/ABOTIQUÍN TIPO C EN GABINETE / UNIDAD"},{"$f":"H295","v":791397.02},{"$f":"C295&D295&E295&F295&G295","v":"DOS (2)UNO (1)N/ABOTIQUÍN TIPO C EN GABINETE / UNIDADINVERSION Y HOGAR S.A.S."},{"$f":"B295&H295","v":"C2S1-005791397.02"},{"$f":"G295","v":"INVERSION Y HOGAR S.A.S."},"Und",{"$f":"C295&D295&E295&F295&G295","v":"DOS (2)UNO (1)N/ABOTIQUÍN TIPO C EN GABINETE / UNIDADINVERSION Y HOGAR S.A.S."},{"$f":"H295","v":791397.02}]
[{"$f":"\"ate01-\"&B296&\" \"&C296&\" \"&D296&\" \"&E296","v":"ate01-C2S1-006 DOS (2) UNO (1) N/A"},"C2S1-006","DOS (2)","UNO (1)","N/A","BOTIQUÍN TIPO C EN MORRAL  / UNIDAD","JM GRUPO",875726.21,{"$f":"B296&G296","v":"C2S1-006JM GRUPO"},{"$f":"C296&D296&E296&F296","v":"DOS (2)UNO (1)N/ABOTIQUÍN TIPO C EN MORRAL  / UNIDAD"},{"$f":"H296","v":875726.21},{"$f":"C296&D296&E296&F296&G296","v":"DOS (2)UNO (1)N/ABOTIQUÍN TIPO C EN MORRAL  / UNIDADJM GRUPO"},{"$f":"B296&H296","v":"C2S1-006875726.21"},{"$f":"G296","v":"JM GRUPO"},"Und",{"$f":"C296&D296&E296&F296&G296","v":"DOS (2)UNO (1)N/ABOTIQUÍN TIPO C EN MORRAL  / UNIDADJM GRUPO"},{"$f":"H296","v":875726.21}]
[{"$f":"\"ate01-\"&B297&\" \"&C297&\" \"&D297&\" \"&E297","v":"ate01-C2S1-006 DOS (2) UNO (1) N/A"},"C2S1-006","DOS (2)","UNO (1)","N/A","BOTIQUÍN TIPO C EN MORRAL  / UNIDAD","INCOLDEXT S.A.S.",1019363.47,{"$f":"B297&G297","v":"C2S1-006INCOLDEXT S.A.S."},{"$f":"C297&D297&E297&F297","v":"DOS (2)UNO (1)N/ABOTIQUÍN TIPO C EN MORRAL  / UNIDAD"},{"$f":"H297","v":1019363.47},{"$f":"C297&D297&E297&F297&G297","v":"DOS (2)UNO (1)N/ABOTIQUÍN TIPO C EN MORRAL  / UNIDADINCOLDEXT S.A.S."},{"$f":"B297&H297","v":"C2S1-0061019363.47"},{"$f":"G297","v":"INCOLDEXT S.A.S."},"Und",{"$f":"C297&D297&E297&F297&G297","v":"DOS (2)UNO (1)N/ABOTIQUÍN TIPO C EN MORRAL  / UNIDADINCOLDEXT S.A.S."},{"$f":"H297","v":1019363.47}]
[{"$f":"\"ate01-\"&B298&\" \"&C298&\" \"&D298&\" \"&E298","v":"ate01-C2S1-006 DOS (2) UNO (1) N/A"},"C2S1-006","DOS (2)","UNO (1)","N/A","BOTIQUÍN TIPO C EN MORRAL  / UNIDAD","RES-Q SOLUTIONS",1556846.59,{"$f":"B298&G298","v":"C2S1-006RES-Q SOLUTIONS"},{"$f":"C298&D298&E298&F298","v":"DOS (2)UNO (1)N/ABOTIQUÍN TIPO C EN MORRAL  / UNIDAD"},{"$f":"H298","v":1556846.59},{"$f":"C298&D298&E298&F298&G298","v":"DOS (2)UNO (1)N/ABOTIQUÍN TIPO C EN MORRAL  / UNIDADRES-Q SOLUTIONS"},{"$f":"B298&H298","v":"C2S1-0061556846.59"},{"$f":"G298","v":"RES-Q SOLUTIONS"},"Und",{"$f":"C298&D298&E298&F298&G298","v":"DOS (2)UNO (1)N/ABOTIQUÍN TIPO C EN MORRAL  / UNIDADRES-Q SOLUTIONS"},{"$f":"H298","v":1556846.59}]
[{"$f":"\"ate01-\"&B299&\" \"&C299&\" \"&D299&\" \"&E299","v":"ate01-C2S1-006 DOS (2) UNO (1) N/A"},"C2S1-006","DOS (2)","UNO (1)","N/A","BOTIQUÍN TIPO C EN MORRAL  / UNIDAD","INVERSION Y HOGAR S.A.S.",765449.57,{"$f":"B299&G299","v":"C2S1-006INVERSION Y HOGAR S.A.S."},{"$f":"C299&D299&E299&F299","v":"DOS (2)UNO (1)N/ABOTIQUÍN TIPO C EN MORRAL  / UNIDAD"},{"$f":"H299","v":765449.57},{"$f":"C299&D299&E299&F299&G299","v":"DOS (2)UNO (1)N/ABOTIQUÍN TIPO C EN MORRAL  / UNIDADINVERSION Y HOGAR S.A.S."},{"$f":"B299&H299","v":"C2S1-006765449.57"},{"$f":"G299","v":"INVERSION Y HOGAR S.A.S."},"Und",{"$f":"C299&D299&E299&F299&G299","v":"DOS (2)UNO (1)N/ABOTIQUÍN TIPO C EN MORRAL  / UNIDADINVERSION Y HOGAR S.A.S."},{"$f":"H299","v":765449.57}]
[{"$f":"\"ate01-\"&B300&\" \"&C300&\" \"&D300&\" \"&E300","v":"ate01-C2S1-007 DOS (2) UNO (1) N/A"},"C2S1-007","DOS (2)","UNO (1)","N/A","GABINETE DE BOTIQUÍN  / UNIDAD","JM GRUPO",115466.12,{"$f":"B300&G300","v":"C2S1-007JM GRUPO"},{"$f":"C300&D300&E300&F300","v":"DOS (2)UNO (1)N/AGABINETE DE BOTIQUÍN  / UNIDAD"},{"$f":"H300","v":115466.12},{"$f":"C300&D300&E300&F300&G300","v":"DOS (2)UNO (1)N/AGABINETE DE BOTIQUÍN  / UNIDADJM GRUPO"},{"$f":"B300&H300","v":"C2S1-007115466.12"},{"$f":"G300","v":"JM GRUPO"},"Und",{"$f":"C300&D300&E300&F300&G300","v":"DOS (2)UNO (1)N/AGABINETE DE BOTIQUÍN  / UNIDADJM GRUPO"},{"$f":"H300","v":115466.12}]
[{"$f":"\"ate01-\"&B301&\" \"&C301&\" \"&D301&\" \"&E301","v":"ate01-C2S1-007 DOS (2) UNO (1) N/A"},"C2S1-007","DOS (2)","UNO (1)","N/A","GABINETE DE BOTIQUÍN  / UNIDAD","INCOLDEXT S.A.S.",83401.570000000007,{"$f":"B301&G301","v":"C2S1-007INCOLDEXT S.A.S."},{"$f":"C301&D301&E301&F301","v":"DOS (2)UNO (1)N/AGABINETE DE BOTIQUÍN  / UNIDAD"},{"$f":"H301","v":83401.570000000007},{"$f":"C301&D301&E301&F301&G301","v":"DOS (2)UNO (1)N/AGABINETE DE BOTIQUÍN  / UNIDADINCOLDEXT S.A.S."},{"$f":"B301&H301","v":"C2S1-00783401.57"},{"$f":"G301","v":"INCOLDEXT S.A.S."},"Und",{"$f":"C301&D301&E301&F301&G301","v":"DOS (2)UNO (1)N/AGABINETE DE BOTIQUÍN  / UNIDADINCOLDEXT S.A.S."},{"$f":"H301","v":83401.570000000007}]
[{"$f":"\"ate01-\"&B302&\" \"&C302&\" \"&D302&\" \"&E302","v":"ate01-C2S1-007 DOS (2) UNO (1) N/A"},"C2S1-007","DOS (2)","UNO (1)","N/A","GABINETE DE BOTIQUÍN  / UNIDAD","RES-Q SOLUTIONS",194605.82,{"$f":"B302&G302","v":"C2S1-007RES-Q SOLUTIONS"},{"$f":"C302&D302&E302&F302","v":"DOS (2)UNO (1)N/AGABINETE DE BOTIQUÍN  / UNIDAD"},{"$f":"H302","v":194605.82},{"$f":"C302&D302&E302&F302&G302","v":"DOS (2)UNO (1)N/AGABINETE DE BOTIQUÍN  / UNIDADRES-Q SOLUTIONS"},{"$f":"B302&H302","v":"C2S1-007194605.82"},{"$f":"G302","v":"RES-Q SOLUTIONS"},"Und",{"$f":"C302&D302&E302&F302&G302","v":"DOS (2)UNO (1)N/AGABINETE DE BOTIQUÍN  / UNIDADRES-Q SOLUTIONS"},{"$f":"H302","v":194605.82}]
[{"$f":"\"ate01-\"&B303&\" \"&C303&\" \"&D303&\" \"&E303","v":"ate01-C2S1-007 DOS (2) UNO (1) N/A"},"C2S1-007","DOS (2)","UNO (1)","N/A","GABINETE DE BOTIQUÍN  / UNIDAD","INVERSION Y HOGAR S.A.S.",76544.960000000006,{"$f":"B303&G303","v":"C2S1-007INVERSION Y HOGAR S.A.S."},{"$f":"C303&D303&E303&F303","v":"DOS (2)UNO (1)N/AGABINETE DE BOTIQUÍN  / UNIDAD"},{"$f":"H303","v":76544.960000000006},{"$f":"C303&D303&E303&F303&G303","v":"DOS (2)UNO (1)N/AGABINETE DE BOTIQUÍN  / UNIDADINVERSION Y HOGAR S.A.S."},{"$f":"B303&H303","v":"C2S1-00776544.96"},{"$f":"G303","v":"INVERSION Y HOGAR S.A.S."},"Und",{"$f":"C303&D303&E303&F303&G303","v":"DOS (2)UNO (1)N/AGABINETE DE BOTIQUÍN  / UNIDADINVERSION Y HOGAR S.A.S."},{"$f":"H303","v":76544.960000000006}]
[{"$f":"\"ate01-\"&B304&\" \"&C304&\" \"&D304&\" \"&E304","v":"ate01-C2S1-008 DOS (2) UNO (1) N/A"},"C2S1-008","DOS (2)","UNO (1)","N/A","MORRAL PARA BOTIQUÍN TIPO A, B O C / UNIDAD","JM GRUPO",103789.77,{"$f":"B304&G304","v":"C2S1-008JM GRUPO"},{"$f":"C304&D304&E304&F304","v":"DOS (2)UNO (1)N/AMORRAL PARA BOTIQUÍN TIPO A, B O C / UNIDAD"},{"$f":"H304","v":103789.77},{"$f":"C304&D304&E304&F304&G304","v":"DOS (2)UNO (1)N/AMORRAL PARA BOTIQUÍN TIPO A, B O C / UNIDADJM GRUPO"},{"$f":"B304&H304","v":"C2S1-008103789.77"},{"$f":"G304","v":"JM GRUPO"},"Und",{"$f":"C304&D304&E304&F304&G304","v":"DOS (2)UNO (1)N/AMORRAL PARA BOTIQUÍN TIPO A, B O C / UNIDADJM GRUPO"},{"$f":"H304","v":103789.77}]
[{"$f":"\"ate01-\"&B305&\" \"&C305&\" \"&D305&\" \"&E305","v":"ate01-C2S1-008 DOS (2) UNO (1) N/A"},"C2S1-008","DOS (2)","UNO (1)","N/A","MORRAL PARA BOTIQUÍN TIPO A, B O C / UNIDAD","INCOLDEXT S.A.S.",83401.570000000007,{"$f":"B305&G305","v":"C2S1-008INCOLDEXT S.A.S."},{"$f":"C305&D305&E305&F305","v":"DOS (2)UNO (1)N/AMORRAL PARA BOTIQUÍN TIPO A, B O C / UNIDAD"},{"$f":"H305","v":83401.570000000007},{"$f":"C305&D305&E305&F305&G305","v":"DOS (2)UNO (1)N/AMORRAL PARA BOTIQUÍN TIPO A, B O C / UNIDADINCOLDEXT S.A.S."},{"$f":"B305&H305","v":"C2S1-00883401.57"},{"$f":"G305","v":"INCOLDEXT S.A.S."},"Und",{"$f":"C305&D305&E305&F305&G305","v":"DOS (2)UNO (1)N/AMORRAL PARA BOTIQUÍN TIPO A, B O C / UNIDADINCOLDEXT S.A.S."},{"$f":"H305","v":83401.570000000007}]
[{"$f":"\"ate01-\"&B306&\" \"&C306&\" \"&D306&\" \"&E306","v":"ate01-C2S1-008 DOS (2) UNO (1) N/A"},"C2S1-008","DOS (2)","UNO (1)","N/A","MORRAL PARA BOTIQUÍN TIPO A, B O C / UNIDAD","RES-Q SOLUTIONS",129737.22,{"$f":"B306&G306","v":"C2S1-008RES-Q SOLUTIONS"},{"$f":"C306&D306&E306&F306","v":"DOS (2)UNO (1)N/AMORRAL PARA BOTIQUÍN TIPO A, B O C / UNIDAD"},{"$f":"H306","v":129737.22},{"$f":"C306&D306&E306&F306&G306","v":"DOS (2)UNO (1)N/AMORRAL PARA BOTIQUÍN TIPO A, B O C / UNIDADRES-Q SOLUTIONS"},{"$f":"B306&H306","v":"C2S1-008129737.22"},{"$f":"G306","v":"RES-Q SOLUTIONS"},"Und",{"$f":"C306&D306&E306&F306&G306","v":"DOS (2)UNO (1)N/AMORRAL PARA BOTIQUÍN TIPO A, B O C / UNIDADRES-Q SOLUTIONS"},{"$f":"H306","v":129737.22}]
[{"$f":"\"ate01-\"&B307&\" \"&C307&\" \"&D307&\" \"&E307","v":"ate01-C2S1-008 DOS (2) UNO (1) N/A"},"C2S1-008","DOS (2)","UNO (1)","N/A","MORRAL PARA BOTIQUÍN TIPO A, B O C / UNIDAD","INVERSION Y HOGAR S.A.S.",42164.6,{"$f":"B307&G307","v":"C2S1-008INVERSION Y HOGAR S.A.S."},{"$f":"C307&D307&E307&F307","v":"DOS (2)UNO (1)N/AMORRAL PARA BOTIQUÍN TIPO A, B O C / UNIDAD"},{"$f":"H307","v":42164.6},{"$f":"C307&D307&E307&F307&G307","v":"DOS (2)UNO (1)N/AMORRAL PARA BOTIQUÍN TIPO A, B O C / UNIDADINVERSION Y HOGAR S.A.S."},{"$f":"B307&H307","v":"C2S1-00842164.6"},{"$f":"G307","v":"INVERSION Y HOGAR S.A.S."},"Und",{"$f":"C307&D307&E307&F307&G307","v":"DOS (2)UNO (1)N/AMORRAL PARA BOTIQUÍN TIPO A, B O C / UNIDADINVERSION Y HOGAR S.A.S."},{"$f":"H307","v":42164.6}]
[{"$f":"\"ate01-\"&B308&\" \"&C308&\" \"&D308&\" \"&E308","v":"ate01-C2S1-009 DOS (2) UNO (1) N/A"},"C2S1-009","DOS (2)","UNO (1)","N/A","BAJA LENGUAS - 1 PAQUETE POR 20 UNIDADES","JM GRUPO",45408.03,{"$f":"B308&G308","v":"C2S1-009JM GRUPO"},{"$f":"C308&D308&E308&F308","v":"DOS (2)UNO (1)N/ABAJA LENGUAS - 1 PAQUETE POR 20 UNIDADES"},{"$f":"H308","v":45408.03},{"$f":"C308&D308&E308&F308&G308","v":"DOS (2)UNO (1)N/ABAJA LENGUAS - 1 PAQUETE POR 20 UNIDADESJM GRUPO"},{"$f":"B308&H308","v":"C2S1-00945408.03"},{"$f":"G308","v":"JM GRUPO"},"Und",{"$f":"C308&D308&E308&F308&G308","v":"DOS (2)UNO (1)N/ABAJA LENGUAS - 1 PAQUETE POR 20 UNIDADESJM GRUPO"},{"$f":"H308","v":45408.03}]
[{"$f":"\"ate01-\"&B309&\" \"&C309&\" \"&D309&\" \"&E309","v":"ate01-C2S1-009 DOS (2) UNO (1) N/A"},"C2S1-009","DOS (2)","UNO (1)","N/A","BAJA LENGUAS - 1 PAQUETE POR 20 UNIDADES","INCOLDEXT S.A.S.",2223.6999999999998,{"$f":"B309&G309","v":"C2S1-009INCOLDEXT S.A.S."},{"$f":"C309&D309&E309&F309","v":"DOS (2)UNO (1)N/ABAJA LENGUAS - 1 PAQUETE POR 20 UNIDADES"},{"$f":"H309","v":2223.6999999999998},{"$f":"C309&D309&E309&F309&G309","v":"DOS (2)UNO (1)N/ABAJA LENGUAS - 1 PAQUETE POR 20 UNIDADESINCOLDEXT S.A.S."},{"$f":"B309&H309","v":"C2S1-0092223.7"},{"$f":"G309","v":"INCOLDEXT S.A.S."},"Und",{"$f":"C309&D309&E309&F309&G309","v":"DOS (2)UNO (1)N/ABAJA LENGUAS - 1 PAQUETE POR 20 UNIDADESINCOLDEXT S.A.S."},{"$f":"H309","v":2223.6999999999998}]
[{"$f":"\"ate01-\"&B310&\" \"&C310&\" \"&D310&\" \"&E310","v":"ate01-C2S1-009 DOS (2) UNO (1) N/A"},"C2S1-009","DOS (2)","UNO (1)","N/A","BAJA LENGUAS - 1 PAQUETE POR 20 UNIDADES","RES-Q SOLUTIONS",6486.86,{"$f":"B310&G310","v":"C2S1-009RES-Q SOLUTIONS"},{"$f":"C310&D310&E310&F310","v":"DOS (2)UNO (1)N/ABAJA LENGUAS - 1 PAQUETE POR 20 UNIDADES"},{"$f":"H310","v":6486.86},{"$f":"C310&D310&E310&F310&G310","v":"DOS (2)UNO (1)N/ABAJA LENGUAS - 1 PAQUETE POR 20 UNIDADESRES-Q SOLUTIONS"},{"$f":"B310&H310","v":"C2S1-0096486.86"},{"$f":"G310","v":"RES-Q SOLUTIONS"},"Und",{"$f":"C310&D310&E310&F310&G310","v":"DOS (2)UNO (1)N/ABAJA LENGUAS - 1 PAQUETE POR 20 UNIDADESRES-Q SOLUTIONS"},{"$f":"H310","v":6486.86}]
[{"$f":"\"ate01-\"&B311&\" \"&C311&\" \"&D311&\" \"&E311","v":"ate01-C2S1-009 DOS (2) UNO (1) N/A"},"C2S1-009","DOS (2)","UNO (1)","N/A","BAJA LENGUAS - 1 PAQUETE POR 20 UNIDADES","INVERSION Y HOGAR S.A.S.",1595.77,{"$f":"B311&G311","v":"C2S1-009INVERSION Y HOGAR S.A.S."},{"$f":"C311&D311&E311&F311","v":"DOS (2)UNO (1)N/ABAJA LENGUAS - 1 PAQUETE POR 20 UNIDADES"},{"$f":"H311","v":1595.77},{"$f":"C311&D311&E311&F311&G311","v":"DOS (2)UNO (1)N/ABAJA LENGUAS - 1 PAQUETE POR 20 UNIDADESINVERSION Y HOGAR S.A.S."},{"$f":"B311&H311","v":"C2S1-0091595.77"},{"$f":"G311","v":"INVERSION Y HOGAR S.A.S."},"Und",{"$f":"C311&D311&E311&F311&G311","v":"DOS (2)UNO (1)N/ABAJA LENGUAS - 1 PAQUETE POR 20 UNIDADESINVERSION Y HOGAR S.A.S."},{"$f":"H311","v":1595.77}]
[{"$f":"\"ate01-\"&B312&\" \"&C312&\" \"&D312&\" \"&E312","v":"ate01-C2S1-010 DOS (2) UNO (1) N/A"},"C2S1-010","DOS (2)","UNO (1)","N/A","GASA ESTÉRIL - 1 PAQUETE POR 20 UNIDADES","JM GRUPO",25947.439999999999,{"$f":"B312&G312","v":"C2S1-010JM GRUPO"},{"$f":"C312&D312&E312&F312","v":"DOS (2)UNO (1)N/AGASA ESTÉRIL - 1 PAQUETE POR 20 UNIDADES"},{"$f":"H312","v":25947.439999999999},{"$f":"C312&D312&E312&F312&G312","v":"DOS (2)UNO (1)N/AGASA ESTÉRIL - 1 PAQUETE POR 20 UNIDADESJM GRUPO"},{"$f":"B312&H312","v":"C2S1-01025947.44"},{"$f":"G312","v":"JM GRUPO"},"Und",{"$f":"C312&D312&E312&F312&G312","v":"DOS (2)UNO (1)N/AGASA ESTÉRIL - 1 PAQUETE POR 20 UNIDADESJM GRUPO"},{"$f":"H312","v":25947.439999999999}]
[{"$f":"\"ate01-\"&B313&\" \"&C313&\" \"&D313&\" \"&E313","v":"ate01-C2S1-010 DOS (2) UNO (1) N/A"},"C2S1-010","DOS (2)","UNO (1)","N/A","GASA ESTÉRIL - 1 PAQUETE POR 20 UNIDADES","INCOLDEXT S.A.S.",11119.78,{"$f":"B313&G313","v":"C2S1-010INCOLDEXT S.A.S."},{"$f":"C313&D313&E313&F313","v":"DOS (2)UNO (1)N/AGASA ESTÉRIL - 1 PAQUETE POR 20 UNIDADES"},{"$f":"H313","v":11119.78},{"$f":"C313&D313&E313&F313&G313","v":"DOS (2)UNO (1)N/AGASA ESTÉRIL - 1 PAQUETE POR 20 UNIDADESINCOLDEXT S.A.S."},{"$f":"B313&H313","v":"C2S1-01011119.78"},{"$f":"G313","v":"INCOLDEXT S.A.S."},"Und",{"$f":"C313&D313&E313&F313&G313","v":"DOS (2)UNO (1)N/AGASA ESTÉRIL - 1 PAQUETE POR 20 UNIDADESINCOLDEXT S.A.S."},{"$f":"H313","v":11119.78}]
[{"$f":"\"ate01-\"&B314&\" \"&C314&\" \"&D314&\" \"&E314","v":"ate01-C2S1-010 DOS (2) UNO (1) N/A"},"C2S1-010","DOS (2)","UNO (1)","N/A","GASA ESTÉRIL - 1 PAQUETE POR 20 UNIDADES","RES-Q SOLUTIONS",32434.3,{"$f":"B314&G314","v":"C2S1-010RES-Q SOLUTIONS"},{"$f":"C314&D314&E314&F314","v":"DOS (2)UNO (1)N/AGASA ESTÉRIL - 1 PAQUETE POR 20 UNIDADES"},{"$f":"H314","v":32434.3},{"$f":"C314&D314&E314&F314&G314","v":"DOS (2)UNO (1)N/AGASA ESTÉRIL - 1 PAQUETE POR 20 UNIDADESRES-Q SOLUTIONS"},{"$f":"B314&H314","v":"C2S1-01032434.3"},{"$f":"G314","v":"RES-Q SOLUTIONS"},"Und",{"$f":"C314&D314&E314&F314&G314","v":"DOS (2)UNO (1)N/AGASA ESTÉRIL - 1 PAQUETE POR 20 UNIDADESRES-Q SOLUTIONS"},{"$f":"H314","v":32434.3}]
[{"$f":"\"ate01-\"&B315&\" \"&C315&\" \"&D315&\" \"&E315","v":"ate01-C2S1-010 DOS (2) UNO (1) N/A"},"C2S1-010","DOS (2)","UNO (1)","N/A","GASA ESTÉRIL - 1 PAQUETE POR 20 UNIDADES","INVERSION Y HOGAR S.A.S.",30358.51,{"$f":"B315&G315","v":"C2S1-010INVERSION Y HOGAR S.A.S."},{"$f":"C315&D315&E315&F315","v":"DOS (2)UNO (1)N/AGASA ESTÉRIL - 1 PAQUETE POR 20 UNIDADES"},{"$f":"H315","v":30358.51},{"$f":"C315&D315&E315&F315&G315","v":"DOS (2)UNO (1)N/AGASA ESTÉRIL - 1 PAQUETE POR 20 UNIDADESINVERSION Y HOGAR S.A.S."},{"$f":"B315&H315","v":"C2S1-01030358.51"},{"$f":"G315","v":"INVERSION Y HOGAR S.A.S."},"Und",{"$f":"C315&D315&E315&F315&G315","v":"DOS (2)UNO (1)N/AGASA ESTÉRIL - 1 PAQUETE POR 20 UNIDADESINVERSION Y HOGAR S.A.S."},{"$f":"H315","v":30358.51}]
[{"$f":"\"ate01-\"&B316&\" \"&C316&\" \"&D316&\" \"&E316","v":"ate01-C2S1-011 DOS (2) UNO (1) N/A"},"C2S1-011","DOS (2)","UNO (1)","N/A","GASAS LIMPIAS - 1 PAQUETE POR 100 UNIDADES","JM GRUPO",29839.56,{"$f":"B316&G316","v":"C2S1-011JM GRUPO"},{"$f":"C316&D316&E316&F316","v":"DOS (2)UNO (1)N/AGASAS LIMPIAS - 1 PAQUETE POR 100 UNIDADES"},{"$f":"H316","v":29839.56},{"$f":"C316&D316&E316&F316&G316","v":"DOS (2)UNO (1)N/AGASAS LIMPIAS - 1 PAQUETE POR 100 UNIDADESJM GRUPO"},{"$f":"B316&H316","v":"C2S1-01129839.56"},{"$f":"G316","v":"JM GRUPO"},"Und",{"$f":"C316&D316&E316&F316&G316","v":"DOS (2)UNO (1)N/AGASAS LIMPIAS - 1 PAQUETE POR 100 UNIDADESJM GRUPO"},{"$f":"H316","v":29839.56}]
[{"$f":"\"ate01-\"&B317&\" \"&C317&\" \"&D317&\" \"&E317","v":"ate01-C2S1-011 DOS (2) UNO (1) N/A"},"C2S1-011","DOS (2)","UNO (1)","N/A","GASAS LIMPIAS - 1 PAQUETE POR 100 UNIDADES","INCOLDEXT S.A.S.",27800.09,{"$f":"B317&G317","v":"C2S1-011INCOLDEXT S.A.S."},{"$f":"C317&D317&E317&F317","v":"DOS (2)UNO (1)N/AGASAS LIMPIAS - 1 PAQUETE POR 100 UNIDADES"},{"$f":"H317","v":27800.09},{"$f":"C317&D317&E317&F317&G317","v":"DOS (2)UNO (1)N/AGASAS LIMPIAS - 1 PAQUETE POR 100 UNIDADESINCOLDEXT S.A.S."},{"$f":"B317&H317","v":"C2S1-01127800.09"},{"$f":"G317","v":"INCOLDEXT S.A.S."},"Und",{"$f":"C317&D317&E317&F317&G317","v":"DOS (2)UNO (1)N/AGASAS LIMPIAS - 1 PAQUETE POR 100 UNIDADESINCOLDEXT S.A.S."},{"$f":"H317","v":27800.09}]
[{"$f":"\"ate01-\"&B318&\" \"&C318&\" \"&D318&\" \"&E318","v":"ate01-C2S1-011 DOS (2) UNO (1) N/A"},"C2S1-011","DOS (2)","UNO (1)","N/A","GASAS LIMPIAS - 1 PAQUETE POR 100 UNIDADES","RES-Q SOLUTIONS",25947.439999999999,{"$f":"B318&G318","v":"C2S1-011RES-Q SOLUTIONS"},{"$f":"C318&D318&E318&F318","v":"DOS (2)UNO (1)N/AGASAS LIMPIAS - 1 PAQUETE POR 100 UNIDADES"},{"$f":"H318","v":25947.439999999999},{"$f":"C318&D318&E318&F318&G318","v":"DOS (2)UNO (1)N/AGASAS LIMPIAS - 1 PAQUETE POR 100 UNIDADESRES-Q SOLUTIONS"},{"$f":"B318&H318","v":"C2S1-01125947.44"},{"$f":"G318","v":"RES-Q SOLUTIONS"},"Und",{"$f":"C318&D318&E318&F318&G318","v":"DOS (2)UNO (1)N/AGASAS LIMPIAS - 1 PAQUETE POR 100 UNIDADESRES-Q SOLUTIONS"},{"$f":"H318","v":25947.439999999999}]
[{"$f":"\"ate01-\"&B319&\" \"&C319&\" \"&D319&\" \"&E319","v":"ate01-C2S1-011 DOS (2) UNO (1) N/A"},"C2S1-011","DOS (2)","UNO (1)","N/A","GASAS LIMPIAS - 1 PAQUETE POR 100 UNIDADES","INVERSION Y HOGAR S.A.S.",5137.59,{"$f":"B319&G319","v":"C2S1-011INVERSION Y HOGAR S.A.S."},{"$f":"C319&D319&E319&F319","v":"DOS (2)UNO (1)N/AGASAS LIMPIAS - 1 PAQUETE POR 100 UNIDADES"},{"$f":"H319","v":5137.59},{"$f":"C319&D319&E319&F319&G319","v":"DOS (2)UNO (1)N/AGASAS LIMPIAS - 1 PAQUETE POR 100 UNIDADESINVERSION Y HOGAR S.A.S."},{"$f":"B319&H319","v":"C2S1-0115137.59"},{"$f":"G319","v":"INVERSION Y HOGAR S.A.S."},"Und",{"$f":"C319&D319&E319&F319&G319","v":"DOS (2)UNO (1)N/AGASAS LIMPIAS - 1 PAQUETE POR 100 UNIDADESINVERSION Y HOGAR S.A.S."},{"$f":"H319","v":5137.59}]
[{"$f":"\"ate01-\"&B320&\" \"&C320&\" \"&D320&\" \"&E320","v":"ate01-C2S1-012 DOS (2) UNO (1) N/A"},"C2S1-012","DOS (2)","UNO (1)","N/A","APÓSITO O COMPRESAS NO ESTÉRILES - 1 PAQUETE POR 4 UNIDADES.","JM GRUPO",25947.439999999999,{"$f":"B320&G320","v":"C2S1-012JM GRUPO"},{"$f":"C320&D320&E320&F320","v":"DOS (2)UNO (1)N/AAPÓSITO O COMPRESAS NO ESTÉRILES - 1 PAQUETE POR 4 UNIDADES."},{"$f":"H320","v":25947.439999999999},{"$f":"C320&D320&E320&F320&G320","v":"DOS (2)UNO (1)N/AAPÓSITO O COMPRESAS NO ESTÉRILES - 1 PAQUETE POR 4 UNIDADES.JM GRUPO"},{"$f":"B320&H320","v":"C2S1-01225947.44"},{"$f":"G320","v":"JM GRUPO"},"Und",{"$f":"C320&D320&E320&F320&G320","v":"DOS (2)UNO (1)N/AAPÓSITO O COMPRESAS NO ESTÉRILES - 1 PAQUETE POR 4 UNIDADES.JM GRUPO"},{"$f":"H320","v":25947.439999999999}]
[{"$f":"\"ate01-\"&B321&\" \"&C321&\" \"&D321&\" \"&E321","v":"ate01-C2S1-012 DOS (2) UNO (1) N/A"},"C2S1-012","DOS (2)","UNO (1)","N/A","APÓSITO O COMPRESAS NO ESTÉRILES - 1 PAQUETE POR 4 UNIDADES.","INCOLDEXT S.A.S.",33360.629999999997,{"$f":"B321&G321","v":"C2S1-012INCOLDEXT S.A.S."},{"$f":"C321&D321&E321&F321","v":"DOS (2)UNO (1)N/AAPÓSITO O COMPRESAS NO ESTÉRILES - 1 PAQUETE POR 4 UNIDADES."},{"$f":"H321","v":33360.629999999997},{"$f":"C321&D321&E321&F321&G321","v":"DOS (2)UNO (1)N/AAPÓSITO O COMPRESAS NO ESTÉRILES - 1 PAQUETE POR 4 UNIDADES.INCOLDEXT S.A.S."},{"$f":"B321&H321","v":"C2S1-01233360.63"},{"$f":"G321","v":"INCOLDEXT S.A.S."},"Und",{"$f":"C321&D321&E321&F321&G321","v":"DOS (2)UNO (1)N/AAPÓSITO O COMPRESAS NO ESTÉRILES - 1 PAQUETE POR 4 UNIDADES.INCOLDEXT S.A.S."},{"$f":"H321","v":33360.629999999997}]
[{"$f":"\"ate01-\"&B322&\" \"&C322&\" \"&D322&\" \"&E322","v":"ate01-C2S1-012 DOS (2) UNO (1) N/A"},"C2S1-012","DOS (2)","UNO (1)","N/A","APÓSITO O COMPRESAS NO ESTÉRILES - 1 PAQUETE POR 4 UNIDADES.","RES-Q SOLUTIONS",32434.3,{"$f":"B322&G322","v":"C2S1-012RES-Q SOLUTIONS"},{"$f":"C322&D322&E322&F322","v":"DOS (2)UNO (1)N/AAPÓSITO O COMPRESAS NO ESTÉRILES - 1 PAQUETE POR 4 UNIDADES."},{"$f":"H322","v":32434.3},{"$f":"C322&D322&E322&F322&G322","v":"DOS (2)UNO (1)N/AAPÓSITO O COMPRESAS NO ESTÉRILES - 1 PAQUETE POR 4 UNIDADES.RES-Q SOLUTIONS"},{"$f":"B322&H322","v":"C2S1-01232434.3"},{"$f":"G322","v":"RES-Q SOLUTIONS"},"Und",{"$f":"C322&D322&E322&F322&G322","v":"DOS (2)UNO (1)N/AAPÓSITO O COMPRESAS NO ESTÉRILES - 1 PAQUETE POR 4 UNIDADES.RES-Q SOLUTIONS"},{"$f":"H322","v":32434.3}]
[{"$f":"\"ate01-\"&B323&\" \"&C323&\" \"&D323&\" \"&E323","v":"ate01-C2S1-012 DOS (2) UNO (1) N/A"},"C2S1-012","DOS (2)","UNO (1)","N/A","APÓSITO O COMPRESAS NO ESTÉRILES - 1 PAQUETE POR 4 UNIDADES.","INVERSION Y HOGAR S.A.S.",7846.51,{"$f":"B323&G323","v":"C2S1-012INVERSION Y HOGAR S.A.S."},{"$f":"C323&D323&E323&F323","v":"DOS (2)UNO (1)N/AAPÓSITO O COMPRESAS NO ESTÉRILES - 1 PAQUETE POR 4 UNIDADES."},{"$f":"H323","v":7846.51},{"$f":"C323&D323&E323&F323&G323","v":"DOS (2)UNO (1)N/AAPÓSITO O COMPRESAS NO ESTÉRILES - 1 PAQUETE POR 4 UNIDADES.INVERSION Y HOGAR S.A.S."},{"$f":"B323&H323","v":"C2S1-0127846.51"},{"$f":"G323","v":"INVERSION Y HOGAR S.A.S."},"Und",{"$f":"C323&D323&E323&F323&G323","v":"DOS (2)UNO (1)N/AAPÓSITO O COMPRESAS NO ESTÉRILES - 1 PAQUETE POR 4 UNIDADES.INVERSION Y HOGAR S.A.S."},{"$f":"H323","v":7846.51}]
[{"$f":"\"ate01-\"&B324&\" \"&C324&\" \"&D324&\" \"&E324","v":"ate01-C2S1-013 DOS (2) UNO (1) N/A"},"C2S1-013","DOS (2)","UNO (1)","N/A","GUANTES DE NITRILO PARA EXÁMEN - 1 CAJA POR 100 UNIDADES. ","JM GRUPO",67463.350000000006,{"$f":"B324&G324","v":"C2S1-013JM GRUPO"},{"$f":"C324&D324&E324&F324","v":"DOS (2)UNO (1)N/AGUANTES DE NITRILO PARA EXÁMEN - 1 CAJA POR 100 UNIDADES. "},{"$f":"H324","v":67463.350000000006},{"$f":"C324&D324&E324&F324&G324","v":"DOS (2)UNO (1)N/AGUANTES DE NITRILO PARA EXÁMEN - 1 CAJA POR 100 UNIDADES. JM GRUPO"},{"$f":"B324&H324","v":"C2S1-01367463.35"},{"$f":"G324","v":"JM GRUPO"},"Und",{"$f":"C324&D324&E324&F324&G324","v":"DOS (2)UNO (1)N/AGUANTES DE NITRILO PARA EXÁMEN - 1 CAJA POR 100 UNIDADES. JM GRUPO"},{"$f":"H324","v":67463.350000000006}]
[{"$f":"\"ate01-\"&B325&\" \"&C325&\" \"&D325&\" \"&E325","v":"ate01-C2S1-013 DOS (2) UNO (1) N/A"},"C2S1-013","DOS (2)","UNO (1)","N/A","GUANTES DE NITRILO PARA EXÁMEN - 1 CAJA POR 100 UNIDADES. ","INCOLDEXT S.A.S.",129737.22,{"$f":"B325&G325","v":"C2S1-013INCOLDEXT S.A.S."},{"$f":"C325&D325&E325&F325","v":"DOS (2)UNO (1)N/AGUANTES DE NITRILO PARA EXÁMEN - 1 CAJA POR 100 UNIDADES. "},{"$f":"H325","v":129737.22},{"$f":"C325&D325&E325&F325&G325","v":"DOS (2)UNO (1)N/AGUANTES DE NITRILO PARA EXÁMEN - 1 CAJA POR 100 UNIDADES. INCOLDEXT S.A.S."},{"$f":"B325&H325","v":"C2S1-013129737.22"},{"$f":"G325","v":"INCOLDEXT S.A.S."},"Und",{"$f":"C325&D325&E325&F325&G325","v":"DOS (2)UNO (1)N/AGUANTES DE NITRILO PARA EXÁMEN - 1 CAJA POR 100 UNIDADES. INCOLDEXT S.A.S."},{"$f":"H325","v":129737.22}]
[{"$f":"\"ate01-\"&B326&\" \"&C326&\" \"&D326&\" \"&E326","v":"ate01-C2S1-013 DOS (2) UNO (1) N/A"},"C2S1-013","DOS (2)","UNO (1)","N/A","GUANTES DE NITRILO PARA EXÁMEN - 1 CAJA POR 100 UNIDADES. ","RES-Q SOLUTIONS",233526.99,{"$f":"B326&G326","v":"C2S1-013RES-Q SOLUTIONS"},{"$f":"C326&D326&E326&F326","v":"DOS (2)UNO (1)N/AGUANTES DE NITRILO PARA EXÁMEN - 1 CAJA POR 100 UNIDADES. "},{"$f":"H326","v":233526.99},{"$f":"C326&D326&E326&F326&G326","v":"DOS (2)UNO (1)N/AGUANTES DE NITRILO PARA EXÁMEN - 1 CAJA POR 100 UNIDADES. RES-Q SOLUTIONS"},{"$f":"B326&H326","v":"C2S1-013233526.99"},{"$f":"G326","v":"RES-Q SOLUTIONS"},"Und",{"$f":"C326&D326&E326&F326&G326","v":"DOS (2)UNO (1)N/AGUANTES DE NITRILO PARA EXÁMEN - 1 CAJA POR 100 UNIDADES. RES-Q SOLUTIONS"},{"$f":"H326","v":233526.99}]
[{"$f":"\"ate01-\"&B327&\" \"&C327&\" \"&D327&\" \"&E327","v":"ate01-C2S1-013 DOS (2) UNO (1) N/A"},"C2S1-013","DOS (2)","UNO (1)","N/A","GUANTES DE NITRILO PARA EXÁMEN - 1 CAJA POR 100 UNIDADES. ","INVERSION Y HOGAR S.A.S.",84329.19,{"$f":"B327&G327","v":"C2S1-013INVERSION Y HOGAR S.A.S."},{"$f":"C327&D327&E327&F327","v":"DOS (2)UNO (1)N/AGUANTES DE NITRILO PARA EXÁMEN - 1 CAJA POR 100 UNIDADES. "},{"$f":"H327","v":84329.19},{"$f":"C327&D327&E327&F327&G327","v":"DOS (2)UNO (1)N/AGUANTES DE NITRILO PARA EXÁMEN - 1 CAJA POR 100 UNIDADES. INVERSION Y HOGAR S.A.S."},{"$f":"B327&H327","v":"C2S1-01384329.19"},{"$f":"G327","v":"INVERSION Y HOGAR S.A.S."},"Und",{"$f":"C327&D327&E327&F327&G327","v":"DOS (2)UNO (1)N/AGUANTES DE NITRILO PARA EXÁMEN - 1 CAJA POR 100 UNIDADES. INVERSION Y HOGAR S.A.S."},{"$f":"H327","v":84329.19}]
[{"$f":"\"ate01-\"&B328&\" \"&C328&\" \"&D328&\" \"&E328","v":"ate01-C2S1-014 DOS (2) UNO (1) N/A"},"C2S1-014","DOS (2)","UNO (1)","N/A","SOLUCIÓN SALINA - 1 FRASCO PLÁSTICO DE 250 CC.","JM GRUPO",6486.86,{"$f":"B328&G328","v":"C2S1-014JM GRUPO"},{"$f":"C328&D328&E328&F328","v":"DOS (2)UNO (1)N/ASOLUCIÓN SALINA - 1 FRASCO PLÁSTICO DE 250 CC."},{"$f":"H328","v":6486.86},{"$f":"C328&D328&E328&F328&G328","v":"DOS (2)UNO (1)N/ASOLUCIÓN SALINA - 1 FRASCO PLÁSTICO DE 250 CC.JM GRUPO"},{"$f":"B328&H328","v":"C2S1-0146486.86"},{"$f":"G328","v":"JM GRUPO"},"Und",{"$f":"C328&D328&E328&F328&G328","v":"DOS (2)UNO (1)N/ASOLUCIÓN SALINA - 1 FRASCO PLÁSTICO DE 250 CC.JM GRUPO"},{"$f":"H328","v":6486.86}]
[{"$f":"\"ate01-\"&B329&\" \"&C329&\" \"&D329&\" \"&E329","v":"ate01-C2S1-014 DOS (2) UNO (1) N/A"},"C2S1-014","DOS (2)","UNO (1)","N/A","SOLUCIÓN SALINA - 1 FRASCO PLÁSTICO DE 250 CC.","INCOLDEXT S.A.S.",4715.95,{"$f":"B329&G329","v":"C2S1-014INCOLDEXT S.A.S."},{"$f":"C329&D329&E329&F329","v":"DOS (2)UNO (1)N/ASOLUCIÓN SALINA - 1 FRASCO PLÁSTICO DE 250 CC."},{"$f":"H329","v":4715.95},{"$f":"C329&D329&E329&F329&G329","v":"DOS (2)UNO (1)N/ASOLUCIÓN SALINA - 1 FRASCO PLÁSTICO DE 250 CC.INCOLDEXT S.A.S."},{"$f":"B329&H329","v":"C2S1-0144715.95"},{"$f":"G329","v":"INCOLDEXT S.A.S."},"Und",{"$f":"C329&D329&E329&F329&G329","v":"DOS (2)UNO (1)N/ASOLUCIÓN SALINA - 1 FRASCO PLÁSTICO DE 250 CC.INCOLDEXT S.A.S."},{"$f":"H329","v":4715.95}]
[{"$f":"\"ate01-\"&B330&\" \"&C330&\" \"&D330&\" \"&E330","v":"ate01-C2S1-014 DOS (2) UNO (1) N/A"},"C2S1-014","DOS (2)","UNO (1)","N/A","SOLUCIÓN SALINA - 1 FRASCO PLÁSTICO DE 250 CC.","RES-Q SOLUTIONS",10378.98,{"$f":"B330&G330","v":"C2S1-014RES-Q SOLUTIONS"},{"$f":"C330&D330&E330&F330","v":"DOS (2)UNO (1)N/ASOLUCIÓN SALINA - 1 FRASCO PLÁSTICO DE 250 CC."},{"$f":"H330","v":10378.98},{"$f":"C330&D330&E330&F330&G330","v":"DOS (2)UNO (1)N/ASOLUCIÓN SALINA - 1 FRASCO PLÁSTICO DE 250 CC.RES-Q SOLUTIONS"},{"$f":"B330&H330","v":"C2S1-01410378.98"},{"$f":"G330","v":"RES-Q SOLUTIONS"},"Und",{"$f":"C330&D330&E330&F330&G330","v":"DOS (2)UNO (1)N/ASOLUCIÓN SALINA - 1 FRASCO PLÁSTICO DE 250 CC.RES-Q SOLUTIONS"},{"$f":"H330","v":10378.98}]
[{"$f":"\"ate01-\"&B331&\" \"&C331&\" \"&D331&\" \"&E331","v":"ate01-C2S1-014 DOS (2) UNO (1) N/A"},"C2S1-014","DOS (2)","UNO (1)","N/A","SOLUCIÓN SALINA - 1 FRASCO PLÁSTICO DE 250 CC.","INVERSION Y HOGAR S.A.S.",3502.9,{"$f":"B331&G331","v":"C2S1-014INVERSION Y HOGAR S.A.S."},{"$f":"C331&D331&E331&F331","v":"DOS (2)UNO (1)N/ASOLUCIÓN SALINA - 1 FRASCO PLÁSTICO DE 250 CC."},{"$f":"H331","v":3502.9},{"$f":"C331&D331&E331&F331&G331","v":"DOS (2)UNO (1)N/ASOLUCIÓN SALINA - 1 FRASCO PLÁSTICO DE 250 CC.INVERSION Y HOGAR S.A.S."},{"$f":"B331&H331","v":"C2S1-0143502.9"},{"$f":"G331","v":"INVERSION Y HOGAR S.A.S."},"Und",{"$f":"C331&D331&E331&F331&G331","v":"DOS (2)UNO (1)N/ASOLUCIÓN SALINA - 1 FRASCO PLÁSTICO DE 250 CC.INVERSION Y HOGAR S.A.S."},{"$f":"H331","v":3502.9}]
[{"$f":"\"ate01-\"&B332&\" \"&C332&\" \"&D332&\" \"&E332","v":"ate01-C2S1-015 DOS (2) UNO (1) N/A"},"C2S1-015","DOS (2)","UNO (1)","N/A","TERMÓMETRO DIGITAL - 1 UNIDAD, AUTOMÁTICO, CON SENSOR DE MEDICIÓN, RANGO DE 32  43.9grados centígrados Y PRECISIÓN +/- 0.1grados centígrados.","JM GRUPO",25947.439999999999,{"$f":"B332&G332","v":"C2S1-015JM GRUPO"},{"$f":"C332&D332&E332&F332","v":"DOS (2)UNO (1)N/ATERMÓMETRO DIGITAL - 1 UNIDAD, AUTOMÁTICO, CON SENSOR DE MEDICIÓN, RANGO DE 32  43.9grados centígrados Y PRECISIÓN +/- 0.1grados centígrados."},{"$f":"H332","v":25947.439999999999},{"$f":"C332&D332&E332&F332&G332","v":"DOS (2)UNO (1)N/ATERMÓMETRO DIGITAL - 1 UNIDAD, AUTOMÁTICO, CON SENSOR DE MEDICIÓN, RANGO DE 32  43.9grados centígrados Y PRECISIÓN +/- 0.1grados centígrados.JM GRUPO"},{"$f":"B332&H332","v":"C2S1-01525947.44"},{"$f":"G332","v":"JM GRUPO"},"Und",{"$f":"C332&D332&E332&F332&G332","v":"DOS (2)UNO (1)N/ATERMÓMETRO DIGITAL - 1 UNIDAD, AUTOMÁTICO, CON SENSOR DE MEDICIÓN, RANGO DE 32  43.9grados centígrados Y PRECISIÓN +/- 0.1grados centígrados.JM GRUPO"},{"$f":"H332","v":25947.439999999999}]
[{"$f":"\"ate01-\"&B333&\" \"&C333&\" \"&D333&\" \"&E333","v":"ate01-C2S1-015 DOS (2) UNO (1) N/A"},"C2S1-015","DOS (2)","UNO (1)","N/A","TERMÓMETRO DIGITAL - 1 UNIDAD, AUTOMÁTICO, CON SENSOR DE MEDICIÓN, RANGO DE 32  43.9grados centígrados Y PRECISIÓN +/- 0.1grados centígrados.","INCOLDEXT S.A.S.",20386.91,{"$f":"B333&G333","v":"C2S1-015INCOLDEXT S.A.S."},{"$f":"C333&D333&E333&F333","v":"DOS (2)UNO (1)N/ATERMÓMETRO DIGITAL - 1 UNIDAD, AUTOMÁTICO, CON SENSOR DE MEDICIÓN, RANGO DE 32  43.9grados centígrados Y PRECISIÓN +/- 0.1grados centígrados."},{"$f":"H333","v":20386.91},{"$f":"C333&D333&E333&F333&G333","v":"DOS (2)UNO (1)N/ATERMÓMETRO DIGITAL - 1 UNIDAD, AUTOMÁTICO, CON SENSOR DE MEDICIÓN, RANGO DE 32  43.9grados centígrados Y PRECISIÓN +/- 0.1grados centígrados.INCOLDEXT S.A.S."},{"$f":"B333&H333","v":"C2S1-01520386.91"},{"$f":"G333","v":"INCOLDEXT S.A.S."},"Und",{"$f":"C333&D333&E333&F333&G333","v":"DOS (2)UNO (1)N/ATERMÓMETRO DIGITAL - 1 UNIDAD, AUTOMÁTICO, CON SENSOR DE MEDICIÓN, RANGO DE 32  43.9grados centígrados Y PRECISIÓN +/- 0.1grados centígrados.INCOLDEXT S.A.S."},{"$f":"H333","v":20386.91}]
[{"$f":"\"ate01-\"&B334&\" \"&C334&\" \"&D334&\" \"&E334","v":"ate01-C2S1-015 DOS (2) UNO (1) N/A"},"C2S1-015","DOS (2)","UNO (1)","N/A","TERMÓMETRO DIGITAL - 1 UNIDAD, AUTOMÁTICO, CON SENSOR DE MEDICIÓN, RANGO DE 32  43.9grados centígrados Y PRECISIÓN +/- 0.1grados centígrados.","RES-Q SOLUTIONS",38921.160000000003,{"$f":"B334&G334","v":"C2S1-015RES-Q SOLUTIONS"},{"$f":"C334&D334&E334&F334","v":"DOS (2)UNO (1)N/ATERMÓMETRO DIGITAL - 1 UNIDAD, AUTOMÁTICO, CON SENSOR DE MEDICIÓN, RANGO DE 32  43.9grados centígrados Y PRECISIÓN +/- 0.1grados centígrados."},{"$f":"H334","v":38921.160000000003},{"$f":"C334&D334&E334&F334&G334","v":"DOS (2)UNO (1)N/ATERMÓMETRO DIGITAL - 1 UNIDAD, AUTOMÁTICO, CON SENSOR DE MEDICIÓN, RANGO DE 32  43.9grados centígrados Y PRECISIÓN +/- 0.1grados centígrados.RES-Q SOLUTIONS"},{"$f":"B334&H334","v":"C2S1-01538921.16"},{"$f":"G334","v":"RES-Q SOLUTIONS"},"Und",{"$f":"C334&D334&E334&F334&G334","v":"DOS (2)UNO (1)N/ATERMÓMETRO DIGITAL - 1 UNIDAD, AUTOMÁTICO, CON SENSOR DE MEDICIÓN, RANGO DE 32  43.9grados centígrados Y PRECISIÓN +/- 0.1grados centígrados.RES-Q SOLUTIONS"},{"$f":"H334","v":38921.160000000003}]
[{"$f":"\"ate01-\"&B335&\" \"&C335&\" \"&D335&\" \"&E335","v":"ate01-C2S1-015 DOS (2) UNO (1) N/A"},"C2S1-015","DOS (2)","UNO (1)","N/A","TERMÓMETRO DIGITAL - 1 UNIDAD, AUTOMÁTICO, CON SENSOR DE MEDICIÓN, RANGO DE 32  43.9grados centígrados Y PRECISIÓN +/- 0.1grados centígrados.","INVERSION Y HOGAR S.A.S.",12843.98,{"$f":"B335&G335","v":"C2S1-015INVERSION Y HOGAR S.A.S."},{"$f":"C335&D335&E335&F335","v":"DOS (2)UNO (1)N/ATERMÓMETRO DIGITAL - 1 UNIDAD, AUTOMÁTICO, CON SENSOR DE MEDICIÓN, RANGO DE 32  43.9grados centígrados Y PRECISIÓN +/- 0.1grados centígrados."},{"$f":"H335","v":12843.98},{"$f":"C335&D335&E335&F335&G335","v":"DOS (2)UNO (1)N/ATERMÓMETRO DIGITAL - 1 UNIDAD, AUTOMÁTICO, CON SENSOR DE MEDICIÓN, RANGO DE 32  43.9grados centígrados Y PRECISIÓN +/- 0.1grados centígrados.INVERSION Y HOGAR S.A.S."},{"$f":"B335&H335","v":"C2S1-01512843.98"},{"$f":"G335","v":"INVERSION Y HOGAR S.A.S."},"Und",{"$f":"C335&D335&E335&F335&G335","v":"DOS (2)UNO (1)N/ATERMÓMETRO DIGITAL - 1 UNIDAD, AUTOMÁTICO, CON SENSOR DE MEDICIÓN, RANGO DE 32  43.9grados centígrados Y PRECISIÓN +/- 0.1grados centígrados.INVERSION Y HOGAR S.A.S."},{"$f":"H335","v":12843.98}]
[{"$f":"\"ate01-\"&B336&\" \"&C336&\" \"&D336&\" \"&E336","v":"ate01-C2S1-016 DOS (2) UNO (1) N/A"},"C2S1-016","DOS (2)","UNO (1)","N/A","VENDA ELÁSTICA - 1 UNIDAD, 2inX5 YARDAS Y DE 450 CMS DE LONGITUD ESTIRADA. ","JM GRUPO",2400.14,{"$f":"B336&G336","v":"C2S1-016JM GRUPO"},{"$f":"C336&D336&E336&F336","v":"DOS (2)UNO (1)N/AVENDA ELÁSTICA - 1 UNIDAD, 2inX5 YARDAS Y DE 450 CMS DE LONGITUD ESTIRADA. "},{"$f":"H336","v":2400.14},{"$f":"C336&D336&E336&F336&G336","v":"DOS (2)UNO (1)N/AVENDA ELÁSTICA - 1 UNIDAD, 2inX5 YARDAS Y DE 450 CMS DE LONGITUD ESTIRADA. JM GRUPO"},{"$f":"B336&H336","v":"C2S1-0162400.14"},{"$f":"G336","v":"JM GRUPO"},"Und",{"$f":"C336&D336&E336&F336&G336","v":"DOS (2)UNO (1)N/AVENDA ELÁSTICA - 1 UNIDAD, 2inX5 YARDAS Y DE 450 CMS DE LONGITUD ESTIRADA. JM GRUPO"},{"$f":"H336","v":2400.14}]
[{"$f":"\"ate01-\"&B337&\" \"&C337&\" \"&D337&\" \"&E337","v":"ate01-C2S1-016 DOS (2) UNO (1) N/A"},"C2S1-016","DOS (2)","UNO (1)","N/A","VENDA ELÁSTICA - 1 UNIDAD, 2inX5 YARDAS Y DE 450 CMS DE LONGITUD ESTIRADA. ","INCOLDEXT S.A.S.",2223.6999999999998,{"$f":"B337&G337","v":"C2S1-016INCOLDEXT S.A.S."},{"$f":"C337&D337&E337&F337","v":"DOS (2)UNO (1)N/AVENDA ELÁSTICA - 1 UNIDAD, 2inX5 YARDAS Y DE 450 CMS DE LONGITUD ESTIRADA. "},{"$f":"H337","v":2223.6999999999998},{"$f":"C337&D337&E337&F337&G337","v":"DOS (2)UNO (1)N/AVENDA ELÁSTICA - 1 UNIDAD, 2inX5 YARDAS Y DE 450 CMS DE LONGITUD ESTIRADA. INCOLDEXT S.A.S."},{"$f":"B337&H337","v":"C2S1-0162223.7"},{"$f":"G337","v":"INCOLDEXT S.A.S."},"Und",{"$f":"C337&D337&E337&F337&G337","v":"DOS (2)UNO (1)N/AVENDA ELÁSTICA - 1 UNIDAD, 2inX5 YARDAS Y DE 450 CMS DE LONGITUD ESTIRADA. INCOLDEXT S.A.S."},{"$f":"H337","v":2223.6999999999998}]
[{"$f":"\"ate01-\"&B338&\" \"&C338&\" \"&D338&\" \"&E338","v":"ate01-C2S1-016 DOS (2) UNO (1) N/A"},"C2S1-016","DOS (2)","UNO (1)","N/A","VENDA ELÁSTICA - 1 UNIDAD, 2inX5 YARDAS Y DE 450 CMS DE LONGITUD ESTIRADA. ","RES-Q SOLUTIONS",4540.8,{"$f":"B338&G338","v":"C2S1-016RES-Q SOLUTIONS"},{"$f":"C338&D338&E338&F338","v":"DOS (2)UNO (1)N/AVENDA ELÁSTICA - 1 UNIDAD, 2inX5 YARDAS Y DE 450 CMS DE LONGITUD ESTIRADA. "},{"$f":"H338","v":4540.8},{"$f":"C338&D338&E338&F338&G338","v":"DOS (2)UNO (1)N/AVENDA ELÁSTICA - 1 UNIDAD, 2inX5 YARDAS Y DE 450 CMS DE LONGITUD ESTIRADA. RES-Q SOLUTIONS"},{"$f":"B338&H338","v":"C2S1-0164540.8"},{"$f":"G338","v":"RES-Q SOLUTIONS"},"Und",{"$f":"C338&D338&E338&F338&G338","v":"DOS (2)UNO (1)N/AVENDA ELÁSTICA - 1 UNIDAD, 2inX5 YARDAS Y DE 450 CMS DE LONGITUD ESTIRADA. RES-Q SOLUTIONS"},{"$f":"H338","v":4540.8}]
[{"$f":"\"ate01-\"&B339&\" \"&C339&\" \"&D339&\" \"&E339","v":"ate01-C2S1-016 DOS (2) UNO (1) N/A"},"C2S1-016","DOS (2)","UNO (1)","N/A","VENDA ELÁSTICA - 1 UNIDAD, 2inX5 YARDAS Y DE 450 CMS DE LONGITUD ESTIRADA. ","INVERSION Y HOGAR S.A.S.",1556.85,{"$f":"B339&G339","v":"C2S1-016INVERSION Y HOGAR S.A.S."},{"$f":"C339&D339&E339&F339","v":"DOS (2)UNO (1)N/AVENDA ELÁSTICA - 1 UNIDAD, 2inX5 YARDAS Y DE 450 CMS DE LONGITUD ESTIRADA. "},{"$f":"H339","v":1556.85},{"$f":"C339&D339&E339&F339&G339","v":"DOS (2)UNO (1)N/AVENDA ELÁSTICA - 1 UNIDAD, 2inX5 YARDAS Y DE 450 CMS DE LONGITUD ESTIRADA. INVERSION Y HOGAR S.A.S."},{"$f":"B339&H339","v":"C2S1-0161556.85"},{"$f":"G339","v":"INVERSION Y HOGAR S.A.S."},"Und",{"$f":"C339&D339&E339&F339&G339","v":"DOS (2)UNO (1)N/AVENDA ELÁSTICA - 1 UNIDAD, 2inX5 YARDAS Y DE 450 CMS DE LONGITUD ESTIRADA. INVERSION Y HOGAR S.A.S."},{"$f":"H339","v":1556.85}]
[{"$f":"\"ate01-\"&B340&\" \"&C340&\" \"&D340&\" \"&E340","v":"ate01-C2S1-017 DOS (2) UNO (1) N/A"},"C2S1-017","DOS (2)","UNO (1)","N/A","VENDA ELÁSTICA - 1UNIDAD, 3inX5 YARDAS Y DE 450 CMS DE LONGITUD ESTIRADA. ","JM GRUPO",2400.14,{"$f":"B340&G340","v":"C2S1-017JM GRUPO"},{"$f":"C340&D340&E340&F340","v":"DOS (2)UNO (1)N/AVENDA ELÁSTICA - 1UNIDAD, 3inX5 YARDAS Y DE 450 CMS DE LONGITUD ESTIRADA. "},{"$f":"H340","v":2400.14},{"$f":"C340&D340&E340&F340&G340","v":"DOS (2)UNO (1)N/AVENDA ELÁSTICA - 1UNIDAD, 3inX5 YARDAS Y DE 450 CMS DE LONGITUD ESTIRADA. JM GRUPO"},{"$f":"B340&H340","v":"C2S1-0172400.14"},{"$f":"G340","v":"JM GRUPO"},"Und",{"$f":"C340&D340&E340&F340&G340","v":"DOS (2)UNO (1)N/AVENDA ELÁSTICA - 1UNIDAD, 3inX5 YARDAS Y DE 450 CMS DE LONGITUD ESTIRADA. JM GRUPO"},{"$f":"H340","v":2400.14}]
[{"$f":"\"ate01-\"&B341&\" \"&C341&\" \"&D341&\" \"&E341","v":"ate01-C2S1-017 DOS (2) UNO (1) N/A"},"C2S1-017","DOS (2)","UNO (1)","N/A","VENDA ELÁSTICA - 1UNIDAD, 3inX5 YARDAS Y DE 450 CMS DE LONGITUD ESTIRADA. ","INCOLDEXT S.A.S.",2742.64,{"$f":"B341&G341","v":"C2S1-017INCOLDEXT S.A.S."},{"$f":"C341&D341&E341&F341","v":"DOS (2)UNO (1)N/AVENDA ELÁSTICA - 1UNIDAD, 3inX5 YARDAS Y DE 450 CMS DE LONGITUD ESTIRADA. "},{"$f":"H341","v":2742.64},{"$f":"C341&D341&E341&F341&G341","v":"DOS (2)UNO (1)N/AVENDA ELÁSTICA - 1UNIDAD, 3inX5 YARDAS Y DE 450 CMS DE LONGITUD ESTIRADA. INCOLDEXT S.A.S."},{"$f":"B341&H341","v":"C2S1-0172742.64"},{"$f":"G341","v":"INCOLDEXT S.A.S."},"Und",{"$f":"C341&D341&E341&F341&G341","v":"DOS (2)UNO (1)N/AVENDA ELÁSTICA - 1UNIDAD, 3inX5 YARDAS Y DE 450 CMS DE LONGITUD ESTIRADA. INCOLDEXT S.A.S."},{"$f":"H341","v":2742.64}]
[{"$f":"\"ate01-\"&B342&\" \"&C342&\" \"&D342&\" \"&E342","v":"ate01-C2S1-017 DOS (2) UNO (1) N/A"},"C2S1-017","DOS (2)","UNO (1)","N/A","VENDA ELÁSTICA - 1UNIDAD, 3inX5 YARDAS Y DE 450 CMS DE LONGITUD ESTIRADA. ","RES-Q SOLUTIONS",5189.49,{"$f":"B342&G342","v":"C2S1-017RES-Q SOLUTIONS"},{"$f":"C342&D342&E342&F342","v":"DOS (2)UNO (1)N/AVENDA ELÁSTICA - 1UNIDAD, 3inX5 YARDAS Y DE 450 CMS DE LONGITUD ESTIRADA. "},{"$f":"H342","v":5189.49},{"$f":"C342&D342&E342&F342&G342","v":"DOS (2)UNO (1)N/AVENDA ELÁSTICA - 1UNIDAD, 3inX5 YARDAS Y DE 450 CMS DE LONGITUD ESTIRADA. RES-Q SOLUTIONS"},{"$f":"B342&H342","v":"C2S1-0175189.49"},{"$f":"G342","v":"RES-Q SOLUTIONS"},"Und",{"$f":"C342&D342&E342&F342&G342","v":"DOS (2)UNO (1)N/AVENDA ELÁSTICA - 1UNIDAD, 3inX5 YARDAS Y DE 450 CMS DE LONGITUD ESTIRADA. RES-Q SOLUTIONS"},{"$f":"H342","v":5189.49}]
[{"$f":"\"ate01-\"&B343&\" \"&C343&\" \"&D343&\" \"&E343","v":"ate01-C2S1-017 DOS (2) UNO (1) N/A"},"C2S1-017","DOS (2)","UNO (1)","N/A","VENDA ELÁSTICA - 1UNIDAD, 3inX5 YARDAS Y DE 450 CMS DE LONGITUD ESTIRADA. ","INVERSION Y HOGAR S.A.S.",2075.8000000000002,{"$f":"B343&G343","v":"C2S1-017INVERSION Y HOGAR S.A.S."},{"$f":"C343&D343&E343&F343","v":"DOS (2)UNO (1)N/AVENDA ELÁSTICA - 1UNIDAD, 3inX5 YARDAS Y DE 450 CMS DE LONGITUD ESTIRADA. "},{"$f":"H343","v":2075.8000000000002},{"$f":"C343&D343&E343&F343&G343","v":"DOS (2)UNO (1)N/AVENDA ELÁSTICA - 1UNIDAD, 3inX5 YARDAS Y DE 450 CMS DE LONGITUD ESTIRADA. INVERSION Y HOGAR S.A.S."},{"$f":"B343&H343","v":"C2S1-0172075.8"},{"$f":"G343","v":"INVERSION Y HOGAR S.A.S."},"Und",{"$f":"C343&D343&E343&F343&G343","v":"DOS (2)UNO (1)N/AVENDA ELÁSTICA - 1UNIDAD, 3inX5 YARDAS Y DE 450 CMS DE LONGITUD ESTIRADA. INVERSION Y HOGAR S.A.S."},{"$f":"H343","v":2075.8000000000002}]
[{"$f":"\"ate01-\"&B344&\" \"&C344&\" \"&D344&\" \"&E344","v":"ate01-C2S1-018 DOS (2) UNO (1) N/A"},"C2S1-018","DOS (2)","UNO (1)","N/A","VENDA ELÁSTICA - 1 UNIDAD, 5inX5 YARDAS Y DE 450 CMS DE LONGITUD ESTIRADA. ","JM GRUPO",2400.14,{"$f":"B344&G344","v":"C2S1-018JM GRUPO"},{"$f":"C344&D344&E344&F344","v":"DOS (2)UNO (1)N/AVENDA ELÁSTICA - 1 UNIDAD, 5inX5 YARDAS Y DE 450 CMS DE LONGITUD ESTIRADA. "},{"$f":"H344","v":2400.14},{"$f":"C344&D344&E344&F344&G344","v":"DOS (2)UNO (1)N/AVENDA ELÁSTICA - 1 UNIDAD, 5inX5 YARDAS Y DE 450 CMS DE LONGITUD ESTIRADA. JM GRUPO"},{"$f":"B344&H344","v":"C2S1-0182400.14"},{"$f":"G344","v":"JM GRUPO"},"Und",{"$f":"C344&D344&E344&F344&G344","v":"DOS (2)UNO (1)N/AVENDA ELÁSTICA - 1 UNIDAD, 5inX5 YARDAS Y DE 450 CMS DE LONGITUD ESTIRADA. JM GRUPO"},{"$f":"H344","v":2400.14}]
[{"$f":"\"ate01-\"&B345&\" \"&C345&\" \"&D345&\" \"&E345","v":"ate01-C2S1-018 DOS (2) UNO (1) N/A"},"C2S1-018","DOS (2)","UNO (1)","N/A","VENDA ELÁSTICA - 1 UNIDAD, 5inX5 YARDAS Y DE 450 CMS DE LONGITUD ESTIRADA. ","INCOLDEXT S.A.S.",4744.49,{"$f":"B345&G345","v":"C2S1-018INCOLDEXT S.A.S."},{"$f":"C345&D345&E345&F345","v":"DOS (2)UNO (1)N/AVENDA ELÁSTICA - 1 UNIDAD, 5inX5 YARDAS Y DE 450 CMS DE LONGITUD ESTIRADA. "},{"$f":"H345","v":4744.49},{"$f":"C345&D345&E345&F345&G345","v":"DOS (2)UNO (1)N/AVENDA ELÁSTICA - 1 UNIDAD, 5inX5 YARDAS Y DE 450 CMS DE LONGITUD ESTIRADA. INCOLDEXT S.A.S."},{"$f":"B345&H345","v":"C2S1-0184744.49"},{"$f":"G345","v":"INCOLDEXT S.A.S."},"Und",{"$f":"C345&D345&E345&F345&G345","v":"DOS (2)UNO (1)N/AVENDA ELÁSTICA - 1 UNIDAD, 5inX5 YARDAS Y DE 450 CMS DE LONGITUD ESTIRADA. INCOLDEXT S.A.S."},{"$f":"H345","v":4744.49}]
[{"$f":"\"ate01-\"&B346&\" \"&C346&\" \"&D346&\" \"&E346","v":"ate01-C2S1-018 DOS (2) UNO (1) N/A"},"C2S1-018","DOS (2)","UNO (1)","N/A","VENDA ELÁSTICA - 1 UNIDAD, 5inX5 YARDAS Y DE 450 CMS DE LONGITUD ESTIRADA. ","RES-Q SOLUTIONS",5838.17,{"$f":"B346&G346","v":"C2S1-018RES-Q SOLUTIONS"},{"$f":"C346&D346&E346&F346","v":"DOS (2)UNO (1)N/AVENDA ELÁSTICA - 1 UNIDAD, 5inX5 YARDAS Y DE 450 CMS DE LONGITUD ESTIRADA. "},{"$f":"H346","v":5838.17},{"$f":"C346&D346&E346&F346&G346","v":"DOS (2)UNO (1)N/AVENDA ELÁSTICA - 1 UNIDAD, 5inX5 YARDAS Y DE 450 CMS DE LONGITUD ESTIRADA. RES-Q SOLUTIONS"},{"$f":"B346&H346","v":"C2S1-0185838.17"},{"$f":"G346","v":"RES-Q SOLUTIONS"},"Und",{"$f":"C346&D346&E346&F346&G346","v":"DOS (2)UNO (1)N/AVENDA ELÁSTICA - 1 UNIDAD, 5inX5 YARDAS Y DE 450 CMS DE LONGITUD ESTIRADA. RES-Q SOLUTIONS"},{"$f":"H346","v":5838.17}]
[{"$f":"\"ate01-\"&B347&\" \"&C347&\" \"&D347&\" \"&E347","v":"ate01-C2S1-018 DOS (2) UNO (1) N/A"},"C2S1-018","DOS (2)","UNO (1)","N/A","VENDA ELÁSTICA - 1 UNIDAD, 5inX5 YARDAS Y DE 450 CMS DE LONGITUD ESTIRADA. ","INVERSION Y HOGAR S.A.S.",3502.9,{"$f":"B347&G347","v":"C2S1-018INVERSION Y HOGAR S.A.S."},{"$f":"C347&D347&E347&F347","v":"DOS (2)UNO (1)N/AVENDA ELÁSTICA - 1 UNIDAD, 5inX5 YARDAS Y DE 450 CMS DE LONGITUD ESTIRADA. "},{"$f":"H347","v":3502.9},{"$f":"C347&D347&E347&F347&G347","v":"DOS (2)UNO (1)N/AVENDA ELÁSTICA - 1 UNIDAD, 5inX5 YARDAS Y DE 450 CMS DE LONGITUD ESTIRADA. INVERSION Y HOGAR S.A.S."},{"$f":"B347&H347","v":"C2S1-0183502.9"},{"$f":"G347","v":"INVERSION Y HOGAR S.A.S."},"Und",{"$f":"C347&D347&E347&F347&G347","v":"DOS (2)UNO (1)N/AVENDA ELÁSTICA - 1 UNIDAD, 5inX5 YARDAS Y DE 450 CMS DE LONGITUD ESTIRADA. INVERSION Y HOGAR S.A.S."},{"$f":"H347","v":3502.9}]
[{"$f":"\"ate01-\"&B348&\" \"&C348&\" \"&D348&\" \"&E348","v":"ate01-C2S1-019 DOS (2) UNO (1) N/A"},"C2S1-019","DOS (2)","UNO (1)","N/A","VENDA DE ALGODÓN LAMINADO - 1 UNIDAD, 3inX5 YARDAS Y DE 450 CMS DE LONGITUD ESTIRADA. ","JM GRUPO",2400.14,{"$f":"B348&G348","v":"C2S1-019JM GRUPO"},{"$f":"C348&D348&E348&F348","v":"DOS (2)UNO (1)N/AVENDA DE ALGODÓN LAMINADO - 1 UNIDAD, 3inX5 YARDAS Y DE 450 CMS DE LONGITUD ESTIRADA. "},{"$f":"H348","v":2400.14},{"$f":"C348&D348&E348&F348&G348","v":"DOS (2)UNO (1)N/AVENDA DE ALGODÓN LAMINADO - 1 UNIDAD, 3inX5 YARDAS Y DE 450 CMS DE LONGITUD ESTIRADA. JM GRUPO"},{"$f":"B348&H348","v":"C2S1-0192400.14"},{"$f":"G348","v":"JM GRUPO"},"Und",{"$f":"C348&D348&E348&F348&G348","v":"DOS (2)UNO (1)N/AVENDA DE ALGODÓN LAMINADO - 1 UNIDAD, 3inX5 YARDAS Y DE 450 CMS DE LONGITUD ESTIRADA. JM GRUPO"},{"$f":"H348","v":2400.14}]
[{"$f":"\"ate01-\"&B349&\" \"&C349&\" \"&D349&\" \"&E349","v":"ate01-C2S1-019 DOS (2) UNO (1) N/A"},"C2S1-019","DOS (2)","UNO (1)","N/A","VENDA DE ALGODÓN LAMINADO - 1 UNIDAD, 3inX5 YARDAS Y DE 450 CMS DE LONGITUD ESTIRADA. ","INCOLDEXT S.A.S.",3057.91,{"$f":"B349&G349","v":"C2S1-019INCOLDEXT S.A.S."},{"$f":"C349&D349&E349&F349","v":"DOS (2)UNO (1)N/AVENDA DE ALGODÓN LAMINADO - 1 UNIDAD, 3inX5 YARDAS Y DE 450 CMS DE LONGITUD ESTIRADA. "},{"$f":"H349","v":3057.91},{"$f":"C349&D349&E349&F349&G349","v":"DOS (2)UNO (1)N/AVENDA DE ALGODÓN LAMINADO - 1 UNIDAD, 3inX5 YARDAS Y DE 450 CMS DE LONGITUD ESTIRADA. INCOLDEXT S.A.S."},{"$f":"B349&H349","v":"C2S1-0193057.91"},{"$f":"G349","v":"INCOLDEXT S.A.S."},"Und",{"$f":"C349&D349&E349&F349&G349","v":"DOS (2)UNO (1)N/AVENDA DE ALGODÓN LAMINADO - 1 UNIDAD, 3inX5 YARDAS Y DE 450 CMS DE LONGITUD ESTIRADA. INCOLDEXT S.A.S."},{"$f":"H349","v":3057.91}]
[{"$f":"\"ate01-\"&B350&\" \"&C350&\" \"&D350&\" \"&E350","v":"ate01-C2S1-019 DOS (2) UNO (1) N/A"},"C2S1-019","DOS (2)","UNO (1)","N/A","VENDA DE ALGODÓN LAMINADO - 1 UNIDAD, 3inX5 YARDAS Y DE 450 CMS DE LONGITUD ESTIRADA. ","RES-Q SOLUTIONS",3892.12,{"$f":"B350&G350","v":"C2S1-019RES-Q SOLUTIONS"},{"$f":"C350&D350&E350&F350","v":"DOS (2)UNO (1)N/AVENDA DE ALGODÓN LAMINADO - 1 UNIDAD, 3inX5 YARDAS Y DE 450 CMS DE LONGITUD ESTIRADA. "},{"$f":"H350","v":3892.12},{"$f":"C350&D350&E350&F350&G350","v":"DOS (2)UNO (1)N/AVENDA DE ALGODÓN LAMINADO - 1 UNIDAD, 3inX5 YARDAS Y DE 450 CMS DE LONGITUD ESTIRADA. RES-Q SOLUTIONS"},{"$f":"B350&H350","v":"C2S1-0193892.12"},{"$f":"G350","v":"RES-Q SOLUTIONS"},"Und",{"$f":"C350&D350&E350&F350&G350","v":"DOS (2)UNO (1)N/AVENDA DE ALGODÓN LAMINADO - 1 UNIDAD, 3inX5 YARDAS Y DE 450 CMS DE LONGITUD ESTIRADA. RES-Q SOLUTIONS"},{"$f":"H350","v":3892.12}]
[{"$f":"\"ate01-\"&B351&\" \"&C351&\" \"&D351&\" \"&E351","v":"ate01-C2S1-019 DOS (2) UNO (1) N/A"},"C2S1-019","DOS (2)","UNO (1)","N/A","VENDA DE ALGODÓN LAMINADO - 1 UNIDAD, 3inX5 YARDAS Y DE 450 CMS DE LONGITUD ESTIRADA. ","INVERSION Y HOGAR S.A.S.",1686.58,{"$f":"B351&G351","v":"C2S1-019INVERSION Y HOGAR S.A.S."},{"$f":"C351&D351&E351&F351","v":"DOS (2)UNO (1)N/AVENDA DE ALGODÓN LAMINADO - 1 UNIDAD, 3inX5 YARDAS Y DE 450 CMS DE LONGITUD ESTIRADA. "},{"$f":"H351","v":1686.58},{"$f":"C351&D351&E351&F351&G351","v":"DOS (2)UNO (1)N/AVENDA DE ALGODÓN LAMINADO - 1 UNIDAD, 3inX5 YARDAS Y DE 450 CMS DE LONGITUD ESTIRADA. INVERSION Y HOGAR S.A.S."},{"$f":"B351&H351","v":"C2S1-0191686.58"},{"$f":"G351","v":"INVERSION Y HOGAR S.A.S."},"Und",{"$f":"C351&D351&E351&F351&G351","v":"DOS (2)UNO (1)N/AVENDA DE ALGODÓN LAMINADO - 1 UNIDAD, 3inX5 YARDAS Y DE 450 CMS DE LONGITUD ESTIRADA. INVERSION Y HOGAR S.A.S."},{"$f":"H351","v":1686.58}]
[{"$f":"\"ate01-\"&B352&\" \"&C352&\" \"&D352&\" \"&E352","v":"ate01-C2S1-020 DOS (2) UNO (1) N/A"},"C2S1-020","DOS (2)","UNO (1)","N/A","VENDA DE ALGODÓN LAMINADO - 1 UNIDAD, 3inX5 YARDAS Y DE 450 CMS DE LONGITUD ESTIRADA. ","JM GRUPO",2400.14,{"$f":"B352&G352","v":"C2S1-020JM GRUPO"},{"$f":"C352&D352&E352&F352","v":"DOS (2)UNO (1)N/AVENDA DE ALGODÓN LAMINADO - 1 UNIDAD, 3inX5 YARDAS Y DE 450 CMS DE LONGITUD ESTIRADA. "},{"$f":"H352","v":2400.14},{"$f":"C352&D352&E352&F352&G352","v":"DOS (2)UNO (1)N/AVENDA DE ALGODÓN LAMINADO - 1 UNIDAD, 3inX5 YARDAS Y DE 450 CMS DE LONGITUD ESTIRADA. JM GRUPO"},{"$f":"B352&H352","v":"C2S1-0202400.14"},{"$f":"G352","v":"JM GRUPO"},"Und",{"$f":"C352&D352&E352&F352&G352","v":"DOS (2)UNO (1)N/AVENDA DE ALGODÓN LAMINADO - 1 UNIDAD, 3inX5 YARDAS Y DE 450 CMS DE LONGITUD ESTIRADA. JM GRUPO"},{"$f":"H352","v":2400.14}]
[{"$f":"\"ate01-\"&B353&\" \"&C353&\" \"&D353&\" \"&E353","v":"ate01-C2S1-020 DOS (2) UNO (1) N/A"},"C2S1-020","DOS (2)","UNO (1)","N/A","VENDA DE ALGODÓN LAMINADO - 1 UNIDAD, 3inX5 YARDAS Y DE 450 CMS DE LONGITUD ESTIRADA. ","INCOLDEXT S.A.S.",3057.91,{"$f":"B353&G353","v":"C2S1-020INCOLDEXT S.A.S."},{"$f":"C353&D353&E353&F353","v":"DOS (2)UNO (1)N/AVENDA DE ALGODÓN LAMINADO - 1 UNIDAD, 3inX5 YARDAS Y DE 450 CMS DE LONGITUD ESTIRADA. "},{"$f":"H353","v":3057.91},{"$f":"C353&D353&E353&F353&G353","v":"DOS (2)UNO (1)N/AVENDA DE ALGODÓN LAMINADO - 1 UNIDAD, 3inX5 YARDAS Y DE 450 CMS DE LONGITUD ESTIRADA. INCOLDEXT S.A.S."},{"$f":"B353&H353","v":"C2S1-0203057.91"},{"$f":"G353","v":"INCOLDEXT S.A.S."},"Und",{"$f":"C353&D353&E353&F353&G353","v":"DOS (2)UNO (1)N/AVENDA DE ALGODÓN LAMINADO - 1 UNIDAD, 3inX5 YARDAS Y DE 450 CMS DE LONGITUD ESTIRADA. INCOLDEXT S.A.S."},{"$f":"H353","v":3057.91}]
[{"$f":"\"ate01-\"&B354&\" \"&C354&\" \"&D354&\" \"&E354","v":"ate01-C2S1-020 DOS (2) UNO (1) N/A"},"C2S1-020","DOS (2)","UNO (1)","N/A","VENDA DE ALGODÓN LAMINADO - 1 UNIDAD, 3inX5 YARDAS Y DE 450 CMS DE LONGITUD ESTIRADA. ","RES-Q SOLUTIONS",4540.8,{"$f":"B354&G354","v":"C2S1-020RES-Q SOLUTIONS"},{"$f":"C354&D354&E354&F354","v":"DOS (2)UNO (1)N/AVENDA DE ALGODÓN LAMINADO - 1 UNIDAD, 3inX5 YARDAS Y DE 450 CMS DE LONGITUD ESTIRADA. "},{"$f":"H354","v":4540.8},{"$f":"C354&D354&E354&F354&G354","v":"DOS (2)UNO (1)N/AVENDA DE ALGODÓN LAMINADO - 1 UNIDAD, 3inX5 YARDAS Y DE 450 CMS DE LONGITUD ESTIRADA. RES-Q SOLUTIONS"},{"$f":"B354&H354","v":"C2S1-0204540.8"},{"$f":"G354","v":"RES-Q SOLUTIONS"},"Und",{"$f":"C354&D354&E354&F354&G354","v":"DOS (2)UNO (1)N/AVENDA DE ALGODÓN LAMINADO - 1 UNIDAD, 3inX5 YARDAS Y DE 450 CMS DE LONGITUD ESTIRADA. RES-Q SOLUTIONS"},{"$f":"H354","v":4540.8}]
[{"$f":"\"ate01-\"&B355&\" \"&C355&\" \"&D355&\" \"&E355","v":"ate01-C2S1-020 DOS (2) UNO (1) N/A"},"C2S1-020","DOS (2)","UNO (1)","N/A","VENDA DE ALGODÓN LAMINADO - 1 UNIDAD, 3inX5 YARDAS Y DE 450 CMS DE LONGITUD ESTIRADA. ","INVERSION Y HOGAR S.A.S.",2724.48,{"$f":"B355&G355","v":"C2S1-020INVERSION Y HOGAR S.A.S."},{"$f":"C355&D355&E355&F355","v":"DOS (2)UNO (1)N/AVENDA DE ALGODÓN LAMINADO - 1 UNIDAD, 3inX5 YARDAS Y DE 450 CMS DE LONGITUD ESTIRADA. "},{"$f":"H355","v":2724.48},{"$f":"C355&D355&E355&F355&G355","v":"DOS (2)UNO (1)N/AVENDA DE ALGODÓN LAMINADO - 1 UNIDAD, 3inX5 YARDAS Y DE 450 CMS DE LONGITUD ESTIRADA. INVERSION Y HOGAR S.A.S."},{"$f":"B355&H355","v":"C2S1-0202724.48"},{"$f":"G355","v":"INVERSION Y HOGAR S.A.S."},"Und",{"$f":"C355&D355&E355&F355&G355","v":"DOS (2)UNO (1)N/AVENDA DE ALGODÓN LAMINADO - 1 UNIDAD, 3inX5 YARDAS Y DE 450 CMS DE LONGITUD ESTIRADA. INVERSION Y HOGAR S.A.S."},{"$f":"H355","v":2724.48}]
[{"$f":"\"ate01-\"&B356&\" \"&C356&\" \"&D356&\" \"&E356","v":"ate01-C2S1-021 DOS (2) UNO (1) N/A"},"C2S1-021","DOS (2)","UNO (1)","N/A","ALCOHOL ANTISÉPTICO - 1 FRASCO DE 275 ML.","JM GRUPO",6486.86,{"$f":"B356&G356","v":"C2S1-021JM GRUPO"},{"$f":"C356&D356&E356&F356","v":"DOS (2)UNO (1)N/AALCOHOL ANTISÉPTICO - 1 FRASCO DE 275 ML."},{"$f":"H356","v":6486.86},{"$f":"C356&D356&E356&F356&G356","v":"DOS (2)UNO (1)N/AALCOHOL ANTISÉPTICO - 1 FRASCO DE 275 ML.JM GRUPO"},{"$f":"B356&H356","v":"C2S1-0216486.86"},{"$f":"G356","v":"JM GRUPO"},"Und",{"$f":"C356&D356&E356&F356&G356","v":"DOS (2)UNO (1)N/AALCOHOL ANTISÉPTICO - 1 FRASCO DE 275 ML.JM GRUPO"},{"$f":"H356","v":6486.86}]
[{"$f":"\"ate01-\"&B357&\" \"&C357&\" \"&D357&\" \"&E357","v":"ate01-C2S1-021 DOS (2) UNO (1) N/A"},"C2S1-021","DOS (2)","UNO (1)","N/A","ALCOHOL ANTISÉPTICO - 1 FRASCO DE 275 ML.","INCOLDEXT S.A.S.",5467.13,{"$f":"B357&G357","v":"C2S1-021INCOLDEXT S.A.S."},{"$f":"C357&D357&E357&F357","v":"DOS (2)UNO (1)N/AALCOHOL ANTISÉPTICO - 1 FRASCO DE 275 ML."},{"$f":"H357","v":5467.13},{"$f":"C357&D357&E357&F357&G357","v":"DOS (2)UNO (1)N/AALCOHOL ANTISÉPTICO - 1 FRASCO DE 275 ML.INCOLDEXT S.A.S."},{"$f":"B357&H357","v":"C2S1-0215467.13"},{"$f":"G357","v":"INCOLDEXT S.A.S."},"Und",{"$f":"C357&D357&E357&F357&G357","v":"DOS (2)UNO (1)N/AALCOHOL ANTISÉPTICO - 1 FRASCO DE 275 ML.INCOLDEXT S.A.S."},{"$f":"H357","v":5467.13}]
[{"$f":"\"ate01-\"&B358&\" \"&C358&\" \"&D358&\" \"&E358","v":"ate01-C2S1-021 DOS (2) UNO (1) N/A"},"C2S1-021","DOS (2)","UNO (1)","N/A","ALCOHOL ANTISÉPTICO - 1 FRASCO DE 275 ML.","RES-Q SOLUTIONS",15568.47,{"$f":"B358&G358","v":"C2S1-021RES-Q SOLUTIONS"},{"$f":"C358&D358&E358&F358","v":"DOS (2)UNO (1)N/AALCOHOL ANTISÉPTICO - 1 FRASCO DE 275 ML."},{"$f":"H358","v":15568.47},{"$f":"C358&D358&E358&F358&G358","v":"DOS (2)UNO (1)N/AALCOHOL ANTISÉPTICO - 1 FRASCO DE 275 ML.RES-Q SOLUTIONS"},{"$f":"B358&H358","v":"C2S1-02115568.47"},{"$f":"G358","v":"RES-Q SOLUTIONS"},"Und",{"$f":"C358&D358&E358&F358&G358","v":"DOS (2)UNO (1)N/AALCOHOL ANTISÉPTICO - 1 FRASCO DE 275 ML.RES-Q SOLUTIONS"},{"$f":"H358","v":15568.47}]
[{"$f":"\"ate01-\"&B359&\" \"&C359&\" \"&D359&\" \"&E359","v":"ate01-C2S1-021 DOS (2) UNO (1) N/A"},"C2S1-021","DOS (2)","UNO (1)","N/A","ALCOHOL ANTISÉPTICO - 1 FRASCO DE 275 ML.","INVERSION Y HOGAR S.A.S.",4787.3,{"$f":"B359&G359","v":"C2S1-021INVERSION Y HOGAR S.A.S."},{"$f":"C359&D359&E359&F359","v":"DOS (2)UNO (1)N/AALCOHOL ANTISÉPTICO - 1 FRASCO DE 275 ML."},{"$f":"H359","v":4787.3},{"$f":"C359&D359&E359&F359&G359","v":"DOS (2)UNO (1)N/AALCOHOL ANTISÉPTICO - 1 FRASCO DE 275 ML.INVERSION Y HOGAR S.A.S."},{"$f":"B359&H359","v":"C2S1-0214787.3"},{"$f":"G359","v":"INVERSION Y HOGAR S.A.S."},"Und",{"$f":"C359&D359&E359&F359&G359","v":"DOS (2)UNO (1)N/AALCOHOL ANTISÉPTICO - 1 FRASCO DE 275 ML.INVERSION Y HOGAR S.A.S."},{"$f":"H359","v":4787.3}]
[{"$f":"\"ate01-\"&B360&\" \"&C360&\" \"&D360&\" \"&E360","v":"ate01-C2S1-022 DOS (2) UNO (1) N/A"},"C2S1-022","DOS (2)","UNO (1)","N/A","ESPARADRAPO EN TELA - 1 ROLLO DE 4in","JM GRUPO",28542.19,{"$f":"B360&G360","v":"C2S1-022JM GRUPO"},{"$f":"C360&D360&E360&F360","v":"DOS (2)UNO (1)N/AESPARADRAPO EN TELA - 1 ROLLO DE 4in"},{"$f":"H360","v":28542.19},{"$f":"C360&D360&E360&F360&G360","v":"DOS (2)UNO (1)N/AESPARADRAPO EN TELA - 1 ROLLO DE 4inJM GRUPO"},{"$f":"B360&H360","v":"C2S1-02228542.19"},{"$f":"G360","v":"JM GRUPO"},"Und",{"$f":"C360&D360&E360&F360&G360","v":"DOS (2)UNO (1)N/AESPARADRAPO EN TELA - 1 ROLLO DE 4inJM GRUPO"},{"$f":"H360","v":28542.19}]
[{"$f":"\"ate01-\"&B361&\" \"&C361&\" \"&D361&\" \"&E361","v":"ate01-C2S1-022 DOS (2) UNO (1) N/A"},"C2S1-022","DOS (2)","UNO (1)","N/A","ESPARADRAPO EN TELA - 1 ROLLO DE 4in","INCOLDEXT S.A.S.",28263.25,{"$f":"B361&G361","v":"C2S1-022INCOLDEXT S.A.S."},{"$f":"C361&D361&E361&F361","v":"DOS (2)UNO (1)N/AESPARADRAPO EN TELA - 1 ROLLO DE 4in"},{"$f":"H361","v":28263.25},{"$f":"C361&D361&E361&F361&G361","v":"DOS (2)UNO (1)N/AESPARADRAPO EN TELA - 1 ROLLO DE 4inINCOLDEXT S.A.S."},{"$f":"B361&H361","v":"C2S1-02228263.25"},{"$f":"G361","v":"INCOLDEXT S.A.S."},"Und",{"$f":"C361&D361&E361&F361&G361","v":"DOS (2)UNO (1)N/AESPARADRAPO EN TELA - 1 ROLLO DE 4inINCOLDEXT S.A.S."},{"$f":"H361","v":28263.25}]
[{"$f":"\"ate01-\"&B362&\" \"&C362&\" \"&D362&\" \"&E362","v":"ate01-C2S1-022 DOS (2) UNO (1) N/A"},"C2S1-022","DOS (2)","UNO (1)","N/A","ESPARADRAPO EN TELA - 1 ROLLO DE 4in","RES-Q SOLUTIONS",42164.6,{"$f":"B362&G362","v":"C2S1-022RES-Q SOLUTIONS"},{"$f":"C362&D362&E362&F362","v":"DOS (2)UNO (1)N/AESPARADRAPO EN TELA - 1 ROLLO DE 4in"},{"$f":"H362","v":42164.6},{"$f":"C362&D362&E362&F362&G362","v":"DOS (2)UNO (1)N/AESPARADRAPO EN TELA - 1 ROLLO DE 4inRES-Q SOLUTIONS"},{"$f":"B362&H362","v":"C2S1-02242164.6"},{"$f":"G362","v":"RES-Q SOLUTIONS"},"Und",{"$f":"C362&D362&E362&F362&G362","v":"DOS (2)UNO (1)N/AESPARADRAPO EN TELA - 1 ROLLO DE 4inRES-Q SOLUTIONS"},{"$f":"H362","v":42164.6}]
[{"$f":"\"ate01-\"&B363&\" \"&C363&\" \"&D363&\" \"&E363","v":"ate01-C2S1-022 DOS (2) UNO (1) N/A"},"C2S1-022","DOS (2)","UNO (1)","N/A","ESPARADRAPO EN TELA - 1 ROLLO DE 4in","INVERSION Y HOGAR S.A.S.",19330.849999999999,{"$f":"B363&G363","v":"C2S1-022INVERSION Y HOGAR S.A.S."},{"$f":"C363&D363&E363&F363","v":"DOS (2)UNO (1)N/AESPARADRAPO EN TELA - 1 ROLLO DE 4in"},{"$f":"H363","v":19330.849999999999},{"$f":"C363&D363&E363&F363&G363","v":"DOS (2)UNO (1)N/AESPARADRAPO EN TELA - 1 ROLLO DE 4inINVERSION Y HOGAR S.A.S."},{"$f":"B363&H363","v":"C2S1-02219330.85"},{"$f":"G363","v":"INVERSION Y HOGAR S.A.S."},"Und",{"$f":"C363&D363&E363&F363&G363","v":"DOS (2)UNO (1)N/AESPARADRAPO EN TELA - 1 ROLLO DE 4inINVERSION Y HOGAR S.A.S."},{"$f":"H363","v":19330.849999999999}]
[{"$f":"\"ate01-\"&B364&\" \"&C364&\" \"&D364&\" \"&E364","v":"ate01-C2S1-023 DOS (2) UNO (1) N/A"},"C2S1-023","DOS (2)","UNO (1)","N/A","YODOPOVIDONA - 1 FRASCO POR 120 ML. ","JM GRUPO",13622.41,{"$f":"B364&G364","v":"C2S1-023JM GRUPO"},{"$f":"C364&D364&E364&F364","v":"DOS (2)UNO (1)N/AYODOPOVIDONA - 1 FRASCO POR 120 ML. "},{"$f":"H364","v":13622.41},{"$f":"C364&D364&E364&F364&G364","v":"DOS (2)UNO (1)N/AYODOPOVIDONA - 1 FRASCO POR 120 ML. JM GRUPO"},{"$f":"B364&H364","v":"C2S1-02313622.41"},{"$f":"G364","v":"JM GRUPO"},"Und",{"$f":"C364&D364&E364&F364&G364","v":"DOS (2)UNO (1)N/AYODOPOVIDONA - 1 FRASCO POR 120 ML. JM GRUPO"},{"$f":"H364","v":13622.41}]
[{"$f":"\"ate01-\"&B365&\" \"&C365&\" \"&D365&\" \"&E365","v":"ate01-C2S1-023 DOS (2) UNO (1) N/A"},"C2S1-023","DOS (2)","UNO (1)","N/A","YODOPOVIDONA - 1 FRASCO POR 120 ML. ","INCOLDEXT S.A.S.",11119.78,{"$f":"B365&G365","v":"C2S1-023INCOLDEXT S.A.S."},{"$f":"C365&D365&E365&F365","v":"DOS (2)UNO (1)N/AYODOPOVIDONA - 1 FRASCO POR 120 ML. "},{"$f":"H365","v":11119.78},{"$f":"C365&D365&E365&F365&G365","v":"DOS (2)UNO (1)N/AYODOPOVIDONA - 1 FRASCO POR 120 ML. INCOLDEXT S.A.S."},{"$f":"B365&H365","v":"C2S1-02311119.78"},{"$f":"G365","v":"INCOLDEXT S.A.S."},"Und",{"$f":"C365&D365&E365&F365&G365","v":"DOS (2)UNO (1)N/AYODOPOVIDONA - 1 FRASCO POR 120 ML. INCOLDEXT S.A.S."},{"$f":"H365","v":11119.78}]
[{"$f":"\"ate01-\"&B366&\" \"&C366&\" \"&D366&\" \"&E366","v":"ate01-C2S1-023 DOS (2) UNO (1) N/A"},"C2S1-023","DOS (2)","UNO (1)","N/A","YODOPOVIDONA - 1 FRASCO POR 120 ML. ","RES-Q SOLUTIONS",15568.47,{"$f":"B366&G366","v":"C2S1-023RES-Q SOLUTIONS"},{"$f":"C366&D366&E366&F366","v":"DOS (2)UNO (1)N/AYODOPOVIDONA - 1 FRASCO POR 120 ML. "},{"$f":"H366","v":15568.47},{"$f":"C366&D366&E366&F366&G366","v":"DOS (2)UNO (1)N/AYODOPOVIDONA - 1 FRASCO POR 120 ML. RES-Q SOLUTIONS"},{"$f":"B366&H366","v":"C2S1-02315568.47"},{"$f":"G366","v":"RES-Q SOLUTIONS"},"Und",{"$f":"C366&D366&E366&F366&G366","v":"DOS (2)UNO (1)N/AYODOPOVIDONA - 1 FRASCO POR 120 ML. RES-Q SOLUTIONS"},{"$f":"H366","v":15568.47}]
[{"$f":"\"ate01-\"&B367&\" \"&C367&\" \"&D367&\" \"&E367","v":"ate01-C2S1-023 DOS (2) UNO (1) N/A"},"C2S1-023","DOS (2)","UNO (1)","N/A","YODOPOVIDONA - 1 FRASCO POR 120 ML. ","INVERSION Y HOGAR S.A.S.",5059.75,{"$f":"B367&G367","v":"C2S1-023INVERSION Y HOGAR S.A.S."},{"$f":"C367&D367&E367&F367","v":"DOS (2)UNO (1)N/AYODOPOVIDONA - 1 FRASCO POR 120 ML. "},{"$f":"H367","v":5059.75},{"$f":"C367&D367&E367&F367&G367","v":"DOS (2)UNO (1)N/AYODOPOVIDONA - 1 FRASCO POR 120 ML. INVERSION Y HOGAR S.A.S."},{"$f":"B367&H367","v":"C2S1-0235059.75"},{"$f":"G367","v":"INVERSION Y HOGAR S.A.S."},"Und",{"$f":"C367&D367&E367&F367&G367","v":"DOS (2)UNO (1)N/AYODOPOVIDONA - 1 FRASCO POR 120 ML. INVERSION Y HOGAR S.A.S."},{"$f":"H367","v":5059.75}]
[{"$f":"\"ate01-\"&B368&\" \"&C368&\" \"&D368&\" \"&E368","v":"ate01-C2S1-024 DOS (2) UNO (1) N/A"},"C2S1-024","DOS (2)","UNO (1)","N/A","TIJERAS CORTA TODO - 1 UNIDAD","JM GRUPO",14271.09,{"$f":"B368&G368","v":"C2S1-024JM GRUPO"},{"$f":"C368&D368&E368&F368","v":"DOS (2)UNO (1)N/ATIJERAS CORTA TODO - 1 UNIDAD"},{"$f":"H368","v":14271.09},{"$f":"C368&D368&E368&F368&G368","v":"DOS (2)UNO (1)N/ATIJERAS CORTA TODO - 1 UNIDADJM GRUPO"},{"$f":"B368&H368","v":"C2S1-02414271.09"},{"$f":"G368","v":"JM GRUPO"},"Und",{"$f":"C368&D368&E368&F368&G368","v":"DOS (2)UNO (1)N/ATIJERAS CORTA TODO - 1 UNIDADJM GRUPO"},{"$f":"H368","v":14271.09}]
[{"$f":"\"ate01-\"&B369&\" \"&C369&\" \"&D369&\" \"&E369","v":"ate01-C2S1-024 DOS (2) UNO (1) N/A"},"C2S1-024","DOS (2)","UNO (1)","N/A","TIJERAS CORTA TODO - 1 UNIDAD","INCOLDEXT S.A.S.",13900.05,{"$f":"B369&G369","v":"C2S1-024INCOLDEXT S.A.S."},{"$f":"C369&D369&E369&F369","v":"DOS (2)UNO (1)N/ATIJERAS CORTA TODO - 1 UNIDAD"},{"$f":"H369","v":13900.05},{"$f":"C369&D369&E369&F369&G369","v":"DOS (2)UNO (1)N/ATIJERAS CORTA TODO - 1 UNIDADINCOLDEXT S.A.S."},{"$f":"B369&H369","v":"C2S1-02413900.05"},{"$f":"G369","v":"INCOLDEXT S.A.S."},"Und",{"$f":"C369&D369&E369&F369&G369","v":"DOS (2)UNO (1)N/ATIJERAS CORTA TODO - 1 UNIDADINCOLDEXT S.A.S."},{"$f":"H369","v":13900.05}]
[{"$f":"\"ate01-\"&B370&\" \"&C370&\" \"&D370&\" \"&E370","v":"ate01-C2S1-024 DOS (2) UNO (1) N/A"},"C2S1-024","DOS (2)","UNO (1)","N/A","TIJERAS CORTA TODO - 1 UNIDAD","RES-Q SOLUTIONS",19460.580000000002,{"$f":"B370&G370","v":"C2S1-024RES-Q SOLUTIONS"},{"$f":"C370&D370&E370&F370","v":"DOS (2)UNO (1)N/ATIJERAS CORTA TODO - 1 UNIDAD"},{"$f":"H370","v":19460.580000000002},{"$f":"C370&D370&E370&F370&G370","v":"DOS (2)UNO (1)N/ATIJERAS CORTA TODO - 1 UNIDADRES-Q SOLUTIONS"},{"$f":"B370&H370","v":"C2S1-02419460.58"},{"$f":"G370","v":"RES-Q SOLUTIONS"},"Und",{"$f":"C370&D370&E370&F370&G370","v":"DOS (2)UNO (1)N/ATIJERAS CORTA TODO - 1 UNIDADRES-Q SOLUTIONS"},{"$f":"H370","v":19460.580000000002}]
[{"$f":"\"ate01-\"&B371&\" \"&C371&\" \"&D371&\" \"&E371","v":"ate01-C2S1-024 DOS (2) UNO (1) N/A"},"C2S1-024","DOS (2)","UNO (1)","N/A","TIJERAS CORTA TODO - 1 UNIDAD","INVERSION Y HOGAR S.A.S.",10768.19,{"$f":"B371&G371","v":"C2S1-024INVERSION Y HOGAR S.A.S."},{"$f":"C371&D371&E371&F371","v":"DOS (2)UNO (1)N/ATIJERAS CORTA TODO - 1 UNIDAD"},{"$f":"H371","v":10768.19},{"$f":"C371&D371&E371&F371&G371","v":"DOS (2)UNO (1)N/ATIJERAS CORTA TODO - 1 UNIDADINVERSION Y HOGAR S.A.S."},{"$f":"B371&H371","v":"C2S1-02410768.19"},{"$f":"G371","v":"INVERSION Y HOGAR S.A.S."},"Und",{"$f":"C371&D371&E371&F371&G371","v":"DOS (2)UNO (1)N/ATIJERAS CORTA TODO - 1 UNIDADINVERSION Y HOGAR S.A.S."},{"$f":"H371","v":10768.19}]
[{"$f":"\"ate01-\"&B372&\" \"&C372&\" \"&D372&\" \"&E372","v":"ate01-C2S1-025 DOS (2) UNO (1) N/A"},"C2S1-025","DOS (2)","UNO (1)","N/A","LINTERNA DE DINAMO - 1 UNIDAD","JM GRUPO",19460.580000000002,{"$f":"B372&G372","v":"C2S1-025JM GRUPO"},{"$f":"C372&D372&E372&F372","v":"DOS (2)UNO (1)N/ALINTERNA DE DINAMO - 1 UNIDAD"},{"$f":"H372","v":19460.580000000002},{"$f":"C372&D372&E372&F372&G372","v":"DOS (2)UNO (1)N/ALINTERNA DE DINAMO - 1 UNIDADJM GRUPO"},{"$f":"B372&H372","v":"C2S1-02519460.58"},{"$f":"G372","v":"JM GRUPO"},"Und",{"$f":"C372&D372&E372&F372&G372","v":"DOS (2)UNO (1)N/ALINTERNA DE DINAMO - 1 UNIDADJM GRUPO"},{"$f":"H372","v":19460.580000000002}]
[{"$f":"\"ate01-\"&B373&\" \"&C373&\" \"&D373&\" \"&E373","v":"ate01-C2S1-025 DOS (2) UNO (1) N/A"},"C2S1-025","DOS (2)","UNO (1)","N/A","LINTERNA DE DINAMO - 1 UNIDAD","INCOLDEXT S.A.S.",9265.83,{"$f":"B373&G373","v":"C2S1-025INCOLDEXT S.A.S."},{"$f":"C373&D373&E373&F373","v":"DOS (2)UNO (1)N/ALINTERNA DE DINAMO - 1 UNIDAD"},{"$f":"H373","v":9265.83},{"$f":"C373&D373&E373&F373&G373","v":"DOS (2)UNO (1)N/ALINTERNA DE DINAMO - 1 UNIDADINCOLDEXT S.A.S."},{"$f":"B373&H373","v":"C2S1-0259265.83"},{"$f":"G373","v":"INCOLDEXT S.A.S."},"Und",{"$f":"C373&D373&E373&F373&G373","v":"DOS (2)UNO (1)N/ALINTERNA DE DINAMO - 1 UNIDADINCOLDEXT S.A.S."},{"$f":"H373","v":9265.83}]
[{"$f":"\"ate01-\"&B374&\" \"&C374&\" \"&D374&\" \"&E374","v":"ate01-C2S1-025 DOS (2) UNO (1) N/A"},"C2S1-025","DOS (2)","UNO (1)","N/A","LINTERNA DE DINAMO - 1 UNIDAD","RES-Q SOLUTIONS",23352.7,{"$f":"B374&G374","v":"C2S1-025RES-Q SOLUTIONS"},{"$f":"C374&D374&E374&F374","v":"DOS (2)UNO (1)N/ALINTERNA DE DINAMO - 1 UNIDAD"},{"$f":"H374","v":23352.7},{"$f":"C374&D374&E374&F374&G374","v":"DOS (2)UNO (1)N/ALINTERNA DE DINAMO - 1 UNIDADRES-Q SOLUTIONS"},{"$f":"B374&H374","v":"C2S1-02523352.7"},{"$f":"G374","v":"RES-Q SOLUTIONS"},"Und",{"$f":"C374&D374&E374&F374&G374","v":"DOS (2)UNO (1)N/ALINTERNA DE DINAMO - 1 UNIDADRES-Q SOLUTIONS"},{"$f":"H374","v":23352.7}]
[{"$f":"\"ate01-\"&B375&\" \"&C375&\" \"&D375&\" \"&E375","v":"ate01-C2S1-025 DOS (2) UNO (1) N/A"},"C2S1-025","DOS (2)","UNO (1)","N/A","LINTERNA DE DINAMO - 1 UNIDAD","INVERSION Y HOGAR S.A.S.",5838.17,{"$f":"B375&G375","v":"C2S1-025INVERSION Y HOGAR S.A.S."},{"$f":"C375&D375&E375&F375","v":"DOS (2)UNO (1)N/ALINTERNA DE DINAMO - 1 UNIDAD"},{"$f":"H375","v":5838.17},{"$f":"C375&D375&E375&F375&G375","v":"DOS (2)UNO (1)N/ALINTERNA DE DINAMO - 1 UNIDADINVERSION Y HOGAR S.A.S."},{"$f":"B375&H375","v":"C2S1-0255838.17"},{"$f":"G375","v":"INVERSION Y HOGAR S.A.S."},"Und",{"$f":"C375&D375&E375&F375&G375","v":"DOS (2)UNO (1)N/ALINTERNA DE DINAMO - 1 UNIDADINVERSION Y HOGAR S.A.S."},{"$f":"H375","v":5838.17}]
[{"$f":"\"ate01-\"&B376&\" \"&C376&\" \"&D376&\" \"&E376","v":"ate01-C2S1-026 DOS (2) UNO (1) N/A"},"C2S1-026","DOS (2)","UNO (1)","N/A","COLLAR CERVICAL DE ADULTO - 1 UNIDAD","JM GRUPO",71355.47,{"$f":"B376&G376","v":"C2S1-026JM GRUPO"},{"$f":"C376&D376&E376&F376","v":"DOS (2)UNO (1)N/ACOLLAR CERVICAL DE ADULTO - 1 UNIDAD"},{"$f":"H376","v":71355.47},{"$f":"C376&D376&E376&F376&G376","v":"DOS (2)UNO (1)N/ACOLLAR CERVICAL DE ADULTO - 1 UNIDADJM GRUPO"},{"$f":"B376&H376","v":"C2S1-02671355.47"},{"$f":"G376","v":"JM GRUPO"},"Und",{"$f":"C376&D376&E376&F376&G376","v":"DOS (2)UNO (1)N/ACOLLAR CERVICAL DE ADULTO - 1 UNIDADJM GRUPO"},{"$f":"H376","v":71355.47}]
[{"$f":"\"ate01-\"&B377&\" \"&C377&\" \"&D377&\" \"&E377","v":"ate01-C2S1-026 DOS (2) UNO (1) N/A"},"C2S1-026","DOS (2)","UNO (1)","N/A","COLLAR CERVICAL DE ADULTO - 1 UNIDAD","INCOLDEXT S.A.S.",40773.81,{"$f":"B377&G377","v":"C2S1-026INCOLDEXT S.A.S."},{"$f":"C377&D377&E377&F377","v":"DOS (2)UNO (1)N/ACOLLAR CERVICAL DE ADULTO - 1 UNIDAD"},{"$f":"H377","v":40773.81},{"$f":"C377&D377&E377&F377&G377","v":"DOS (2)UNO (1)N/ACOLLAR CERVICAL DE ADULTO - 1 UNIDADINCOLDEXT S.A.S."},{"$f":"B377&H377","v":"C2S1-02640773.81"},{"$f":"G377","v":"INCOLDEXT S.A.S."},"Und",{"$f":"C377&D377&E377&F377&G377","v":"DOS (2)UNO (1)N/ACOLLAR CERVICAL DE ADULTO - 1 UNIDADINCOLDEXT S.A.S."},{"$f":"H377","v":40773.81}]
[{"$f":"\"ate01-\"&B378&\" \"&C378&\" \"&D378&\" \"&E378","v":"ate01-C2S1-026 DOS (2) UNO (1) N/A"},"C2S1-026","DOS (2)","UNO (1)","N/A","COLLAR CERVICAL DE ADULTO - 1 UNIDAD","RES-Q SOLUTIONS",126493.79,{"$f":"B378&G378","v":"C2S1-026RES-Q SOLUTIONS"},{"$f":"C378&D378&E378&F378","v":"DOS (2)UNO (1)N/ACOLLAR CERVICAL DE ADULTO - 1 UNIDAD"},{"$f":"H378","v":126493.79},{"$f":"C378&D378&E378&F378&G378","v":"DOS (2)UNO (1)N/ACOLLAR CERVICAL DE ADULTO - 1 UNIDADRES-Q SOLUTIONS"},{"$f":"B378&H378","v":"C2S1-026126493.79"},{"$f":"G378","v":"RES-Q SOLUTIONS"},"Und",{"$f":"C378&D378&E378&F378&G378","v":"DOS (2)UNO (1)N/ACOLLAR CERVICAL DE ADULTO - 1 UNIDADRES-Q SOLUTIONS"},{"$f":"H378","v":126493.79}]
[{"$f":"\"ate01-\"&B379&\" \"&C379&\" \"&D379&\" \"&E379","v":"ate01-C2S1-026 DOS (2) UNO (1) N/A"},"C2S1-026","DOS (2)","UNO (1)","N/A","COLLAR CERVICAL DE ADULTO - 1 UNIDAD","INVERSION Y HOGAR S.A.S.",85367.09,{"$f":"B379&G379","v":"C2S1-026INVERSION Y HOGAR S.A.S."},{"$f":"C379&D379&E379&F379","v":"DOS (2)UNO (1)N/ACOLLAR CERVICAL DE ADULTO - 1 UNIDAD"},{"$f":"H379","v":85367.09},{"$f":"C379&D379&E379&F379&G379","v":"DOS (2)UNO (1)N/ACOLLAR CERVICAL DE ADULTO - 1 UNIDADINVERSION Y HOGAR S.A.S."},{"$f":"B379&H379","v":"C2S1-02685367.09"},{"$f":"G379","v":"INVERSION Y HOGAR S.A.S."},"Und",{"$f":"C379&D379&E379&F379&G379","v":"DOS (2)UNO (1)N/ACOLLAR CERVICAL DE ADULTO - 1 UNIDADINVERSION Y HOGAR S.A.S."},{"$f":"H379","v":85367.09}]
[{"$f":"\"ate01-\"&B380&\" \"&C380&\" \"&D380&\" \"&E380","v":"ate01-C2S1-027 DOS (2) UNO (1) N/A"},"C2S1-027","DOS (2)","UNO (1)","N/A","COLLAR CERVICAL DE NIÑO - 1 UNIDAD","JM GRUPO",71355.47,{"$f":"B380&G380","v":"C2S1-027JM GRUPO"},{"$f":"C380&D380&E380&F380","v":"DOS (2)UNO (1)N/ACOLLAR CERVICAL DE NIÑO - 1 UNIDAD"},{"$f":"H380","v":71355.47},{"$f":"C380&D380&E380&F380&G380","v":"DOS (2)UNO (1)N/ACOLLAR CERVICAL DE NIÑO - 1 UNIDADJM GRUPO"},{"$f":"B380&H380","v":"C2S1-02771355.47"},{"$f":"G380","v":"JM GRUPO"},"Und",{"$f":"C380&D380&E380&F380&G380","v":"DOS (2)UNO (1)N/ACOLLAR CERVICAL DE NIÑO - 1 UNIDADJM GRUPO"},{"$f":"H380","v":71355.47}]
[{"$f":"\"ate01-\"&B381&\" \"&C381&\" \"&D381&\" \"&E381","v":"ate01-C2S1-027 DOS (2) UNO (1) N/A"},"C2S1-027","DOS (2)","UNO (1)","N/A","COLLAR CERVICAL DE NIÑO - 1 UNIDAD","INCOLDEXT S.A.S.",37067.22,{"$f":"B381&G381","v":"C2S1-027INCOLDEXT S.A.S."},{"$f":"C381&D381&E381&F381","v":"DOS (2)UNO (1)N/ACOLLAR CERVICAL DE NIÑO - 1 UNIDAD"},{"$f":"H381","v":37067.22},{"$f":"C381&D381&E381&F381&G381","v":"DOS (2)UNO (1)N/ACOLLAR CERVICAL DE NIÑO - 1 UNIDADINCOLDEXT S.A.S."},{"$f":"B381&H381","v":"C2S1-02737067.22"},{"$f":"G381","v":"INCOLDEXT S.A.S."},"Und",{"$f":"C381&D381&E381&F381&G381","v":"DOS (2)UNO (1)N/ACOLLAR CERVICAL DE NIÑO - 1 UNIDADINCOLDEXT S.A.S."},{"$f":"H381","v":37067.22}]
[{"$f":"\"ate01-\"&B382&\" \"&C382&\" \"&D382&\" \"&E382","v":"ate01-C2S1-027 DOS (2) UNO (1) N/A"},"C2S1-027","DOS (2)","UNO (1)","N/A","COLLAR CERVICAL DE NIÑO - 1 UNIDAD","RES-Q SOLUTIONS",126493.79,{"$f":"B382&G382","v":"C2S1-027RES-Q SOLUTIONS"},{"$f":"C382&D382&E382&F382","v":"DOS (2)UNO (1)N/ACOLLAR CERVICAL DE NIÑO - 1 UNIDAD"},{"$f":"H382","v":126493.79},{"$f":"C382&D382&E382&F382&G382","v":"DOS (2)UNO (1)N/ACOLLAR CERVICAL DE NIÑO - 1 UNIDADRES-Q SOLUTIONS"},{"$f":"B382&H382","v":"C2S1-027126493.79"},{"$f":"G382","v":"RES-Q SOLUTIONS"},"Und",{"$f":"C382&D382&E382&F382&G382","v":"DOS (2)UNO (1)N/ACOLLAR CERVICAL DE NIÑO - 1 UNIDADRES-Q SOLUTIONS"},{"$f":"H382","v":126493.79}]
[{"$f":"\"ate01-\"&B383&\" \"&C383&\" \"&D383&\" \"&E383","v":"ate01-C2S1-027 DOS (2) UNO (1) N/A"},"C2S1-027","DOS (2)","UNO (1)","N/A","COLLAR CERVICAL DE NIÑO - 1 UNIDAD","INVERSION Y HOGAR S.A.S.",50597.51,{"$f":"B383&G383","v":"C2S1-027INVERSION Y HOGAR S.A.S."},{"$f":"C383&D383&E383&F383","v":"DOS (2)UNO (1)N/ACOLLAR CERVICAL DE NIÑO - 1 UNIDAD"},{"$f":"H383","v":50597.51},{"$f":"C383&D383&E383&F383&G383","v":"DOS (2)UNO (1)N/ACOLLAR CERVICAL DE NIÑO - 1 UNIDADINVERSION Y HOGAR S.A.S."},{"$f":"B383&H383","v":"C2S1-02750597.51"},{"$f":"G383","v":"INVERSION Y HOGAR S.A.S."},"Und",{"$f":"C383&D383&E383&F383&G383","v":"DOS (2)UNO (1)N/ACOLLAR CERVICAL DE NIÑO - 1 UNIDADINVERSION Y HOGAR S.A.S."},{"$f":"H383","v":50597.51}]
[{"$f":"\"ate01-\"&B384&\" \"&C384&\" \"&D384&\" \"&E384","v":"ate01-C2S1-028 DOS (2) UNO (1) N/A"},"C2S1-028","DOS (2)","UNO (1)","N/A","INMOVILIZADORES O FERULA DE MIEMBROS SUPERIORES DE ADULTO  - 1 UNIDAD","JM GRUPO",28801.66,{"$f":"B384&G384","v":"C2S1-028JM GRUPO"},{"$f":"C384&D384&E384&F384","v":"DOS (2)UNO (1)N/AINMOVILIZADORES O FERULA DE MIEMBROS SUPERIORES DE ADULTO  - 1 UNIDAD"},{"$f":"H384","v":28801.66},{"$f":"C384&D384&E384&F384&G384","v":"DOS (2)UNO (1)N/AINMOVILIZADORES O FERULA DE MIEMBROS SUPERIORES DE ADULTO  - 1 UNIDADJM GRUPO"},{"$f":"B384&H384","v":"C2S1-02828801.66"},{"$f":"G384","v":"JM GRUPO"},"Und",{"$f":"C384&D384&E384&F384&G384","v":"DOS (2)UNO (1)N/AINMOVILIZADORES O FERULA DE MIEMBROS SUPERIORES DE ADULTO  - 1 UNIDADJM GRUPO"},{"$f":"H384","v":28801.66}]
[{"$f":"\"ate01-\"&B385&\" \"&C385&\" \"&D385&\" \"&E385","v":"ate01-C2S1-028 DOS (2) UNO (1) N/A"},"C2S1-028","DOS (2)","UNO (1)","N/A","INMOVILIZADORES O FERULA DE MIEMBROS SUPERIORES DE ADULTO  - 1 UNIDAD","INCOLDEXT S.A.S.",18532.96,{"$f":"B385&G385","v":"C2S1-028INCOLDEXT S.A.S."},{"$f":"C385&D385&E385&F385","v":"DOS (2)UNO (1)N/AINMOVILIZADORES O FERULA DE MIEMBROS SUPERIORES DE ADULTO  - 1 UNIDAD"},{"$f":"H385","v":18532.96},{"$f":"C385&D385&E385&F385&G385","v":"DOS (2)UNO (1)N/AINMOVILIZADORES O FERULA DE MIEMBROS SUPERIORES DE ADULTO  - 1 UNIDADINCOLDEXT S.A.S."},{"$f":"B385&H385","v":"C2S1-02818532.96"},{"$f":"G385","v":"INCOLDEXT S.A.S."},"Und",{"$f":"C385&D385&E385&F385&G385","v":"DOS (2)UNO (1)N/AINMOVILIZADORES O FERULA DE MIEMBROS SUPERIORES DE ADULTO  - 1 UNIDADINCOLDEXT S.A.S."},{"$f":"H385","v":18532.96}]
[{"$f":"\"ate01-\"&B386&\" \"&C386&\" \"&D386&\" \"&E386","v":"ate01-C2S1-028 DOS (2) UNO (1) N/A"},"C2S1-028","DOS (2)","UNO (1)","N/A","INMOVILIZADORES O FERULA DE MIEMBROS SUPERIORES DE ADULTO  - 1 UNIDAD","RES-Q SOLUTIONS",51894.89,{"$f":"B386&G386","v":"C2S1-028RES-Q SOLUTIONS"},{"$f":"C386&D386&E386&F386","v":"DOS (2)UNO (1)N/AINMOVILIZADORES O FERULA DE MIEMBROS SUPERIORES DE ADULTO  - 1 UNIDAD"},{"$f":"H386","v":51894.89},{"$f":"C386&D386&E386&F386&G386","v":"DOS (2)UNO (1)N/AINMOVILIZADORES O FERULA DE MIEMBROS SUPERIORES DE ADULTO  - 1 UNIDADRES-Q SOLUTIONS"},{"$f":"B386&H386","v":"C2S1-02851894.89"},{"$f":"G386","v":"RES-Q SOLUTIONS"},"Und",{"$f":"C386&D386&E386&F386&G386","v":"DOS (2)UNO (1)N/AINMOVILIZADORES O FERULA DE MIEMBROS SUPERIORES DE ADULTO  - 1 UNIDADRES-Q SOLUTIONS"},{"$f":"H386","v":51894.89}]
[{"$f":"\"ate01-\"&B387&\" \"&C387&\" \"&D387&\" \"&E387","v":"ate01-C2S1-028 DOS (2) UNO (1) N/A"},"C2S1-028","DOS (2)","UNO (1)","N/A","INMOVILIZADORES O FERULA DE MIEMBROS SUPERIORES DE ADULTO  - 1 UNIDAD","INVERSION Y HOGAR S.A.S.",17514.52,{"$f":"B387&G387","v":"C2S1-028INVERSION Y HOGAR S.A.S."},{"$f":"C387&D387&E387&F387","v":"DOS (2)UNO (1)N/AINMOVILIZADORES O FERULA DE MIEMBROS SUPERIORES DE ADULTO  - 1 UNIDAD"},{"$f":"H387","v":17514.52},{"$f":"C387&D387&E387&F387&G387","v":"DOS (2)UNO (1)N/AINMOVILIZADORES O FERULA DE MIEMBROS SUPERIORES DE ADULTO  - 1 UNIDADINVERSION Y HOGAR S.A.S."},{"$f":"B387&H387","v":"C2S1-02817514.52"},{"$f":"G387","v":"INVERSION Y HOGAR S.A.S."},"Und",{"$f":"C387&D387&E387&F387&G387","v":"DOS (2)UNO (1)N/AINMOVILIZADORES O FERULA DE MIEMBROS SUPERIORES DE ADULTO  - 1 UNIDADINVERSION Y HOGAR S.A.S."},{"$f":"H387","v":17514.52}]
[{"$f":"\"ate01-\"&B388&\" \"&C388&\" \"&D388&\" \"&E388","v":"ate01-C2S1-029 DOS (2) UNO (1) N/A"},"C2S1-029","DOS (2)","UNO (1)","N/A","INMOVILIZADORES O FERULA DE MIEMBROS INFERIORES DE ADULTO  - 1 UNIDAD","JM GRUPO",28801.66,{"$f":"B388&G388","v":"C2S1-029JM GRUPO"},{"$f":"C388&D388&E388&F388","v":"DOS (2)UNO (1)N/AINMOVILIZADORES O FERULA DE MIEMBROS INFERIORES DE ADULTO  - 1 UNIDAD"},{"$f":"H388","v":28801.66},{"$f":"C388&D388&E388&F388&G388","v":"DOS (2)UNO (1)N/AINMOVILIZADORES O FERULA DE MIEMBROS INFERIORES DE ADULTO  - 1 UNIDADJM GRUPO"},{"$f":"B388&H388","v":"C2S1-02928801.66"},{"$f":"G388","v":"JM GRUPO"},"Und",{"$f":"C388&D388&E388&F388&G388","v":"DOS (2)UNO (1)N/AINMOVILIZADORES O FERULA DE MIEMBROS INFERIORES DE ADULTO  - 1 UNIDADJM GRUPO"},{"$f":"H388","v":28801.66}]
[{"$f":"\"ate01-\"&B389&\" \"&C389&\" \"&D389&\" \"&E389","v":"ate01-C2S1-029 DOS (2) UNO (1) N/A"},"C2S1-029","DOS (2)","UNO (1)","N/A","INMOVILIZADORES O FERULA DE MIEMBROS INFERIORES DE ADULTO  - 1 UNIDAD","INCOLDEXT S.A.S.",18532.96,{"$f":"B389&G389","v":"C2S1-029INCOLDEXT S.A.S."},{"$f":"C389&D389&E389&F389","v":"DOS (2)UNO (1)N/AINMOVILIZADORES O FERULA DE MIEMBROS INFERIORES DE ADULTO  - 1 UNIDAD"},{"$f":"H389","v":18532.96},{"$f":"C389&D389&E389&F389&G389","v":"DOS (2)UNO (1)N/AINMOVILIZADORES O FERULA DE MIEMBROS INFERIORES DE ADULTO  - 1 UNIDADINCOLDEXT S.A.S."},{"$f":"B389&H389","v":"C2S1-02918532.96"},{"$f":"G389","v":"INCOLDEXT S.A.S."},"Und",{"$f":"C389&D389&E389&F389&G389","v":"DOS (2)UNO (1)N/AINMOVILIZADORES O FERULA DE MIEMBROS INFERIORES DE ADULTO  - 1 UNIDADINCOLDEXT S.A.S."},{"$f":"H389","v":18532.96}]
[{"$f":"\"ate01-\"&B390&\" \"&C390&\" \"&D390&\" \"&E390","v":"ate01-C2S1-029 DOS (2) UNO (1) N/A"},"C2S1-029","DOS (2)","UNO (1)","N/A","INMOVILIZADORES O FERULA DE MIEMBROS INFERIORES DE ADULTO  - 1 UNIDAD","RES-Q SOLUTIONS",51894.89,{"$f":"B390&G390","v":"C2S1-029RES-Q SOLUTIONS"},{"$f":"C390&D390&E390&F390","v":"DOS (2)UNO (1)N/AINMOVILIZADORES O FERULA DE MIEMBROS INFERIORES DE ADULTO  - 1 UNIDAD"},{"$f":"H390","v":51894.89},{"$f":"C390&D390&E390&F390&G390","v":"DOS (2)UNO (1)N/AINMOVILIZADORES O FERULA DE MIEMBROS INFERIORES DE ADULTO  - 1 UNIDADRES-Q SOLUTIONS"},{"$f":"B390&H390","v":"C2S1-02951894.89"},{"$f":"G390","v":"RES-Q SOLUTIONS"},"Und",{"$f":"C390&D390&E390&F390&G390","v":"DOS (2)UNO (1)N/AINMOVILIZADORES O FERULA DE MIEMBROS INFERIORES DE ADULTO  - 1 UNIDADRES-Q SOLUTIONS"},{"$f":"H390","v":51894.89}]
[{"$f":"\"ate01-\"&B391&\" \"&C391&\" \"&D391&\" \"&E391","v":"ate01-C2S1-029 DOS (2) UNO (1) N/A"},"C2S1-029","DOS (2)","UNO (1)","N/A","INMOVILIZADORES O FERULA DE MIEMBROS INFERIORES DE ADULTO  - 1 UNIDAD","INVERSION Y HOGAR S.A.S.",17514.52,{"$f":"B391&G391","v":"C2S1-029INVERSION Y HOGAR S.A.S."},{"$f":"C391&D391&E391&F391","v":"DOS (2)UNO (1)N/AINMOVILIZADORES O FERULA DE MIEMBROS INFERIORES DE ADULTO  - 1 UNIDAD"},{"$f":"H391","v":17514.52},{"$f":"C391&D391&E391&F391&G391","v":"DOS (2)UNO (1)N/AINMOVILIZADORES O FERULA DE MIEMBROS INFERIORES DE ADULTO  - 1 UNIDADINVERSION Y HOGAR S.A.S."},{"$f":"B391&H391","v":"C2S1-02917514.52"},{"$f":"G391","v":"INVERSION Y HOGAR S.A.S."},"Und",{"$f":"C391&D391&E391&F391&G391","v":"DOS (2)UNO (1)N/AINMOVILIZADORES O FERULA DE MIEMBROS INFERIORES DE ADULTO  - 1 UNIDADINVERSION Y HOGAR S.A.S."},{"$f":"H391","v":17514.52}]
[{"$f":"\"ate01-\"&B392&\" \"&C392&\" \"&D392&\" \"&E392","v":"ate01-C2S1-030 DOS (2) UNO (1) N/A"},"C2S1-030","DOS (2)","UNO (1)","N/A","INMOVILIZADORES O FERULA DE MIEMBROS SUPERIORES DE NIÑO  - 1 UNIDAD","JM GRUPO",28801.66,{"$f":"B392&G392","v":"C2S1-030JM GRUPO"},{"$f":"C392&D392&E392&F392","v":"DOS (2)UNO (1)N/AINMOVILIZADORES O FERULA DE MIEMBROS SUPERIORES DE NIÑO  - 1 UNIDAD"},{"$f":"H392","v":28801.66},{"$f":"C392&D392&E392&F392&G392","v":"DOS (2)UNO (1)N/AINMOVILIZADORES O FERULA DE MIEMBROS SUPERIORES DE NIÑO  - 1 UNIDADJM GRUPO"},{"$f":"B392&H392","v":"C2S1-03028801.66"},{"$f":"G392","v":"JM GRUPO"},"Und",{"$f":"C392&D392&E392&F392&G392","v":"DOS (2)UNO (1)N/AINMOVILIZADORES O FERULA DE MIEMBROS SUPERIORES DE NIÑO  - 1 UNIDADJM GRUPO"},{"$f":"H392","v":28801.66}]
[{"$f":"\"ate01-\"&B393&\" \"&C393&\" \"&D393&\" \"&E393","v":"ate01-C2S1-030 DOS (2) UNO (1) N/A"},"C2S1-030","DOS (2)","UNO (1)","N/A","INMOVILIZADORES O FERULA DE MIEMBROS SUPERIORES DE NIÑO  - 1 UNIDAD","INCOLDEXT S.A.S.",18532.96,{"$f":"B393&G393","v":"C2S1-030INCOLDEXT S.A.S."},{"$f":"C393&D393&E393&F393","v":"DOS (2)UNO (1)N/AINMOVILIZADORES O FERULA DE MIEMBROS SUPERIORES DE NIÑO  - 1 UNIDAD"},{"$f":"H393","v":18532.96},{"$f":"C393&D393&E393&F393&G393","v":"DOS (2)UNO (1)N/AINMOVILIZADORES O FERULA DE MIEMBROS SUPERIORES DE NIÑO  - 1 UNIDADINCOLDEXT S.A.S."},{"$f":"B393&H393","v":"C2S1-03018532.96"},{"$f":"G393","v":"INCOLDEXT S.A.S."},"Und",{"$f":"C393&D393&E393&F393&G393","v":"DOS (2)UNO (1)N/AINMOVILIZADORES O FERULA DE MIEMBROS SUPERIORES DE NIÑO  - 1 UNIDADINCOLDEXT S.A.S."},{"$f":"H393","v":18532.96}]
[{"$f":"\"ate01-\"&B394&\" \"&C394&\" \"&D394&\" \"&E394","v":"ate01-C2S1-030 DOS (2) UNO (1) N/A"},"C2S1-030","DOS (2)","UNO (1)","N/A","INMOVILIZADORES O FERULA DE MIEMBROS SUPERIORES DE NIÑO  - 1 UNIDAD","RES-Q SOLUTIONS",51894.89,{"$f":"B394&G394","v":"C2S1-030RES-Q SOLUTIONS"},{"$f":"C394&D394&E394&F394","v":"DOS (2)UNO (1)N/AINMOVILIZADORES O FERULA DE MIEMBROS SUPERIORES DE NIÑO  - 1 UNIDAD"},{"$f":"H394","v":51894.89},{"$f":"C394&D394&E394&F394&G394","v":"DOS (2)UNO (1)N/AINMOVILIZADORES O FERULA DE MIEMBROS SUPERIORES DE NIÑO  - 1 UNIDADRES-Q SOLUTIONS"},{"$f":"B394&H394","v":"C2S1-03051894.89"},{"$f":"G394","v":"RES-Q SOLUTIONS"},"Und",{"$f":"C394&D394&E394&F394&G394","v":"DOS (2)UNO (1)N/AINMOVILIZADORES O FERULA DE MIEMBROS SUPERIORES DE NIÑO  - 1 UNIDADRES-Q SOLUTIONS"},{"$f":"H394","v":51894.89}]
[{"$f":"\"ate01-\"&B395&\" \"&C395&\" \"&D395&\" \"&E395","v":"ate01-C2S1-030 DOS (2) UNO (1) N/A"},"C2S1-030","DOS (2)","UNO (1)","N/A","INMOVILIZADORES O FERULA DE MIEMBROS SUPERIORES DE NIÑO  - 1 UNIDAD","INVERSION Y HOGAR S.A.S.",17514.52,{"$f":"B395&G395","v":"C2S1-030INVERSION Y HOGAR S.A.S."},{"$f":"C395&D395&E395&F395","v":"DOS (2)UNO (1)N/AINMOVILIZADORES O FERULA DE MIEMBROS SUPERIORES DE NIÑO  - 1 UNIDAD"},{"$f":"H395","v":17514.52},{"$f":"C395&D395&E395&F395&G395","v":"DOS (2)UNO (1)N/AINMOVILIZADORES O FERULA DE MIEMBROS SUPERIORES DE NIÑO  - 1 UNIDADINVERSION Y HOGAR S.A.S."},{"$f":"B395&H395","v":"C2S1-03017514.52"},{"$f":"G395","v":"INVERSION Y HOGAR S.A.S."},"Und",{"$f":"C395&D395&E395&F395&G395","v":"DOS (2)UNO (1)N/AINMOVILIZADORES O FERULA DE MIEMBROS SUPERIORES DE NIÑO  - 1 UNIDADINVERSION Y HOGAR S.A.S."},{"$f":"H395","v":17514.52}]
[{"$f":"\"ate01-\"&B396&\" \"&C396&\" \"&D396&\" \"&E396","v":"ate01-C2S1-031 DOS (2) UNO (1) N/A"},"C2S1-031","DOS (2)","UNO (1)","N/A","INMOVILIZADORES O FERULA DE MIEMBROS INFERIORES DE NIÑO  - 1 UNIDAD","JM GRUPO",28801.66,{"$f":"B396&G396","v":"C2S1-031JM GRUPO"},{"$f":"C396&D396&E396&F396","v":"DOS (2)UNO (1)N/AINMOVILIZADORES O FERULA DE MIEMBROS INFERIORES DE NIÑO  - 1 UNIDAD"},{"$f":"H396","v":28801.66},{"$f":"C396&D396&E396&F396&G396","v":"DOS (2)UNO (1)N/AINMOVILIZADORES O FERULA DE MIEMBROS INFERIORES DE NIÑO  - 1 UNIDADJM GRUPO"},{"$f":"B396&H396","v":"C2S1-03128801.66"},{"$f":"G396","v":"JM GRUPO"},"Und",{"$f":"C396&D396&E396&F396&G396","v":"DOS (2)UNO (1)N/AINMOVILIZADORES O FERULA DE MIEMBROS INFERIORES DE NIÑO  - 1 UNIDADJM GRUPO"},{"$f":"H396","v":28801.66}]
[{"$f":"\"ate01-\"&B397&\" \"&C397&\" \"&D397&\" \"&E397","v":"ate01-C2S1-031 DOS (2) UNO (1) N/A"},"C2S1-031","DOS (2)","UNO (1)","N/A","INMOVILIZADORES O FERULA DE MIEMBROS INFERIORES DE NIÑO  - 1 UNIDAD","INCOLDEXT S.A.S.",18532.96,{"$f":"B397&G397","v":"C2S1-031INCOLDEXT S.A.S."},{"$f":"C397&D397&E397&F397","v":"DOS (2)UNO (1)N/AINMOVILIZADORES O FERULA DE MIEMBROS INFERIORES DE NIÑO  - 1 UNIDAD"},{"$f":"H397","v":18532.96},{"$f":"C397&D397&E397&F397&G397","v":"DOS (2)UNO (1)N/AINMOVILIZADORES O FERULA DE MIEMBROS INFERIORES DE NIÑO  - 1 UNIDADINCOLDEXT S.A.S."},{"$f":"B397&H397","v":"C2S1-03118532.96"},{"$f":"G397","v":"INCOLDEXT S.A.S."},"Und",{"$f":"C397&D397&E397&F397&G397","v":"DOS (2)UNO (1)N/AINMOVILIZADORES O FERULA DE MIEMBROS INFERIORES DE NIÑO  - 1 UNIDADINCOLDEXT S.A.S."},{"$f":"H397","v":18532.96}]
[{"$f":"\"ate01-\"&B398&\" \"&C398&\" \"&D398&\" \"&E398","v":"ate01-C2S1-031 DOS (2) UNO (1) N/A"},"C2S1-031","DOS (2)","UNO (1)","N/A","INMOVILIZADORES O FERULA DE MIEMBROS INFERIORES DE NIÑO  - 1 UNIDAD","RES-Q SOLUTIONS",51894.89,{"$f":"B398&G398","v":"C2S1-031RES-Q SOLUTIONS"},{"$f":"C398&D398&E398&F398","v":"DOS (2)UNO (1)N/AINMOVILIZADORES O FERULA DE MIEMBROS INFERIORES DE NIÑO  - 1 UNIDAD"},{"$f":"H398","v":51894.89},{"$f":"C398&D398&E398&F398&G398","v":"DOS (2)UNO (1)N/AINMOVILIZADORES O FERULA DE MIEMBROS INFERIORES DE NIÑO  - 1 UNIDADRES-Q SOLUTIONS"},{"$f":"B398&H398","v":"C2S1-03151894.89"},{"$f":"G398","v":"RES-Q SOLUTIONS"},"Und",{"$f":"C398&D398&E398&F398&G398","v":"DOS (2)UNO (1)N/AINMOVILIZADORES O FERULA DE MIEMBROS INFERIORES DE NIÑO  - 1 UNIDADRES-Q SOLUTIONS"},{"$f":"H398","v":51894.89}]
[{"$f":"\"ate01-\"&B399&\" \"&C399&\" \"&D399&\" \"&E399","v":"ate01-C2S1-031 DOS (2) UNO (1) N/A"},"C2S1-031","DOS (2)","UNO (1)","N/A","INMOVILIZADORES O FERULA DE MIEMBROS INFERIORES DE NIÑO  - 1 UNIDAD","INVERSION Y HOGAR S.A.S.",17514.52,{"$f":"B399&G399","v":"C2S1-031INVERSION Y HOGAR S.A.S."},{"$f":"C399&D399&E399&F399","v":"DOS (2)UNO (1)N/AINMOVILIZADORES O FERULA DE MIEMBROS INFERIORES DE NIÑO  - 1 UNIDAD"},{"$f":"H399","v":17514.52},{"$f":"C399&D399&E399&F399&G399","v":"DOS (2)UNO (1)N/AINMOVILIZADORES O FERULA DE MIEMBROS INFERIORES DE NIÑO  - 1 UNIDADINVERSION Y HOGAR S.A.S."},{"$f":"B399&H399","v":"C2S1-03117514.52"},{"$f":"G399","v":"INVERSION Y HOGAR S.A.S."},"Und",{"$f":"C399&D399&E399&F399&G399","v":"DOS (2)UNO (1)N/AINMOVILIZADORES O FERULA DE MIEMBROS INFERIORES DE NIÑO  - 1 UNIDADINVERSION Y HOGAR S.A.S."},{"$f":"H399","v":17514.52}]
[{"$f":"\"ate01-\"&B400&\" \"&C400&\" \"&D400&\" \"&E400","v":"ate01-C2S1-032 DOS (2) UNO (1) N/A"},"C2S1-032","DOS (2)","UNO (1)","N/A","VASOS DESECHABLES - 1 PAQUETE DE 25 UNIDADES","JM GRUPO",3892.12,{"$f":"B400&G400","v":"C2S1-032JM GRUPO"},{"$f":"C400&D400&E400&F400","v":"DOS (2)UNO (1)N/AVASOS DESECHABLES - 1 PAQUETE DE 25 UNIDADES"},{"$f":"H400","v":3892.12},{"$f":"C400&D400&E400&F400&G400","v":"DOS (2)UNO (1)N/AVASOS DESECHABLES - 1 PAQUETE DE 25 UNIDADESJM GRUPO"},{"$f":"B400&H400","v":"C2S1-0323892.12"},{"$f":"G400","v":"JM GRUPO"},"Und",{"$f":"C400&D400&E400&F400&G400","v":"DOS (2)UNO (1)N/AVASOS DESECHABLES - 1 PAQUETE DE 25 UNIDADESJM GRUPO"},{"$f":"H400","v":3892.12}]
[{"$f":"\"ate01-\"&B401&\" \"&C401&\" \"&D401&\" \"&E401","v":"ate01-C2S1-032 DOS (2) UNO (1) N/A"},"C2S1-032","DOS (2)","UNO (1)","N/A","VASOS DESECHABLES - 1 PAQUETE DE 25 UNIDADES","INCOLDEXT S.A.S.",4632.92,{"$f":"B401&G401","v":"C2S1-032INCOLDEXT S.A.S."},{"$f":"C401&D401&E401&F401","v":"DOS (2)UNO (1)N/AVASOS DESECHABLES - 1 PAQUETE DE 25 UNIDADES"},{"$f":"H401","v":4632.92},{"$f":"C401&D401&E401&F401&G401","v":"DOS (2)UNO (1)N/AVASOS DESECHABLES - 1 PAQUETE DE 25 UNIDADESINCOLDEXT S.A.S."},{"$f":"B401&H401","v":"C2S1-0324632.92"},{"$f":"G401","v":"INCOLDEXT S.A.S."},"Und",{"$f":"C401&D401&E401&F401&G401","v":"DOS (2)UNO (1)N/AVASOS DESECHABLES - 1 PAQUETE DE 25 UNIDADESINCOLDEXT S.A.S."},{"$f":"H401","v":4632.92}]
[{"$f":"\"ate01-\"&B402&\" \"&C402&\" \"&D402&\" \"&E402","v":"ate01-C2S1-032 DOS (2) UNO (1) N/A"},"C2S1-032","DOS (2)","UNO (1)","N/A","VASOS DESECHABLES - 1 PAQUETE DE 25 UNIDADES","RES-Q SOLUTIONS",6486.86,{"$f":"B402&G402","v":"C2S1-032RES-Q SOLUTIONS"},{"$f":"C402&D402&E402&F402","v":"DOS (2)UNO (1)N/AVASOS DESECHABLES - 1 PAQUETE DE 25 UNIDADES"},{"$f":"H402","v":6486.86},{"$f":"C402&D402&E402&F402&G402","v":"DOS (2)UNO (1)N/AVASOS DESECHABLES - 1 PAQUETE DE 25 UNIDADESRES-Q SOLUTIONS"},{"$f":"B402&H402","v":"C2S1-0326486.86"},{"$f":"G402","v":"RES-Q SOLUTIONS"},"Und",{"$f":"C402&D402&E402&F402&G402","v":"DOS (2)UNO (1)N/AVASOS DESECHABLES - 1 PAQUETE DE 25 UNIDADESRES-Q SOLUTIONS"},{"$f":"H402","v":6486.86}]
[{"$f":"\"ate01-\"&B403&\" \"&C403&\" \"&D403&\" \"&E403","v":"ate01-C2S1-032 DOS (2) UNO (1) N/A"},"C2S1-032","DOS (2)","UNO (1)","N/A","VASOS DESECHABLES - 1 PAQUETE DE 25 UNIDADES","INVERSION Y HOGAR S.A.S.",2724.48,{"$f":"B403&G403","v":"C2S1-032INVERSION Y HOGAR S.A.S."},{"$f":"C403&D403&E403&F403","v":"DOS (2)UNO (1)N/AVASOS DESECHABLES - 1 PAQUETE DE 25 UNIDADES"},{"$f":"H403","v":2724.48},{"$f":"C403&D403&E403&F403&G403","v":"DOS (2)UNO (1)N/AVASOS DESECHABLES - 1 PAQUETE DE 25 UNIDADESINVERSION Y HOGAR S.A.S."},{"$f":"B403&H403","v":"C2S1-0322724.48"},{"$f":"G403","v":"INVERSION Y HOGAR S.A.S."},"Und",{"$f":"C403&D403&E403&F403&G403","v":"DOS (2)UNO (1)N/AVASOS DESECHABLES - 1 PAQUETE DE 25 UNIDADESINVERSION Y HOGAR S.A.S."},{"$f":"H403","v":2724.48}]
[{"$f":"\"ate01-\"&B404&\" \"&C404&\" \"&D404&\" \"&E404","v":"ate01-C2S1-033 DOS (2) UNO (1) N/A"},"C2S1-033","DOS (2)","UNO (1)","N/A","TENSIOMETRO MANUAL - 1 UNIDAD ","JM GRUPO",291908.74,{"$f":"B404&G404","v":"C2S1-033JM GRUPO"},{"$f":"C404&D404&E404&F404","v":"DOS (2)UNO (1)N/ATENSIOMETRO MANUAL - 1 UNIDAD "},{"$f":"H404","v":291908.74},{"$f":"C404&D404&E404&F404&G404","v":"DOS (2)UNO (1)N/ATENSIOMETRO MANUAL - 1 UNIDAD JM GRUPO"},{"$f":"B404&H404","v":"C2S1-033291908.74"},{"$f":"G404","v":"JM GRUPO"},"Und",{"$f":"C404&D404&E404&F404&G404","v":"DOS (2)UNO (1)N/ATENSIOMETRO MANUAL - 1 UNIDAD JM GRUPO"},{"$f":"H404","v":291908.74}]
[{"$f":"\"ate01-\"&B405&\" \"&C405&\" \"&D405&\" \"&E405","v":"ate01-C2S1-033 DOS (2) UNO (1) N/A"},"C2S1-033","DOS (2)","UNO (1)","N/A","TENSIOMETRO MANUAL - 1 UNIDAD ","INCOLDEXT S.A.S.",74134.44,{"$f":"B405&G405","v":"C2S1-033INCOLDEXT S.A.S."},{"$f":"C405&D405&E405&F405","v":"DOS (2)UNO (1)N/ATENSIOMETRO MANUAL - 1 UNIDAD "},{"$f":"H405","v":74134.44},{"$f":"C405&D405&E405&F405&G405","v":"DOS (2)UNO (1)N/ATENSIOMETRO MANUAL - 1 UNIDAD INCOLDEXT S.A.S."},{"$f":"B405&H405","v":"C2S1-03374134.44"},{"$f":"G405","v":"INCOLDEXT S.A.S."},"Und",{"$f":"C405&D405&E405&F405&G405","v":"DOS (2)UNO (1)N/ATENSIOMETRO MANUAL - 1 UNIDAD INCOLDEXT S.A.S."},{"$f":"H405","v":74134.44}]
[{"$f":"\"ate01-\"&B406&\" \"&C406&\" \"&D406&\" \"&E406","v":"ate01-C2S1-033 DOS (2) UNO (1) N/A"},"C2S1-033","DOS (2)","UNO (1)","N/A","TENSIOMETRO MANUAL - 1 UNIDAD ","RES-Q SOLUTIONS",64868.61,{"$f":"B406&G406","v":"C2S1-033RES-Q SOLUTIONS"},{"$f":"C406&D406&E406&F406","v":"DOS (2)UNO (1)N/ATENSIOMETRO MANUAL - 1 UNIDAD "},{"$f":"H406","v":64868.61},{"$f":"C406&D406&E406&F406&G406","v":"DOS (2)UNO (1)N/ATENSIOMETRO MANUAL - 1 UNIDAD RES-Q SOLUTIONS"},{"$f":"B406&H406","v":"C2S1-03364868.61"},{"$f":"G406","v":"RES-Q SOLUTIONS"},"Und",{"$f":"C406&D406&E406&F406&G406","v":"DOS (2)UNO (1)N/ATENSIOMETRO MANUAL - 1 UNIDAD RES-Q SOLUTIONS"},{"$f":"H406","v":64868.61}]
[{"$f":"\"ate01-\"&B407&\" \"&C407&\" \"&D407&\" \"&E407","v":"ate01-C2S1-033 DOS (2) UNO (1) N/A"},"C2S1-033","DOS (2)","UNO (1)","N/A","TENSIOMETRO MANUAL - 1 UNIDAD ","INVERSION Y HOGAR S.A.S.",67722.83,{"$f":"B407&G407","v":"C2S1-033INVERSION Y HOGAR S.A.S."},{"$f":"C407&D407&E407&F407","v":"DOS (2)UNO (1)N/ATENSIOMETRO MANUAL - 1 UNIDAD "},{"$f":"H407","v":67722.83},{"$f":"C407&D407&E407&F407&G407","v":"DOS (2)UNO (1)N/ATENSIOMETRO MANUAL - 1 UNIDAD INVERSION Y HOGAR S.A.S."},{"$f":"B407&H407","v":"C2S1-03367722.83"},{"$f":"G407","v":"INVERSION Y HOGAR S.A.S."},"Und",{"$f":"C407&D407&E407&F407&G407","v":"DOS (2)UNO (1)N/ATENSIOMETRO MANUAL - 1 UNIDAD INVERSION Y HOGAR S.A.S."},{"$f":"H407","v":67722.83}]
[{"$f":"\"ate01-\"&B408&\" \"&C408&\" \"&D408&\" \"&E408","v":"ate01-C2S1-034 DOS (2) UNO (1) N/A"},"C2S1-034","DOS (2)","UNO (1)","N/A","TENSIOMETRO DIGITAL - 1 UNIDAD. DIGITAL DE BRAZATELE MIDE LA PRESIÓN SISTÓLICA Y DIASTÓLICA, Y LA FRECUENCIA DEL PULSO.","JM GRUPO",330829.90000000002,{"$f":"B408&G408","v":"C2S1-034JM GRUPO"},{"$f":"C408&D408&E408&F408","v":"DOS (2)UNO (1)N/ATENSIOMETRO DIGITAL - 1 UNIDAD. DIGITAL DE BRAZATELE MIDE LA PRESIÓN SISTÓLICA Y DIASTÓLICA, Y LA FRECUENCIA DEL PULSO."},{"$f":"H408","v":330829.90000000002},{"$f":"C408&D408&E408&F408&G408","v":"DOS (2)UNO (1)N/ATENSIOMETRO DIGITAL - 1 UNIDAD. DIGITAL DE BRAZATELE MIDE LA PRESIÓN SISTÓLICA Y DIASTÓLICA, Y LA FRECUENCIA DEL PULSO.JM GRUPO"},{"$f":"B408&H408","v":"C2S1-034330829.9"},{"$f":"G408","v":"JM GRUPO"},"Und",{"$f":"C408&D408&E408&F408&G408","v":"DOS (2)UNO (1)N/ATENSIOMETRO DIGITAL - 1 UNIDAD. DIGITAL DE BRAZATELE MIDE LA PRESIÓN SISTÓLICA Y DIASTÓLICA, Y LA FRECUENCIA DEL PULSO.JM GRUPO"},{"$f":"H408","v":330829.90000000002}]
[{"$f":"\"ate01-\"&B409&\" \"&C409&\" \"&D409&\" \"&E409","v":"ate01-C2S1-034 DOS (2) UNO (1) N/A"},"C2S1-034","DOS (2)","UNO (1)","N/A","TENSIOMETRO DIGITAL - 1 UNIDAD. DIGITAL DE BRAZATELE MIDE LA PRESIÓN SISTÓLICA Y DIASTÓLICA, Y LA FRECUENCIA DEL PULSO.","INCOLDEXT S.A.S.",207579.55,{"$f":"B409&G409","v":"C2S1-034INCOLDEXT S.A.S."},{"$f":"C409&D409&E409&F409","v":"DOS (2)UNO (1)N/ATENSIOMETRO DIGITAL - 1 UNIDAD. DIGITAL DE BRAZATELE MIDE LA PRESIÓN SISTÓLICA Y DIASTÓLICA, Y LA FRECUENCIA DEL PULSO."},{"$f":"H409","v":207579.55},{"$f":"C409&D409&E409&F409&G409","v":"DOS (2)UNO (1)N/ATENSIOMETRO DIGITAL - 1 UNIDAD. DIGITAL DE BRAZATELE MIDE LA PRESIÓN SISTÓLICA Y DIASTÓLICA, Y LA FRECUENCIA DEL PULSO.INCOLDEXT S.A.S."},{"$f":"B409&H409","v":"C2S1-034207579.55"},{"$f":"G409","v":"INCOLDEXT S.A.S."},"Und",{"$f":"C409&D409&E409&F409&G409","v":"DOS (2)UNO (1)N/ATENSIOMETRO DIGITAL - 1 UNIDAD. DIGITAL DE BRAZATELE MIDE LA PRESIÓN SISTÓLICA Y DIASTÓLICA, Y LA FRECUENCIA DEL PULSO.INCOLDEXT S.A.S."},{"$f":"H409","v":207579.55}]
[{"$f":"\"ate01-\"&B410&\" \"&C410&\" \"&D410&\" \"&E410","v":"ate01-C2S1-034 DOS (2) UNO (1) N/A"},"C2S1-034","DOS (2)","UNO (1)","N/A","TENSIOMETRO DIGITAL - 1 UNIDAD. DIGITAL DE BRAZATELE MIDE LA PRESIÓN SISTÓLICA Y DIASTÓLICA, Y LA FRECUENCIA DEL PULSO.","RES-Q SOLUTIONS",363264.2,{"$f":"B410&G410","v":"C2S1-034RES-Q SOLUTIONS"},{"$f":"C410&D410&E410&F410","v":"DOS (2)UNO (1)N/ATENSIOMETRO DIGITAL - 1 UNIDAD. DIGITAL DE BRAZATELE MIDE LA PRESIÓN SISTÓLICA Y DIASTÓLICA, Y LA FRECUENCIA DEL PULSO."},{"$f":"H410","v":363264.2},{"$f":"C410&D410&E410&F410&G410","v":"DOS (2)UNO (1)N/ATENSIOMETRO DIGITAL - 1 UNIDAD. DIGITAL DE BRAZATELE MIDE LA PRESIÓN SISTÓLICA Y DIASTÓLICA, Y LA FRECUENCIA DEL PULSO.RES-Q SOLUTIONS"},{"$f":"B410&H410","v":"C2S1-034363264.2"},{"$f":"G410","v":"RES-Q SOLUTIONS"},"Und",{"$f":"C410&D410&E410&F410&G410","v":"DOS (2)UNO (1)N/ATENSIOMETRO DIGITAL - 1 UNIDAD. DIGITAL DE BRAZATELE MIDE LA PRESIÓN SISTÓLICA Y DIASTÓLICA, Y LA FRECUENCIA DEL PULSO.RES-Q SOLUTIONS"},{"$f":"H410","v":363264.2}]
[{"$f":"\"ate01-\"&B411&\" \"&C411&\" \"&D411&\" \"&E411","v":"ate01-C2S1-034 DOS (2) UNO (1) N/A"},"C2S1-034","DOS (2)","UNO (1)","N/A","TENSIOMETRO DIGITAL - 1 UNIDAD. DIGITAL DE BRAZATELE MIDE LA PRESIÓN SISTÓLICA Y DIASTÓLICA, Y LA FRECUENCIA DEL PULSO.","INVERSION Y HOGAR S.A.S.",180334.73,{"$f":"B411&G411","v":"C2S1-034INVERSION Y HOGAR S.A.S."},{"$f":"C411&D411&E411&F411","v":"DOS (2)UNO (1)N/ATENSIOMETRO DIGITAL - 1 UNIDAD. DIGITAL DE BRAZATELE MIDE LA PRESIÓN SISTÓLICA Y DIASTÓLICA, Y LA FRECUENCIA DEL PULSO."},{"$f":"H411","v":180334.73},{"$f":"C411&D411&E411&F411&G411","v":"DOS (2)UNO (1)N/ATENSIOMETRO DIGITAL - 1 UNIDAD. DIGITAL DE BRAZATELE MIDE LA PRESIÓN SISTÓLICA Y DIASTÓLICA, Y LA FRECUENCIA DEL PULSO.INVERSION Y HOGAR S.A.S."},{"$f":"B411&H411","v":"C2S1-034180334.73"},{"$f":"G411","v":"INVERSION Y HOGAR S.A.S."},"Und",{"$f":"C411&D411&E411&F411&G411","v":"DOS (2)UNO (1)N/ATENSIOMETRO DIGITAL - 1 UNIDAD. DIGITAL DE BRAZATELE MIDE LA PRESIÓN SISTÓLICA Y DIASTÓLICA, Y LA FRECUENCIA DEL PULSO.INVERSION Y HOGAR S.A.S."},{"$f":"H411","v":180334.73}]
[{"$f":"\"ate01-\"&B412&\" \"&C412&\" \"&D412&\" \"&E412","v":"ate01-C2S1-035 DOS (2) UNO (1) N/A"},"C2S1-035","DOS (2)","UNO (1)","N/A","FONENDOSCOPIO - 1 UNIDAD ","JM GRUPO",176442.61,{"$f":"B412&G412","v":"C2S1-035JM GRUPO"},{"$f":"C412&D412&E412&F412","v":"DOS (2)UNO (1)N/AFONENDOSCOPIO - 1 UNIDAD "},{"$f":"H412","v":176442.61},{"$f":"C412&D412&E412&F412&G412","v":"DOS (2)UNO (1)N/AFONENDOSCOPIO - 1 UNIDAD JM GRUPO"},{"$f":"B412&H412","v":"C2S1-035176442.61"},{"$f":"G412","v":"JM GRUPO"},"Und",{"$f":"C412&D412&E412&F412&G412","v":"DOS (2)UNO (1)N/AFONENDOSCOPIO - 1 UNIDAD JM GRUPO"},{"$f":"H412","v":176442.61}]
[{"$f":"\"ate01-\"&B413&\" \"&C413&\" \"&D413&\" \"&E413","v":"ate01-C2S1-035 DOS (2) UNO (1) N/A"},"C2S1-035","DOS (2)","UNO (1)","N/A","FONENDOSCOPIO - 1 UNIDAD ","INCOLDEXT S.A.S.",74134.44,{"$f":"B413&G413","v":"C2S1-035INCOLDEXT S.A.S."},{"$f":"C413&D413&E413&F413","v":"DOS (2)UNO (1)N/AFONENDOSCOPIO - 1 UNIDAD "},{"$f":"H413","v":74134.44},{"$f":"C413&D413&E413&F413&G413","v":"DOS (2)UNO (1)N/AFONENDOSCOPIO - 1 UNIDAD INCOLDEXT S.A.S."},{"$f":"B413&H413","v":"C2S1-03574134.44"},{"$f":"G413","v":"INCOLDEXT S.A.S."},"Und",{"$f":"C413&D413&E413&F413&G413","v":"DOS (2)UNO (1)N/AFONENDOSCOPIO - 1 UNIDAD INCOLDEXT S.A.S."},{"$f":"H413","v":74134.44}]
[{"$f":"\"ate01-\"&B414&\" \"&C414&\" \"&D414&\" \"&E414","v":"ate01-C2S1-035 DOS (2) UNO (1) N/A"},"C2S1-035","DOS (2)","UNO (1)","N/A","FONENDOSCOPIO - 1 UNIDAD ","RES-Q SOLUTIONS",58381.75,{"$f":"B414&G414","v":"C2S1-035RES-Q SOLUTIONS"},{"$f":"C414&D414&E414&F414","v":"DOS (2)UNO (1)N/AFONENDOSCOPIO - 1 UNIDAD "},{"$f":"H414","v":58381.75},{"$f":"C414&D414&E414&F414&G414","v":"DOS (2)UNO (1)N/AFONENDOSCOPIO - 1 UNIDAD RES-Q SOLUTIONS"},{"$f":"B414&H414","v":"C2S1-03558381.75"},{"$f":"G414","v":"RES-Q SOLUTIONS"},"Und",{"$f":"C414&D414&E414&F414&G414","v":"DOS (2)UNO (1)N/AFONENDOSCOPIO - 1 UNIDAD RES-Q SOLUTIONS"},{"$f":"H414","v":58381.75}]
[{"$f":"\"ate01-\"&B415&\" \"&C415&\" \"&D415&\" \"&E415","v":"ate01-C2S1-035 DOS (2) UNO (1) N/A"},"C2S1-035","DOS (2)","UNO (1)","N/A","FONENDOSCOPIO - 1 UNIDAD ","INVERSION Y HOGAR S.A.S.",31136.93,{"$f":"B415&G415","v":"C2S1-035INVERSION Y HOGAR S.A.S."},{"$f":"C415&D415&E415&F415","v":"DOS (2)UNO (1)N/AFONENDOSCOPIO - 1 UNIDAD "},{"$f":"H415","v":31136.93},{"$f":"C415&D415&E415&F415&G415","v":"DOS (2)UNO (1)N/AFONENDOSCOPIO - 1 UNIDAD INVERSION Y HOGAR S.A.S."},{"$f":"B415&H415","v":"C2S1-03531136.93"},{"$f":"G415","v":"INVERSION Y HOGAR S.A.S."},"Und",{"$f":"C415&D415&E415&F415&G415","v":"DOS (2)UNO (1)N/AFONENDOSCOPIO - 1 UNIDAD INVERSION Y HOGAR S.A.S."},{"$f":"H415","v":31136.93}]
[{"$f":"\"ate01-\"&B416&\" \"&C416&\" \"&D416&\" \"&E416","v":"ate01-C2S1-036 DOS (2) UNO (1) N/A"},"C2S1-036","DOS (2)","UNO (1)","N/A","MASCARILLA DESECHABLE PARA RCP - 1 UNIDAD","JM GRUPO",25947.439999999999,{"$f":"B416&G416","v":"C2S1-036JM GRUPO"},{"$f":"C416&D416&E416&F416","v":"DOS (2)UNO (1)N/AMASCARILLA DESECHABLE PARA RCP - 1 UNIDAD"},{"$f":"H416","v":25947.439999999999},{"$f":"C416&D416&E416&F416&G416","v":"DOS (2)UNO (1)N/AMASCARILLA DESECHABLE PARA RCP - 1 UNIDADJM GRUPO"},{"$f":"B416&H416","v":"C2S1-03625947.44"},{"$f":"G416","v":"JM GRUPO"},"Und",{"$f":"C416&D416&E416&F416&G416","v":"DOS (2)UNO (1)N/AMASCARILLA DESECHABLE PARA RCP - 1 UNIDADJM GRUPO"},{"$f":"H416","v":25947.439999999999}]
[{"$f":"\"ate01-\"&B417&\" \"&C417&\" \"&D417&\" \"&E417","v":"ate01-C2S1-036 DOS (2) UNO (1) N/A"},"C2S1-036","DOS (2)","UNO (1)","N/A","MASCARILLA DESECHABLE PARA RCP - 1 UNIDAD","INCOLDEXT S.A.S.",12973.72,{"$f":"B417&G417","v":"C2S1-036INCOLDEXT S.A.S."},{"$f":"C417&D417&E417&F417","v":"DOS (2)UNO (1)N/AMASCARILLA DESECHABLE PARA RCP - 1 UNIDAD"},{"$f":"H417","v":12973.72},{"$f":"C417&D417&E417&F417&G417","v":"DOS (2)UNO (1)N/AMASCARILLA DESECHABLE PARA RCP - 1 UNIDADINCOLDEXT S.A.S."},{"$f":"B417&H417","v":"C2S1-03612973.72"},{"$f":"G417","v":"INCOLDEXT S.A.S."},"Und",{"$f":"C417&D417&E417&F417&G417","v":"DOS (2)UNO (1)N/AMASCARILLA DESECHABLE PARA RCP - 1 UNIDADINCOLDEXT S.A.S."},{"$f":"H417","v":12973.72}]
[{"$f":"\"ate01-\"&B418&\" \"&C418&\" \"&D418&\" \"&E418","v":"ate01-C2S1-036 DOS (2) UNO (1) N/A"},"C2S1-036","DOS (2)","UNO (1)","N/A","MASCARILLA DESECHABLE PARA RCP - 1 UNIDAD","RES-Q SOLUTIONS",38921.160000000003,{"$f":"B418&G418","v":"C2S1-036RES-Q SOLUTIONS"},{"$f":"C418&D418&E418&F418","v":"DOS (2)UNO (1)N/AMASCARILLA DESECHABLE PARA RCP - 1 UNIDAD"},{"$f":"H418","v":38921.160000000003},{"$f":"C418&D418&E418&F418&G418","v":"DOS (2)UNO (1)N/AMASCARILLA DESECHABLE PARA RCP - 1 UNIDADRES-Q SOLUTIONS"},{"$f":"B418&H418","v":"C2S1-03638921.16"},{"$f":"G418","v":"RES-Q SOLUTIONS"},"Und",{"$f":"C418&D418&E418&F418&G418","v":"DOS (2)UNO (1)N/AMASCARILLA DESECHABLE PARA RCP - 1 UNIDADRES-Q SOLUTIONS"},{"$f":"H418","v":38921.160000000003}]
[{"$f":"\"ate01-\"&B419&\" \"&C419&\" \"&D419&\" \"&E419","v":"ate01-C2S1-036 DOS (2) UNO (1) N/A"},"C2S1-036","DOS (2)","UNO (1)","N/A","MASCARILLA DESECHABLE PARA RCP - 1 UNIDAD","INVERSION Y HOGAR S.A.S.",10378.98,{"$f":"B419&G419","v":"C2S1-036INVERSION Y HOGAR S.A.S."},{"$f":"C419&D419&E419&F419","v":"DOS (2)UNO (1)N/AMASCARILLA DESECHABLE PARA RCP - 1 UNIDAD"},{"$f":"H419","v":10378.98},{"$f":"C419&D419&E419&F419&G419","v":"DOS (2)UNO (1)N/AMASCARILLA DESECHABLE PARA RCP - 1 UNIDADINVERSION Y HOGAR S.A.S."},{"$f":"B419&H419","v":"C2S1-03610378.98"},{"$f":"G419","v":"INVERSION Y HOGAR S.A.S."},"Und",{"$f":"C419&D419&E419&F419&G419","v":"DOS (2)UNO (1)N/AMASCARILLA DESECHABLE PARA RCP - 1 UNIDADINVERSION Y HOGAR S.A.S."},{"$f":"H419","v":10378.98}]
[{"$f":"\"ate01-\"&B420&\" \"&C420&\" \"&D420&\" \"&E420","v":"ate01-C2S1-037 DOS (2) UNO (1) N/A"},"C2S1-037","DOS (2)","UNO (1)","N/A","GLUCOMETRO / UNIDAD","JM GRUPO",255582.32,{"$f":"B420&G420","v":"C2S1-037JM GRUPO"},{"$f":"C420&D420&E420&F420","v":"DOS (2)UNO (1)N/AGLUCOMETRO / UNIDAD"},{"$f":"H420","v":255582.32},{"$f":"C420&D420&E420&F420&G420","v":"DOS (2)UNO (1)N/AGLUCOMETRO / UNIDADJM GRUPO"},{"$f":"B420&H420","v":"C2S1-037255582.32"},{"$f":"G420","v":"JM GRUPO"},"Und",{"$f":"C420&D420&E420&F420&G420","v":"DOS (2)UNO (1)N/AGLUCOMETRO / UNIDADJM GRUPO"},{"$f":"H420","v":255582.32}]
[{"$f":"\"ate01-\"&B421&\" \"&C421&\" \"&D421&\" \"&E421","v":"ate01-C2S1-037 DOS (2) UNO (1) N/A"},"C2S1-037","DOS (2)","UNO (1)","N/A","GLUCOMETRO / UNIDAD","INCOLDEXT S.A.S.",101935.83,{"$f":"B421&G421","v":"C2S1-037INCOLDEXT S.A.S."},{"$f":"C421&D421&E421&F421","v":"DOS (2)UNO (1)N/AGLUCOMETRO / UNIDAD"},{"$f":"H421","v":101935.83},{"$f":"C421&D421&E421&F421&G421","v":"DOS (2)UNO (1)N/AGLUCOMETRO / UNIDADINCOLDEXT S.A.S."},{"$f":"B421&H421","v":"C2S1-037101935.83"},{"$f":"G421","v":"INCOLDEXT S.A.S."},"Und",{"$f":"C421&D421&E421&F421&G421","v":"DOS (2)UNO (1)N/AGLUCOMETRO / UNIDADINCOLDEXT S.A.S."},{"$f":"H421","v":101935.83}]
[{"$f":"\"ate01-\"&B422&\" \"&C422&\" \"&D422&\" \"&E422","v":"ate01-C2S1-037 DOS (2) UNO (1) N/A"},"C2S1-037","DOS (2)","UNO (1)","N/A","GLUCOMETRO / UNIDAD","RES-Q SOLUTIONS",415159.09,{"$f":"B422&G422","v":"C2S1-037RES-Q SOLUTIONS"},{"$f":"C422&D422&E422&F422","v":"DOS (2)UNO (1)N/AGLUCOMETRO / UNIDAD"},{"$f":"H422","v":415159.09},{"$f":"C422&D422&E422&F422&G422","v":"DOS (2)UNO (1)N/AGLUCOMETRO / UNIDADRES-Q SOLUTIONS"},{"$f":"B422&H422","v":"C2S1-037415159.09"},{"$f":"G422","v":"RES-Q SOLUTIONS"},"Und",{"$f":"C422&D422&E422&F422&G422","v":"DOS (2)UNO (1)N/AGLUCOMETRO / UNIDADRES-Q SOLUTIONS"},{"$f":"H422","v":415159.09}]
[{"$f":"\"ate01-\"&B423&\" \"&C423&\" \"&D423&\" \"&E423","v":"ate01-C2S1-037 DOS (2) UNO (1) N/A"},"C2S1-037","DOS (2)","UNO (1)","N/A","GLUCOMETRO / UNIDAD","INVERSION Y HOGAR S.A.S.",109757.68,{"$f":"B423&G423","v":"C2S1-037INVERSION Y HOGAR S.A.S."},{"$f":"C423&D423&E423&F423","v":"DOS (2)UNO (1)N/AGLUCOMETRO / UNIDAD"},{"$f":"H423","v":109757.68},{"$f":"C423&D423&E423&F423&G423","v":"DOS (2)UNO (1)N/AGLUCOMETRO / UNIDADINVERSION Y HOGAR S.A.S."},{"$f":"B423&H423","v":"C2S1-037109757.68"},{"$f":"G423","v":"INVERSION Y HOGAR S.A.S."},"Und",{"$f":"C423&D423&E423&F423&G423","v":"DOS (2)UNO (1)N/AGLUCOMETRO / UNIDADINVERSION Y HOGAR S.A.S."},{"$f":"H423","v":109757.68}]
[{"$f":"\"ate01-\"&B424&\" \"&C424&\" \"&D424&\" \"&E424","v":"ate01-C2S1-038 DOS (2) UNO (1) N/A"},"C2S1-038","DOS (2)","UNO (1)","N/A","PULSOXIMETRO / UNIDAD","JM GRUPO",258825.75,{"$f":"B424&G424","v":"C2S1-038JM GRUPO"},{"$f":"C424&D424&E424&F424","v":"DOS (2)UNO (1)N/APULSOXIMETRO / UNIDAD"},{"$f":"H424","v":258825.75},{"$f":"C424&D424&E424&F424&G424","v":"DOS (2)UNO (1)N/APULSOXIMETRO / UNIDADJM GRUPO"},{"$f":"B424&H424","v":"C2S1-038258825.75"},{"$f":"G424","v":"JM GRUPO"},"Und",{"$f":"C424&D424&E424&F424&G424","v":"DOS (2)UNO (1)N/APULSOXIMETRO / UNIDADJM GRUPO"},{"$f":"H424","v":258825.75}]
[{"$f":"\"ate01-\"&B425&\" \"&C425&\" \"&D425&\" \"&E425","v":"ate01-C2S1-038 DOS (2) UNO (1) N/A"},"C2S1-038","DOS (2)","UNO (1)","N/A","PULSOXIMETRO / UNIDAD","INCOLDEXT S.A.S.",116577.97,{"$f":"B425&G425","v":"C2S1-038INCOLDEXT S.A.S."},{"$f":"C425&D425&E425&F425","v":"DOS (2)UNO (1)N/APULSOXIMETRO / UNIDAD"},{"$f":"H425","v":116577.97},{"$f":"C425&D425&E425&F425&G425","v":"DOS (2)UNO (1)N/APULSOXIMETRO / UNIDADINCOLDEXT S.A.S."},{"$f":"B425&H425","v":"C2S1-038116577.97"},{"$f":"G425","v":"INCOLDEXT S.A.S."},"Und",{"$f":"C425&D425&E425&F425&G425","v":"DOS (2)UNO (1)N/APULSOXIMETRO / UNIDADINCOLDEXT S.A.S."},{"$f":"H425","v":116577.97}]
[{"$f":"\"ate01-\"&B426&\" \"&C426&\" \"&D426&\" \"&E426","v":"ate01-C2S1-038 DOS (2) UNO (1) N/A"},"C2S1-038","DOS (2)","UNO (1)","N/A","PULSOXIMETRO / UNIDAD","RES-Q SOLUTIONS",467053.98,{"$f":"B426&G426","v":"C2S1-038RES-Q SOLUTIONS"},{"$f":"C426&D426&E426&F426","v":"DOS (2)UNO (1)N/APULSOXIMETRO / UNIDAD"},{"$f":"H426","v":467053.98},{"$f":"C426&D426&E426&F426&G426","v":"DOS (2)UNO (1)N/APULSOXIMETRO / UNIDADRES-Q SOLUTIONS"},{"$f":"B426&H426","v":"C2S1-038467053.98"},{"$f":"G426","v":"RES-Q SOLUTIONS"},"Und",{"$f":"C426&D426&E426&F426&G426","v":"DOS (2)UNO (1)N/APULSOXIMETRO / UNIDADRES-Q SOLUTIONS"},{"$f":"H426","v":467053.98}]
[{"$f":"\"ate01-\"&B427&\" \"&C427&\" \"&D427&\" \"&E427","v":"ate01-C2S1-038 DOS (2) UNO (1) N/A"},"C2S1-038","DOS (2)","UNO (1)","N/A","PULSOXIMETRO / UNIDAD","INVERSION Y HOGAR S.A.S.",146343.57999999999,{"$f":"B427&G427","v":"C2S1-038INVERSION Y HOGAR S.A.S."},{"$f":"C427&D427&E427&F427","v":"DOS (2)UNO (1)N/APULSOXIMETRO / UNIDAD"},{"$f":"H427","v":146343.57999999999},{"$f":"C427&D427&E427&F427&G427","v":"DOS (2)UNO (1)N/APULSOXIMETRO / UNIDADINVERSION Y HOGAR S.A.S."},{"$f":"B427&H427","v":"C2S1-038146343.58"},{"$f":"G427","v":"INVERSION Y HOGAR S.A.S."},"Und",{"$f":"C427&D427&E427&F427&G427","v":"DOS (2)UNO (1)N/APULSOXIMETRO / UNIDADINVERSION Y HOGAR S.A.S."},{"$f":"H427","v":146343.57999999999}]
[{"$f":"\"ate01-\"&B428&\" \"&C428&\" \"&D428&\" \"&E428","v":"ate01-C2S1-039 DOS (2) UNO (1) N/A"},"C2S1-039","DOS (2)","UNO (1)","N/A","TORNIQUETE / UNIDAD","JM GRUPO",46445.919999999998,{"$f":"B428&G428","v":"C2S1-039JM GRUPO"},{"$f":"C428&D428&E428&F428","v":"DOS (2)UNO (1)N/ATORNIQUETE / UNIDAD"},{"$f":"H428","v":46445.919999999998},{"$f":"C428&D428&E428&F428&G428","v":"DOS (2)UNO (1)N/ATORNIQUETE / UNIDADJM GRUPO"},{"$f":"B428&H428","v":"C2S1-03946445.92"},{"$f":"G428","v":"JM GRUPO"},"Und",{"$f":"C428&D428&E428&F428&G428","v":"DOS (2)UNO (1)N/ATORNIQUETE / UNIDADJM GRUPO"},{"$f":"H428","v":46445.919999999998}]
[{"$f":"\"ate01-\"&B429&\" \"&C429&\" \"&D429&\" \"&E429","v":"ate01-C2S1-039 DOS (2) UNO (1) N/A"},"C2S1-039","DOS (2)","UNO (1)","N/A","TORNIQUETE / UNIDAD","INCOLDEXT S.A.S.",18532.96,{"$f":"B429&G429","v":"C2S1-039INCOLDEXT S.A.S."},{"$f":"C429&D429&E429&F429","v":"DOS (2)UNO (1)N/ATORNIQUETE / UNIDAD"},{"$f":"H429","v":18532.96},{"$f":"C429&D429&E429&F429&G429","v":"DOS (2)UNO (1)N/ATORNIQUETE / UNIDADINCOLDEXT S.A.S."},{"$f":"B429&H429","v":"C2S1-03918532.96"},{"$f":"G429","v":"INCOLDEXT S.A.S."},"Und",{"$f":"C429&D429&E429&F429&G429","v":"DOS (2)UNO (1)N/ATORNIQUETE / UNIDADINCOLDEXT S.A.S."},{"$f":"H429","v":18532.96}]
[{"$f":"\"ate01-\"&B430&\" \"&C430&\" \"&D430&\" \"&E430","v":"ate01-C2S1-039 DOS (2) UNO (1) N/A"},"C2S1-039","DOS (2)","UNO (1)","N/A","TORNIQUETE / UNIDAD","RES-Q SOLUTIONS",25947.439999999999,{"$f":"B430&G430","v":"C2S1-039RES-Q SOLUTIONS"},{"$f":"C430&D430&E430&F430","v":"DOS (2)UNO (1)N/ATORNIQUETE / UNIDAD"},{"$f":"H430","v":25947.439999999999},{"$f":"C430&D430&E430&F430&G430","v":"DOS (2)UNO (1)N/ATORNIQUETE / UNIDADRES-Q SOLUTIONS"},{"$f":"B430&H430","v":"C2S1-03925947.44"},{"$f":"G430","v":"RES-Q SOLUTIONS"},"Und",{"$f":"C430&D430&E430&F430&G430","v":"DOS (2)UNO (1)N/ATORNIQUETE / UNIDADRES-Q SOLUTIONS"},{"$f":"H430","v":25947.439999999999}]
[{"$f":"\"ate01-\"&B431&\" \"&C431&\" \"&D431&\" \"&E431","v":"ate01-C2S1-039 DOS (2) UNO (1) N/A"},"C2S1-039","DOS (2)","UNO (1)","N/A","TORNIQUETE / UNIDAD","INVERSION Y HOGAR S.A.S.",46705.4,{"$f":"B431&G431","v":"C2S1-039INVERSION Y HOGAR S.A.S."},{"$f":"C431&D431&E431&F431","v":"DOS (2)UNO (1)N/ATORNIQUETE / UNIDAD"},{"$f":"H431","v":46705.4},{"$f":"C431&D431&E431&F431&G431","v":"DOS (2)UNO (1)N/ATORNIQUETE / UNIDADINVERSION Y HOGAR S.A.S."},{"$f":"B431&H431","v":"C2S1-03946705.4"},{"$f":"G431","v":"INVERSION Y HOGAR S.A.S."},"Und",{"$f":"C431&D431&E431&F431&G431","v":"DOS (2)UNO (1)N/ATORNIQUETE / UNIDADINVERSION Y HOGAR S.A.S."},{"$f":"H431","v":46705.4}]
[{"$f":"\"ate01-\"&B432&\" \"&C432&\" \"&D432&\" \"&E432","v":"ate01-C2S2-001 DOS (2) DOS (2) N/A"},"C2S2-001","DOS (2)","DOS (2)","N/A","TABLA ESPINAL PARA EMERGENCIAS  / UNIDAD","IMPLESEG S.A.S.",232359.35,{"$f":"B432&G432","v":"C2S2-001IMPLESEG S.A.S."},{"$f":"C432&D432&E432&F432","v":"DOS (2)DOS (2)N/ATABLA ESPINAL PARA EMERGENCIAS  / UNIDAD"},{"$f":"H432","v":232359.35},{"$f":"C432&D432&E432&F432&G432","v":"DOS (2)DOS (2)N/ATABLA ESPINAL PARA EMERGENCIAS  / UNIDADIMPLESEG S.A.S."},{"$f":"B432&H432","v":"C2S2-001232359.35"},{"$f":"G432","v":"IMPLESEG S.A.S."},"Und",{"$f":"C432&D432&E432&F432&G432","v":"DOS (2)DOS (2)N/ATABLA ESPINAL PARA EMERGENCIAS  / UNIDADIMPLESEG S.A.S."},{"$f":"H432","v":232359.35}]
[{"$f":"\"ate01-\"&B433&\" \"&C433&\" \"&D433&\" \"&E433","v":"ate01-C2S2-001 DOS (2) DOS (2) N/A"},"C2S2-001","DOS (2)","DOS (2)","N/A","TABLA ESPINAL PARA EMERGENCIAS  / UNIDAD","JM GRUPO",142710.94,{"$f":"B433&G433","v":"C2S2-001JM GRUPO"},{"$f":"C433&D433&E433&F433","v":"DOS (2)DOS (2)N/ATABLA ESPINAL PARA EMERGENCIAS  / UNIDAD"},{"$f":"H433","v":142710.94},{"$f":"C433&D433&E433&F433&G433","v":"DOS (2)DOS (2)N/ATABLA ESPINAL PARA EMERGENCIAS  / UNIDADJM GRUPO"},{"$f":"B433&H433","v":"C2S2-001142710.94"},{"$f":"G433","v":"JM GRUPO"},"Und",{"$f":"C433&D433&E433&F433&G433","v":"DOS (2)DOS (2)N/ATABLA ESPINAL PARA EMERGENCIAS  / UNIDADJM GRUPO"},{"$f":"H433","v":142710.94}]
[{"$f":"\"ate01-\"&B434&\" \"&C434&\" \"&D434&\" \"&E434","v":"ate01-C2S2-001 DOS (2) DOS (2) N/A"},"C2S2-001","DOS (2)","DOS (2)","N/A","TABLA ESPINAL PARA EMERGENCIAS  / UNIDAD","UT EMERGENCIAS 2021",207579.55,{"$f":"B434&G434","v":"C2S2-001UT EMERGENCIAS 2021"},{"$f":"C434&D434&E434&F434","v":"DOS (2)DOS (2)N/ATABLA ESPINAL PARA EMERGENCIAS  / UNIDAD"},{"$f":"H434","v":207579.55},{"$f":"C434&D434&E434&F434&G434","v":"DOS (2)DOS (2)N/ATABLA ESPINAL PARA EMERGENCIAS  / UNIDADUT EMERGENCIAS 2021"},{"$f":"B434&H434","v":"C2S2-001207579.55"},{"$f":"G434","v":"UT EMERGENCIAS 2021"},"Und",{"$f":"C434&D434&E434&F434&G434","v":"DOS (2)DOS (2)N/ATABLA ESPINAL PARA EMERGENCIAS  / UNIDADUT EMERGENCIAS 2021"},{"$f":"H434","v":207579.55}]
[{"$f":"\"ate01-\"&B435&\" \"&C435&\" \"&D435&\" \"&E435","v":"ate01-C2S2-001 DOS (2) DOS (2) N/A"},"C2S2-001","DOS (2)","DOS (2)","N/A","TABLA ESPINAL PARA EMERGENCIAS  / UNIDAD","INCOLDEXT S.A.S.",203871.66,{"$f":"B435&G435","v":"C2S2-001INCOLDEXT S.A.S."},{"$f":"C435&D435&E435&F435","v":"DOS (2)DOS (2)N/ATABLA ESPINAL PARA EMERGENCIAS  / UNIDAD"},{"$f":"H435","v":203871.66},{"$f":"C435&D435&E435&F435&G435","v":"DOS (2)DOS (2)N/ATABLA ESPINAL PARA EMERGENCIAS  / UNIDADINCOLDEXT S.A.S."},{"$f":"B435&H435","v":"C2S2-001203871.66"},{"$f":"G435","v":"INCOLDEXT S.A.S."},"Und",{"$f":"C435&D435&E435&F435&G435","v":"DOS (2)DOS (2)N/ATABLA ESPINAL PARA EMERGENCIAS  / UNIDADINCOLDEXT S.A.S."},{"$f":"H435","v":203871.66}]
[{"$f":"\"ate01-\"&B436&\" \"&C436&\" \"&D436&\" \"&E436","v":"ate01-C2S2-001 DOS (2) DOS (2) N/A"},"C2S2-001","DOS (2)","DOS (2)","N/A","TABLA ESPINAL PARA EMERGENCIAS  / UNIDAD","YUBARTA S.A.S.",324343.03999999998,{"$f":"B436&G436","v":"C2S2-001YUBARTA S.A.S."},{"$f":"C436&D436&E436&F436","v":"DOS (2)DOS (2)N/ATABLA ESPINAL PARA EMERGENCIAS  / UNIDAD"},{"$f":"H436","v":324343.03999999998},{"$f":"C436&D436&E436&F436&G436","v":"DOS (2)DOS (2)N/ATABLA ESPINAL PARA EMERGENCIAS  / UNIDADYUBARTA S.A.S."},{"$f":"B436&H436","v":"C2S2-001324343.04"},{"$f":"G436","v":"YUBARTA S.A.S."},"Und",{"$f":"C436&D436&E436&F436&G436","v":"DOS (2)DOS (2)N/ATABLA ESPINAL PARA EMERGENCIAS  / UNIDADYUBARTA S.A.S."},{"$f":"H436","v":324343.03999999998}]
[{"$f":"\"ate01-\"&B437&\" \"&C437&\" \"&D437&\" \"&E437","v":"ate01-C2S2-001 DOS (2) DOS (2) N/A"},"C2S2-001","DOS (2)","DOS (2)","N/A","TABLA ESPINAL PARA EMERGENCIAS  / UNIDAD","MIGUEL ANGEL VALLEJO BURGOS",252987.57,{"$f":"B437&G437","v":"C2S2-001MIGUEL ANGEL VALLEJO BURGOS"},{"$f":"C437&D437&E437&F437","v":"DOS (2)DOS (2)N/ATABLA ESPINAL PARA EMERGENCIAS  / UNIDAD"},{"$f":"H437","v":252987.57},{"$f":"C437&D437&E437&F437&G437","v":"DOS (2)DOS (2)N/ATABLA ESPINAL PARA EMERGENCIAS  / UNIDADMIGUEL ANGEL VALLEJO BURGOS"},{"$f":"B437&H437","v":"C2S2-001252987.57"},{"$f":"G437","v":"MIGUEL ANGEL VALLEJO BURGOS"},"Und",{"$f":"C437&D437&E437&F437&G437","v":"DOS (2)DOS (2)N/ATABLA ESPINAL PARA EMERGENCIAS  / UNIDADMIGUEL ANGEL VALLEJO BURGOS"},{"$f":"H437","v":252987.57}]
[{"$f":"\"ate01-\"&B438&\" \"&C438&\" \"&D438&\" \"&E438","v":"ate01-C2S2-002 DOS (2) DOS (2) N/A"},"C2S2-002","DOS (2)","DOS (2)","N/A","CUERDA TUBULAR  / UNIDAD","IMPLESEG S.A.S.",48842.17,{"$f":"B438&G438","v":"C2S2-002IMPLESEG S.A.S."},{"$f":"C438&D438&E438&F438","v":"DOS (2)DOS (2)N/ACUERDA TUBULAR  / UNIDAD"},{"$f":"H438","v":48842.17},{"$f":"C438&D438&E438&F438&G438","v":"DOS (2)DOS (2)N/ACUERDA TUBULAR  / UNIDADIMPLESEG S.A.S."},{"$f":"B438&H438","v":"C2S2-00248842.17"},{"$f":"G438","v":"IMPLESEG S.A.S."},"Und",{"$f":"C438&D438&E438&F438&G438","v":"DOS (2)DOS (2)N/ACUERDA TUBULAR  / UNIDADIMPLESEG S.A.S."},{"$f":"H438","v":48842.17}]
[{"$f":"\"ate01-\"&B439&\" \"&C439&\" \"&D439&\" \"&E439","v":"ate01-C2S2-002 DOS (2) DOS (2) N/A"},"C2S2-002","DOS (2)","DOS (2)","N/A","CUERDA TUBULAR  / UNIDAD","JM GRUPO",114168.75,{"$f":"B439&G439","v":"C2S2-002JM GRUPO"},{"$f":"C439&D439&E439&F439","v":"DOS (2)DOS (2)N/ACUERDA TUBULAR  / UNIDAD"},{"$f":"H439","v":114168.75},{"$f":"C439&D439&E439&F439&G439","v":"DOS (2)DOS (2)N/ACUERDA TUBULAR  / UNIDADJM GRUPO"},{"$f":"B439&H439","v":"C2S2-002114168.75"},{"$f":"G439","v":"JM GRUPO"},"Und",{"$f":"C439&D439&E439&F439&G439","v":"DOS (2)DOS (2)N/ACUERDA TUBULAR  / UNIDADJM GRUPO"},{"$f":"H439","v":114168.75}]
[{"$f":"\"ate01-\"&B440&\" \"&C440&\" \"&D440&\" \"&E440","v":"ate01-C2S2-002 DOS (2) DOS (2) N/A"},"C2S2-002","DOS (2)","DOS (2)","N/A","CUERDA TUBULAR  / UNIDAD","UT EMERGENCIAS 2021",162171.51999999999,{"$f":"B440&G440","v":"C2S2-002UT EMERGENCIAS 2021"},{"$f":"C440&D440&E440&F440","v":"DOS (2)DOS (2)N/ACUERDA TUBULAR  / UNIDAD"},{"$f":"H440","v":162171.51999999999},{"$f":"C440&D440&E440&F440&G440","v":"DOS (2)DOS (2)N/ACUERDA TUBULAR  / UNIDADUT EMERGENCIAS 2021"},{"$f":"B440&H440","v":"C2S2-002162171.52"},{"$f":"G440","v":"UT EMERGENCIAS 2021"},"Und",{"$f":"C440&D440&E440&F440&G440","v":"DOS (2)DOS (2)N/ACUERDA TUBULAR  / UNIDADUT EMERGENCIAS 2021"},{"$f":"H440","v":162171.51999999999}]
[{"$f":"\"ate01-\"&B441&\" \"&C441&\" \"&D441&\" \"&E441","v":"ate01-C2S2-002 DOS (2) DOS (2) N/A"},"C2S2-002","DOS (2)","DOS (2)","N/A","CUERDA TUBULAR  / UNIDAD","INCOLDEXT S.A.S.",16680.310000000001,{"$f":"B441&G441","v":"C2S2-002INCOLDEXT S.A.S."},{"$f":"C441&D441&E441&F441","v":"DOS (2)DOS (2)N/ACUERDA TUBULAR  / UNIDAD"},{"$f":"H441","v":16680.310000000001},{"$f":"C441&D441&E441&F441&G441","v":"DOS (2)DOS (2)N/ACUERDA TUBULAR  / UNIDADINCOLDEXT S.A.S."},{"$f":"B441&H441","v":"C2S2-00216680.31"},{"$f":"G441","v":"INCOLDEXT S.A.S."},"Und",{"$f":"C441&D441&E441&F441&G441","v":"DOS (2)DOS (2)N/ACUERDA TUBULAR  / UNIDADINCOLDEXT S.A.S."},{"$f":"H441","v":16680.310000000001}]
[{"$f":"\"ate01-\"&B442&\" \"&C442&\" \"&D442&\" \"&E442","v":"ate01-C2S2-002 DOS (2) DOS (2) N/A"},"C2S2-002","DOS (2)","DOS (2)","N/A","CUERDA TUBULAR  / UNIDAD","YUBARTA S.A.S.",129737.22,{"$f":"B442&G442","v":"C2S2-002YUBARTA S.A.S."},{"$f":"C442&D442&E442&F442","v":"DOS (2)DOS (2)N/ACUERDA TUBULAR  / UNIDAD"},{"$f":"H442","v":129737.22},{"$f":"C442&D442&E442&F442&G442","v":"DOS (2)DOS (2)N/ACUERDA TUBULAR  / UNIDADYUBARTA S.A.S."},{"$f":"B442&H442","v":"C2S2-002129737.22"},{"$f":"G442","v":"YUBARTA S.A.S."},"Und",{"$f":"C442&D442&E442&F442&G442","v":"DOS (2)DOS (2)N/ACUERDA TUBULAR  / UNIDADYUBARTA S.A.S."},{"$f":"H442","v":129737.22}]
[{"$f":"\"ate01-\"&B443&\" \"&C443&\" \"&D443&\" \"&E443","v":"ate01-C2S2-002 DOS (2) DOS (2) N/A"},"C2S2-002","DOS (2)","DOS (2)","N/A","CUERDA TUBULAR  / UNIDAD","MIGUEL ANGEL VALLEJO BURGOS",38272.480000000003,{"$f":"B443&G443","v":"C2S2-002MIGUEL ANGEL VALLEJO BURGOS"},{"$f":"C443&D443&E443&F443","v":"DOS (2)DOS (2)N/ACUERDA TUBULAR  / UNIDAD"},{"$f":"H443","v":38272.480000000003},{"$f":"C443&D443&E443&F443&G443","v":"DOS (2)DOS (2)N/ACUERDA TUBULAR  / UNIDADMIGUEL ANGEL VALLEJO BURGOS"},{"$f":"B443&H443","v":"C2S2-00238272.48"},{"$f":"G443","v":"MIGUEL ANGEL VALLEJO BURGOS"},"Und",{"$f":"C443&D443&E443&F443&G443","v":"DOS (2)DOS (2)N/ACUERDA TUBULAR  / UNIDADMIGUEL ANGEL VALLEJO BURGOS"},{"$f":"H443","v":38272.480000000003}]
[{"$f":"\"ate01-\"&B444&\" \"&C444&\" \"&D444&\" \"&E444","v":"ate01-C2S2-003 DOS (2) DOS (2) N/A"},"C2S2-003","DOS (2)","DOS (2)","N/A","CUERDA DE EVACUACIÓN PARA NIÑOS / UNIDAD","IMPLESEG S.A.S.",467663.74,{"$f":"B444&G444","v":"C2S2-003IMPLESEG S.A.S."},{"$f":"C444&D444&E444&F444","v":"DOS (2)DOS (2)N/ACUERDA DE EVACUACIÓN PARA NIÑOS / UNIDAD"},{"$f":"H444","v":467663.74},{"$f":"C444&D444&E444&F444&G444","v":"DOS (2)DOS (2)N/ACUERDA DE EVACUACIÓN PARA NIÑOS / UNIDADIMPLESEG S.A.S."},{"$f":"B444&H444","v":"C2S2-003467663.74"},{"$f":"G444","v":"IMPLESEG S.A.S."},"Und",{"$f":"C444&D444&E444&F444&G444","v":"DOS (2)DOS (2)N/ACUERDA DE EVACUACIÓN PARA NIÑOS / UNIDADIMPLESEG S.A.S."},{"$f":"H444","v":467663.74}]
[{"$f":"\"ate01-\"&B445&\" \"&C445&\" \"&D445&\" \"&E445","v":"ate01-C2S2-003 DOS (2) DOS (2) N/A"},"C2S2-003","DOS (2)","DOS (2)","N/A","CUERDA DE EVACUACIÓN PARA NIÑOS / UNIDAD","JM GRUPO",114168.75,{"$f":"B445&G445","v":"C2S2-003JM GRUPO"},{"$f":"C445&D445&E445&F445","v":"DOS (2)DOS (2)N/ACUERDA DE EVACUACIÓN PARA NIÑOS / UNIDAD"},{"$f":"H445","v":114168.75},{"$f":"C445&D445&E445&F445&G445","v":"DOS (2)DOS (2)N/ACUERDA DE EVACUACIÓN PARA NIÑOS / UNIDADJM GRUPO"},{"$f":"B445&H445","v":"C2S2-003114168.75"},{"$f":"G445","v":"JM GRUPO"},"Und",{"$f":"C445&D445&E445&F445&G445","v":"DOS (2)DOS (2)N/ACUERDA DE EVACUACIÓN PARA NIÑOS / UNIDADJM GRUPO"},{"$f":"H445","v":114168.75}]
[{"$f":"\"ate01-\"&B446&\" \"&C446&\" \"&D446&\" \"&E446","v":"ate01-C2S2-003 DOS (2) DOS (2) N/A"},"C2S2-003","DOS (2)","DOS (2)","N/A","CUERDA DE EVACUACIÓN PARA NIÑOS / UNIDAD","UT EMERGENCIAS 2021",110276.63,{"$f":"B446&G446","v":"C2S2-003UT EMERGENCIAS 2021"},{"$f":"C446&D446&E446&F446","v":"DOS (2)DOS (2)N/ACUERDA DE EVACUACIÓN PARA NIÑOS / UNIDAD"},{"$f":"H446","v":110276.63},{"$f":"C446&D446&E446&F446&G446","v":"DOS (2)DOS (2)N/ACUERDA DE EVACUACIÓN PARA NIÑOS / UNIDADUT EMERGENCIAS 2021"},{"$f":"B446&H446","v":"C2S2-003110276.63"},{"$f":"G446","v":"UT EMERGENCIAS 2021"},"Und",{"$f":"C446&D446&E446&F446&G446","v":"DOS (2)DOS (2)N/ACUERDA DE EVACUACIÓN PARA NIÑOS / UNIDADUT EMERGENCIAS 2021"},{"$f":"H446","v":110276.63}]
[{"$f":"\"ate01-\"&B447&\" \"&C447&\" \"&D447&\" \"&E447","v":"ate01-C2S2-003 DOS (2) DOS (2) N/A"},"C2S2-003","DOS (2)","DOS (2)","N/A","CUERDA DE EVACUACIÓN PARA NIÑOS / UNIDAD","INCOLDEXT S.A.S.",16680.310000000001,{"$f":"B447&G447","v":"C2S2-003INCOLDEXT S.A.S."},{"$f":"C447&D447&E447&F447","v":"DOS (2)DOS (2)N/ACUERDA DE EVACUACIÓN PARA NIÑOS / UNIDAD"},{"$f":"H447","v":16680.310000000001},{"$f":"C447&D447&E447&F447&G447","v":"DOS (2)DOS (2)N/ACUERDA DE EVACUACIÓN PARA NIÑOS / UNIDADINCOLDEXT S.A.S."},{"$f":"B447&H447","v":"C2S2-00316680.31"},{"$f":"G447","v":"INCOLDEXT S.A.S."},"Und",{"$f":"C447&D447&E447&F447&G447","v":"DOS (2)DOS (2)N/ACUERDA DE EVACUACIÓN PARA NIÑOS / UNIDADINCOLDEXT S.A.S."},{"$f":"H447","v":16680.310000000001}]
[{"$f":"\"ate01-\"&B448&\" \"&C448&\" \"&D448&\" \"&E448","v":"ate01-C2S2-003 DOS (2) DOS (2) N/A"},"C2S2-003","DOS (2)","DOS (2)","N/A","CUERDA DE EVACUACIÓN PARA NIÑOS / UNIDAD","YUBARTA S.A.S.",194605.82,{"$f":"B448&G448","v":"C2S2-003YUBARTA S.A.S."},{"$f":"C448&D448&E448&F448","v":"DOS (2)DOS (2)N/ACUERDA DE EVACUACIÓN PARA NIÑOS / UNIDAD"},{"$f":"H448","v":194605.82},{"$f":"C448&D448&E448&F448&G448","v":"DOS (2)DOS (2)N/ACUERDA DE EVACUACIÓN PARA NIÑOS / UNIDADYUBARTA S.A.S."},{"$f":"B448&H448","v":"C2S2-003194605.82"},{"$f":"G448","v":"YUBARTA S.A.S."},"Und",{"$f":"C448&D448&E448&F448&G448","v":"DOS (2)DOS (2)N/ACUERDA DE EVACUACIÓN PARA NIÑOS / UNIDADYUBARTA S.A.S."},{"$f":"H448","v":194605.82}]
[{"$f":"\"ate01-\"&B449&\" \"&C449&\" \"&D449&\" \"&E449","v":"ate01-C2S2-003 DOS (2) DOS (2) N/A"},"C2S2-003","DOS (2)","DOS (2)","N/A","CUERDA DE EVACUACIÓN PARA NIÑOS / UNIDAD","MIGUEL ANGEL VALLEJO BURGOS",84329.19,{"$f":"B449&G449","v":"C2S2-003MIGUEL ANGEL VALLEJO BURGOS"},{"$f":"C449&D449&E449&F449","v":"DOS (2)DOS (2)N/ACUERDA DE EVACUACIÓN PARA NIÑOS / UNIDAD"},{"$f":"H449","v":84329.19},{"$f":"C449&D449&E449&F449&G449","v":"DOS (2)DOS (2)N/ACUERDA DE EVACUACIÓN PARA NIÑOS / UNIDADMIGUEL ANGEL VALLEJO BURGOS"},{"$f":"B449&H449","v":"C2S2-00384329.19"},{"$f":"G449","v":"MIGUEL ANGEL VALLEJO BURGOS"},"Und",{"$f":"C449&D449&E449&F449&G449","v":"DOS (2)DOS (2)N/ACUERDA DE EVACUACIÓN PARA NIÑOS / UNIDADMIGUEL ANGEL VALLEJO BURGOS"},{"$f":"H449","v":84329.19}]
[{"$f":"\"ate01-\"&B450&\" \"&C450&\" \"&D450&\" \"&E450","v":"ate01-C2S2-004 DOS (2) DOS (2) N/A"},"C2S2-004","DOS (2)","DOS (2)","N/A","LINTERNA RECARGABLE / UNIDAD","IMPLESEG S.A.S.",298395.59999999998,{"$f":"B450&G450","v":"C2S2-004IMPLESEG S.A.S."},{"$f":"C450&D450&E450&F450","v":"DOS (2)DOS (2)N/ALINTERNA RECARGABLE / UNIDAD"},{"$f":"H450","v":298395.59999999998},{"$f":"C450&D450&E450&F450&G450","v":"DOS (2)DOS (2)N/ALINTERNA RECARGABLE / UNIDADIMPLESEG S.A.S."},{"$f":"B450&H450","v":"C2S2-004298395.6"},{"$f":"G450","v":"IMPLESEG S.A.S."},"Und",{"$f":"C450&D450&E450&F450&G450","v":"DOS (2)DOS (2)N/ALINTERNA RECARGABLE / UNIDADIMPLESEG S.A.S."},{"$f":"H450","v":298395.59999999998}]
[{"$f":"\"ate01-\"&B451&\" \"&C451&\" \"&D451&\" \"&E451","v":"ate01-C2S2-004 DOS (2) DOS (2) N/A"},"C2S2-004","DOS (2)","DOS (2)","N/A","LINTERNA RECARGABLE / UNIDAD","JM GRUPO",45408.03,{"$f":"B451&G451","v":"C2S2-004JM GRUPO"},{"$f":"C451&D451&E451&F451","v":"DOS (2)DOS (2)N/ALINTERNA RECARGABLE / UNIDAD"},{"$f":"H451","v":45408.03},{"$f":"C451&D451&E451&F451&G451","v":"DOS (2)DOS (2)N/ALINTERNA RECARGABLE / UNIDADJM GRUPO"},{"$f":"B451&H451","v":"C2S2-00445408.03"},{"$f":"G451","v":"JM GRUPO"},"Und",{"$f":"C451&D451&E451&F451&G451","v":"DOS (2)DOS (2)N/ALINTERNA RECARGABLE / UNIDADJM GRUPO"},{"$f":"H451","v":45408.03}]
[{"$f":"\"ate01-\"&B452&\" \"&C452&\" \"&D452&\" \"&E452","v":"ate01-C2S2-004 DOS (2) DOS (2) N/A"},"C2S2-004","DOS (2)","DOS (2)","N/A","LINTERNA RECARGABLE / UNIDAD","UT EMERGENCIAS 2021",58381.75,{"$f":"B452&G452","v":"C2S2-004UT EMERGENCIAS 2021"},{"$f":"C452&D452&E452&F452","v":"DOS (2)DOS (2)N/ALINTERNA RECARGABLE / UNIDAD"},{"$f":"H452","v":58381.75},{"$f":"C452&D452&E452&F452&G452","v":"DOS (2)DOS (2)N/ALINTERNA RECARGABLE / UNIDADUT EMERGENCIAS 2021"},{"$f":"B452&H452","v":"C2S2-00458381.75"},{"$f":"G452","v":"UT EMERGENCIAS 2021"},"Und",{"$f":"C452&D452&E452&F452&G452","v":"DOS (2)DOS (2)N/ALINTERNA RECARGABLE / UNIDADUT EMERGENCIAS 2021"},{"$f":"H452","v":58381.75}]
[{"$f":"\"ate01-\"&B453&\" \"&C453&\" \"&D453&\" \"&E453","v":"ate01-C2S2-004 DOS (2) DOS (2) N/A"},"C2S2-004","DOS (2)","DOS (2)","N/A","LINTERNA RECARGABLE / UNIDAD","INCOLDEXT S.A.S.",64868.61,{"$f":"B453&G453","v":"C2S2-004INCOLDEXT S.A.S."},{"$f":"C453&D453&E453&F453","v":"DOS (2)DOS (2)N/ALINTERNA RECARGABLE / UNIDAD"},{"$f":"H453","v":64868.61},{"$f":"C453&D453&E453&F453&G453","v":"DOS (2)DOS (2)N/ALINTERNA RECARGABLE / UNIDADINCOLDEXT S.A.S."},{"$f":"B453&H453","v":"C2S2-00464868.61"},{"$f":"G453","v":"INCOLDEXT S.A.S."},"Und",{"$f":"C453&D453&E453&F453&G453","v":"DOS (2)DOS (2)N/ALINTERNA RECARGABLE / UNIDADINCOLDEXT S.A.S."},{"$f":"H453","v":64868.61}]
[{"$f":"\"ate01-\"&B454&\" \"&C454&\" \"&D454&\" \"&E454","v":"ate01-C2S2-004 DOS (2) DOS (2) N/A"},"C2S2-004","DOS (2)","DOS (2)","N/A","LINTERNA RECARGABLE / UNIDAD","YUBARTA S.A.S.",36326.42,{"$f":"B454&G454","v":"C2S2-004YUBARTA S.A.S."},{"$f":"C454&D454&E454&F454","v":"DOS (2)DOS (2)N/ALINTERNA RECARGABLE / UNIDAD"},{"$f":"H454","v":36326.42},{"$f":"C454&D454&E454&F454&G454","v":"DOS (2)DOS (2)N/ALINTERNA RECARGABLE / UNIDADYUBARTA S.A.S."},{"$f":"B454&H454","v":"C2S2-00436326.42"},{"$f":"G454","v":"YUBARTA S.A.S."},"Und",{"$f":"C454&D454&E454&F454&G454","v":"DOS (2)DOS (2)N/ALINTERNA RECARGABLE / UNIDADYUBARTA S.A.S."},{"$f":"H454","v":36326.42}]
[{"$f":"\"ate01-\"&B455&\" \"&C455&\" \"&D455&\" \"&E455","v":"ate01-C2S2-004 DOS (2) DOS (2) N/A"},"C2S2-004","DOS (2)","DOS (2)","N/A","LINTERNA RECARGABLE / UNIDAD","MIGUEL ANGEL VALLEJO BURGOS",45408.03,{"$f":"B455&G455","v":"C2S2-004MIGUEL ANGEL VALLEJO BURGOS"},{"$f":"C455&D455&E455&F455","v":"DOS (2)DOS (2)N/ALINTERNA RECARGABLE / UNIDAD"},{"$f":"H455","v":45408.03},{"$f":"C455&D455&E455&F455&G455","v":"DOS (2)DOS (2)N/ALINTERNA RECARGABLE / UNIDADMIGUEL ANGEL VALLEJO BURGOS"},{"$f":"B455&H455","v":"C2S2-00445408.03"},{"$f":"G455","v":"MIGUEL ANGEL VALLEJO BURGOS"},"Und",{"$f":"C455&D455&E455&F455&G455","v":"DOS (2)DOS (2)N/ALINTERNA RECARGABLE / UNIDADMIGUEL ANGEL VALLEJO BURGOS"},{"$f":"H455","v":45408.03}]
[{"$f":"\"ate01-\"&B456&\" \"&C456&\" \"&D456&\" \"&E456","v":"ate01-C2S2-005 DOS (2) DOS (2) N/A"},"C2S2-005","DOS (2)","DOS (2)","N/A","MEGAFONO / UNIDAD","IMPLESEG S.A.S.",223176.55,{"$f":"B456&G456","v":"C2S2-005IMPLESEG S.A.S."},{"$f":"C456&D456&E456&F456","v":"DOS (2)DOS (2)N/AMEGAFONO / UNIDAD"},{"$f":"H456","v":223176.55},{"$f":"C456&D456&E456&F456&G456","v":"DOS (2)DOS (2)N/AMEGAFONO / UNIDADIMPLESEG S.A.S."},{"$f":"B456&H456","v":"C2S2-005223176.55"},{"$f":"G456","v":"IMPLESEG S.A.S."},"Und",{"$f":"C456&D456&E456&F456&G456","v":"DOS (2)DOS (2)N/AMEGAFONO / UNIDADIMPLESEG S.A.S."},{"$f":"H456","v":223176.55}]
[{"$f":"\"ate01-\"&B457&\" \"&C457&\" \"&D457&\" \"&E457","v":"ate01-C2S2-005 DOS (2) DOS (2) N/A"},"C2S2-005","DOS (2)","DOS (2)","N/A","MEGAFONO / UNIDAD","JM GRUPO",686958.56,{"$f":"B457&G457","v":"C2S2-005JM GRUPO"},{"$f":"C457&D457&E457&F457","v":"DOS (2)DOS (2)N/AMEGAFONO / UNIDAD"},{"$f":"H457","v":686958.56},{"$f":"C457&D457&E457&F457&G457","v":"DOS (2)DOS (2)N/AMEGAFONO / UNIDADJM GRUPO"},{"$f":"B457&H457","v":"C2S2-005686958.56"},{"$f":"G457","v":"JM GRUPO"},"Und",{"$f":"C457&D457&E457&F457&G457","v":"DOS (2)DOS (2)N/AMEGAFONO / UNIDADJM GRUPO"},{"$f":"H457","v":686958.56}]
[{"$f":"\"ate01-\"&B458&\" \"&C458&\" \"&D458&\" \"&E458","v":"ate01-C2S2-005 DOS (2) DOS (2) N/A"},"C2S2-005","DOS (2)","DOS (2)","N/A","MEGAFONO / UNIDAD","UT EMERGENCIAS 2021",181632.1,{"$f":"B458&G458","v":"C2S2-005UT EMERGENCIAS 2021"},{"$f":"C458&D458&E458&F458","v":"DOS (2)DOS (2)N/AMEGAFONO / UNIDAD"},{"$f":"H458","v":181632.1},{"$f":"C458&D458&E458&F458&G458","v":"DOS (2)DOS (2)N/AMEGAFONO / UNIDADUT EMERGENCIAS 2021"},{"$f":"B458&H458","v":"C2S2-005181632.1"},{"$f":"G458","v":"UT EMERGENCIAS 2021"},"Und",{"$f":"C458&D458&E458&F458&G458","v":"DOS (2)DOS (2)N/AMEGAFONO / UNIDADUT EMERGENCIAS 2021"},{"$f":"H458","v":181632.1}]
[{"$f":"\"ate01-\"&B459&\" \"&C459&\" \"&D459&\" \"&E459","v":"ate01-C2S2-005 DOS (2) DOS (2) N/A"},"C2S2-005","DOS (2)","DOS (2)","N/A","MEGAFONO / UNIDAD","INCOLDEXT S.A.S.",222405.91,{"$f":"B459&G459","v":"C2S2-005INCOLDEXT S.A.S."},{"$f":"C459&D459&E459&F459","v":"DOS (2)DOS (2)N/AMEGAFONO / UNIDAD"},{"$f":"H459","v":222405.91},{"$f":"C459&D459&E459&F459&G459","v":"DOS (2)DOS (2)N/AMEGAFONO / UNIDADINCOLDEXT S.A.S."},{"$f":"B459&H459","v":"C2S2-005222405.91"},{"$f":"G459","v":"INCOLDEXT S.A.S."},"Und",{"$f":"C459&D459&E459&F459&G459","v":"DOS (2)DOS (2)N/AMEGAFONO / UNIDADINCOLDEXT S.A.S."},{"$f":"H459","v":222405.91}]
[{"$f":"\"ate01-\"&B460&\" \"&C460&\" \"&D460&\" \"&E460","v":"ate01-C2S2-005 DOS (2) DOS (2) N/A"},"C2S2-005","DOS (2)","DOS (2)","N/A","MEGAFONO / UNIDAD","YUBARTA S.A.S.",713554.69,{"$f":"B460&G460","v":"C2S2-005YUBARTA S.A.S."},{"$f":"C460&D460&E460&F460","v":"DOS (2)DOS (2)N/AMEGAFONO / UNIDAD"},{"$f":"H460","v":713554.69},{"$f":"C460&D460&E460&F460&G460","v":"DOS (2)DOS (2)N/AMEGAFONO / UNIDADYUBARTA S.A.S."},{"$f":"B460&H460","v":"C2S2-005713554.69"},{"$f":"G460","v":"YUBARTA S.A.S."},"Und",{"$f":"C460&D460&E460&F460&G460","v":"DOS (2)DOS (2)N/AMEGAFONO / UNIDADYUBARTA S.A.S."},{"$f":"H460","v":713554.69}]
[{"$f":"\"ate01-\"&B461&\" \"&C461&\" \"&D461&\" \"&E461","v":"ate01-C2S2-005 DOS (2) DOS (2) N/A"},"C2S2-005","DOS (2)","DOS (2)","N/A","MEGAFONO / UNIDAD","MIGUEL ANGEL VALLEJO BURGOS",2140664.06,{"$f":"B461&G461","v":"C2S2-005MIGUEL ANGEL VALLEJO BURGOS"},{"$f":"C461&D461&E461&F461","v":"DOS (2)DOS (2)N/AMEGAFONO / UNIDAD"},{"$f":"H461","v":2140664.06},{"$f":"C461&D461&E461&F461&G461","v":"DOS (2)DOS (2)N/AMEGAFONO / UNIDADMIGUEL ANGEL VALLEJO BURGOS"},{"$f":"B461&H461","v":"C2S2-0052140664.06"},{"$f":"G461","v":"MIGUEL ANGEL VALLEJO BURGOS"},"Und",{"$f":"C461&D461&E461&F461&G461","v":"DOS (2)DOS (2)N/AMEGAFONO / UNIDADMIGUEL ANGEL VALLEJO BURGOS"},{"$f":"H461","v":2140664.06}]
[{"$f":"\"ate01-\"&B462&\" \"&C462&\" \"&D462&\" \"&E462","v":"ate01-C2S2-006 DOS (2) DOS (2) N/A"},"C2S2-006","DOS (2)","DOS (2)","N/A","SILBATO / UNIDAD","IMPLESEG S.A.S.",9614.83,{"$f":"B462&G462","v":"C2S2-006IMPLESEG S.A.S."},{"$f":"C462&D462&E462&F462","v":"DOS (2)DOS (2)N/ASILBATO / UNIDAD"},{"$f":"H462","v":9614.83},{"$f":"C462&D462&E462&F462&G462","v":"DOS (2)DOS (2)N/ASILBATO / UNIDADIMPLESEG S.A.S."},{"$f":"B462&H462","v":"C2S2-0069614.83"},{"$f":"G462","v":"IMPLESEG S.A.S."},"Und",{"$f":"C462&D462&E462&F462&G462","v":"DOS (2)DOS (2)N/ASILBATO / UNIDADIMPLESEG S.A.S."},{"$f":"H462","v":9614.83}]
[{"$f":"\"ate01-\"&B463&\" \"&C463&\" \"&D463&\" \"&E463","v":"ate01-C2S2-006 DOS (2) DOS (2) N/A"},"C2S2-006","DOS (2)","DOS (2)","N/A","SILBATO / UNIDAD","JM GRUPO",32434.3,{"$f":"B463&G463","v":"C2S2-006JM GRUPO"},{"$f":"C463&D463&E463&F463","v":"DOS (2)DOS (2)N/ASILBATO / UNIDAD"},{"$f":"H463","v":32434.3},{"$f":"C463&D463&E463&F463&G463","v":"DOS (2)DOS (2)N/ASILBATO / UNIDADJM GRUPO"},{"$f":"B463&H463","v":"C2S2-00632434.3"},{"$f":"G463","v":"JM GRUPO"},"Und",{"$f":"C463&D463&E463&F463&G463","v":"DOS (2)DOS (2)N/ASILBATO / UNIDADJM GRUPO"},{"$f":"H463","v":32434.3}]
[{"$f":"\"ate01-\"&B464&\" \"&C464&\" \"&D464&\" \"&E464","v":"ate01-C2S2-006 DOS (2) DOS (2) N/A"},"C2S2-006","DOS (2)","DOS (2)","N/A","SILBATO / UNIDAD","UT EMERGENCIAS 2021",8432.92,{"$f":"B464&G464","v":"C2S2-006UT EMERGENCIAS 2021"},{"$f":"C464&D464&E464&F464","v":"DOS (2)DOS (2)N/ASILBATO / UNIDAD"},{"$f":"H464","v":8432.92},{"$f":"C464&D464&E464&F464&G464","v":"DOS (2)DOS (2)N/ASILBATO / UNIDADUT EMERGENCIAS 2021"},{"$f":"B464&H464","v":"C2S2-0068432.92"},{"$f":"G464","v":"UT EMERGENCIAS 2021"},"Und",{"$f":"C464&D464&E464&F464&G464","v":"DOS (2)DOS (2)N/ASILBATO / UNIDADUT EMERGENCIAS 2021"},{"$f":"H464","v":8432.92}]
[{"$f":"\"ate01-\"&B465&\" \"&C465&\" \"&D465&\" \"&E465","v":"ate01-C2S2-006 DOS (2) DOS (2) N/A"},"C2S2-006","DOS (2)","DOS (2)","N/A","SILBATO / UNIDAD","INCOLDEXT S.A.S.",37067.22,{"$f":"B465&G465","v":"C2S2-006INCOLDEXT S.A.S."},{"$f":"C465&D465&E465&F465","v":"DOS (2)DOS (2)N/ASILBATO / UNIDAD"},{"$f":"H465","v":37067.22},{"$f":"C465&D465&E465&F465&G465","v":"DOS (2)DOS (2)N/ASILBATO / UNIDADINCOLDEXT S.A.S."},{"$f":"B465&H465","v":"C2S2-00637067.22"},{"$f":"G465","v":"INCOLDEXT S.A.S."},"Und",{"$f":"C465&D465&E465&F465&G465","v":"DOS (2)DOS (2)N/ASILBATO / UNIDADINCOLDEXT S.A.S."},{"$f":"H465","v":37067.22}]
[{"$f":"\"ate01-\"&B466&\" \"&C466&\" \"&D466&\" \"&E466","v":"ate01-C2S2-006 DOS (2) DOS (2) N/A"},"C2S2-006","DOS (2)","DOS (2)","N/A","SILBATO / UNIDAD","YUBARTA S.A.S.",22055.33,{"$f":"B466&G466","v":"C2S2-006YUBARTA S.A.S."},{"$f":"C466&D466&E466&F466","v":"DOS (2)DOS (2)N/ASILBATO / UNIDAD"},{"$f":"H466","v":22055.33},{"$f":"C466&D466&E466&F466&G466","v":"DOS (2)DOS (2)N/ASILBATO / UNIDADYUBARTA S.A.S."},{"$f":"B466&H466","v":"C2S2-00622055.33"},{"$f":"G466","v":"YUBARTA S.A.S."},"Und",{"$f":"C466&D466&E466&F466&G466","v":"DOS (2)DOS (2)N/ASILBATO / UNIDADYUBARTA S.A.S."},{"$f":"H466","v":22055.33}]
[{"$f":"\"ate01-\"&B467&\" \"&C467&\" \"&D467&\" \"&E467","v":"ate01-C2S2-006 DOS (2) DOS (2) N/A"},"C2S2-006","DOS (2)","DOS (2)","N/A","SILBATO / UNIDAD","MIGUEL ANGEL VALLEJO BURGOS",84329.19,{"$f":"B467&G467","v":"C2S2-006MIGUEL ANGEL VALLEJO BURGOS"},{"$f":"C467&D467&E467&F467","v":"DOS (2)DOS (2)N/ASILBATO / UNIDAD"},{"$f":"H467","v":84329.19},{"$f":"C467&D467&E467&F467&G467","v":"DOS (2)DOS (2)N/ASILBATO / UNIDADMIGUEL ANGEL VALLEJO BURGOS"},{"$f":"B467&H467","v":"C2S2-00684329.19"},{"$f":"G467","v":"MIGUEL ANGEL VALLEJO BURGOS"},"Und",{"$f":"C467&D467&E467&F467&G467","v":"DOS (2)DOS (2)N/ASILBATO / UNIDADMIGUEL ANGEL VALLEJO BURGOS"},{"$f":"H467","v":84329.19}]
[{"$f":"\"ate01-\"&B468&\" \"&C468&\" \"&D468&\" \"&E468","v":"ate01-C2S2-007 DOS (2) DOS (2) N/A"},"C2S2-007","DOS (2)","DOS (2)","N/A","PALETAS DE SEÑALIZACIÓN / UNIDAD","IMPLESEG S.A.S.",45789.45,{"$f":"B468&G468","v":"C2S2-007IMPLESEG S.A.S."},{"$f":"C468&D468&E468&F468","v":"DOS (2)DOS (2)N/APALETAS DE SEÑALIZACIÓN / UNIDAD"},{"$f":"H468","v":45789.45},{"$f":"C468&D468&E468&F468&G468","v":"DOS (2)DOS (2)N/APALETAS DE SEÑALIZACIÓN / UNIDADIMPLESEG S.A.S."},{"$f":"B468&H468","v":"C2S2-00745789.45"},{"$f":"G468","v":"IMPLESEG S.A.S."},"Und",{"$f":"C468&D468&E468&F468&G468","v":"DOS (2)DOS (2)N/APALETAS DE SEÑALIZACIÓN / UNIDADIMPLESEG S.A.S."},{"$f":"H468","v":45789.45}]
[{"$f":"\"ate01-\"&B469&\" \"&C469&\" \"&D469&\" \"&E469","v":"ate01-C2S2-007 DOS (2) DOS (2) N/A"},"C2S2-007","DOS (2)","DOS (2)","N/A","PALETAS DE SEÑALIZACIÓN / UNIDAD","JM GRUPO",18163.21,{"$f":"B469&G469","v":"C2S2-007JM GRUPO"},{"$f":"C469&D469&E469&F469","v":"DOS (2)DOS (2)N/APALETAS DE SEÑALIZACIÓN / UNIDAD"},{"$f":"H469","v":18163.21},{"$f":"C469&D469&E469&F469&G469","v":"DOS (2)DOS (2)N/APALETAS DE SEÑALIZACIÓN / UNIDADJM GRUPO"},{"$f":"B469&H469","v":"C2S2-00718163.21"},{"$f":"G469","v":"JM GRUPO"},"Und",{"$f":"C469&D469&E469&F469&G469","v":"DOS (2)DOS (2)N/APALETAS DE SEÑALIZACIÓN / UNIDADJM GRUPO"},{"$f":"H469","v":18163.21}]
[{"$f":"\"ate01-\"&B470&\" \"&C470&\" \"&D470&\" \"&E470","v":"ate01-C2S2-007 DOS (2) DOS (2) N/A"},"C2S2-007","DOS (2)","DOS (2)","N/A","PALETAS DE SEÑALIZACIÓN / UNIDAD","UT EMERGENCIAS 2021",32434.3,{"$f":"B470&G470","v":"C2S2-007UT EMERGENCIAS 2021"},{"$f":"C470&D470&E470&F470","v":"DOS (2)DOS (2)N/APALETAS DE SEÑALIZACIÓN / UNIDAD"},{"$f":"H470","v":32434.3},{"$f":"C470&D470&E470&F470&G470","v":"DOS (2)DOS (2)N/APALETAS DE SEÑALIZACIÓN / UNIDADUT EMERGENCIAS 2021"},{"$f":"B470&H470","v":"C2S2-00732434.3"},{"$f":"G470","v":"UT EMERGENCIAS 2021"},"Und",{"$f":"C470&D470&E470&F470&G470","v":"DOS (2)DOS (2)N/APALETAS DE SEÑALIZACIÓN / UNIDADUT EMERGENCIAS 2021"},{"$f":"H470","v":32434.3}]
[{"$f":"\"ate01-\"&B471&\" \"&C471&\" \"&D471&\" \"&E471","v":"ate01-C2S2-007 DOS (2) DOS (2) N/A"},"C2S2-007","DOS (2)","DOS (2)","N/A","PALETAS DE SEÑALIZACIÓN / UNIDAD","INCOLDEXT S.A.S.",27800.09,{"$f":"B471&G471","v":"C2S2-007INCOLDEXT S.A.S."},{"$f":"C471&D471&E471&F471","v":"DOS (2)DOS (2)N/APALETAS DE SEÑALIZACIÓN / UNIDAD"},{"$f":"H471","v":27800.09},{"$f":"C471&D471&E471&F471&G471","v":"DOS (2)DOS (2)N/APALETAS DE SEÑALIZACIÓN / UNIDADINCOLDEXT S.A.S."},{"$f":"B471&H471","v":"C2S2-00727800.09"},{"$f":"G471","v":"INCOLDEXT S.A.S."},"Und",{"$f":"C471&D471&E471&F471&G471","v":"DOS (2)DOS (2)N/APALETAS DE SEÑALIZACIÓN / UNIDADINCOLDEXT S.A.S."},{"$f":"H471","v":27800.09}]
[{"$f":"\"ate01-\"&B472&\" \"&C472&\" \"&D472&\" \"&E472","v":"ate01-C2S2-007 DOS (2) DOS (2) N/A"},"C2S2-007","DOS (2)","DOS (2)","N/A","PALETAS DE SEÑALIZACIÓN / UNIDAD","YUBARTA S.A.S.",28542.19,{"$f":"B472&G472","v":"C2S2-007YUBARTA S.A.S."},{"$f":"C472&D472&E472&F472","v":"DOS (2)DOS (2)N/APALETAS DE SEÑALIZACIÓN / UNIDAD"},{"$f":"H472","v":28542.19},{"$f":"C472&D472&E472&F472&G472","v":"DOS (2)DOS (2)N/APALETAS DE SEÑALIZACIÓN / UNIDADYUBARTA S.A.S."},{"$f":"B472&H472","v":"C2S2-00728542.19"},{"$f":"G472","v":"YUBARTA S.A.S."},"Und",{"$f":"C472&D472&E472&F472&G472","v":"DOS (2)DOS (2)N/APALETAS DE SEÑALIZACIÓN / UNIDADYUBARTA S.A.S."},{"$f":"H472","v":28542.19}]
[{"$f":"\"ate01-\"&B473&\" \"&C473&\" \"&D473&\" \"&E473","v":"ate01-C2S2-007 DOS (2) DOS (2) N/A"},"C2S2-007","DOS (2)","DOS (2)","N/A","PALETAS DE SEÑALIZACIÓN / UNIDAD","MIGUEL ANGEL VALLEJO BURGOS",58381.75,{"$f":"B473&G473","v":"C2S2-007MIGUEL ANGEL VALLEJO BURGOS"},{"$f":"C473&D473&E473&F473","v":"DOS (2)DOS (2)N/APALETAS DE SEÑALIZACIÓN / UNIDAD"},{"$f":"H473","v":58381.75},{"$f":"C473&D473&E473&F473&G473","v":"DOS (2)DOS (2)N/APALETAS DE SEÑALIZACIÓN / UNIDADMIGUEL ANGEL VALLEJO BURGOS"},{"$f":"B473&H473","v":"C2S2-00758381.75"},{"$f":"G473","v":"MIGUEL ANGEL VALLEJO BURGOS"},"Und",{"$f":"C473&D473&E473&F473&G473","v":"DOS (2)DOS (2)N/APALETAS DE SEÑALIZACIÓN / UNIDADMIGUEL ANGEL VALLEJO BURGOS"},{"$f":"H473","v":58381.75}]
[{"$f":"\"ate01-\"&B474&\" \"&C474&\" \"&D474&\" \"&E474","v":"ate01-C2S2-008 DOS (2) DOS (2) N/A"},"C2S2-008","DOS (2)","DOS (2)","N/A","LINTERNA CON BOTÓN RECARGABLE / UNIDAD","IMPLESEG S.A.S.",14185.47,{"$f":"B474&G474","v":"C2S2-008IMPLESEG S.A.S."},{"$f":"C474&D474&E474&F474","v":"DOS (2)DOS (2)N/ALINTERNA CON BOTÓN RECARGABLE / UNIDAD"},{"$f":"H474","v":14185.47},{"$f":"C474&D474&E474&F474&G474","v":"DOS (2)DOS (2)N/ALINTERNA CON BOTÓN RECARGABLE / UNIDADIMPLESEG S.A.S."},{"$f":"B474&H474","v":"C2S2-00814185.47"},{"$f":"G474","v":"IMPLESEG S.A.S."},"Und",{"$f":"C474&D474&E474&F474&G474","v":"DOS (2)DOS (2)N/ALINTERNA CON BOTÓN RECARGABLE / UNIDADIMPLESEG S.A.S."},{"$f":"H474","v":14185.47}]
[{"$f":"\"ate01-\"&B475&\" \"&C475&\" \"&D475&\" \"&E475","v":"ate01-C2S2-008 DOS (2) DOS (2) N/A"},"C2S2-008","DOS (2)","DOS (2)","N/A","LINTERNA CON BOTÓN RECARGABLE / UNIDAD","JM GRUPO",110276.63,{"$f":"B475&G475","v":"C2S2-008JM GRUPO"},{"$f":"C475&D475&E475&F475","v":"DOS (2)DOS (2)N/ALINTERNA CON BOTÓN RECARGABLE / UNIDAD"},{"$f":"H475","v":110276.63},{"$f":"C475&D475&E475&F475&G475","v":"DOS (2)DOS (2)N/ALINTERNA CON BOTÓN RECARGABLE / UNIDADJM GRUPO"},{"$f":"B475&H475","v":"C2S2-008110276.63"},{"$f":"G475","v":"JM GRUPO"},"Und",{"$f":"C475&D475&E475&F475&G475","v":"DOS (2)DOS (2)N/ALINTERNA CON BOTÓN RECARGABLE / UNIDADJM GRUPO"},{"$f":"H475","v":110276.63}]
[{"$f":"\"ate01-\"&B476&\" \"&C476&\" \"&D476&\" \"&E476","v":"ate01-C2S2-008 DOS (2) DOS (2) N/A"},"C2S2-008","DOS (2)","DOS (2)","N/A","LINTERNA CON BOTÓN RECARGABLE / UNIDAD","UT EMERGENCIAS 2021",64868.61,{"$f":"B476&G476","v":"C2S2-008UT EMERGENCIAS 2021"},{"$f":"C476&D476&E476&F476","v":"DOS (2)DOS (2)N/ALINTERNA CON BOTÓN RECARGABLE / UNIDAD"},{"$f":"H476","v":64868.61},{"$f":"C476&D476&E476&F476&G476","v":"DOS (2)DOS (2)N/ALINTERNA CON BOTÓN RECARGABLE / UNIDADUT EMERGENCIAS 2021"},{"$f":"B476&H476","v":"C2S2-00864868.61"},{"$f":"G476","v":"UT EMERGENCIAS 2021"},"Und",{"$f":"C476&D476&E476&F476&G476","v":"DOS (2)DOS (2)N/ALINTERNA CON BOTÓN RECARGABLE / UNIDADUT EMERGENCIAS 2021"},{"$f":"H476","v":64868.61}]
[{"$f":"\"ate01-\"&B477&\" \"&C477&\" \"&D477&\" \"&E477","v":"ate01-C2S2-008 DOS (2) DOS (2) N/A"},"C2S2-008","DOS (2)","DOS (2)","N/A","LINTERNA CON BOTÓN RECARGABLE / UNIDAD","INCOLDEXT S.A.S.",278007.39,{"$f":"B477&G477","v":"C2S2-008INCOLDEXT S.A.S."},{"$f":"C477&D477&E477&F477","v":"DOS (2)DOS (2)N/ALINTERNA CON BOTÓN RECARGABLE / UNIDAD"},{"$f":"H477","v":278007.39},{"$f":"C477&D477&E477&F477&G477","v":"DOS (2)DOS (2)N/ALINTERNA CON BOTÓN RECARGABLE / UNIDADINCOLDEXT S.A.S."},{"$f":"B477&H477","v":"C2S2-008278007.39"},{"$f":"G477","v":"INCOLDEXT S.A.S."},"Und",{"$f":"C477&D477&E477&F477&G477","v":"DOS (2)DOS (2)N/ALINTERNA CON BOTÓN RECARGABLE / UNIDADINCOLDEXT S.A.S."},{"$f":"H477","v":278007.39}]
[{"$f":"\"ate01-\"&B478&\" \"&C478&\" \"&D478&\" \"&E478","v":"ate01-C2S2-008 DOS (2) DOS (2) N/A"},"C2S2-008","DOS (2)","DOS (2)","N/A","LINTERNA CON BOTÓN RECARGABLE / UNIDAD","YUBARTA S.A.S.",25947.439999999999,{"$f":"B478&G478","v":"C2S2-008YUBARTA S.A.S."},{"$f":"C478&D478&E478&F478","v":"DOS (2)DOS (2)N/ALINTERNA CON BOTÓN RECARGABLE / UNIDAD"},{"$f":"H478","v":25947.439999999999},{"$f":"C478&D478&E478&F478&G478","v":"DOS (2)DOS (2)N/ALINTERNA CON BOTÓN RECARGABLE / UNIDADYUBARTA S.A.S."},{"$f":"B478&H478","v":"C2S2-00825947.44"},{"$f":"G478","v":"YUBARTA S.A.S."},"Und",{"$f":"C478&D478&E478&F478&G478","v":"DOS (2)DOS (2)N/ALINTERNA CON BOTÓN RECARGABLE / UNIDADYUBARTA S.A.S."},{"$f":"H478","v":25947.439999999999}]
[{"$f":"\"ate01-\"&B479&\" \"&C479&\" \"&D479&\" \"&E479","v":"ate01-C2S2-008 DOS (2) DOS (2) N/A"},"C2S2-008","DOS (2)","DOS (2)","N/A","LINTERNA CON BOTÓN RECARGABLE / UNIDAD","MIGUEL ANGEL VALLEJO BURGOS",32434.3,{"$f":"B479&G479","v":"C2S2-008MIGUEL ANGEL VALLEJO BURGOS"},{"$f":"C479&D479&E479&F479","v":"DOS (2)DOS (2)N/ALINTERNA CON BOTÓN RECARGABLE / UNIDAD"},{"$f":"H479","v":32434.3},{"$f":"C479&D479&E479&F479&G479","v":"DOS (2)DOS (2)N/ALINTERNA CON BOTÓN RECARGABLE / UNIDADMIGUEL ANGEL VALLEJO BURGOS"},{"$f":"B479&H479","v":"C2S2-00832434.3"},{"$f":"G479","v":"MIGUEL ANGEL VALLEJO BURGOS"},"Und",{"$f":"C479&D479&E479&F479&G479","v":"DOS (2)DOS (2)N/ALINTERNA CON BOTÓN RECARGABLE / UNIDADMIGUEL ANGEL VALLEJO BURGOS"},{"$f":"H479","v":32434.3}]
[{"$f":"\"ate01-\"&B480&\" \"&C480&\" \"&D480&\" \"&E480","v":"ate01-C3-001 TRES (3) N/A N/A"},"C3-001","TRES (3)","N/A","N/A","COLCHONETA / UNIDAD","JM GRUPO",258177.06,{"$f":"B480&G480","v":"C3-001JM GRUPO"},{"$f":"C480&D480&E480&F480","v":"TRES (3)N/AN/ACOLCHONETA / UNIDAD"},{"$f":"H480","v":258177.06},{"$f":"C480&D480&E480&F480&G480","v":"TRES (3)N/AN/ACOLCHONETA / UNIDADJM GRUPO"},{"$f":"B480&H480","v":"C3-001258177.06"},{"$f":"G480","v":"JM GRUPO"},"Und",{"$f":"C480&D480&E480&F480&G480","v":"TRES (3)N/AN/ACOLCHONETA / UNIDADJM GRUPO"},{"$f":"H480","v":258177.06}]
[{"$f":"\"ate01-\"&B481&\" \"&C481&\" \"&D481&\" \"&E481","v":"ate01-C3-001 TRES (3) N/A N/A"},"C3-001","TRES (3)","N/A","N/A","COLCHONETA / UNIDAD","INVERSIONES SARHEM DE COLOMBIA S.A.S.",45408.03,{"$f":"B481&G481","v":"C3-001INVERSIONES SARHEM DE COLOMBIA S.A.S."},{"$f":"C481&D481&E481&F481","v":"TRES (3)N/AN/ACOLCHONETA / UNIDAD"},{"$f":"H481","v":45408.03},{"$f":"C481&D481&E481&F481&G481","v":"TRES (3)N/AN/ACOLCHONETA / UNIDADINVERSIONES SARHEM DE COLOMBIA S.A.S."},{"$f":"B481&H481","v":"C3-00145408.03"},{"$f":"G481","v":"INVERSIONES SARHEM DE COLOMBIA S.A.S."},"Und",{"$f":"C481&D481&E481&F481&G481","v":"TRES (3)N/AN/ACOLCHONETA / UNIDADINVERSIONES SARHEM DE COLOMBIA S.A.S."},{"$f":"H481","v":45408.03}]
[{"$f":"\"ate01-\"&B482&\" \"&C482&\" \"&D482&\" \"&E482","v":"ate01-C3-001 TRES (3) N/A N/A"},"C3-001","TRES (3)","N/A","N/A","COLCHONETA / UNIDAD","C I WARRIORS COMPANY S.A.S.",207579.55,{"$f":"B482&G482","v":"C3-001C I WARRIORS COMPANY S.A.S."},{"$f":"C482&D482&E482&F482","v":"TRES (3)N/AN/ACOLCHONETA / UNIDAD"},{"$f":"H482","v":207579.55},{"$f":"C482&D482&E482&F482&G482","v":"TRES (3)N/AN/ACOLCHONETA / UNIDADC I WARRIORS COMPANY S.A.S."},{"$f":"B482&H482","v":"C3-001207579.55"},{"$f":"G482","v":"C I WARRIORS COMPANY S.A.S."},"Und",{"$f":"C482&D482&E482&F482&G482","v":"TRES (3)N/AN/ACOLCHONETA / UNIDADC I WARRIORS COMPANY S.A.S."},{"$f":"H482","v":207579.55}]
[{"$f":"\"ate01-\"&B483&\" \"&C483&\" \"&D483&\" \"&E483","v":"ate01-C3-001 TRES (3) N/A N/A"},"C3-001","TRES (3)","N/A","N/A","COLCHONETA / UNIDAD","LIMINA S.A.S.",64090.18,{"$f":"B483&G483","v":"C3-001LIMINA S.A.S."},{"$f":"C483&D483&E483&F483","v":"TRES (3)N/AN/ACOLCHONETA / UNIDAD"},{"$f":"H483","v":64090.18},{"$f":"C483&D483&E483&F483&G483","v":"TRES (3)N/AN/ACOLCHONETA / UNIDADLIMINA S.A.S."},{"$f":"B483&H483","v":"C3-00164090.18"},{"$f":"G483","v":"LIMINA S.A.S."},"Und",{"$f":"C483&D483&E483&F483&G483","v":"TRES (3)N/AN/ACOLCHONETA / UNIDADLIMINA S.A.S."},{"$f":"H483","v":64090.18}]
[{"$f":"\"ate01-\"&B484&\" \"&C484&\" \"&D484&\" \"&E484","v":"ate01-C3-001 TRES (3) N/A N/A"},"C3-001","TRES (3)","N/A","N/A","COLCHONETA / UNIDAD","YUBARTA S.A.S.",155684.66,{"$f":"B484&G484","v":"C3-001YUBARTA S.A.S."},{"$f":"C484&D484&E484&F484","v":"TRES (3)N/AN/ACOLCHONETA / UNIDAD"},{"$f":"H484","v":155684.66},{"$f":"C484&D484&E484&F484&G484","v":"TRES (3)N/AN/ACOLCHONETA / UNIDADYUBARTA S.A.S."},{"$f":"B484&H484","v":"C3-001155684.66"},{"$f":"G484","v":"YUBARTA S.A.S."},"Und",{"$f":"C484&D484&E484&F484&G484","v":"TRES (3)N/AN/ACOLCHONETA / UNIDADYUBARTA S.A.S."},{"$f":"H484","v":155684.66}]
[{"$f":"\"ate01-\"&B485&\" \"&C485&\" \"&D485&\" \"&E485","v":"ate01-C3-001 TRES (3) N/A N/A"},"C3-001","TRES (3)","N/A","N/A","COLCHONETA / UNIDAD","COLOMBIANA DE TEXTILES POR MAYOR S.A.",180723.94,{"$f":"B485&G485","v":"C3-001COLOMBIANA DE TEXTILES POR MAYOR S.A."},{"$f":"C485&D485&E485&F485","v":"TRES (3)N/AN/ACOLCHONETA / UNIDAD"},{"$f":"H485","v":180723.94},{"$f":"C485&D485&E485&F485&G485","v":"TRES (3)N/AN/ACOLCHONETA / UNIDADCOLOMBIANA DE TEXTILES POR MAYOR S.A."},{"$f":"B485&H485","v":"C3-001180723.94"},{"$f":"G485","v":"COLOMBIANA DE TEXTILES POR MAYOR S.A."},"Und",{"$f":"C485&D485&E485&F485&G485","v":"TRES (3)N/AN/ACOLCHONETA / UNIDADCOLOMBIANA DE TEXTILES POR MAYOR S.A."},{"$f":"H485","v":180723.94}]
[{"$f":"\"ate01-\"&B486&\" \"&C486&\" \"&D486&\" \"&E486","v":"ate01-C3-001 TRES (3) N/A N/A"},"C3-001","TRES (3)","N/A","N/A","COLCHONETA / UNIDAD","MIGUEL ANGEL VALLEJO BURGOS",84329.19,{"$f":"B486&G486","v":"C3-001MIGUEL ANGEL VALLEJO BURGOS"},{"$f":"C486&D486&E486&F486","v":"TRES (3)N/AN/ACOLCHONETA / UNIDAD"},{"$f":"H486","v":84329.19},{"$f":"C486&D486&E486&F486&G486","v":"TRES (3)N/AN/ACOLCHONETA / UNIDADMIGUEL ANGEL VALLEJO BURGOS"},{"$f":"B486&H486","v":"C3-00184329.19"},{"$f":"G486","v":"MIGUEL ANGEL VALLEJO BURGOS"},"Und",{"$f":"C486&D486&E486&F486&G486","v":"TRES (3)N/AN/ACOLCHONETA / UNIDADMIGUEL ANGEL VALLEJO BURGOS"},{"$f":"H486","v":84329.19}]
[{"$f":"\"ate01-\"&B487&\" \"&C487&\" \"&D487&\" \"&E487","v":"ate01-C3-001 TRES (3) N/A N/A"},"C3-001","TRES (3)","N/A","N/A","COLCHONETA / UNIDAD","INVALCA",214066.41,{"$f":"B487&G487","v":"C3-001INVALCA"},{"$f":"C487&D487&E487&F487","v":"TRES (3)N/AN/ACOLCHONETA / UNIDAD"},{"$f":"H487","v":214066.41},{"$f":"C487&D487&E487&F487&G487","v":"TRES (3)N/AN/ACOLCHONETA / UNIDADINVALCA"},{"$f":"B487&H487","v":"C3-001214066.41"},{"$f":"G487","v":"INVALCA"},"Und",{"$f":"C487&D487&E487&F487&G487","v":"TRES (3)N/AN/ACOLCHONETA / UNIDADINVALCA"},{"$f":"H487","v":214066.41}]
[{"$f":"\"ate01-\"&B488&\" \"&C488&\" \"&D488&\" \"&E488","v":"ate01-C3-002 TRES (3) N/A N/A"},"C3-002","TRES (3)","N/A","N/A","PIJAMA PARA HOMBRE / UNIDAD","JM GRUPO",116633.76,{"$f":"B488&G488","v":"C3-002JM GRUPO"},{"$f":"C488&D488&E488&F488","v":"TRES (3)N/AN/APIJAMA PARA HOMBRE / UNIDAD"},{"$f":"H488","v":116633.76},{"$f":"C488&D488&E488&F488&G488","v":"TRES (3)N/AN/APIJAMA PARA HOMBRE / UNIDADJM GRUPO"},{"$f":"B488&H488","v":"C3-002116633.76"},{"$f":"G488","v":"JM GRUPO"},"Und",{"$f":"C488&D488&E488&F488&G488","v":"TRES (3)N/AN/APIJAMA PARA HOMBRE / UNIDADJM GRUPO"},{"$f":"H488","v":116633.76}]
[{"$f":"\"ate01-\"&B489&\" \"&C489&\" \"&D489&\" \"&E489","v":"ate01-C3-002 TRES (3) N/A N/A"},"C3-002","TRES (3)","N/A","N/A","PIJAMA PARA HOMBRE / UNIDAD","INVERSIONES SARHEM DE COLOMBIA S.A.S.",28542.19,{"$f":"B489&G489","v":"C3-002INVERSIONES SARHEM DE COLOMBIA S.A.S."},{"$f":"C489&D489&E489&F489","v":"TRES (3)N/AN/APIJAMA PARA HOMBRE / UNIDAD"},{"$f":"H489","v":28542.19},{"$f":"C489&D489&E489&F489&G489","v":"TRES (3)N/AN/APIJAMA PARA HOMBRE / UNIDADINVERSIONES SARHEM DE COLOMBIA S.A.S."},{"$f":"B489&H489","v":"C3-00228542.19"},{"$f":"G489","v":"INVERSIONES SARHEM DE COLOMBIA S.A.S."},"Und",{"$f":"C489&D489&E489&F489&G489","v":"TRES (3)N/AN/APIJAMA PARA HOMBRE / UNIDADINVERSIONES SARHEM DE COLOMBIA S.A.S."},{"$f":"H489","v":28542.19}]
[{"$f":"\"ate01-\"&B490&\" \"&C490&\" \"&D490&\" \"&E490","v":"ate01-C3-002 TRES (3) N/A N/A"},"C3-002","TRES (3)","N/A","N/A","PIJAMA PARA HOMBRE / UNIDAD","C I WARRIORS COMPANY S.A.S.",77842.33,{"$f":"B490&G490","v":"C3-002C I WARRIORS COMPANY S.A.S."},{"$f":"C490&D490&E490&F490","v":"TRES (3)N/AN/APIJAMA PARA HOMBRE / UNIDAD"},{"$f":"H490","v":77842.33},{"$f":"C490&D490&E490&F490&G490","v":"TRES (3)N/AN/APIJAMA PARA HOMBRE / UNIDADC I WARRIORS COMPANY S.A.S."},{"$f":"B490&H490","v":"C3-00277842.33"},{"$f":"G490","v":"C I WARRIORS COMPANY S.A.S."},"Und",{"$f":"C490&D490&E490&F490&G490","v":"TRES (3)N/AN/APIJAMA PARA HOMBRE / UNIDADC I WARRIORS COMPANY S.A.S."},{"$f":"H490","v":77842.33}]
[{"$f":"\"ate01-\"&B491&\" \"&C491&\" \"&D491&\" \"&E491","v":"ate01-C3-002 TRES (3) N/A N/A"},"C3-002","TRES (3)","N/A","N/A","PIJAMA PARA HOMBRE / UNIDAD","LIMINA S.A.S.",79100.78,{"$f":"B491&G491","v":"C3-002LIMINA S.A.S."},{"$f":"C491&D491&E491&F491","v":"TRES (3)N/AN/APIJAMA PARA HOMBRE / UNIDAD"},{"$f":"H491","v":79100.78},{"$f":"C491&D491&E491&F491&G491","v":"TRES (3)N/AN/APIJAMA PARA HOMBRE / UNIDADLIMINA S.A.S."},{"$f":"B491&H491","v":"C3-00279100.78"},{"$f":"G491","v":"LIMINA S.A.S."},"Und",{"$f":"C491&D491&E491&F491&G491","v":"TRES (3)N/AN/APIJAMA PARA HOMBRE / UNIDADLIMINA S.A.S."},{"$f":"H491","v":79100.78}]
[{"$f":"\"ate01-\"&B492&\" \"&C492&\" \"&D492&\" \"&E492","v":"ate01-C3-002 TRES (3) N/A N/A"},"C3-002","TRES (3)","N/A","N/A","PIJAMA PARA HOMBRE / UNIDAD","YUBARTA S.A.S.",84329.19,{"$f":"B492&G492","v":"C3-002YUBARTA S.A.S."},{"$f":"C492&D492&E492&F492","v":"TRES (3)N/AN/APIJAMA PARA HOMBRE / UNIDAD"},{"$f":"H492","v":84329.19},{"$f":"C492&D492&E492&F492&G492","v":"TRES (3)N/AN/APIJAMA PARA HOMBRE / UNIDADYUBARTA S.A.S."},{"$f":"B492&H492","v":"C3-00284329.19"},{"$f":"G492","v":"YUBARTA S.A.S."},"Und",{"$f":"C492&D492&E492&F492&G492","v":"TRES (3)N/AN/APIJAMA PARA HOMBRE / UNIDADYUBARTA S.A.S."},{"$f":"H492","v":84329.19}]
[{"$f":"\"ate01-\"&B493&\" \"&C493&\" \"&D493&\" \"&E493","v":"ate01-C3-002 TRES (3) N/A N/A"},"C3-002","TRES (3)","N/A","N/A","PIJAMA PARA HOMBRE / UNIDAD","COLOMBIANA DE TEXTILES POR MAYOR S.A.",44915.02,{"$f":"B493&G493","v":"C3-002COLOMBIANA DE TEXTILES POR MAYOR S.A."},{"$f":"C493&D493&E493&F493","v":"TRES (3)N/AN/APIJAMA PARA HOMBRE / UNIDAD"},{"$f":"H493","v":44915.02},{"$f":"C493&D493&E493&F493&G493","v":"TRES (3)N/AN/APIJAMA PARA HOMBRE / UNIDADCOLOMBIANA DE TEXTILES POR MAYOR S.A."},{"$f":"B493&H493","v":"C3-00244915.02"},{"$f":"G493","v":"COLOMBIANA DE TEXTILES POR MAYOR S.A."},"Und",{"$f":"C493&D493&E493&F493&G493","v":"TRES (3)N/AN/APIJAMA PARA HOMBRE / UNIDADCOLOMBIANA DE TEXTILES POR MAYOR S.A."},{"$f":"H493","v":44915.02}]
[{"$f":"\"ate01-\"&B494&\" \"&C494&\" \"&D494&\" \"&E494","v":"ate01-C3-002 TRES (3) N/A N/A"},"C3-002","TRES (3)","N/A","N/A","PIJAMA PARA HOMBRE / UNIDAD","MIGUEL ANGEL VALLEJO BURGOS",58381.75,{"$f":"B494&G494","v":"C3-002MIGUEL ANGEL VALLEJO BURGOS"},{"$f":"C494&D494&E494&F494","v":"TRES (3)N/AN/APIJAMA PARA HOMBRE / UNIDAD"},{"$f":"H494","v":58381.75},{"$f":"C494&D494&E494&F494&G494","v":"TRES (3)N/AN/APIJAMA PARA HOMBRE / UNIDADMIGUEL ANGEL VALLEJO BURGOS"},{"$f":"B494&H494","v":"C3-00258381.75"},{"$f":"G494","v":"MIGUEL ANGEL VALLEJO BURGOS"},"Und",{"$f":"C494&D494&E494&F494&G494","v":"TRES (3)N/AN/APIJAMA PARA HOMBRE / UNIDADMIGUEL ANGEL VALLEJO BURGOS"},{"$f":"H494","v":58381.75}]
[{"$f":"\"ate01-\"&B495&\" \"&C495&\" \"&D495&\" \"&E495","v":"ate01-C3-002 TRES (3) N/A N/A"},"C3-002","TRES (3)","N/A","N/A","PIJAMA PARA HOMBRE / UNIDAD","INVALCA",127142.47,{"$f":"B495&G495","v":"C3-002INVALCA"},{"$f":"C495&D495&E495&F495","v":"TRES (3)N/AN/APIJAMA PARA HOMBRE / UNIDAD"},{"$f":"H495","v":127142.47},{"$f":"C495&D495&E495&F495&G495","v":"TRES (3)N/AN/APIJAMA PARA HOMBRE / UNIDADINVALCA"},{"$f":"B495&H495","v":"C3-002127142.47"},{"$f":"G495","v":"INVALCA"},"Und",{"$f":"C495&D495&E495&F495&G495","v":"TRES (3)N/AN/APIJAMA PARA HOMBRE / UNIDADINVALCA"},{"$f":"H495","v":127142.47}]
[{"$f":"\"ate01-\"&B496&\" \"&C496&\" \"&D496&\" \"&E496","v":"ate01-C3-003 TRES (3) N/A N/A"},"C3-003","TRES (3)","N/A","N/A","JUEGO DE SABANA CON FUNDA / UNIDAD","JM GRUPO",114168.75,{"$f":"B496&G496","v":"C3-003JM GRUPO"},{"$f":"C496&D496&E496&F496","v":"TRES (3)N/AN/AJUEGO DE SABANA CON FUNDA / UNIDAD"},{"$f":"H496","v":114168.75},{"$f":"C496&D496&E496&F496&G496","v":"TRES (3)N/AN/AJUEGO DE SABANA CON FUNDA / UNIDADJM GRUPO"},{"$f":"B496&H496","v":"C3-003114168.75"},{"$f":"G496","v":"JM GRUPO"},"Und",{"$f":"C496&D496&E496&F496&G496","v":"TRES (3)N/AN/AJUEGO DE SABANA CON FUNDA / UNIDADJM GRUPO"},{"$f":"H496","v":114168.75}]
[{"$f":"\"ate01-\"&B497&\" \"&C497&\" \"&D497&\" \"&E497","v":"ate01-C3-003 TRES (3) N/A N/A"},"C3-003","TRES (3)","N/A","N/A","JUEGO DE SABANA CON FUNDA / UNIDAD","INVERSIONES SARHEM DE COLOMBIA S.A.S.",72652.84,{"$f":"B497&G497","v":"C3-003INVERSIONES SARHEM DE COLOMBIA S.A.S."},{"$f":"C497&D497&E497&F497","v":"TRES (3)N/AN/AJUEGO DE SABANA CON FUNDA / UNIDAD"},{"$f":"H497","v":72652.84},{"$f":"C497&D497&E497&F497&G497","v":"TRES (3)N/AN/AJUEGO DE SABANA CON FUNDA / UNIDADINVERSIONES SARHEM DE COLOMBIA S.A.S."},{"$f":"B497&H497","v":"C3-00372652.84"},{"$f":"G497","v":"INVERSIONES SARHEM DE COLOMBIA S.A.S."},"Und",{"$f":"C497&D497&E497&F497&G497","v":"TRES (3)N/AN/AJUEGO DE SABANA CON FUNDA / UNIDADINVERSIONES SARHEM DE COLOMBIA S.A.S."},{"$f":"H497","v":72652.84}]
[{"$f":"\"ate01-\"&B498&\" \"&C498&\" \"&D498&\" \"&E498","v":"ate01-C3-003 TRES (3) N/A N/A"},"C3-003","TRES (3)","N/A","N/A","JUEGO DE SABANA CON FUNDA / UNIDAD","C I WARRIORS COMPANY S.A.S.",102492.4,{"$f":"B498&G498","v":"C3-003C I WARRIORS COMPANY S.A.S."},{"$f":"C498&D498&E498&F498","v":"TRES (3)N/AN/AJUEGO DE SABANA CON FUNDA / UNIDAD"},{"$f":"H498","v":102492.4},{"$f":"C498&D498&E498&F498&G498","v":"TRES (3)N/AN/AJUEGO DE SABANA CON FUNDA / UNIDADC I WARRIORS COMPANY S.A.S."},{"$f":"B498&H498","v":"C3-003102492.4"},{"$f":"G498","v":"C I WARRIORS COMPANY S.A.S."},"Und",{"$f":"C498&D498&E498&F498&G498","v":"TRES (3)N/AN/AJUEGO DE SABANA CON FUNDA / UNIDADC I WARRIORS COMPANY S.A.S."},{"$f":"H498","v":102492.4}]
[{"$f":"\"ate01-\"&B499&\" \"&C499&\" \"&D499&\" \"&E499","v":"ate01-C3-003 TRES (3) N/A N/A"},"C3-003","TRES (3)","N/A","N/A","JUEGO DE SABANA CON FUNDA / UNIDAD","LIMINA S.A.S.",55657.27,{"$f":"B499&G499","v":"C3-003LIMINA S.A.S."},{"$f":"C499&D499&E499&F499","v":"TRES (3)N/AN/AJUEGO DE SABANA CON FUNDA / UNIDAD"},{"$f":"H499","v":55657.27},{"$f":"C499&D499&E499&F499&G499","v":"TRES (3)N/AN/AJUEGO DE SABANA CON FUNDA / UNIDADLIMINA S.A.S."},{"$f":"B499&H499","v":"C3-00355657.27"},{"$f":"G499","v":"LIMINA S.A.S."},"Und",{"$f":"C499&D499&E499&F499&G499","v":"TRES (3)N/AN/AJUEGO DE SABANA CON FUNDA / UNIDADLIMINA S.A.S."},{"$f":"H499","v":55657.27}]
[{"$f":"\"ate01-\"&B500&\" \"&C500&\" \"&D500&\" \"&E500","v":"ate01-C3-003 TRES (3) N/A N/A"},"C3-003","TRES (3)","N/A","N/A","JUEGO DE SABANA CON FUNDA / UNIDAD","YUBARTA S.A.S.",155684.66,{"$f":"B500&G500","v":"C3-003YUBARTA S.A.S."},{"$f":"C500&D500&E500&F500","v":"TRES (3)N/AN/AJUEGO DE SABANA CON FUNDA / UNIDAD"},{"$f":"H500","v":155684.66},{"$f":"C500&D500&E500&F500&G500","v":"TRES (3)N/AN/AJUEGO DE SABANA CON FUNDA / UNIDADYUBARTA S.A.S."},{"$f":"B500&H500","v":"C3-003155684.66"},{"$f":"G500","v":"YUBARTA S.A.S."},"Und",{"$f":"C500&D500&E500&F500&G500","v":"TRES (3)N/AN/AJUEGO DE SABANA CON FUNDA / UNIDADYUBARTA S.A.S."},{"$f":"H500","v":155684.66}]
[{"$f":"\"ate01-\"&B501&\" \"&C501&\" \"&D501&\" \"&E501","v":"ate01-C3-003 TRES (3) N/A N/A"},"C3-003","TRES (3)","N/A","N/A","JUEGO DE SABANA CON FUNDA / UNIDAD","COLOMBIANA DE TEXTILES POR MAYOR S.A.",96783.96,{"$f":"B501&G501","v":"C3-003COLOMBIANA DE TEXTILES POR MAYOR S.A."},{"$f":"C501&D501&E501&F501","v":"TRES (3)N/AN/AJUEGO DE SABANA CON FUNDA / UNIDAD"},{"$f":"H501","v":96783.96},{"$f":"C501&D501&E501&F501&G501","v":"TRES (3)N/AN/AJUEGO DE SABANA CON FUNDA / UNIDADCOLOMBIANA DE TEXTILES POR MAYOR S.A."},{"$f":"B501&H501","v":"C3-00396783.96"},{"$f":"G501","v":"COLOMBIANA DE TEXTILES POR MAYOR S.A."},"Und",{"$f":"C501&D501&E501&F501&G501","v":"TRES (3)N/AN/AJUEGO DE SABANA CON FUNDA / UNIDADCOLOMBIANA DE TEXTILES POR MAYOR S.A."},{"$f":"H501","v":96783.96}]
[{"$f":"\"ate01-\"&B502&\" \"&C502&\" \"&D502&\" \"&E502","v":"ate01-C3-003 TRES (3) N/A N/A"},"C3-003","TRES (3)","N/A","N/A","JUEGO DE SABANA CON FUNDA / UNIDAD","MIGUEL ANGEL VALLEJO BURGOS",188118.96,{"$f":"B502&G502","v":"C3-003MIGUEL ANGEL VALLEJO BURGOS"},{"$f":"C502&D502&E502&F502","v":"TRES (3)N/AN/AJUEGO DE SABANA CON FUNDA / UNIDAD"},{"$f":"H502","v":188118.96},{"$f":"C502&D502&E502&F502&G502","v":"TRES (3)N/AN/AJUEGO DE SABANA CON FUNDA / UNIDADMIGUEL ANGEL VALLEJO BURGOS"},{"$f":"B502&H502","v":"C3-003188118.96"},{"$f":"G502","v":"MIGUEL ANGEL VALLEJO BURGOS"},"Und",{"$f":"C502&D502&E502&F502&G502","v":"TRES (3)N/AN/AJUEGO DE SABANA CON FUNDA / UNIDADMIGUEL ANGEL VALLEJO BURGOS"},{"$f":"H502","v":188118.96}]
[{"$f":"\"ate01-\"&B503&\" \"&C503&\" \"&D503&\" \"&E503","v":"ate01-C3-003 TRES (3) N/A N/A"},"C3-003","TRES (3)","N/A","N/A","JUEGO DE SABANA CON FUNDA / UNIDAD","INVALCA",118060.87,{"$f":"B503&G503","v":"C3-003INVALCA"},{"$f":"C503&D503&E503&F503","v":"TRES (3)N/AN/AJUEGO DE SABANA CON FUNDA / UNIDAD"},{"$f":"H503","v":118060.87},{"$f":"C503&D503&E503&F503&G503","v":"TRES (3)N/AN/AJUEGO DE SABANA CON FUNDA / UNIDADINVALCA"},{"$f":"B503&H503","v":"C3-003118060.87"},{"$f":"G503","v":"INVALCA"},"Und",{"$f":"C503&D503&E503&F503&G503","v":"TRES (3)N/AN/AJUEGO DE SABANA CON FUNDA / UNIDADINVALCA"},{"$f":"H503","v":118060.87}]
[{"$f":"\"ate01-\"&B504&\" \"&C504&\" \"&D504&\" \"&E504","v":"ate01-C3-004 TRES (3) N/A N/A"},"C3-004","TRES (3)","N/A","N/A","HAMACA SENCILLA / UNIDAD","JM GRUPO",154387.29,{"$f":"B504&G504","v":"C3-004JM GRUPO"},{"$f":"C504&D504&E504&F504","v":"TRES (3)N/AN/AHAMACA SENCILLA / UNIDAD"},{"$f":"H504","v":154387.29},{"$f":"C504&D504&E504&F504&G504","v":"TRES (3)N/AN/AHAMACA SENCILLA / UNIDADJM GRUPO"},{"$f":"B504&H504","v":"C3-004154387.29"},{"$f":"G504","v":"JM GRUPO"},"Und",{"$f":"C504&D504&E504&F504&G504","v":"TRES (3)N/AN/AHAMACA SENCILLA / UNIDADJM GRUPO"},{"$f":"H504","v":154387.29}]
[{"$f":"\"ate01-\"&B505&\" \"&C505&\" \"&D505&\" \"&E505","v":"ate01-C3-004 TRES (3) N/A N/A"},"C3-004","TRES (3)","N/A","N/A","HAMACA SENCILLA / UNIDAD","INVERSIONES SARHEM DE COLOMBIA S.A.S.",41515.910000000003,{"$f":"B505&G505","v":"C3-004INVERSIONES SARHEM DE COLOMBIA S.A.S."},{"$f":"C505&D505&E505&F505","v":"TRES (3)N/AN/AHAMACA SENCILLA / UNIDAD"},{"$f":"H505","v":41515.910000000003},{"$f":"C505&D505&E505&F505&G505","v":"TRES (3)N/AN/AHAMACA SENCILLA / UNIDADINVERSIONES SARHEM DE COLOMBIA S.A.S."},{"$f":"B505&H505","v":"C3-00441515.91"},{"$f":"G505","v":"INVERSIONES SARHEM DE COLOMBIA S.A.S."},"Und",{"$f":"C505&D505&E505&F505&G505","v":"TRES (3)N/AN/AHAMACA SENCILLA / UNIDADINVERSIONES SARHEM DE COLOMBIA S.A.S."},{"$f":"H505","v":41515.910000000003}]
[{"$f":"\"ate01-\"&B506&\" \"&C506&\" \"&D506&\" \"&E506","v":"ate01-C3-004 TRES (3) N/A N/A"},"C3-004","TRES (3)","N/A","N/A","HAMACA SENCILLA / UNIDAD","C I WARRIORS COMPANY S.A.S.",71355.47,{"$f":"B506&G506","v":"C3-004C I WARRIORS COMPANY S.A.S."},{"$f":"C506&D506&E506&F506","v":"TRES (3)N/AN/AHAMACA SENCILLA / UNIDAD"},{"$f":"H506","v":71355.47},{"$f":"C506&D506&E506&F506&G506","v":"TRES (3)N/AN/AHAMACA SENCILLA / UNIDADC I WARRIORS COMPANY S.A.S."},{"$f":"B506&H506","v":"C3-00471355.47"},{"$f":"G506","v":"C I WARRIORS COMPANY S.A.S."},"Und",{"$f":"C506&D506&E506&F506&G506","v":"TRES (3)N/AN/AHAMACA SENCILLA / UNIDADC I WARRIORS COMPANY S.A.S."},{"$f":"H506","v":71355.47}]
[{"$f":"\"ate01-\"&B507&\" \"&C507&\" \"&D507&\" \"&E507","v":"ate01-C3-004 TRES (3) N/A N/A"},"C3-004","TRES (3)","N/A","N/A","HAMACA SENCILLA / UNIDAD","LIMINA S.A.S.",202390.06,{"$f":"B507&G507","v":"C3-004LIMINA S.A.S."},{"$f":"C507&D507&E507&F507","v":"TRES (3)N/AN/AHAMACA SENCILLA / UNIDAD"},{"$f":"H507","v":202390.06},{"$f":"C507&D507&E507&F507&G507","v":"TRES (3)N/AN/AHAMACA SENCILLA / UNIDADLIMINA S.A.S."},{"$f":"B507&H507","v":"C3-004202390.06"},{"$f":"G507","v":"LIMINA S.A.S."},"Und",{"$f":"C507&D507&E507&F507&G507","v":"TRES (3)N/AN/AHAMACA SENCILLA / UNIDADLIMINA S.A.S."},{"$f":"H507","v":202390.06}]
[{"$f":"\"ate01-\"&B508&\" \"&C508&\" \"&D508&\" \"&E508","v":"ate01-C3-004 TRES (3) N/A N/A"},"C3-004","TRES (3)","N/A","N/A","HAMACA SENCILLA / UNIDAD","YUBARTA S.A.S.",103789.77,{"$f":"B508&G508","v":"C3-004YUBARTA S.A.S."},{"$f":"C508&D508&E508&F508","v":"TRES (3)N/AN/AHAMACA SENCILLA / UNIDAD"},{"$f":"H508","v":103789.77},{"$f":"C508&D508&E508&F508&G508","v":"TRES (3)N/AN/AHAMACA SENCILLA / UNIDADYUBARTA S.A.S."},{"$f":"B508&H508","v":"C3-004103789.77"},{"$f":"G508","v":"YUBARTA S.A.S."},"Und",{"$f":"C508&D508&E508&F508&G508","v":"TRES (3)N/AN/AHAMACA SENCILLA / UNIDADYUBARTA S.A.S."},{"$f":"H508","v":103789.77}]
[{"$f":"\"ate01-\"&B509&\" \"&C509&\" \"&D509&\" \"&E509","v":"ate01-C3-004 TRES (3) N/A N/A"},"C3-004","TRES (3)","N/A","N/A","HAMACA SENCILLA / UNIDAD","COLOMBIANA DE TEXTILES POR MAYOR S.A.",214351.83,{"$f":"B509&G509","v":"C3-004COLOMBIANA DE TEXTILES POR MAYOR S.A."},{"$f":"C509&D509&E509&F509","v":"TRES (3)N/AN/AHAMACA SENCILLA / UNIDAD"},{"$f":"H509","v":214351.83},{"$f":"C509&D509&E509&F509&G509","v":"TRES (3)N/AN/AHAMACA SENCILLA / UNIDADCOLOMBIANA DE TEXTILES POR MAYOR S.A."},{"$f":"B509&H509","v":"C3-004214351.83"},{"$f":"G509","v":"COLOMBIANA DE TEXTILES POR MAYOR S.A."},"Und",{"$f":"C509&D509&E509&F509&G509","v":"TRES (3)N/AN/AHAMACA SENCILLA / UNIDADCOLOMBIANA DE TEXTILES POR MAYOR S.A."},{"$f":"H509","v":214351.83}]
[{"$f":"\"ate01-\"&B510&\" \"&C510&\" \"&D510&\" \"&E510","v":"ate01-C3-004 TRES (3) N/A N/A"},"C3-004","TRES (3)","N/A","N/A","HAMACA SENCILLA / UNIDAD","MIGUEL ANGEL VALLEJO BURGOS",454080.26,{"$f":"B510&G510","v":"C3-004MIGUEL ANGEL VALLEJO BURGOS"},{"$f":"C510&D510&E510&F510","v":"TRES (3)N/AN/AHAMACA SENCILLA / UNIDAD"},{"$f":"H510","v":454080.26},{"$f":"C510&D510&E510&F510&G510","v":"TRES (3)N/AN/AHAMACA SENCILLA / UNIDADMIGUEL ANGEL VALLEJO BURGOS"},{"$f":"B510&H510","v":"C3-004454080.26"},{"$f":"G510","v":"MIGUEL ANGEL VALLEJO BURGOS"},"Und",{"$f":"C510&D510&E510&F510&G510","v":"TRES (3)N/AN/AHAMACA SENCILLA / UNIDADMIGUEL ANGEL VALLEJO BURGOS"},{"$f":"H510","v":454080.26}]
[{"$f":"\"ate01-\"&B511&\" \"&C511&\" \"&D511&\" \"&E511","v":"ate01-C3-004 TRES (3) N/A N/A"},"C3-004","TRES (3)","N/A","N/A","HAMACA SENCILLA / UNIDAD","INVALCA",155684.66,{"$f":"B511&G511","v":"C3-004INVALCA"},{"$f":"C511&D511&E511&F511","v":"TRES (3)N/AN/AHAMACA SENCILLA / UNIDAD"},{"$f":"H511","v":155684.66},{"$f":"C511&D511&E511&F511&G511","v":"TRES (3)N/AN/AHAMACA SENCILLA / UNIDADINVALCA"},{"$f":"B511&H511","v":"C3-004155684.66"},{"$f":"G511","v":"INVALCA"},"Und",{"$f":"C511&D511&E511&F511&G511","v":"TRES (3)N/AN/AHAMACA SENCILLA / UNIDADINVALCA"},{"$f":"H511","v":155684.66}]
[{"$f":"\"ate01-\"&B512&\" \"&C512&\" \"&D512&\" \"&E512","v":"ate01-C3-005 TRES (3) N/A N/A"},"C3-005","TRES (3)","N/A","N/A","PIJAMA PARA MUJER / UNIDAD","JM GRUPO",114168.75,{"$f":"B512&G512","v":"C3-005JM GRUPO"},{"$f":"C512&D512&E512&F512","v":"TRES (3)N/AN/APIJAMA PARA MUJER / UNIDAD"},{"$f":"H512","v":114168.75},{"$f":"C512&D512&E512&F512&G512","v":"TRES (3)N/AN/APIJAMA PARA MUJER / UNIDADJM GRUPO"},{"$f":"B512&H512","v":"C3-005114168.75"},{"$f":"G512","v":"JM GRUPO"},"Und",{"$f":"C512&D512&E512&F512&G512","v":"TRES (3)N/AN/APIJAMA PARA MUJER / UNIDADJM GRUPO"},{"$f":"H512","v":114168.75}]
[{"$f":"\"ate01-\"&B513&\" \"&C513&\" \"&D513&\" \"&E513","v":"ate01-C3-005 TRES (3) N/A N/A"},"C3-005","TRES (3)","N/A","N/A","PIJAMA PARA MUJER / UNIDAD","INVERSIONES SARHEM DE COLOMBIA S.A.S.",25947.439999999999,{"$f":"B513&G513","v":"C3-005INVERSIONES SARHEM DE COLOMBIA S.A.S."},{"$f":"C513&D513&E513&F513","v":"TRES (3)N/AN/APIJAMA PARA MUJER / UNIDAD"},{"$f":"H513","v":25947.439999999999},{"$f":"C513&D513&E513&F513&G513","v":"TRES (3)N/AN/APIJAMA PARA MUJER / UNIDADINVERSIONES SARHEM DE COLOMBIA S.A.S."},{"$f":"B513&H513","v":"C3-00525947.44"},{"$f":"G513","v":"INVERSIONES SARHEM DE COLOMBIA S.A.S."},"Und",{"$f":"C513&D513&E513&F513&G513","v":"TRES (3)N/AN/APIJAMA PARA MUJER / UNIDADINVERSIONES SARHEM DE COLOMBIA S.A.S."},{"$f":"H513","v":25947.439999999999}]
[{"$f":"\"ate01-\"&B514&\" \"&C514&\" \"&D514&\" \"&E514","v":"ate01-C3-005 TRES (3) N/A N/A"},"C3-005","TRES (3)","N/A","N/A","PIJAMA PARA MUJER / UNIDAD","C I WARRIORS COMPANY S.A.S.",77842.33,{"$f":"B514&G514","v":"C3-005C I WARRIORS COMPANY S.A.S."},{"$f":"C514&D514&E514&F514","v":"TRES (3)N/AN/APIJAMA PARA MUJER / UNIDAD"},{"$f":"H514","v":77842.33},{"$f":"C514&D514&E514&F514&G514","v":"TRES (3)N/AN/APIJAMA PARA MUJER / UNIDADC I WARRIORS COMPANY S.A.S."},{"$f":"B514&H514","v":"C3-00577842.33"},{"$f":"G514","v":"C I WARRIORS COMPANY S.A.S."},"Und",{"$f":"C514&D514&E514&F514&G514","v":"TRES (3)N/AN/APIJAMA PARA MUJER / UNIDADC I WARRIORS COMPANY S.A.S."},{"$f":"H514","v":77842.33}]
[{"$f":"\"ate01-\"&B515&\" \"&C515&\" \"&D515&\" \"&E515","v":"ate01-C3-005 TRES (3) N/A N/A"},"C3-005","TRES (3)","N/A","N/A","PIJAMA PARA MUJER / UNIDAD","LIMINA S.A.S.",79100.78,{"$f":"B515&G515","v":"C3-005LIMINA S.A.S."},{"$f":"C515&D515&E515&F515","v":"TRES (3)N/AN/APIJAMA PARA MUJER / UNIDAD"},{"$f":"H515","v":79100.78},{"$f":"C515&D515&E515&F515&G515","v":"TRES (3)N/AN/APIJAMA PARA MUJER / UNIDADLIMINA S.A.S."},{"$f":"B515&H515","v":"C3-00579100.78"},{"$f":"G515","v":"LIMINA S.A.S."},"Und",{"$f":"C515&D515&E515&F515&G515","v":"TRES (3)N/AN/APIJAMA PARA MUJER / UNIDADLIMINA S.A.S."},{"$f":"H515","v":79100.78}]
[{"$f":"\"ate01-\"&B516&\" \"&C516&\" \"&D516&\" \"&E516","v":"ate01-C3-005 TRES (3) N/A N/A"},"C3-005","TRES (3)","N/A","N/A","PIJAMA PARA MUJER / UNIDAD","YUBARTA S.A.S.",76544.960000000006,{"$f":"B516&G516","v":"C3-005YUBARTA S.A.S."},{"$f":"C516&D516&E516&F516","v":"TRES (3)N/AN/APIJAMA PARA MUJER / UNIDAD"},{"$f":"H516","v":76544.960000000006},{"$f":"C516&D516&E516&F516&G516","v":"TRES (3)N/AN/APIJAMA PARA MUJER / UNIDADYUBARTA S.A.S."},{"$f":"B516&H516","v":"C3-00576544.96"},{"$f":"G516","v":"YUBARTA S.A.S."},"Und",{"$f":"C516&D516&E516&F516&G516","v":"TRES (3)N/AN/APIJAMA PARA MUJER / UNIDADYUBARTA S.A.S."},{"$f":"H516","v":76544.960000000006}]
[{"$f":"\"ate01-\"&B517&\" \"&C517&\" \"&D517&\" \"&E517","v":"ate01-C3-005 TRES (3) N/A N/A"},"C3-005","TRES (3)","N/A","N/A","PIJAMA PARA MUJER / UNIDAD","COLOMBIANA DE TEXTILES POR MAYOR S.A.",44915.02,{"$f":"B517&G517","v":"C3-005COLOMBIANA DE TEXTILES POR MAYOR S.A."},{"$f":"C517&D517&E517&F517","v":"TRES (3)N/AN/APIJAMA PARA MUJER / UNIDAD"},{"$f":"H517","v":44915.02},{"$f":"C517&D517&E517&F517&G517","v":"TRES (3)N/AN/APIJAMA PARA MUJER / UNIDADCOLOMBIANA DE TEXTILES POR MAYOR S.A."},{"$f":"B517&H517","v":"C3-00544915.02"},{"$f":"G517","v":"COLOMBIANA DE TEXTILES POR MAYOR S.A."},"Und",{"$f":"C517&D517&E517&F517&G517","v":"TRES (3)N/AN/APIJAMA PARA MUJER / UNIDADCOLOMBIANA DE TEXTILES POR MAYOR S.A."},{"$f":"H517","v":44915.02}]
[{"$f":"\"ate01-\"&B518&\" \"&C518&\" \"&D518&\" \"&E518","v":"ate01-C3-005 TRES (3) N/A N/A"},"C3-005","TRES (3)","N/A","N/A","PIJAMA PARA MUJER / UNIDAD","MIGUEL ANGEL VALLEJO BURGOS",162171.51999999999,{"$f":"B518&G518","v":"C3-005MIGUEL ANGEL VALLEJO BURGOS"},{"$f":"C518&D518&E518&F518","v":"TRES (3)N/AN/APIJAMA PARA MUJER / UNIDAD"},{"$f":"H518","v":162171.51999999999},{"$f":"C518&D518&E518&F518&G518","v":"TRES (3)N/AN/APIJAMA PARA MUJER / UNIDADMIGUEL ANGEL VALLEJO BURGOS"},{"$f":"B518&H518","v":"C3-005162171.52"},{"$f":"G518","v":"MIGUEL ANGEL VALLEJO BURGOS"},"Und",{"$f":"C518&D518&E518&F518&G518","v":"TRES (3)N/AN/APIJAMA PARA MUJER / UNIDADMIGUEL ANGEL VALLEJO BURGOS"},{"$f":"H518","v":162171.51999999999}]
[{"$f":"\"ate01-\"&B519&\" \"&C519&\" \"&D519&\" \"&E519","v":"ate01-C3-005 TRES (3) N/A N/A"},"C3-005","TRES (3)","N/A","N/A","PIJAMA PARA MUJER / UNIDAD","INVALCA",118060.87,{"$f":"B519&G519","v":"C3-005INVALCA"},{"$f":"C519&D519&E519&F519","v":"TRES (3)N/AN/APIJAMA PARA MUJER / UNIDAD"},{"$f":"H519","v":118060.87},{"$f":"C519&D519&E519&F519&G519","v":"TRES (3)N/AN/APIJAMA PARA MUJER / UNIDADINVALCA"},{"$f":"B519&H519","v":"C3-005118060.87"},{"$f":"G519","v":"INVALCA"},"Und",{"$f":"C519&D519&E519&F519&G519","v":"TRES (3)N/AN/APIJAMA PARA MUJER / UNIDADINVALCA"},{"$f":"H519","v":118060.87}]
[{"$f":"\"ate01-\"&B520&\" \"&C520&\" \"&D520&\" \"&E520","v":"ate01-C3-006 TRES (3) N/A N/A"},"C3-006","TRES (3)","N/A","N/A","COBIJA SENCILLA / UNIDAD","JM GRUPO",48651.46,{"$f":"B520&G520","v":"C3-006JM GRUPO"},{"$f":"C520&D520&E520&F520","v":"TRES (3)N/AN/ACOBIJA SENCILLA / UNIDAD"},{"$f":"H520","v":48651.46},{"$f":"C520&D520&E520&F520&G520","v":"TRES (3)N/AN/ACOBIJA SENCILLA / UNIDADJM GRUPO"},{"$f":"B520&H520","v":"C3-00648651.46"},{"$f":"G520","v":"JM GRUPO"},"Und",{"$f":"C520&D520&E520&F520&G520","v":"TRES (3)N/AN/ACOBIJA SENCILLA / UNIDADJM GRUPO"},{"$f":"H520","v":48651.46}]
[{"$f":"\"ate01-\"&B521&\" \"&C521&\" \"&D521&\" \"&E521","v":"ate01-C3-006 TRES (3) N/A N/A"},"C3-006","TRES (3)","N/A","N/A","COBIJA SENCILLA / UNIDAD","INVERSIONES SARHEM DE COLOMBIA S.A.S.",62273.86,{"$f":"B521&G521","v":"C3-006INVERSIONES SARHEM DE COLOMBIA S.A.S."},{"$f":"C521&D521&E521&F521","v":"TRES (3)N/AN/ACOBIJA SENCILLA / UNIDAD"},{"$f":"H521","v":62273.86},{"$f":"C521&D521&E521&F521&G521","v":"TRES (3)N/AN/ACOBIJA SENCILLA / UNIDADINVERSIONES SARHEM DE COLOMBIA S.A.S."},{"$f":"B521&H521","v":"C3-00662273.86"},{"$f":"G521","v":"INVERSIONES SARHEM DE COLOMBIA S.A.S."},"Und",{"$f":"C521&D521&E521&F521&G521","v":"TRES (3)N/AN/ACOBIJA SENCILLA / UNIDADINVERSIONES SARHEM DE COLOMBIA S.A.S."},{"$f":"H521","v":62273.86}]
[{"$f":"\"ate01-\"&B522&\" \"&C522&\" \"&D522&\" \"&E522","v":"ate01-C3-006 TRES (3) N/A N/A"},"C3-006","TRES (3)","N/A","N/A","COBIJA SENCILLA / UNIDAD","C I WARRIORS COMPANY S.A.S.",90816.05,{"$f":"B522&G522","v":"C3-006C I WARRIORS COMPANY S.A.S."},{"$f":"C522&D522&E522&F522","v":"TRES (3)N/AN/ACOBIJA SENCILLA / UNIDAD"},{"$f":"H522","v":90816.05},{"$f":"C522&D522&E522&F522&G522","v":"TRES (3)N/AN/ACOBIJA SENCILLA / UNIDADC I WARRIORS COMPANY S.A.S."},{"$f":"B522&H522","v":"C3-00690816.05"},{"$f":"G522","v":"C I WARRIORS COMPANY S.A.S."},"Und",{"$f":"C522&D522&E522&F522&G522","v":"TRES (3)N/AN/ACOBIJA SENCILLA / UNIDADC I WARRIORS COMPANY S.A.S."},{"$f":"H522","v":90816.05}]
[{"$f":"\"ate01-\"&B523&\" \"&C523&\" \"&D523&\" \"&E523","v":"ate01-C3-006 TRES (3) N/A N/A"},"C3-006","TRES (3)","N/A","N/A","COBIJA SENCILLA / UNIDAD","LIMINA S.A.S.",99508.44,{"$f":"B523&G523","v":"C3-006LIMINA S.A.S."},{"$f":"C523&D523&E523&F523","v":"TRES (3)N/AN/ACOBIJA SENCILLA / UNIDAD"},{"$f":"H523","v":99508.44},{"$f":"C523&D523&E523&F523&G523","v":"TRES (3)N/AN/ACOBIJA SENCILLA / UNIDADLIMINA S.A.S."},{"$f":"B523&H523","v":"C3-00699508.44"},{"$f":"G523","v":"LIMINA S.A.S."},"Und",{"$f":"C523&D523&E523&F523&G523","v":"TRES (3)N/AN/ACOBIJA SENCILLA / UNIDADLIMINA S.A.S."},{"$f":"H523","v":99508.44}]
[{"$f":"\"ate01-\"&B524&\" \"&C524&\" \"&D524&\" \"&E524","v":"ate01-C3-006 TRES (3) N/A N/A"},"C3-006","TRES (3)","N/A","N/A","COBIJA SENCILLA / UNIDAD","YUBARTA S.A.S.",62273.86,{"$f":"B524&G524","v":"C3-006YUBARTA S.A.S."},{"$f":"C524&D524&E524&F524","v":"TRES (3)N/AN/ACOBIJA SENCILLA / UNIDAD"},{"$f":"H524","v":62273.86},{"$f":"C524&D524&E524&F524&G524","v":"TRES (3)N/AN/ACOBIJA SENCILLA / UNIDADYUBARTA S.A.S."},{"$f":"B524&H524","v":"C3-00662273.86"},{"$f":"G524","v":"YUBARTA S.A.S."},"Und",{"$f":"C524&D524&E524&F524&G524","v":"TRES (3)N/AN/ACOBIJA SENCILLA / UNIDADYUBARTA S.A.S."},{"$f":"H524","v":62273.86}]
[{"$f":"\"ate01-\"&B525&\" \"&C525&\" \"&D525&\" \"&E525","v":"ate01-C3-006 TRES (3) N/A N/A"},"C3-006","TRES (3)","N/A","N/A","COBIJA SENCILLA / UNIDAD","COLOMBIANA DE TEXTILES POR MAYOR S.A.",107941.36,{"$f":"B525&G525","v":"C3-006COLOMBIANA DE TEXTILES POR MAYOR S.A."},{"$f":"C525&D525&E525&F525","v":"TRES (3)N/AN/ACOBIJA SENCILLA / UNIDAD"},{"$f":"H525","v":107941.36},{"$f":"C525&D525&E525&F525&G525","v":"TRES (3)N/AN/ACOBIJA SENCILLA / UNIDADCOLOMBIANA DE TEXTILES POR MAYOR S.A."},{"$f":"B525&H525","v":"C3-006107941.36"},{"$f":"G525","v":"COLOMBIANA DE TEXTILES POR MAYOR S.A."},"Und",{"$f":"C525&D525&E525&F525&G525","v":"TRES (3)N/AN/ACOBIJA SENCILLA / UNIDADCOLOMBIANA DE TEXTILES POR MAYOR S.A."},{"$f":"H525","v":107941.36}]
[{"$f":"\"ate01-\"&B526&\" \"&C526&\" \"&D526&\" \"&E526","v":"ate01-C3-006 TRES (3) N/A N/A"},"C3-006","TRES (3)","N/A","N/A","COBIJA SENCILLA / UNIDAD","MIGUEL ANGEL VALLEJO BURGOS",110276.63,{"$f":"B526&G526","v":"C3-006MIGUEL ANGEL VALLEJO BURGOS"},{"$f":"C526&D526&E526&F526","v":"TRES (3)N/AN/ACOBIJA SENCILLA / UNIDAD"},{"$f":"H526","v":110276.63},{"$f":"C526&D526&E526&F526&G526","v":"TRES (3)N/AN/ACOBIJA SENCILLA / UNIDADMIGUEL ANGEL VALLEJO BURGOS"},{"$f":"B526&H526","v":"C3-006110276.63"},{"$f":"G526","v":"MIGUEL ANGEL VALLEJO BURGOS"},"Und",{"$f":"C526&D526&E526&F526&G526","v":"TRES (3)N/AN/ACOBIJA SENCILLA / UNIDADMIGUEL ANGEL VALLEJO BURGOS"},{"$f":"H526","v":110276.63}]
[{"$f":"\"ate01-\"&B527&\" \"&C527&\" \"&D527&\" \"&E527","v":"ate01-C3-006 TRES (3) N/A N/A"},"C3-006","TRES (3)","N/A","N/A","COBIJA SENCILLA / UNIDAD","INVALCA",51894.89,{"$f":"B527&G527","v":"C3-006INVALCA"},{"$f":"C527&D527&E527&F527","v":"TRES (3)N/AN/ACOBIJA SENCILLA / UNIDAD"},{"$f":"H527","v":51894.89},{"$f":"C527&D527&E527&F527&G527","v":"TRES (3)N/AN/ACOBIJA SENCILLA / UNIDADINVALCA"},{"$f":"B527&H527","v":"C3-00651894.89"},{"$f":"G527","v":"INVALCA"},"Und",{"$f":"C527&D527&E527&F527&G527","v":"TRES (3)N/AN/ACOBIJA SENCILLA / UNIDADINVALCA"},{"$f":"H527","v":51894.89}]
[{"$f":"\"ate01-\"&B528&\" \"&C528&\" \"&D528&\" \"&E528","v":"ate01-C3-007 TRES (3) N/A N/A"},"C3-007","TRES (3)","N/A","N/A","SACO POLIPROPILENO, PAQUETE POR 20 UNIDADES","JM GRUPO",201092.68,{"$f":"B528&G528","v":"C3-007JM GRUPO"},{"$f":"C528&D528&E528&F528","v":"TRES (3)N/AN/ASACO POLIPROPILENO, PAQUETE POR 20 UNIDADES"},{"$f":"H528","v":201092.68},{"$f":"C528&D528&E528&F528&G528","v":"TRES (3)N/AN/ASACO POLIPROPILENO, PAQUETE POR 20 UNIDADESJM GRUPO"},{"$f":"B528&H528","v":"C3-007201092.68"},{"$f":"G528","v":"JM GRUPO"},"Und",{"$f":"C528&D528&E528&F528&G528","v":"TRES (3)N/AN/ASACO POLIPROPILENO, PAQUETE POR 20 UNIDADESJM GRUPO"},{"$f":"H528","v":201092.68}]
[{"$f":"\"ate01-\"&B529&\" \"&C529&\" \"&D529&\" \"&E529","v":"ate01-C3-007 TRES (3) N/A N/A"},"C3-007","TRES (3)","N/A","N/A","SACO POLIPROPILENO, PAQUETE POR 20 UNIDADES","INVERSIONES SARHEM DE COLOMBIA S.A.S.",93410.8,{"$f":"B529&G529","v":"C3-007INVERSIONES SARHEM DE COLOMBIA S.A.S."},{"$f":"C529&D529&E529&F529","v":"TRES (3)N/AN/ASACO POLIPROPILENO, PAQUETE POR 20 UNIDADES"},{"$f":"H529","v":93410.8},{"$f":"C529&D529&E529&F529&G529","v":"TRES (3)N/AN/ASACO POLIPROPILENO, PAQUETE POR 20 UNIDADESINVERSIONES SARHEM DE COLOMBIA S.A.S."},{"$f":"B529&H529","v":"C3-00793410.8"},{"$f":"G529","v":"INVERSIONES SARHEM DE COLOMBIA S.A.S."},"Und",{"$f":"C529&D529&E529&F529&G529","v":"TRES (3)N/AN/ASACO POLIPROPILENO, PAQUETE POR 20 UNIDADESINVERSIONES SARHEM DE COLOMBIA S.A.S."},{"$f":"H529","v":93410.8}]
[{"$f":"\"ate01-\"&B530&\" \"&C530&\" \"&D530&\" \"&E530","v":"ate01-C3-007 TRES (3) N/A N/A"},"C3-007","TRES (3)","N/A","N/A","SACO POLIPROPILENO, PAQUETE POR 20 UNIDADES","C I WARRIORS COMPANY S.A.S.",171253.13,{"$f":"B530&G530","v":"C3-007C I WARRIORS COMPANY S.A.S."},{"$f":"C530&D530&E530&F530","v":"TRES (3)N/AN/ASACO POLIPROPILENO, PAQUETE POR 20 UNIDADES"},{"$f":"H530","v":171253.13},{"$f":"C530&D530&E530&F530&G530","v":"TRES (3)N/AN/ASACO POLIPROPILENO, PAQUETE POR 20 UNIDADESC I WARRIORS COMPANY S.A.S."},{"$f":"B530&H530","v":"C3-007171253.13"},{"$f":"G530","v":"C I WARRIORS COMPANY S.A.S."},"Und",{"$f":"C530&D530&E530&F530&G530","v":"TRES (3)N/AN/ASACO POLIPROPILENO, PAQUETE POR 20 UNIDADESC I WARRIORS COMPANY S.A.S."},{"$f":"H530","v":171253.13}]
[{"$f":"\"ate01-\"&B531&\" \"&C531&\" \"&D531&\" \"&E531","v":"ate01-C3-007 TRES (3) N/A N/A"},"C3-007","TRES (3)","N/A","N/A","SACO POLIPROPILENO, PAQUETE POR 20 UNIDADES","LIMINA S.A.S.",134926.70000000001,{"$f":"B531&G531","v":"C3-007LIMINA S.A.S."},{"$f":"C531&D531&E531&F531","v":"TRES (3)N/AN/ASACO POLIPROPILENO, PAQUETE POR 20 UNIDADES"},{"$f":"H531","v":134926.70000000001},{"$f":"C531&D531&E531&F531&G531","v":"TRES (3)N/AN/ASACO POLIPROPILENO, PAQUETE POR 20 UNIDADESLIMINA S.A.S."},{"$f":"B531&H531","v":"C3-007134926.7"},{"$f":"G531","v":"LIMINA S.A.S."},"Und",{"$f":"C531&D531&E531&F531&G531","v":"TRES (3)N/AN/ASACO POLIPROPILENO, PAQUETE POR 20 UNIDADESLIMINA S.A.S."},{"$f":"H531","v":134926.70000000001}]
[{"$f":"\"ate01-\"&B532&\" \"&C532&\" \"&D532&\" \"&E532","v":"ate01-C3-007 TRES (3) N/A N/A"},"C3-007","TRES (3)","N/A","N/A","SACO POLIPROPILENO, PAQUETE POR 20 UNIDADES","YUBARTA S.A.S.",58381.75,{"$f":"B532&G532","v":"C3-007YUBARTA S.A.S."},{"$f":"C532&D532&E532&F532","v":"TRES (3)N/AN/ASACO POLIPROPILENO, PAQUETE POR 20 UNIDADES"},{"$f":"H532","v":58381.75},{"$f":"C532&D532&E532&F532&G532","v":"TRES (3)N/AN/ASACO POLIPROPILENO, PAQUETE POR 20 UNIDADESYUBARTA S.A.S."},{"$f":"B532&H532","v":"C3-00758381.75"},{"$f":"G532","v":"YUBARTA S.A.S."},"Und",{"$f":"C532&D532&E532&F532&G532","v":"TRES (3)N/AN/ASACO POLIPROPILENO, PAQUETE POR 20 UNIDADESYUBARTA S.A.S."},{"$f":"H532","v":58381.75}]
[{"$f":"\"ate01-\"&B533&\" \"&C533&\" \"&D533&\" \"&E533","v":"ate01-C3-007 TRES (3) N/A N/A"},"C3-007","TRES (3)","N/A","N/A","SACO POLIPROPILENO, PAQUETE POR 20 UNIDADES","COLOMBIANA DE TEXTILES POR MAYOR S.A.",103789.77,{"$f":"B533&G533","v":"C3-007COLOMBIANA DE TEXTILES POR MAYOR S.A."},{"$f":"C533&D533&E533&F533","v":"TRES (3)N/AN/ASACO POLIPROPILENO, PAQUETE POR 20 UNIDADES"},{"$f":"H533","v":103789.77},{"$f":"C533&D533&E533&F533&G533","v":"TRES (3)N/AN/ASACO POLIPROPILENO, PAQUETE POR 20 UNIDADESCOLOMBIANA DE TEXTILES POR MAYOR S.A."},{"$f":"B533&H533","v":"C3-007103789.77"},{"$f":"G533","v":"COLOMBIANA DE TEXTILES POR MAYOR S.A."},"Und",{"$f":"C533&D533&E533&F533&G533","v":"TRES (3)N/AN/ASACO POLIPROPILENO, PAQUETE POR 20 UNIDADESCOLOMBIANA DE TEXTILES POR MAYOR S.A."},{"$f":"H533","v":103789.77}]
[{"$f":"\"ate01-\"&B534&\" \"&C534&\" \"&D534&\" \"&E534","v":"ate01-C3-007 TRES (3) N/A N/A"},"C3-007","TRES (3)","N/A","N/A","SACO POLIPROPILENO, PAQUETE POR 20 UNIDADES","MIGUEL ANGEL VALLEJO BURGOS",110276.63,{"$f":"B534&G534","v":"C3-007MIGUEL ANGEL VALLEJO BURGOS"},{"$f":"C534&D534&E534&F534","v":"TRES (3)N/AN/ASACO POLIPROPILENO, PAQUETE POR 20 UNIDADES"},{"$f":"H534","v":110276.63},{"$f":"C534&D534&E534&F534&G534","v":"TRES (3)N/AN/ASACO POLIPROPILENO, PAQUETE POR 20 UNIDADESMIGUEL ANGEL VALLEJO BURGOS"},{"$f":"B534&H534","v":"C3-007110276.63"},{"$f":"G534","v":"MIGUEL ANGEL VALLEJO BURGOS"},"Und",{"$f":"C534&D534&E534&F534&G534","v":"TRES (3)N/AN/ASACO POLIPROPILENO, PAQUETE POR 20 UNIDADESMIGUEL ANGEL VALLEJO BURGOS"},{"$f":"H534","v":110276.63}]
[{"$f":"\"ate01-\"&B535&\" \"&C535&\" \"&D535&\" \"&E535","v":"ate01-C3-007 TRES (3) N/A N/A"},"C3-007","TRES (3)","N/A","N/A","SACO POLIPROPILENO, PAQUETE POR 20 UNIDADES","INVALCA",240013.85,{"$f":"B535&G535","v":"C3-007INVALCA"},{"$f":"C535&D535&E535&F535","v":"TRES (3)N/AN/ASACO POLIPROPILENO, PAQUETE POR 20 UNIDADES"},{"$f":"H535","v":240013.85},{"$f":"C535&D535&E535&F535&G535","v":"TRES (3)N/AN/ASACO POLIPROPILENO, PAQUETE POR 20 UNIDADESINVALCA"},{"$f":"B535&H535","v":"C3-007240013.85"},{"$f":"G535","v":"INVALCA"},"Und",{"$f":"C535&D535&E535&F535&G535","v":"TRES (3)N/AN/ASACO POLIPROPILENO, PAQUETE POR 20 UNIDADESINVALCA"},{"$f":"H535","v":240013.85}]
[{"$f":"\"ate01-\"&B536&\" \"&C536&\" \"&D536&\" \"&E536","v":"ate01-C3-008 TRES (3) N/A N/A"},"C3-008","TRES (3)","N/A","N/A","CARPA PARA 4 PERSONAS.  / UNIDAD","JM GRUPO",720041.55,{"$f":"B536&G536","v":"C3-008JM GRUPO"},{"$f":"C536&D536&E536&F536","v":"TRES (3)N/AN/ACARPA PARA 4 PERSONAS.  / UNIDAD"},{"$f":"H536","v":720041.55},{"$f":"C536&D536&E536&F536&G536","v":"TRES (3)N/AN/ACARPA PARA 4 PERSONAS.  / UNIDADJM GRUPO"},{"$f":"B536&H536","v":"C3-008720041.55"},{"$f":"G536","v":"JM GRUPO"},"Und",{"$f":"C536&D536&E536&F536&G536","v":"TRES (3)N/AN/ACARPA PARA 4 PERSONAS.  / UNIDADJM GRUPO"},{"$f":"H536","v":720041.55}]
[{"$f":"\"ate01-\"&B537&\" \"&C537&\" \"&D537&\" \"&E537","v":"ate01-C3-008 TRES (3) N/A N/A"},"C3-008","TRES (3)","N/A","N/A","CARPA PARA 4 PERSONAS.  / UNIDAD","INVERSIONES SARHEM DE COLOMBIA S.A.S.",337316.76,{"$f":"B537&G537","v":"C3-008INVERSIONES SARHEM DE COLOMBIA S.A.S."},{"$f":"C537&D537&E537&F537","v":"TRES (3)N/AN/ACARPA PARA 4 PERSONAS.  / UNIDAD"},{"$f":"H537","v":337316.76},{"$f":"C537&D537&E537&F537&G537","v":"TRES (3)N/AN/ACARPA PARA 4 PERSONAS.  / UNIDADINVERSIONES SARHEM DE COLOMBIA S.A.S."},{"$f":"B537&H537","v":"C3-008337316.76"},{"$f":"G537","v":"INVERSIONES SARHEM DE COLOMBIA S.A.S."},"Und",{"$f":"C537&D537&E537&F537&G537","v":"TRES (3)N/AN/ACARPA PARA 4 PERSONAS.  / UNIDADINVERSIONES SARHEM DE COLOMBIA S.A.S."},{"$f":"H537","v":337316.76}]
[{"$f":"\"ate01-\"&B538&\" \"&C538&\" \"&D538&\" \"&E538","v":"ate01-C3-008 TRES (3) N/A N/A"},"C3-008","TRES (3)","N/A","N/A","CARPA PARA 4 PERSONAS.  / UNIDAD","C I WARRIORS COMPANY S.A.S.",214066.41,{"$f":"B538&G538","v":"C3-008C I WARRIORS COMPANY S.A.S."},{"$f":"C538&D538&E538&F538","v":"TRES (3)N/AN/ACARPA PARA 4 PERSONAS.  / UNIDAD"},{"$f":"H538","v":214066.41},{"$f":"C538&D538&E538&F538&G538","v":"TRES (3)N/AN/ACARPA PARA 4 PERSONAS.  / UNIDADC I WARRIORS COMPANY S.A.S."},{"$f":"B538&H538","v":"C3-008214066.41"},{"$f":"G538","v":"C I WARRIORS COMPANY S.A.S."},"Und",{"$f":"C538&D538&E538&F538&G538","v":"TRES (3)N/AN/ACARPA PARA 4 PERSONAS.  / UNIDADC I WARRIORS COMPANY S.A.S."},{"$f":"H538","v":214066.41}]
[{"$f":"\"ate01-\"&B539&\" \"&C539&\" \"&D539&\" \"&E539","v":"ate01-C3-008 TRES (3) N/A N/A"},"C3-008","TRES (3)","N/A","N/A","CARPA PARA 4 PERSONAS.  / UNIDAD","LIMINA S.A.S.",601980.68000000005,{"$f":"B539&G539","v":"C3-008LIMINA S.A.S."},{"$f":"C539&D539&E539&F539","v":"TRES (3)N/AN/ACARPA PARA 4 PERSONAS.  / UNIDAD"},{"$f":"H539","v":601980.68000000005},{"$f":"C539&D539&E539&F539&G539","v":"TRES (3)N/AN/ACARPA PARA 4 PERSONAS.  / UNIDADLIMINA S.A.S."},{"$f":"B539&H539","v":"C3-008601980.68"},{"$f":"G539","v":"LIMINA S.A.S."},"Und",{"$f":"C539&D539&E539&F539&G539","v":"TRES (3)N/AN/ACARPA PARA 4 PERSONAS.  / UNIDADLIMINA S.A.S."},{"$f":"H539","v":601980.68000000005}]
[{"$f":"\"ate01-\"&B540&\" \"&C540&\" \"&D540&\" \"&E540","v":"ate01-C3-008 TRES (3) N/A N/A"},"C3-008","TRES (3)","N/A","N/A","CARPA PARA 4 PERSONAS.  / UNIDAD","YUBARTA S.A.S.",622738.64,{"$f":"B540&G540","v":"C3-008YUBARTA S.A.S."},{"$f":"C540&D540&E540&F540","v":"TRES (3)N/AN/ACARPA PARA 4 PERSONAS.  / UNIDAD"},{"$f":"H540","v":622738.64},{"$f":"C540&D540&E540&F540&G540","v":"TRES (3)N/AN/ACARPA PARA 4 PERSONAS.  / UNIDADYUBARTA S.A.S."},{"$f":"B540&H540","v":"C3-008622738.64"},{"$f":"G540","v":"YUBARTA S.A.S."},"Und",{"$f":"C540&D540&E540&F540&G540","v":"TRES (3)N/AN/ACARPA PARA 4 PERSONAS.  / UNIDADYUBARTA S.A.S."},{"$f":"H540","v":622738.64}]
[{"$f":"\"ate01-\"&B541&\" \"&C541&\" \"&D541&\" \"&E541","v":"ate01-C3-008 TRES (3) N/A N/A"},"C3-008","TRES (3)","N/A","N/A","CARPA PARA 4 PERSONAS.  / UNIDAD","COLOMBIANA DE TEXTILES POR MAYOR S.A.",995979.63,{"$f":"B541&G541","v":"C3-008COLOMBIANA DE TEXTILES POR MAYOR S.A."},{"$f":"C541&D541&E541&F541","v":"TRES (3)N/AN/ACARPA PARA 4 PERSONAS.  / UNIDAD"},{"$f":"H541","v":995979.63},{"$f":"C541&D541&E541&F541&G541","v":"TRES (3)N/AN/ACARPA PARA 4 PERSONAS.  / UNIDADCOLOMBIANA DE TEXTILES POR MAYOR S.A."},{"$f":"B541&H541","v":"C3-008995979.63"},{"$f":"G541","v":"COLOMBIANA DE TEXTILES POR MAYOR S.A."},"Und",{"$f":"C541&D541&E541&F541&G541","v":"TRES (3)N/AN/ACARPA PARA 4 PERSONAS.  / UNIDADCOLOMBIANA DE TEXTILES POR MAYOR S.A."},{"$f":"H541","v":995979.63}]
[{"$f":"\"ate01-\"&B542&\" \"&C542&\" \"&D542&\" \"&E542","v":"ate01-C3-008 TRES (3) N/A N/A"},"C3-008","TRES (3)","N/A","N/A","CARPA PARA 4 PERSONAS.  / UNIDAD","MIGUEL ANGEL VALLEJO BURGOS",3178561.79,{"$f":"B542&G542","v":"C3-008MIGUEL ANGEL VALLEJO BURGOS"},{"$f":"C542&D542&E542&F542","v":"TRES (3)N/AN/ACARPA PARA 4 PERSONAS.  / UNIDAD"},{"$f":"H542","v":3178561.79},{"$f":"C542&D542&E542&F542&G542","v":"TRES (3)N/AN/ACARPA PARA 4 PERSONAS.  / UNIDADMIGUEL ANGEL VALLEJO BURGOS"},{"$f":"B542&H542","v":"C3-0083178561.79"},{"$f":"G542","v":"MIGUEL ANGEL VALLEJO BURGOS"},"Und",{"$f":"C542&D542&E542&F542&G542","v":"TRES (3)N/AN/ACARPA PARA 4 PERSONAS.  / UNIDADMIGUEL ANGEL VALLEJO BURGOS"},{"$f":"H542","v":3178561.79}]
[{"$f":"\"ate01-\"&B543&\" \"&C543&\" \"&D543&\" \"&E543","v":"ate01-C3-008 TRES (3) N/A N/A"},"C3-008","TRES (3)","N/A","N/A","CARPA PARA 4 PERSONAS.  / UNIDAD","INVALCA",733015.27,{"$f":"B543&G543","v":"C3-008INVALCA"},{"$f":"C543&D543&E543&F543","v":"TRES (3)N/AN/ACARPA PARA 4 PERSONAS.  / UNIDAD"},{"$f":"H543","v":733015.27},{"$f":"C543&D543&E543&F543&G543","v":"TRES (3)N/AN/ACARPA PARA 4 PERSONAS.  / UNIDADINVALCA"},{"$f":"B543&H543","v":"C3-008733015.27"},{"$f":"G543","v":"INVALCA"},"Und",{"$f":"C543&D543&E543&F543&G543","v":"TRES (3)N/AN/ACARPA PARA 4 PERSONAS.  / UNIDADINVALCA"},{"$f":"H543","v":733015.27}]
[{"$f":"\"ate01-\"&B544&\" \"&C544&\" \"&D544&\" \"&E544","v":"ate01-C3-009 TRES (3) N/A N/A"},"C3-009","TRES (3)","N/A","N/A","CARPA PARA 6 PERSONAS.  / UNIDAD","JM GRUPO",998976.56,{"$f":"B544&G544","v":"C3-009JM GRUPO"},{"$f":"C544&D544&E544&F544","v":"TRES (3)N/AN/ACARPA PARA 6 PERSONAS.  / UNIDAD"},{"$f":"H544","v":998976.56},{"$f":"C544&D544&E544&F544&G544","v":"TRES (3)N/AN/ACARPA PARA 6 PERSONAS.  / UNIDADJM GRUPO"},{"$f":"B544&H544","v":"C3-009998976.56"},{"$f":"G544","v":"JM GRUPO"},"Und",{"$f":"C544&D544&E544&F544&G544","v":"TRES (3)N/AN/ACARPA PARA 6 PERSONAS.  / UNIDADJM GRUPO"},{"$f":"H544","v":998976.56}]
[{"$f":"\"ate01-\"&B545&\" \"&C545&\" \"&D545&\" \"&E545","v":"ate01-C3-009 TRES (3) N/A N/A"},"C3-009","TRES (3)","N/A","N/A","CARPA PARA 6 PERSONAS.  / UNIDAD","INVERSIONES SARHEM DE COLOMBIA S.A.S.",376237.93,{"$f":"B545&G545","v":"C3-009INVERSIONES SARHEM DE COLOMBIA S.A.S."},{"$f":"C545&D545&E545&F545","v":"TRES (3)N/AN/ACARPA PARA 6 PERSONAS.  / UNIDAD"},{"$f":"H545","v":376237.93},{"$f":"C545&D545&E545&F545&G545","v":"TRES (3)N/AN/ACARPA PARA 6 PERSONAS.  / UNIDADINVERSIONES SARHEM DE COLOMBIA S.A.S."},{"$f":"B545&H545","v":"C3-009376237.93"},{"$f":"G545","v":"INVERSIONES SARHEM DE COLOMBIA S.A.S."},"Und",{"$f":"C545&D545&E545&F545&G545","v":"TRES (3)N/AN/ACARPA PARA 6 PERSONAS.  / UNIDADINVERSIONES SARHEM DE COLOMBIA S.A.S."},{"$f":"H545","v":376237.93}]
[{"$f":"\"ate01-\"&B546&\" \"&C546&\" \"&D546&\" \"&E546","v":"ate01-C3-009 TRES (3) N/A N/A"},"C3-009","TRES (3)","N/A","N/A","CARPA PARA 6 PERSONAS.  / UNIDAD","C I WARRIORS COMPANY S.A.S.",408672.23,{"$f":"B546&G546","v":"C3-009C I WARRIORS COMPANY S.A.S."},{"$f":"C546&D546&E546&F546","v":"TRES (3)N/AN/ACARPA PARA 6 PERSONAS.  / UNIDAD"},{"$f":"H546","v":408672.23},{"$f":"C546&D546&E546&F546&G546","v":"TRES (3)N/AN/ACARPA PARA 6 PERSONAS.  / UNIDADC I WARRIORS COMPANY S.A.S."},{"$f":"B546&H546","v":"C3-009408672.23"},{"$f":"G546","v":"C I WARRIORS COMPANY S.A.S."},"Und",{"$f":"C546&D546&E546&F546&G546","v":"TRES (3)N/AN/ACARPA PARA 6 PERSONAS.  / UNIDADC I WARRIORS COMPANY S.A.S."},{"$f":"H546","v":408672.23}]
[{"$f":"\"ate01-\"&B547&\" \"&C547&\" \"&D547&\" \"&E547","v":"ate01-C3-009 TRES (3) N/A N/A"},"C3-009","TRES (3)","N/A","N/A","CARPA PARA 6 PERSONAS.  / UNIDAD","LIMINA S.A.S.",937610.86,{"$f":"B547&G547","v":"C3-009LIMINA S.A.S."},{"$f":"C547&D547&E547&F547","v":"TRES (3)N/AN/ACARPA PARA 6 PERSONAS.  / UNIDAD"},{"$f":"H547","v":937610.86},{"$f":"C547&D547&E547&F547&G547","v":"TRES (3)N/AN/ACARPA PARA 6 PERSONAS.  / UNIDADLIMINA S.A.S."},{"$f":"B547&H547","v":"C3-009937610.86"},{"$f":"G547","v":"LIMINA S.A.S."},"Und",{"$f":"C547&D547&E547&F547&G547","v":"TRES (3)N/AN/ACARPA PARA 6 PERSONAS.  / UNIDADLIMINA S.A.S."},{"$f":"H547","v":937610.86}]
[{"$f":"\"ate01-\"&B548&\" \"&C548&\" \"&D548&\" \"&E548","v":"ate01-C3-009 TRES (3) N/A N/A"},"C3-009","TRES (3)","N/A","N/A","CARPA PARA 6 PERSONAS.  / UNIDAD","YUBARTA S.A.S.",804370.74,{"$f":"B548&G548","v":"C3-009YUBARTA S.A.S."},{"$f":"C548&D548&E548&F548","v":"TRES (3)N/AN/ACARPA PARA 6 PERSONAS.  / UNIDAD"},{"$f":"H548","v":804370.74},{"$f":"C548&D548&E548&F548&G548","v":"TRES (3)N/AN/ACARPA PARA 6 PERSONAS.  / UNIDADYUBARTA S.A.S."},{"$f":"B548&H548","v":"C3-009804370.74"},{"$f":"G548","v":"YUBARTA S.A.S."},"Und",{"$f":"C548&D548&E548&F548&G548","v":"TRES (3)N/AN/ACARPA PARA 6 PERSONAS.  / UNIDADYUBARTA S.A.S."},{"$f":"H548","v":804370.74}]
[{"$f":"\"ate01-\"&B549&\" \"&C549&\" \"&D549&\" \"&E549","v":"ate01-C3-009 TRES (3) N/A N/A"},"C3-009","TRES (3)","N/A","N/A","CARPA PARA 6 PERSONAS.  / UNIDAD","COLOMBIANA DE TEXTILES POR MAYOR S.A.",1195580.3400000001,{"$f":"B549&G549","v":"C3-009COLOMBIANA DE TEXTILES POR MAYOR S.A."},{"$f":"C549&D549&E549&F549","v":"TRES (3)N/AN/ACARPA PARA 6 PERSONAS.  / UNIDAD"},{"$f":"H549","v":1195580.3400000001},{"$f":"C549&D549&E549&F549&G549","v":"TRES (3)N/AN/ACARPA PARA 6 PERSONAS.  / UNIDADCOLOMBIANA DE TEXTILES POR MAYOR S.A."},{"$f":"B549&H549","v":"C3-0091195580.34"},{"$f":"G549","v":"COLOMBIANA DE TEXTILES POR MAYOR S.A."},"Und",{"$f":"C549&D549&E549&F549&G549","v":"TRES (3)N/AN/ACARPA PARA 6 PERSONAS.  / UNIDADCOLOMBIANA DE TEXTILES POR MAYOR S.A."},{"$f":"H549","v":1195580.3400000001}]
[{"$f":"\"ate01-\"&B550&\" \"&C550&\" \"&D550&\" \"&E550","v":"ate01-C3-009 TRES (3) N/A N/A"},"C3-009","TRES (3)","N/A","N/A","CARPA PARA 6 PERSONAS.  / UNIDAD","MIGUEL ANGEL VALLEJO BURGOS",3243430.4,{"$f":"B550&G550","v":"C3-009MIGUEL ANGEL VALLEJO BURGOS"},{"$f":"C550&D550&E550&F550","v":"TRES (3)N/AN/ACARPA PARA 6 PERSONAS.  / UNIDAD"},{"$f":"H550","v":3243430.4},{"$f":"C550&D550&E550&F550&G550","v":"TRES (3)N/AN/ACARPA PARA 6 PERSONAS.  / UNIDADMIGUEL ANGEL VALLEJO BURGOS"},{"$f":"B550&H550","v":"C3-0093243430.4"},{"$f":"G550","v":"MIGUEL ANGEL VALLEJO BURGOS"},"Und",{"$f":"C550&D550&E550&F550&G550","v":"TRES (3)N/AN/ACARPA PARA 6 PERSONAS.  / UNIDADMIGUEL ANGEL VALLEJO BURGOS"},{"$f":"H550","v":3243430.4}]
[{"$f":"\"ate01-\"&B551&\" \"&C551&\" \"&D551&\" \"&E551","v":"ate01-C3-009 TRES (3) N/A N/A"},"C3-009","TRES (3)","N/A","N/A","CARPA PARA 6 PERSONAS.  / UNIDAD","INVALCA",1023626.63,{"$f":"B551&G551","v":"C3-009INVALCA"},{"$f":"C551&D551&E551&F551","v":"TRES (3)N/AN/ACARPA PARA 6 PERSONAS.  / UNIDAD"},{"$f":"H551","v":1023626.63},{"$f":"C551&D551&E551&F551&G551","v":"TRES (3)N/AN/ACARPA PARA 6 PERSONAS.  / UNIDADINVALCA"},{"$f":"B551&H551","v":"C3-0091023626.63"},{"$f":"G551","v":"INVALCA"},"Und",{"$f":"C551&D551&E551&F551&G551","v":"TRES (3)N/AN/ACARPA PARA 6 PERSONAS.  / UNIDADINVALCA"},{"$f":"H551","v":1023626.63}]
[{"$f":"\"ate01-\"&B552&\" \"&C552&\" \"&D552&\" \"&E552","v":"ate01-C3-010 TRES (3) N/A N/A"},"C3-010","TRES (3)","N/A","N/A","CARPA PARA 8 PERSONAS.  / UNIDAD","JM GRUPO",1277911.58,{"$f":"B552&G552","v":"C3-010JM GRUPO"},{"$f":"C552&D552&E552&F552","v":"TRES (3)N/AN/ACARPA PARA 8 PERSONAS.  / UNIDAD"},{"$f":"H552","v":1277911.58},{"$f":"C552&D552&E552&F552&G552","v":"TRES (3)N/AN/ACARPA PARA 8 PERSONAS.  / UNIDADJM GRUPO"},{"$f":"B552&H552","v":"C3-0101277911.58"},{"$f":"G552","v":"JM GRUPO"},"Und",{"$f":"C552&D552&E552&F552&G552","v":"TRES (3)N/AN/ACARPA PARA 8 PERSONAS.  / UNIDADJM GRUPO"},{"$f":"H552","v":1277911.58}]
[{"$f":"\"ate01-\"&B553&\" \"&C553&\" \"&D553&\" \"&E553","v":"ate01-C3-010 TRES (3) N/A N/A"},"C3-010","TRES (3)","N/A","N/A","CARPA PARA 8 PERSONAS.  / UNIDAD","INVERSIONES SARHEM DE COLOMBIA S.A.S.",467053.98,{"$f":"B553&G553","v":"C3-010INVERSIONES SARHEM DE COLOMBIA S.A.S."},{"$f":"C553&D553&E553&F553","v":"TRES (3)N/AN/ACARPA PARA 8 PERSONAS.  / UNIDAD"},{"$f":"H553","v":467053.98},{"$f":"C553&D553&E553&F553&G553","v":"TRES (3)N/AN/ACARPA PARA 8 PERSONAS.  / UNIDADINVERSIONES SARHEM DE COLOMBIA S.A.S."},{"$f":"B553&H553","v":"C3-010467053.98"},{"$f":"G553","v":"INVERSIONES SARHEM DE COLOMBIA S.A.S."},"Und",{"$f":"C553&D553&E553&F553&G553","v":"TRES (3)N/AN/ACARPA PARA 8 PERSONAS.  / UNIDADINVERSIONES SARHEM DE COLOMBIA S.A.S."},{"$f":"H553","v":467053.98}]
[{"$f":"\"ate01-\"&B554&\" \"&C554&\" \"&D554&\" \"&E554","v":"ate01-C3-010 TRES (3) N/A N/A"},"C3-010","TRES (3)","N/A","N/A","CARPA PARA 8 PERSONAS.  / UNIDAD","C I WARRIORS COMPANY S.A.S.",537112.06999999995,{"$f":"B554&G554","v":"C3-010C I WARRIORS COMPANY S.A.S."},{"$f":"C554&D554&E554&F554","v":"TRES (3)N/AN/ACARPA PARA 8 PERSONAS.  / UNIDAD"},{"$f":"H554","v":537112.06999999995},{"$f":"C554&D554&E554&F554&G554","v":"TRES (3)N/AN/ACARPA PARA 8 PERSONAS.  / UNIDADC I WARRIORS COMPANY S.A.S."},{"$f":"B554&H554","v":"C3-010537112.07"},{"$f":"G554","v":"C I WARRIORS COMPANY S.A.S."},"Und",{"$f":"C554&D554&E554&F554&G554","v":"TRES (3)N/AN/ACARPA PARA 8 PERSONAS.  / UNIDADC I WARRIORS COMPANY S.A.S."},{"$f":"H554","v":537112.06999999995}]
[{"$f":"\"ate01-\"&B555&\" \"&C555&\" \"&D555&\" \"&E555","v":"ate01-C3-010 TRES (3) N/A N/A"},"C3-010","TRES (3)","N/A","N/A","CARPA PARA 8 PERSONAS.  / UNIDAD","LIMINA S.A.S.",1057358.31,{"$f":"B555&G555","v":"C3-010LIMINA S.A.S."},{"$f":"C555&D555&E555&F555","v":"TRES (3)N/AN/ACARPA PARA 8 PERSONAS.  / UNIDAD"},{"$f":"H555","v":1057358.31},{"$f":"C555&D555&E555&F555&G555","v":"TRES (3)N/AN/ACARPA PARA 8 PERSONAS.  / UNIDADLIMINA S.A.S."},{"$f":"B555&H555","v":"C3-0101057358.31"},{"$f":"G555","v":"LIMINA S.A.S."},"Und",{"$f":"C555&D555&E555&F555&G555","v":"TRES (3)N/AN/ACARPA PARA 8 PERSONAS.  / UNIDADLIMINA S.A.S."},{"$f":"H555","v":1057358.31}]
[{"$f":"\"ate01-\"&B556&\" \"&C556&\" \"&D556&\" \"&E556","v":"ate01-C3-010 TRES (3) N/A N/A"},"C3-010","TRES (3)","N/A","N/A","CARPA PARA 8 PERSONAS.  / UNIDAD","YUBARTA S.A.S.",1193582.3899999999,{"$f":"B556&G556","v":"C3-010YUBARTA S.A.S."},{"$f":"C556&D556&E556&F556","v":"TRES (3)N/AN/ACARPA PARA 8 PERSONAS.  / UNIDAD"},{"$f":"H556","v":1193582.3899999999},{"$f":"C556&D556&E556&F556&G556","v":"TRES (3)N/AN/ACARPA PARA 8 PERSONAS.  / UNIDADYUBARTA S.A.S."},{"$f":"B556&H556","v":"C3-0101193582.39"},{"$f":"G556","v":"YUBARTA S.A.S."},"Und",{"$f":"C556&D556&E556&F556&G556","v":"TRES (3)N/AN/ACARPA PARA 8 PERSONAS.  / UNIDADYUBARTA S.A.S."},{"$f":"H556","v":1193582.3899999999}]
[{"$f":"\"ate01-\"&B557&\" \"&C557&\" \"&D557&\" \"&E557","v":"ate01-C3-010 TRES (3) N/A N/A"},"C3-010","TRES (3)","N/A","N/A","CARPA PARA 8 PERSONAS.  / UNIDAD","COLOMBIANA DE TEXTILES POR MAYOR S.A.",1776400.88,{"$f":"B557&G557","v":"C3-010COLOMBIANA DE TEXTILES POR MAYOR S.A."},{"$f":"C557&D557&E557&F557","v":"TRES (3)N/AN/ACARPA PARA 8 PERSONAS.  / UNIDAD"},{"$f":"H557","v":1776400.88},{"$f":"C557&D557&E557&F557&G557","v":"TRES (3)N/AN/ACARPA PARA 8 PERSONAS.  / UNIDADCOLOMBIANA DE TEXTILES POR MAYOR S.A."},{"$f":"B557&H557","v":"C3-0101776400.88"},{"$f":"G557","v":"COLOMBIANA DE TEXTILES POR MAYOR S.A."},"Und",{"$f":"C557&D557&E557&F557&G557","v":"TRES (3)N/AN/ACARPA PARA 8 PERSONAS.  / UNIDADCOLOMBIANA DE TEXTILES POR MAYOR S.A."},{"$f":"H557","v":1776400.88}]
[{"$f":"\"ate01-\"&B558&\" \"&C558&\" \"&D558&\" \"&E558","v":"ate01-C3-010 TRES (3) N/A N/A"},"C3-010","TRES (3)","N/A","N/A","CARPA PARA 8 PERSONAS.  / UNIDAD","MIGUEL ANGEL VALLEJO BURGOS",5838174.7199999997,{"$f":"B558&G558","v":"C3-010MIGUEL ANGEL VALLEJO BURGOS"},{"$f":"C558&D558&E558&F558","v":"TRES (3)N/AN/ACARPA PARA 8 PERSONAS.  / UNIDAD"},{"$f":"H558","v":5838174.7199999997},{"$f":"C558&D558&E558&F558&G558","v":"TRES (3)N/AN/ACARPA PARA 8 PERSONAS.  / UNIDADMIGUEL ANGEL VALLEJO BURGOS"},{"$f":"B558&H558","v":"C3-0105838174.72"},{"$f":"G558","v":"MIGUEL ANGEL VALLEJO BURGOS"},"Und",{"$f":"C558&D558&E558&F558&G558","v":"TRES (3)N/AN/ACARPA PARA 8 PERSONAS.  / UNIDADMIGUEL ANGEL VALLEJO BURGOS"},{"$f":"H558","v":5838174.7199999997}]
[{"$f":"\"ate01-\"&B559&\" \"&C559&\" \"&D559&\" \"&E559","v":"ate01-C3-010 TRES (3) N/A N/A"},"C3-010","TRES (3)","N/A","N/A","CARPA PARA 8 PERSONAS.  / UNIDAD","INVALCA",1284398.44,{"$f":"B559&G559","v":"C3-010INVALCA"},{"$f":"C559&D559&E559&F559","v":"TRES (3)N/AN/ACARPA PARA 8 PERSONAS.  / UNIDAD"},{"$f":"H559","v":1284398.44},{"$f":"C559&D559&E559&F559&G559","v":"TRES (3)N/AN/ACARPA PARA 8 PERSONAS.  / UNIDADINVALCA"},{"$f":"B559&H559","v":"C3-0101284398.44"},{"$f":"G559","v":"INVALCA"},"Und",{"$f":"C559&D559&E559&F559&G559","v":"TRES (3)N/AN/ACARPA PARA 8 PERSONAS.  / UNIDADINVALCA"},{"$f":"H559","v":1284398.44}]
[{"$f":"\"ate01-\"&B560&\" \"&C560&\" \"&D560&\" \"&E560","v":"ate01-C3-011 TRES (3) N/A N/A"},"C3-011","TRES (3)","N/A","N/A","CARPA PARA 10 PERSONAS.  / UNIDAD","JM GRUPO",1556846.59,{"$f":"B560&G560","v":"C3-011JM GRUPO"},{"$f":"C560&D560&E560&F560","v":"TRES (3)N/AN/ACARPA PARA 10 PERSONAS.  / UNIDAD"},{"$f":"H560","v":1556846.59},{"$f":"C560&D560&E560&F560&G560","v":"TRES (3)N/AN/ACARPA PARA 10 PERSONAS.  / UNIDADJM GRUPO"},{"$f":"B560&H560","v":"C3-0111556846.59"},{"$f":"G560","v":"JM GRUPO"},"Und",{"$f":"C560&D560&E560&F560&G560","v":"TRES (3)N/AN/ACARPA PARA 10 PERSONAS.  / UNIDADJM GRUPO"},{"$f":"H560","v":1556846.59}]
[{"$f":"\"ate01-\"&B561&\" \"&C561&\" \"&D561&\" \"&E561","v":"ate01-C3-011 TRES (3) N/A N/A"},"C3-011","TRES (3)","N/A","N/A","CARPA PARA 10 PERSONAS.  / UNIDAD","INVERSIONES SARHEM DE COLOMBIA S.A.S.",622738.64,{"$f":"B561&G561","v":"C3-011INVERSIONES SARHEM DE COLOMBIA S.A.S."},{"$f":"C561&D561&E561&F561","v":"TRES (3)N/AN/ACARPA PARA 10 PERSONAS.  / UNIDAD"},{"$f":"H561","v":622738.64},{"$f":"C561&D561&E561&F561&G561","v":"TRES (3)N/AN/ACARPA PARA 10 PERSONAS.  / UNIDADINVERSIONES SARHEM DE COLOMBIA S.A.S."},{"$f":"B561&H561","v":"C3-011622738.64"},{"$f":"G561","v":"INVERSIONES SARHEM DE COLOMBIA S.A.S."},"Und",{"$f":"C561&D561&E561&F561&G561","v":"TRES (3)N/AN/ACARPA PARA 10 PERSONAS.  / UNIDADINVERSIONES SARHEM DE COLOMBIA S.A.S."},{"$f":"H561","v":622738.64}]
[{"$f":"\"ate01-\"&B562&\" \"&C562&\" \"&D562&\" \"&E562","v":"ate01-C3-011 TRES (3) N/A N/A"},"C3-011","TRES (3)","N/A","N/A","CARPA PARA 10 PERSONAS.  / UNIDAD","C I WARRIORS COMPANY S.A.S.",2140664.06,{"$f":"B562&G562","v":"C3-011C I WARRIORS COMPANY S.A.S."},{"$f":"C562&D562&E562&F562","v":"TRES (3)N/AN/ACARPA PARA 10 PERSONAS.  / UNIDAD"},{"$f":"H562","v":2140664.06},{"$f":"C562&D562&E562&F562&G562","v":"TRES (3)N/AN/ACARPA PARA 10 PERSONAS.  / UNIDADC I WARRIORS COMPANY S.A.S."},{"$f":"B562&H562","v":"C3-0112140664.06"},{"$f":"G562","v":"C I WARRIORS COMPANY S.A.S."},"Und",{"$f":"C562&D562&E562&F562&G562","v":"TRES (3)N/AN/ACARPA PARA 10 PERSONAS.  / UNIDADC I WARRIORS COMPANY S.A.S."},{"$f":"H562","v":2140664.06}]
[{"$f":"\"ate01-\"&B563&\" \"&C563&\" \"&D563&\" \"&E563","v":"ate01-C3-011 TRES (3) N/A N/A"},"C3-011","TRES (3)","N/A","N/A","CARPA PARA 10 PERSONAS.  / UNIDAD","LIMINA S.A.S.",1993412.32,{"$f":"B563&G563","v":"C3-011LIMINA S.A.S."},{"$f":"C563&D563&E563&F563","v":"TRES (3)N/AN/ACARPA PARA 10 PERSONAS.  / UNIDAD"},{"$f":"H563","v":1993412.32},{"$f":"C563&D563&E563&F563&G563","v":"TRES (3)N/AN/ACARPA PARA 10 PERSONAS.  / UNIDADLIMINA S.A.S."},{"$f":"B563&H563","v":"C3-0111993412.32"},{"$f":"G563","v":"LIMINA S.A.S."},"Und",{"$f":"C563&D563&E563&F563&G563","v":"TRES (3)N/AN/ACARPA PARA 10 PERSONAS.  / UNIDADLIMINA S.A.S."},{"$f":"H563","v":1993412.32}]
[{"$f":"\"ate01-\"&B564&\" \"&C564&\" \"&D564&\" \"&E564","v":"ate01-C3-011 TRES (3) N/A N/A"},"C3-011","TRES (3)","N/A","N/A","CARPA PARA 10 PERSONAS.  / UNIDAD","YUBARTA S.A.S.",1427109.38,{"$f":"B564&G564","v":"C3-011YUBARTA S.A.S."},{"$f":"C564&D564&E564&F564","v":"TRES (3)N/AN/ACARPA PARA 10 PERSONAS.  / UNIDAD"},{"$f":"H564","v":1427109.38},{"$f":"C564&D564&E564&F564&G564","v":"TRES (3)N/AN/ACARPA PARA 10 PERSONAS.  / UNIDADYUBARTA S.A.S."},{"$f":"B564&H564","v":"C3-0111427109.38"},{"$f":"G564","v":"YUBARTA S.A.S."},"Und",{"$f":"C564&D564&E564&F564&G564","v":"TRES (3)N/AN/ACARPA PARA 10 PERSONAS.  / UNIDADYUBARTA S.A.S."},{"$f":"H564","v":1427109.38}]
[{"$f":"\"ate01-\"&B565&\" \"&C565&\" \"&D565&\" \"&E565","v":"ate01-C3-011 TRES (3) N/A N/A"},"C3-011","TRES (3)","N/A","N/A","CARPA PARA 10 PERSONAS.  / UNIDAD","COLOMBIANA DE TEXTILES POR MAYOR S.A.",2195542.91,{"$f":"B565&G565","v":"C3-011COLOMBIANA DE TEXTILES POR MAYOR S.A."},{"$f":"C565&D565&E565&F565","v":"TRES (3)N/AN/ACARPA PARA 10 PERSONAS.  / UNIDAD"},{"$f":"H565","v":2195542.91},{"$f":"C565&D565&E565&F565&G565","v":"TRES (3)N/AN/ACARPA PARA 10 PERSONAS.  / UNIDADCOLOMBIANA DE TEXTILES POR MAYOR S.A."},{"$f":"B565&H565","v":"C3-0112195542.91"},{"$f":"G565","v":"COLOMBIANA DE TEXTILES POR MAYOR S.A."},"Und",{"$f":"C565&D565&E565&F565&G565","v":"TRES (3)N/AN/ACARPA PARA 10 PERSONAS.  / UNIDADCOLOMBIANA DE TEXTILES POR MAYOR S.A."},{"$f":"H565","v":2195542.91}]
[{"$f":"\"ate01-\"&B566&\" \"&C566&\" \"&D566&\" \"&E566","v":"ate01-C3-011 TRES (3) N/A N/A"},"C3-011","TRES (3)","N/A","N/A","CARPA PARA 10 PERSONAS.  / UNIDAD","MIGUEL ANGEL VALLEJO BURGOS",7135546.8799999999,{"$f":"B566&G566","v":"C3-011MIGUEL ANGEL VALLEJO BURGOS"},{"$f":"C566&D566&E566&F566","v":"TRES (3)N/AN/ACARPA PARA 10 PERSONAS.  / UNIDAD"},{"$f":"H566","v":7135546.8799999999},{"$f":"C566&D566&E566&F566&G566","v":"TRES (3)N/AN/ACARPA PARA 10 PERSONAS.  / UNIDADMIGUEL ANGEL VALLEJO BURGOS"},{"$f":"B566&H566","v":"C3-0117135546.88"},{"$f":"G566","v":"MIGUEL ANGEL VALLEJO BURGOS"},"Und",{"$f":"C566&D566&E566&F566&G566","v":"TRES (3)N/AN/ACARPA PARA 10 PERSONAS.  / UNIDADMIGUEL ANGEL VALLEJO BURGOS"},{"$f":"H566","v":7135546.8799999999}]
[{"$f":"\"ate01-\"&B567&\" \"&C567&\" \"&D567&\" \"&E567","v":"ate01-C3-011 TRES (3) N/A N/A"},"C3-011","TRES (3)","N/A","N/A","CARPA PARA 10 PERSONAS.  / UNIDAD","INVALCA",1491977.98,{"$f":"B567&G567","v":"C3-011INVALCA"},{"$f":"C567&D567&E567&F567","v":"TRES (3)N/AN/ACARPA PARA 10 PERSONAS.  / UNIDAD"},{"$f":"H567","v":1491977.98},{"$f":"C567&D567&E567&F567&G567","v":"TRES (3)N/AN/ACARPA PARA 10 PERSONAS.  / UNIDADINVALCA"},{"$f":"B567&H567","v":"C3-0111491977.98"},{"$f":"G567","v":"INVALCA"},"Und",{"$f":"C567&D567&E567&F567&G567","v":"TRES (3)N/AN/ACARPA PARA 10 PERSONAS.  / UNIDADINVALCA"},{"$f":"H567","v":1491977.98}]
[{"$f":"\"ate01-\"&B568&\" \"&C568&\" \"&D568&\" \"&E568","v":"ate01-C3-012 TRES (3) N/A N/A"},"C3-012","TRES (3)","N/A","N/A","PIJAMA PARA NIÑO / UNIDAD","JM GRUPO",114168.75,{"$f":"B568&G568","v":"C3-012JM GRUPO"},{"$f":"C568&D568&E568&F568","v":"TRES (3)N/AN/APIJAMA PARA NIÑO / UNIDAD"},{"$f":"H568","v":114168.75},{"$f":"C568&D568&E568&F568&G568","v":"TRES (3)N/AN/APIJAMA PARA NIÑO / UNIDADJM GRUPO"},{"$f":"B568&H568","v":"C3-012114168.75"},{"$f":"G568","v":"JM GRUPO"},"Und",{"$f":"C568&D568&E568&F568&G568","v":"TRES (3)N/AN/APIJAMA PARA NIÑO / UNIDADJM GRUPO"},{"$f":"H568","v":114168.75}]
[{"$f":"\"ate01-\"&B569&\" \"&C569&\" \"&D569&\" \"&E569","v":"ate01-C3-012 TRES (3) N/A N/A"},"C3-012","TRES (3)","N/A","N/A","PIJAMA PARA NIÑO / UNIDAD","INVERSIONES SARHEM DE COLOMBIA S.A.S.",23352.7,{"$f":"B569&G569","v":"C3-012INVERSIONES SARHEM DE COLOMBIA S.A.S."},{"$f":"C569&D569&E569&F569","v":"TRES (3)N/AN/APIJAMA PARA NIÑO / UNIDAD"},{"$f":"H569","v":23352.7},{"$f":"C569&D569&E569&F569&G569","v":"TRES (3)N/AN/APIJAMA PARA NIÑO / UNIDADINVERSIONES SARHEM DE COLOMBIA S.A.S."},{"$f":"B569&H569","v":"C3-01223352.7"},{"$f":"G569","v":"INVERSIONES SARHEM DE COLOMBIA S.A.S."},"Und",{"$f":"C569&D569&E569&F569&G569","v":"TRES (3)N/AN/APIJAMA PARA NIÑO / UNIDADINVERSIONES SARHEM DE COLOMBIA S.A.S."},{"$f":"H569","v":23352.7}]
[{"$f":"\"ate01-\"&B570&\" \"&C570&\" \"&D570&\" \"&E570","v":"ate01-C3-012 TRES (3) N/A N/A"},"C3-012","TRES (3)","N/A","N/A","PIJAMA PARA NIÑO / UNIDAD","C I WARRIORS COMPANY S.A.S.",71355.47,{"$f":"B570&G570","v":"C3-012C I WARRIORS COMPANY S.A.S."},{"$f":"C570&D570&E570&F570","v":"TRES (3)N/AN/APIJAMA PARA NIÑO / UNIDAD"},{"$f":"H570","v":71355.47},{"$f":"C570&D570&E570&F570&G570","v":"TRES (3)N/AN/APIJAMA PARA NIÑO / UNIDADC I WARRIORS COMPANY S.A.S."},{"$f":"B570&H570","v":"C3-01271355.47"},{"$f":"G570","v":"C I WARRIORS COMPANY S.A.S."},"Und",{"$f":"C570&D570&E570&F570&G570","v":"TRES (3)N/AN/APIJAMA PARA NIÑO / UNIDADC I WARRIORS COMPANY S.A.S."},{"$f":"H570","v":71355.47}]
[{"$f":"\"ate01-\"&B571&\" \"&C571&\" \"&D571&\" \"&E571","v":"ate01-C3-012 TRES (3) N/A N/A"},"C3-012","TRES (3)","N/A","N/A","PIJAMA PARA NIÑO / UNIDAD","LIMINA S.A.S.",50428.86,{"$f":"B571&G571","v":"C3-012LIMINA S.A.S."},{"$f":"C571&D571&E571&F571","v":"TRES (3)N/AN/APIJAMA PARA NIÑO / UNIDAD"},{"$f":"H571","v":50428.86},{"$f":"C571&D571&E571&F571&G571","v":"TRES (3)N/AN/APIJAMA PARA NIÑO / UNIDADLIMINA S.A.S."},{"$f":"B571&H571","v":"C3-01250428.86"},{"$f":"G571","v":"LIMINA S.A.S."},"Und",{"$f":"C571&D571&E571&F571&G571","v":"TRES (3)N/AN/APIJAMA PARA NIÑO / UNIDADLIMINA S.A.S."},{"$f":"H571","v":50428.86}]
[{"$f":"\"ate01-\"&B572&\" \"&C572&\" \"&D572&\" \"&E572","v":"ate01-C3-012 TRES (3) N/A N/A"},"C3-012","TRES (3)","N/A","N/A","PIJAMA PARA NIÑO / UNIDAD","YUBARTA S.A.S.",58381.75,{"$f":"B572&G572","v":"C3-012YUBARTA S.A.S."},{"$f":"C572&D572&E572&F572","v":"TRES (3)N/AN/APIJAMA PARA NIÑO / UNIDAD"},{"$f":"H572","v":58381.75},{"$f":"C572&D572&E572&F572&G572","v":"TRES (3)N/AN/APIJAMA PARA NIÑO / UNIDADYUBARTA S.A.S."},{"$f":"B572&H572","v":"C3-01258381.75"},{"$f":"G572","v":"YUBARTA S.A.S."},"Und",{"$f":"C572&D572&E572&F572&G572","v":"TRES (3)N/AN/APIJAMA PARA NIÑO / UNIDADYUBARTA S.A.S."},{"$f":"H572","v":58381.75}]
[{"$f":"\"ate01-\"&B573&\" \"&C573&\" \"&D573&\" \"&E573","v":"ate01-C3-012 TRES (3) N/A N/A"},"C3-012","TRES (3)","N/A","N/A","PIJAMA PARA NIÑO / UNIDAD","COLOMBIANA DE TEXTILES POR MAYOR S.A.",39517.96,{"$f":"B573&G573","v":"C3-012COLOMBIANA DE TEXTILES POR MAYOR S.A."},{"$f":"C573&D573&E573&F573","v":"TRES (3)N/AN/APIJAMA PARA NIÑO / UNIDAD"},{"$f":"H573","v":39517.96},{"$f":"C573&D573&E573&F573&G573","v":"TRES (3)N/AN/APIJAMA PARA NIÑO / UNIDADCOLOMBIANA DE TEXTILES POR MAYOR S.A."},{"$f":"B573&H573","v":"C3-01239517.96"},{"$f":"G573","v":"COLOMBIANA DE TEXTILES POR MAYOR S.A."},"Und",{"$f":"C573&D573&E573&F573&G573","v":"TRES (3)N/AN/APIJAMA PARA NIÑO / UNIDADCOLOMBIANA DE TEXTILES POR MAYOR S.A."},{"$f":"H573","v":39517.96}]
[{"$f":"\"ate01-\"&B574&\" \"&C574&\" \"&D574&\" \"&E574","v":"ate01-C3-012 TRES (3) N/A N/A"},"C3-012","TRES (3)","N/A","N/A","PIJAMA PARA NIÑO / UNIDAD","MIGUEL ANGEL VALLEJO BURGOS",162171.51999999999,{"$f":"B574&G574","v":"C3-012MIGUEL ANGEL VALLEJO BURGOS"},{"$f":"C574&D574&E574&F574","v":"TRES (3)N/AN/APIJAMA PARA NIÑO / UNIDAD"},{"$f":"H574","v":162171.51999999999},{"$f":"C574&D574&E574&F574&G574","v":"TRES (3)N/AN/APIJAMA PARA NIÑO / UNIDADMIGUEL ANGEL VALLEJO BURGOS"},{"$f":"B574&H574","v":"C3-012162171.52"},{"$f":"G574","v":"MIGUEL ANGEL VALLEJO BURGOS"},"Und",{"$f":"C574&D574&E574&F574&G574","v":"TRES (3)N/AN/APIJAMA PARA NIÑO / UNIDADMIGUEL ANGEL VALLEJO BURGOS"},{"$f":"H574","v":162171.51999999999}]
[{"$f":"\"ate01-\"&B575&\" \"&C575&\" \"&D575&\" \"&E575","v":"ate01-C3-012 TRES (3) N/A N/A"},"C3-012","TRES (3)","N/A","N/A","PIJAMA PARA NIÑO / UNIDAD","INVALCA",118060.87,{"$f":"B575&G575","v":"C3-012INVALCA"},{"$f":"C575&D575&E575&F575","v":"TRES (3)N/AN/APIJAMA PARA NIÑO / UNIDAD"},{"$f":"H575","v":118060.87},{"$f":"C575&D575&E575&F575&G575","v":"TRES (3)N/AN/APIJAMA PARA NIÑO / UNIDADINVALCA"},{"$f":"B575&H575","v":"C3-012118060.87"},{"$f":"G575","v":"INVALCA"},"Und",{"$f":"C575&D575&E575&F575&G575","v":"TRES (3)N/AN/APIJAMA PARA NIÑO / UNIDADINVALCA"},{"$f":"H575","v":118060.87}]
[{"$f":"\"ate01-\"&B576&\" \"&C576&\" \"&D576&\" \"&E576","v":"ate01-C3-013 TRES (3) N/A N/A"},"C3-013","TRES (3)","N/A","N/A","PIJAMA PARA NIÑA / UNIDAD","JM GRUPO",114168.75,{"$f":"B576&G576","v":"C3-013JM GRUPO"},{"$f":"C576&D576&E576&F576","v":"TRES (3)N/AN/APIJAMA PARA NIÑA / UNIDAD"},{"$f":"H576","v":114168.75},{"$f":"C576&D576&E576&F576&G576","v":"TRES (3)N/AN/APIJAMA PARA NIÑA / UNIDADJM GRUPO"},{"$f":"B576&H576","v":"C3-013114168.75"},{"$f":"G576","v":"JM GRUPO"},"Und",{"$f":"C576&D576&E576&F576&G576","v":"TRES (3)N/AN/APIJAMA PARA NIÑA / UNIDADJM GRUPO"},{"$f":"H576","v":114168.75}]
[{"$f":"\"ate01-\"&B577&\" \"&C577&\" \"&D577&\" \"&E577","v":"ate01-C3-013 TRES (3) N/A N/A"},"C3-013","TRES (3)","N/A","N/A","PIJAMA PARA NIÑA / UNIDAD","INVERSIONES SARHEM DE COLOMBIA S.A.S.",20757.95,{"$f":"B577&G577","v":"C3-013INVERSIONES SARHEM DE COLOMBIA S.A.S."},{"$f":"C577&D577&E577&F577","v":"TRES (3)N/AN/APIJAMA PARA NIÑA / UNIDAD"},{"$f":"H577","v":20757.95},{"$f":"C577&D577&E577&F577&G577","v":"TRES (3)N/AN/APIJAMA PARA NIÑA / UNIDADINVERSIONES SARHEM DE COLOMBIA S.A.S."},{"$f":"B577&H577","v":"C3-01320757.95"},{"$f":"G577","v":"INVERSIONES SARHEM DE COLOMBIA S.A.S."},"Und",{"$f":"C577&D577&E577&F577&G577","v":"TRES (3)N/AN/APIJAMA PARA NIÑA / UNIDADINVERSIONES SARHEM DE COLOMBIA S.A.S."},{"$f":"H577","v":20757.95}]
[{"$f":"\"ate01-\"&B578&\" \"&C578&\" \"&D578&\" \"&E578","v":"ate01-C3-013 TRES (3) N/A N/A"},"C3-013","TRES (3)","N/A","N/A","PIJAMA PARA NIÑA / UNIDAD","C I WARRIORS COMPANY S.A.S.",71355.47,{"$f":"B578&G578","v":"C3-013C I WARRIORS COMPANY S.A.S."},{"$f":"C578&D578&E578&F578","v":"TRES (3)N/AN/APIJAMA PARA NIÑA / UNIDAD"},{"$f":"H578","v":71355.47},{"$f":"C578&D578&E578&F578&G578","v":"TRES (3)N/AN/APIJAMA PARA NIÑA / UNIDADC I WARRIORS COMPANY S.A.S."},{"$f":"B578&H578","v":"C3-01371355.47"},{"$f":"G578","v":"C I WARRIORS COMPANY S.A.S."},"Und",{"$f":"C578&D578&E578&F578&G578","v":"TRES (3)N/AN/APIJAMA PARA NIÑA / UNIDADC I WARRIORS COMPANY S.A.S."},{"$f":"H578","v":71355.47}]
[{"$f":"\"ate01-\"&B579&\" \"&C579&\" \"&D579&\" \"&E579","v":"ate01-C3-013 TRES (3) N/A N/A"},"C3-013","TRES (3)","N/A","N/A","PIJAMA PARA NIÑA / UNIDAD","LIMINA S.A.S.",52284.1,{"$f":"B579&G579","v":"C3-013LIMINA S.A.S."},{"$f":"C579&D579&E579&F579","v":"TRES (3)N/AN/APIJAMA PARA NIÑA / UNIDAD"},{"$f":"H579","v":52284.1},{"$f":"C579&D579&E579&F579&G579","v":"TRES (3)N/AN/APIJAMA PARA NIÑA / UNIDADLIMINA S.A.S."},{"$f":"B579&H579","v":"C3-01352284.1"},{"$f":"G579","v":"LIMINA S.A.S."},"Und",{"$f":"C579&D579&E579&F579&G579","v":"TRES (3)N/AN/APIJAMA PARA NIÑA / UNIDADLIMINA S.A.S."},{"$f":"H579","v":52284.1}]
[{"$f":"\"ate01-\"&B580&\" \"&C580&\" \"&D580&\" \"&E580","v":"ate01-C3-013 TRES (3) N/A N/A"},"C3-013","TRES (3)","N/A","N/A","PIJAMA PARA NIÑA / UNIDAD","YUBARTA S.A.S.",58381.75,{"$f":"B580&G580","v":"C3-013YUBARTA S.A.S."},{"$f":"C580&D580&E580&F580","v":"TRES (3)N/AN/APIJAMA PARA NIÑA / UNIDAD"},{"$f":"H580","v":58381.75},{"$f":"C580&D580&E580&F580&G580","v":"TRES (3)N/AN/APIJAMA PARA NIÑA / UNIDADYUBARTA S.A.S."},{"$f":"B580&H580","v":"C3-01358381.75"},{"$f":"G580","v":"YUBARTA S.A.S."},"Und",{"$f":"C580&D580&E580&F580&G580","v":"TRES (3)N/AN/APIJAMA PARA NIÑA / UNIDADYUBARTA S.A.S."},{"$f":"H580","v":58381.75}]
[{"$f":"\"ate01-\"&B581&\" \"&C581&\" \"&D581&\" \"&E581","v":"ate01-C3-013 TRES (3) N/A N/A"},"C3-013","TRES (3)","N/A","N/A","PIJAMA PARA NIÑA / UNIDAD","COLOMBIANA DE TEXTILES POR MAYOR S.A.",39517.96,{"$f":"B581&G581","v":"C3-013COLOMBIANA DE TEXTILES POR MAYOR S.A."},{"$f":"C581&D581&E581&F581","v":"TRES (3)N/AN/APIJAMA PARA NIÑA / UNIDAD"},{"$f":"H581","v":39517.96},{"$f":"C581&D581&E581&F581&G581","v":"TRES (3)N/AN/APIJAMA PARA NIÑA / UNIDADCOLOMBIANA DE TEXTILES POR MAYOR S.A."},{"$f":"B581&H581","v":"C3-01339517.96"},{"$f":"G581","v":"COLOMBIANA DE TEXTILES POR MAYOR S.A."},"Und",{"$f":"C581&D581&E581&F581&G581","v":"TRES (3)N/AN/APIJAMA PARA NIÑA / UNIDADCOLOMBIANA DE TEXTILES POR MAYOR S.A."},{"$f":"H581","v":39517.96}]
[{"$f":"\"ate01-\"&B582&\" \"&C582&\" \"&D582&\" \"&E582","v":"ate01-C3-013 TRES (3) N/A N/A"},"C3-013","TRES (3)","N/A","N/A","PIJAMA PARA NIÑA / UNIDAD","MIGUEL ANGEL VALLEJO BURGOS",162171.51999999999,{"$f":"B582&G582","v":"C3-013MIGUEL ANGEL VALLEJO BURGOS"},{"$f":"C582&D582&E582&F582","v":"TRES (3)N/AN/APIJAMA PARA NIÑA / UNIDAD"},{"$f":"H582","v":162171.51999999999},{"$f":"C582&D582&E582&F582&G582","v":"TRES (3)N/AN/APIJAMA PARA NIÑA / UNIDADMIGUEL ANGEL VALLEJO BURGOS"},{"$f":"B582&H582","v":"C3-013162171.52"},{"$f":"G582","v":"MIGUEL ANGEL VALLEJO BURGOS"},"Und",{"$f":"C582&D582&E582&F582&G582","v":"TRES (3)N/AN/APIJAMA PARA NIÑA / UNIDADMIGUEL ANGEL VALLEJO BURGOS"},{"$f":"H582","v":162171.51999999999}]
[{"$f":"\"ate01-\"&B583&\" \"&C583&\" \"&D583&\" \"&E583","v":"ate01-C3-013 TRES (3) N/A N/A"},"C3-013","TRES (3)","N/A","N/A","PIJAMA PARA NIÑA / UNIDAD","INVALCA",118060.87,{"$f":"B583&G583","v":"C3-013INVALCA"},{"$f":"C583&D583&E583&F583","v":"TRES (3)N/AN/APIJAMA PARA NIÑA / UNIDAD"},{"$f":"H583","v":118060.87},{"$f":"C583&D583&E583&F583&G583","v":"TRES (3)N/AN/APIJAMA PARA NIÑA / UNIDADINVALCA"},{"$f":"B583&H583","v":"C3-013118060.87"},{"$f":"G583","v":"INVALCA"},"Und",{"$f":"C583&D583&E583&F583&G583","v":"TRES (3)N/AN/APIJAMA PARA NIÑA / UNIDADINVALCA"},{"$f":"H583","v":118060.87}]
[{"$f":"\"ate01-\"&B584&\" \"&C584&\" \"&D584&\" \"&E584","v":"ate01-C4S3-001 CUATRO (4) TRES (3) A"},"C4S3-001","CUATRO (4)","TRES (3)","A","BATA  DESECHABLE PARA PACIENTE ADULTO  - TALLA S, M, L, XL COMPUESTO POR BATA SIN MANGA CON AMARRADERA  POSTERIOR  / UNIDAD","JM GRUPO",5176.51,{"$f":"B584&G584","v":"C4S3-001JM GRUPO"},{"$f":"C584&D584&E584&F584","v":"CUATRO (4)TRES (3)ABATA  DESECHABLE PARA PACIENTE ADULTO  - TALLA S, M, L, XL COMPUESTO POR BATA SIN MANGA CON AMARRADERA  POSTERIOR  / UNIDAD"},{"$f":"H584","v":5176.51},{"$f":"C584&D584&E584&F584&G584","v":"CUATRO (4)TRES (3)ABATA  DESECHABLE PARA PACIENTE ADULTO  - TALLA S, M, L, XL COMPUESTO POR BATA SIN MANGA CON AMARRADERA  POSTERIOR  / UNIDADJM GRUPO"},{"$f":"B584&H584","v":"C4S3-0015176.51"},{"$f":"G584","v":"JM GRUPO"},"Und",{"$f":"C584&D584&E584&F584&G584","v":"CUATRO (4)TRES (3)ABATA  DESECHABLE PARA PACIENTE ADULTO  - TALLA S, M, L, XL COMPUESTO POR BATA SIN MANGA CON AMARRADERA  POSTERIOR  / UNIDADJM GRUPO"},{"$f":"H584","v":5176.51}]
[{"$f":"\"ate01-\"&B585&\" \"&C585&\" \"&D585&\" \"&E585","v":"ate01-C4S3-001 CUATRO (4) TRES (3) A"},"C4S3-001","CUATRO (4)","TRES (3)","A","BATA  DESECHABLE PARA PACIENTE ADULTO  - TALLA S, M, L, XL COMPUESTO POR BATA SIN MANGA CON AMARRADERA  POSTERIOR  / UNIDAD","UT EMERGENCIAS 2021",10378.98,{"$f":"B585&G585","v":"C4S3-001UT EMERGENCIAS 2021"},{"$f":"C585&D585&E585&F585","v":"CUATRO (4)TRES (3)ABATA  DESECHABLE PARA PACIENTE ADULTO  - TALLA S, M, L, XL COMPUESTO POR BATA SIN MANGA CON AMARRADERA  POSTERIOR  / UNIDAD"},{"$f":"H585","v":10378.98},{"$f":"C585&D585&E585&F585&G585","v":"CUATRO (4)TRES (3)ABATA  DESECHABLE PARA PACIENTE ADULTO  - TALLA S, M, L, XL COMPUESTO POR BATA SIN MANGA CON AMARRADERA  POSTERIOR  / UNIDADUT EMERGENCIAS 2021"},{"$f":"B585&H585","v":"C4S3-00110378.98"},{"$f":"G585","v":"UT EMERGENCIAS 2021"},"Und",{"$f":"C585&D585&E585&F585&G585","v":"CUATRO (4)TRES (3)ABATA  DESECHABLE PARA PACIENTE ADULTO  - TALLA S, M, L, XL COMPUESTO POR BATA SIN MANGA CON AMARRADERA  POSTERIOR  / UNIDADUT EMERGENCIAS 2021"},{"$f":"H585","v":10378.98}]
[{"$f":"\"ate01-\"&B586&\" \"&C586&\" \"&D586&\" \"&E586","v":"ate01-C4S3-001 CUATRO (4) TRES (3) A"},"C4S3-001","CUATRO (4)","TRES (3)","A","BATA  DESECHABLE PARA PACIENTE ADULTO  - TALLA S, M, L, XL COMPUESTO POR BATA SIN MANGA CON AMARRADERA  POSTERIOR  / UNIDAD","UNION TEMPORAL AYGEMA",10768.19,{"$f":"B586&G586","v":"C4S3-001UNION TEMPORAL AYGEMA"},{"$f":"C586&D586&E586&F586","v":"CUATRO (4)TRES (3)ABATA  DESECHABLE PARA PACIENTE ADULTO  - TALLA S, M, L, XL COMPUESTO POR BATA SIN MANGA CON AMARRADERA  POSTERIOR  / UNIDAD"},{"$f":"H586","v":10768.19},{"$f":"C586&D586&E586&F586&G586","v":"CUATRO (4)TRES (3)ABATA  DESECHABLE PARA PACIENTE ADULTO  - TALLA S, M, L, XL COMPUESTO POR BATA SIN MANGA CON AMARRADERA  POSTERIOR  / UNIDADUNION TEMPORAL AYGEMA"},{"$f":"B586&H586","v":"C4S3-00110768.19"},{"$f":"G586","v":"UNION TEMPORAL AYGEMA"},"Und",{"$f":"C586&D586&E586&F586&G586","v":"CUATRO (4)TRES (3)ABATA  DESECHABLE PARA PACIENTE ADULTO  - TALLA S, M, L, XL COMPUESTO POR BATA SIN MANGA CON AMARRADERA  POSTERIOR  / UNIDADUNION TEMPORAL AYGEMA"},{"$f":"H586","v":10768.19}]
[{"$f":"\"ate01-\"&B587&\" \"&C587&\" \"&D587&\" \"&E587","v":"ate01-C4S3-001 CUATRO (4) TRES (3) A"},"C4S3-001","CUATRO (4)","TRES (3)","A","BATA  DESECHABLE PARA PACIENTE ADULTO  - TALLA S, M, L, XL COMPUESTO POR BATA SIN MANGA CON AMARRADERA  POSTERIOR  / UNIDAD","COLOMBIANA DE TEXTILES POR MAYOR S.A.",8990.7900000000009,{"$f":"B587&G587","v":"C4S3-001COLOMBIANA DE TEXTILES POR MAYOR S.A."},{"$f":"C587&D587&E587&F587","v":"CUATRO (4)TRES (3)ABATA  DESECHABLE PARA PACIENTE ADULTO  - TALLA S, M, L, XL COMPUESTO POR BATA SIN MANGA CON AMARRADERA  POSTERIOR  / UNIDAD"},{"$f":"H587","v":8990.7900000000009},{"$f":"C587&D587&E587&F587&G587","v":"CUATRO (4)TRES (3)ABATA  DESECHABLE PARA PACIENTE ADULTO  - TALLA S, M, L, XL COMPUESTO POR BATA SIN MANGA CON AMARRADERA  POSTERIOR  / UNIDADCOLOMBIANA DE TEXTILES POR MAYOR S.A."},{"$f":"B587&H587","v":"C4S3-0018990.79"},{"$f":"G587","v":"COLOMBIANA DE TEXTILES POR MAYOR S.A."},"Und",{"$f":"C587&D587&E587&F587&G587","v":"CUATRO (4)TRES (3)ABATA  DESECHABLE PARA PACIENTE ADULTO  - TALLA S, M, L, XL COMPUESTO POR BATA SIN MANGA CON AMARRADERA  POSTERIOR  / UNIDADCOLOMBIANA DE TEXTILES POR MAYOR S.A."},{"$f":"H587","v":8990.7900000000009}]
[{"$f":"\"ate01-\"&B588&\" \"&C588&\" \"&D588&\" \"&E588","v":"ate01-C4S3-002 CUATRO (4) TRES (3) A"},"C4S3-002","CUATRO (4)","TRES (3)","A","BATA AISLAMIENTO NO ESTERIL MANGA LARGA  / UNIDAD","JM GRUPO",6473.89,{"$f":"B588&G588","v":"C4S3-002JM GRUPO"},{"$f":"C588&D588&E588&F588","v":"CUATRO (4)TRES (3)ABATA AISLAMIENTO NO ESTERIL MANGA LARGA  / UNIDAD"},{"$f":"H588","v":6473.89},{"$f":"C588&D588&E588&F588&G588","v":"CUATRO (4)TRES (3)ABATA AISLAMIENTO NO ESTERIL MANGA LARGA  / UNIDADJM GRUPO"},{"$f":"B588&H588","v":"C4S3-0026473.89"},{"$f":"G588","v":"JM GRUPO"},"Und",{"$f":"C588&D588&E588&F588&G588","v":"CUATRO (4)TRES (3)ABATA AISLAMIENTO NO ESTERIL MANGA LARGA  / UNIDADJM GRUPO"},{"$f":"H588","v":6473.89}]
[{"$f":"\"ate01-\"&B589&\" \"&C589&\" \"&D589&\" \"&E589","v":"ate01-C4S3-002 CUATRO (4) TRES (3) A"},"C4S3-002","CUATRO (4)","TRES (3)","A","BATA AISLAMIENTO NO ESTERIL MANGA LARGA  / UNIDAD","UT EMERGENCIAS 2021",12973.72,{"$f":"B589&G589","v":"C4S3-002UT EMERGENCIAS 2021"},{"$f":"C589&D589&E589&F589","v":"CUATRO (4)TRES (3)ABATA AISLAMIENTO NO ESTERIL MANGA LARGA  / UNIDAD"},{"$f":"H589","v":12973.72},{"$f":"C589&D589&E589&F589&G589","v":"CUATRO (4)TRES (3)ABATA AISLAMIENTO NO ESTERIL MANGA LARGA  / UNIDADUT EMERGENCIAS 2021"},{"$f":"B589&H589","v":"C4S3-00212973.72"},{"$f":"G589","v":"UT EMERGENCIAS 2021"},"Und",{"$f":"C589&D589&E589&F589&G589","v":"CUATRO (4)TRES (3)ABATA AISLAMIENTO NO ESTERIL MANGA LARGA  / UNIDADUT EMERGENCIAS 2021"},{"$f":"H589","v":12973.72}]
[{"$f":"\"ate01-\"&B590&\" \"&C590&\" \"&D590&\" \"&E590","v":"ate01-C4S3-002 CUATRO (4) TRES (3) A"},"C4S3-002","CUATRO (4)","TRES (3)","A","BATA AISLAMIENTO NO ESTERIL MANGA LARGA  / UNIDAD","UNION TEMPORAL AYGEMA",12714.25,{"$f":"B590&G590","v":"C4S3-002UNION TEMPORAL AYGEMA"},{"$f":"C590&D590&E590&F590","v":"CUATRO (4)TRES (3)ABATA AISLAMIENTO NO ESTERIL MANGA LARGA  / UNIDAD"},{"$f":"H590","v":12714.25},{"$f":"C590&D590&E590&F590&G590","v":"CUATRO (4)TRES (3)ABATA AISLAMIENTO NO ESTERIL MANGA LARGA  / UNIDADUNION TEMPORAL AYGEMA"},{"$f":"B590&H590","v":"C4S3-00212714.25"},{"$f":"G590","v":"UNION TEMPORAL AYGEMA"},"Und",{"$f":"C590&D590&E590&F590&G590","v":"CUATRO (4)TRES (3)ABATA AISLAMIENTO NO ESTERIL MANGA LARGA  / UNIDADUNION TEMPORAL AYGEMA"},{"$f":"H590","v":12714.25}]
[{"$f":"\"ate01-\"&B591&\" \"&C591&\" \"&D591&\" \"&E591","v":"ate01-C4S3-002 CUATRO (4) TRES (3) A"},"C4S3-002","CUATRO (4)","TRES (3)","A","BATA AISLAMIENTO NO ESTERIL MANGA LARGA  / UNIDAD","COLOMBIANA DE TEXTILES POR MAYOR S.A.",9081.61,{"$f":"B591&G591","v":"C4S3-002COLOMBIANA DE TEXTILES POR MAYOR S.A."},{"$f":"C591&D591&E591&F591","v":"CUATRO (4)TRES (3)ABATA AISLAMIENTO NO ESTERIL MANGA LARGA  / UNIDAD"},{"$f":"H591","v":9081.61},{"$f":"C591&D591&E591&F591&G591","v":"CUATRO (4)TRES (3)ABATA AISLAMIENTO NO ESTERIL MANGA LARGA  / UNIDADCOLOMBIANA DE TEXTILES POR MAYOR S.A."},{"$f":"B591&H591","v":"C4S3-0029081.61"},{"$f":"G591","v":"COLOMBIANA DE TEXTILES POR MAYOR S.A."},"Und",{"$f":"C591&D591&E591&F591&G591","v":"CUATRO (4)TRES (3)ABATA AISLAMIENTO NO ESTERIL MANGA LARGA  / UNIDADCOLOMBIANA DE TEXTILES POR MAYOR S.A."},{"$f":"H591","v":9081.61}]
[{"$f":"\"ate01-\"&B592&\" \"&C592&\" \"&D592&\" \"&E592","v":"ate01-C4S3-003 CUATRO (4) TRES (3) A"},"C4S3-003","CUATRO (4)","TRES (3)","A","BATA CIRUJANO DESECHABLE  / UNIDAD","JM GRUPO",6473.89,{"$f":"B592&G592","v":"C4S3-003JM GRUPO"},{"$f":"C592&D592&E592&F592","v":"CUATRO (4)TRES (3)ABATA CIRUJANO DESECHABLE  / UNIDAD"},{"$f":"H592","v":6473.89},{"$f":"C592&D592&E592&F592&G592","v":"CUATRO (4)TRES (3)ABATA CIRUJANO DESECHABLE  / UNIDADJM GRUPO"},{"$f":"B592&H592","v":"C4S3-0036473.89"},{"$f":"G592","v":"JM GRUPO"},"Und",{"$f":"C592&D592&E592&F592&G592","v":"CUATRO (4)TRES (3)ABATA CIRUJANO DESECHABLE  / UNIDADJM GRUPO"},{"$f":"H592","v":6473.89}]
[{"$f":"\"ate01-\"&B593&\" \"&C593&\" \"&D593&\" \"&E593","v":"ate01-C4S3-003 CUATRO (4) TRES (3) A"},"C4S3-003","CUATRO (4)","TRES (3)","A","BATA CIRUJANO DESECHABLE  / UNIDAD","UT EMERGENCIAS 2021",11676.35,{"$f":"B593&G593","v":"C4S3-003UT EMERGENCIAS 2021"},{"$f":"C593&D593&E593&F593","v":"CUATRO (4)TRES (3)ABATA CIRUJANO DESECHABLE  / UNIDAD"},{"$f":"H593","v":11676.35},{"$f":"C593&D593&E593&F593&G593","v":"CUATRO (4)TRES (3)ABATA CIRUJANO DESECHABLE  / UNIDADUT EMERGENCIAS 2021"},{"$f":"B593&H593","v":"C4S3-00311676.35"},{"$f":"G593","v":"UT EMERGENCIAS 2021"},"Und",{"$f":"C593&D593&E593&F593&G593","v":"CUATRO (4)TRES (3)ABATA CIRUJANO DESECHABLE  / UNIDADUT EMERGENCIAS 2021"},{"$f":"H593","v":11676.35}]
[{"$f":"\"ate01-\"&B594&\" \"&C594&\" \"&D594&\" \"&E594","v":"ate01-C4S3-003 CUATRO (4) TRES (3) A"},"C4S3-003","CUATRO (4)","TRES (3)","A","BATA CIRUJANO DESECHABLE  / UNIDAD","UNION TEMPORAL AYGEMA",12454.77,{"$f":"B594&G594","v":"C4S3-003UNION TEMPORAL AYGEMA"},{"$f":"C594&D594&E594&F594","v":"CUATRO (4)TRES (3)ABATA CIRUJANO DESECHABLE  / UNIDAD"},{"$f":"H594","v":12454.77},{"$f":"C594&D594&E594&F594&G594","v":"CUATRO (4)TRES (3)ABATA CIRUJANO DESECHABLE  / UNIDADUNION TEMPORAL AYGEMA"},{"$f":"B594&H594","v":"C4S3-00312454.77"},{"$f":"G594","v":"UNION TEMPORAL AYGEMA"},"Und",{"$f":"C594&D594&E594&F594&G594","v":"CUATRO (4)TRES (3)ABATA CIRUJANO DESECHABLE  / UNIDADUNION TEMPORAL AYGEMA"},{"$f":"H594","v":12454.77}]
[{"$f":"\"ate01-\"&B595&\" \"&C595&\" \"&D595&\" \"&E595","v":"ate01-C4S3-003 CUATRO (4) TRES (3) A"},"C4S3-003","CUATRO (4)","TRES (3)","A","BATA CIRUJANO DESECHABLE  / UNIDAD","COLOMBIANA DE TEXTILES POR MAYOR S.A.",22704.01,{"$f":"B595&G595","v":"C4S3-003COLOMBIANA DE TEXTILES POR MAYOR S.A."},{"$f":"C595&D595&E595&F595","v":"CUATRO (4)TRES (3)ABATA CIRUJANO DESECHABLE  / UNIDAD"},{"$f":"H595","v":22704.01},{"$f":"C595&D595&E595&F595&G595","v":"CUATRO (4)TRES (3)ABATA CIRUJANO DESECHABLE  / UNIDADCOLOMBIANA DE TEXTILES POR MAYOR S.A."},{"$f":"B595&H595","v":"C4S3-00322704.01"},{"$f":"G595","v":"COLOMBIANA DE TEXTILES POR MAYOR S.A."},"Und",{"$f":"C595&D595&E595&F595&G595","v":"CUATRO (4)TRES (3)ABATA CIRUJANO DESECHABLE  / UNIDADCOLOMBIANA DE TEXTILES POR MAYOR S.A."},{"$f":"H595","v":22704.01}]
[{"$f":"\"ate01-\"&B596&\" \"&C596&\" \"&D596&\" \"&E596","v":"ate01-C4S3-004 CUATRO (4) TRES (3) A"},"C4S3-004","CUATRO (4)","TRES (3)","A","BATA DESECHABLE CORTAS CON MANGA RESORTADA  / UNIDAD","JM GRUPO",5059.75,{"$f":"B596&G596","v":"C4S3-004JM GRUPO"},{"$f":"C596&D596&E596&F596","v":"CUATRO (4)TRES (3)ABATA DESECHABLE CORTAS CON MANGA RESORTADA  / UNIDAD"},{"$f":"H596","v":5059.75},{"$f":"C596&D596&E596&F596&G596","v":"CUATRO (4)TRES (3)ABATA DESECHABLE CORTAS CON MANGA RESORTADA  / UNIDADJM GRUPO"},{"$f":"B596&H596","v":"C4S3-0045059.75"},{"$f":"G596","v":"JM GRUPO"},"Und",{"$f":"C596&D596&E596&F596&G596","v":"CUATRO (4)TRES (3)ABATA DESECHABLE CORTAS CON MANGA RESORTADA  / UNIDADJM GRUPO"},{"$f":"H596","v":5059.75}]
[{"$f":"\"ate01-\"&B597&\" \"&C597&\" \"&D597&\" \"&E597","v":"ate01-C4S3-004 CUATRO (4) TRES (3) A"},"C4S3-004","CUATRO (4)","TRES (3)","A","BATA DESECHABLE CORTAS CON MANGA RESORTADA  / UNIDAD","UT EMERGENCIAS 2021",10378.98,{"$f":"B597&G597","v":"C4S3-004UT EMERGENCIAS 2021"},{"$f":"C597&D597&E597&F597","v":"CUATRO (4)TRES (3)ABATA DESECHABLE CORTAS CON MANGA RESORTADA  / UNIDAD"},{"$f":"H597","v":10378.98},{"$f":"C597&D597&E597&F597&G597","v":"CUATRO (4)TRES (3)ABATA DESECHABLE CORTAS CON MANGA RESORTADA  / UNIDADUT EMERGENCIAS 2021"},{"$f":"B597&H597","v":"C4S3-00410378.98"},{"$f":"G597","v":"UT EMERGENCIAS 2021"},"Und",{"$f":"C597&D597&E597&F597&G597","v":"CUATRO (4)TRES (3)ABATA DESECHABLE CORTAS CON MANGA RESORTADA  / UNIDADUT EMERGENCIAS 2021"},{"$f":"H597","v":10378.98}]
[{"$f":"\"ate01-\"&B598&\" \"&C598&\" \"&D598&\" \"&E598","v":"ate01-C4S3-004 CUATRO (4) TRES (3) A"},"C4S3-004","CUATRO (4)","TRES (3)","A","BATA DESECHABLE CORTAS CON MANGA RESORTADA  / UNIDAD","UNION TEMPORAL AYGEMA",10962.79,{"$f":"B598&G598","v":"C4S3-004UNION TEMPORAL AYGEMA"},{"$f":"C598&D598&E598&F598","v":"CUATRO (4)TRES (3)ABATA DESECHABLE CORTAS CON MANGA RESORTADA  / UNIDAD"},{"$f":"H598","v":10962.79},{"$f":"C598&D598&E598&F598&G598","v":"CUATRO (4)TRES (3)ABATA DESECHABLE CORTAS CON MANGA RESORTADA  / UNIDADUNION TEMPORAL AYGEMA"},{"$f":"B598&H598","v":"C4S3-00410962.79"},{"$f":"G598","v":"UNION TEMPORAL AYGEMA"},"Und",{"$f":"C598&D598&E598&F598&G598","v":"CUATRO (4)TRES (3)ABATA DESECHABLE CORTAS CON MANGA RESORTADA  / UNIDADUNION TEMPORAL AYGEMA"},{"$f":"H598","v":10962.79}]
[{"$f":"\"ate01-\"&B599&\" \"&C599&\" \"&D599&\" \"&E599","v":"ate01-C4S3-004 CUATRO (4) TRES (3) A"},"C4S3-004","CUATRO (4)","TRES (3)","A","BATA DESECHABLE CORTAS CON MANGA RESORTADA  / UNIDAD","COLOMBIANA DE TEXTILES POR MAYOR S.A.",9081.61,{"$f":"B599&G599","v":"C4S3-004COLOMBIANA DE TEXTILES POR MAYOR S.A."},{"$f":"C599&D599&E599&F599","v":"CUATRO (4)TRES (3)ABATA DESECHABLE CORTAS CON MANGA RESORTADA  / UNIDAD"},{"$f":"H599","v":9081.61},{"$f":"C599&D599&E599&F599&G599","v":"CUATRO (4)TRES (3)ABATA DESECHABLE CORTAS CON MANGA RESORTADA  / UNIDADCOLOMBIANA DE TEXTILES POR MAYOR S.A."},{"$f":"B599&H599","v":"C4S3-0049081.61"},{"$f":"G599","v":"COLOMBIANA DE TEXTILES POR MAYOR S.A."},"Und",{"$f":"C599&D599&E599&F599&G599","v":"CUATRO (4)TRES (3)ABATA DESECHABLE CORTAS CON MANGA RESORTADA  / UNIDADCOLOMBIANA DE TEXTILES POR MAYOR S.A."},{"$f":"H599","v":9081.61}]
[{"$f":"\"ate01-\"&B600&\" \"&C600&\" \"&D600&\" \"&E600","v":"ate01-C4S3-005 CUATRO (4) TRES (3) A"},"C4S3-005","CUATRO (4)","TRES (3)","A","BATA DESECHABLE PARA PACIENTE PEDIATRICO - ROPA DESECHABLE  COMPUESTO POR BATA SIN MANGA CON AMARRADERA  POSTERIOR.  / UNIDAD","JM GRUPO",5176.51,{"$f":"B600&G600","v":"C4S3-005JM GRUPO"},{"$f":"C600&D600&E600&F600","v":"CUATRO (4)TRES (3)ABATA DESECHABLE PARA PACIENTE PEDIATRICO - ROPA DESECHABLE  COMPUESTO POR BATA SIN MANGA CON AMARRADERA  POSTERIOR.  / UNIDAD"},{"$f":"H600","v":5176.51},{"$f":"C600&D600&E600&F600&G600","v":"CUATRO (4)TRES (3)ABATA DESECHABLE PARA PACIENTE PEDIATRICO - ROPA DESECHABLE  COMPUESTO POR BATA SIN MANGA CON AMARRADERA  POSTERIOR.  / UNIDADJM GRUPO"},{"$f":"B600&H600","v":"C4S3-0055176.51"},{"$f":"G600","v":"JM GRUPO"},"Und",{"$f":"C600&D600&E600&F600&G600","v":"CUATRO (4)TRES (3)ABATA DESECHABLE PARA PACIENTE PEDIATRICO - ROPA DESECHABLE  COMPUESTO POR BATA SIN MANGA CON AMARRADERA  POSTERIOR.  / UNIDADJM GRUPO"},{"$f":"H600","v":5176.51}]
[{"$f":"\"ate01-\"&B601&\" \"&C601&\" \"&D601&\" \"&E601","v":"ate01-C4S3-005 CUATRO (4) TRES (3) A"},"C4S3-005","CUATRO (4)","TRES (3)","A","BATA DESECHABLE PARA PACIENTE PEDIATRICO - ROPA DESECHABLE  COMPUESTO POR BATA SIN MANGA CON AMARRADERA  POSTERIOR.  / UNIDAD","UT EMERGENCIAS 2021",10378.98,{"$f":"B601&G601","v":"C4S3-005UT EMERGENCIAS 2021"},{"$f":"C601&D601&E601&F601","v":"CUATRO (4)TRES (3)ABATA DESECHABLE PARA PACIENTE PEDIATRICO - ROPA DESECHABLE  COMPUESTO POR BATA SIN MANGA CON AMARRADERA  POSTERIOR.  / UNIDAD"},{"$f":"H601","v":10378.98},{"$f":"C601&D601&E601&F601&G601","v":"CUATRO (4)TRES (3)ABATA DESECHABLE PARA PACIENTE PEDIATRICO - ROPA DESECHABLE  COMPUESTO POR BATA SIN MANGA CON AMARRADERA  POSTERIOR.  / UNIDADUT EMERGENCIAS 2021"},{"$f":"B601&H601","v":"C4S3-00510378.98"},{"$f":"G601","v":"UT EMERGENCIAS 2021"},"Und",{"$f":"C601&D601&E601&F601&G601","v":"CUATRO (4)TRES (3)ABATA DESECHABLE PARA PACIENTE PEDIATRICO - ROPA DESECHABLE  COMPUESTO POR BATA SIN MANGA CON AMARRADERA  POSTERIOR.  / UNIDADUT EMERGENCIAS 2021"},{"$f":"H601","v":10378.98}]
[{"$f":"\"ate01-\"&B602&\" \"&C602&\" \"&D602&\" \"&E602","v":"ate01-C4S3-005 CUATRO (4) TRES (3) A"},"C4S3-005","CUATRO (4)","TRES (3)","A","BATA DESECHABLE PARA PACIENTE PEDIATRICO - ROPA DESECHABLE  COMPUESTO POR BATA SIN MANGA CON AMARRADERA  POSTERIOR.  / UNIDAD","UNION TEMPORAL AYGEMA",10703.32,{"$f":"B602&G602","v":"C4S3-005UNION TEMPORAL AYGEMA"},{"$f":"C602&D602&E602&F602","v":"CUATRO (4)TRES (3)ABATA DESECHABLE PARA PACIENTE PEDIATRICO - ROPA DESECHABLE  COMPUESTO POR BATA SIN MANGA CON AMARRADERA  POSTERIOR.  / UNIDAD"},{"$f":"H602","v":10703.32},{"$f":"C602&D602&E602&F602&G602","v":"CUATRO (4)TRES (3)ABATA DESECHABLE PARA PACIENTE PEDIATRICO - ROPA DESECHABLE  COMPUESTO POR BATA SIN MANGA CON AMARRADERA  POSTERIOR.  / UNIDADUNION TEMPORAL AYGEMA"},{"$f":"B602&H602","v":"C4S3-00510703.32"},{"$f":"G602","v":"UNION TEMPORAL AYGEMA"},"Und",{"$f":"C602&D602&E602&F602&G602","v":"CUATRO (4)TRES (3)ABATA DESECHABLE PARA PACIENTE PEDIATRICO - ROPA DESECHABLE  COMPUESTO POR BATA SIN MANGA CON AMARRADERA  POSTERIOR.  / UNIDADUNION TEMPORAL AYGEMA"},{"$f":"H602","v":10703.32}]
[{"$f":"\"ate01-\"&B603&\" \"&C603&\" \"&D603&\" \"&E603","v":"ate01-C4S3-005 CUATRO (4) TRES (3) A"},"C4S3-005","CUATRO (4)","TRES (3)","A","BATA DESECHABLE PARA PACIENTE PEDIATRICO - ROPA DESECHABLE  COMPUESTO POR BATA SIN MANGA CON AMARRADERA  POSTERIOR.  / UNIDAD","COLOMBIANA DE TEXTILES POR MAYOR S.A.",9730.2900000000009,{"$f":"B603&G603","v":"C4S3-005COLOMBIANA DE TEXTILES POR MAYOR S.A."},{"$f":"C603&D603&E603&F603","v":"CUATRO (4)TRES (3)ABATA DESECHABLE PARA PACIENTE PEDIATRICO - ROPA DESECHABLE  COMPUESTO POR BATA SIN MANGA CON AMARRADERA  POSTERIOR.  / UNIDAD"},{"$f":"H603","v":9730.2900000000009},{"$f":"C603&D603&E603&F603&G603","v":"CUATRO (4)TRES (3)ABATA DESECHABLE PARA PACIENTE PEDIATRICO - ROPA DESECHABLE  COMPUESTO POR BATA SIN MANGA CON AMARRADERA  POSTERIOR.  / UNIDADCOLOMBIANA DE TEXTILES POR MAYOR S.A."},{"$f":"B603&H603","v":"C4S3-0059730.29"},{"$f":"G603","v":"COLOMBIANA DE TEXTILES POR MAYOR S.A."},"Und",{"$f":"C603&D603&E603&F603&G603","v":"CUATRO (4)TRES (3)ABATA DESECHABLE PARA PACIENTE PEDIATRICO - ROPA DESECHABLE  COMPUESTO POR BATA SIN MANGA CON AMARRADERA  POSTERIOR.  / UNIDADCOLOMBIANA DE TEXTILES POR MAYOR S.A."},{"$f":"H603","v":9730.2900000000009}]
[{"$f":"\"ate01-\"&B604&\" \"&C604&\" \"&D604&\" \"&E604","v":"ate01-C4S3-006 CUATRO (4) TRES (3) A"},"C4S3-006","CUATRO (4)","TRES (3)","A","BATA PUÑO RIB  / UNIDAD","JM GRUPO",6473.89,{"$f":"B604&G604","v":"C4S3-006JM GRUPO"},{"$f":"C604&D604&E604&F604","v":"CUATRO (4)TRES (3)ABATA PUÑO RIB  / UNIDAD"},{"$f":"H604","v":6473.89},{"$f":"C604&D604&E604&F604&G604","v":"CUATRO (4)TRES (3)ABATA PUÑO RIB  / UNIDADJM GRUPO"},{"$f":"B604&H604","v":"C4S3-0066473.89"},{"$f":"G604","v":"JM GRUPO"},"Und",{"$f":"C604&D604&E604&F604&G604","v":"CUATRO (4)TRES (3)ABATA PUÑO RIB  / UNIDADJM GRUPO"},{"$f":"H604","v":6473.89}]
[{"$f":"\"ate01-\"&B605&\" \"&C605&\" \"&D605&\" \"&E605","v":"ate01-C4S3-006 CUATRO (4) TRES (3) A"},"C4S3-006","CUATRO (4)","TRES (3)","A","BATA PUÑO RIB  / UNIDAD","UT EMERGENCIAS 2021",11676.35,{"$f":"B605&G605","v":"C4S3-006UT EMERGENCIAS 2021"},{"$f":"C605&D605&E605&F605","v":"CUATRO (4)TRES (3)ABATA PUÑO RIB  / UNIDAD"},{"$f":"H605","v":11676.35},{"$f":"C605&D605&E605&F605&G605","v":"CUATRO (4)TRES (3)ABATA PUÑO RIB  / UNIDADUT EMERGENCIAS 2021"},{"$f":"B605&H605","v":"C4S3-00611676.35"},{"$f":"G605","v":"UT EMERGENCIAS 2021"},"Und",{"$f":"C605&D605&E605&F605&G605","v":"CUATRO (4)TRES (3)ABATA PUÑO RIB  / UNIDADUT EMERGENCIAS 2021"},{"$f":"H605","v":11676.35}]
[{"$f":"\"ate01-\"&B606&\" \"&C606&\" \"&D606&\" \"&E606","v":"ate01-C4S3-006 CUATRO (4) TRES (3) A"},"C4S3-006","CUATRO (4)","TRES (3)","A","BATA PUÑO RIB  / UNIDAD","UNION TEMPORAL AYGEMA",11806.09,{"$f":"B606&G606","v":"C4S3-006UNION TEMPORAL AYGEMA"},{"$f":"C606&D606&E606&F606","v":"CUATRO (4)TRES (3)ABATA PUÑO RIB  / UNIDAD"},{"$f":"H606","v":11806.09},{"$f":"C606&D606&E606&F606&G606","v":"CUATRO (4)TRES (3)ABATA PUÑO RIB  / UNIDADUNION TEMPORAL AYGEMA"},{"$f":"B606&H606","v":"C4S3-00611806.09"},{"$f":"G606","v":"UNION TEMPORAL AYGEMA"},"Und",{"$f":"C606&D606&E606&F606&G606","v":"CUATRO (4)TRES (3)ABATA PUÑO RIB  / UNIDADUNION TEMPORAL AYGEMA"},{"$f":"H606","v":11806.09}]
[{"$f":"\"ate01-\"&B607&\" \"&C607&\" \"&D607&\" \"&E607","v":"ate01-C4S3-006 CUATRO (4) TRES (3) A"},"C4S3-006","CUATRO (4)","TRES (3)","A","BATA PUÑO RIB  / UNIDAD","COLOMBIANA DE TEXTILES POR MAYOR S.A.",9730.2900000000009,{"$f":"B607&G607","v":"C4S3-006COLOMBIANA DE TEXTILES POR MAYOR S.A."},{"$f":"C607&D607&E607&F607","v":"CUATRO (4)TRES (3)ABATA PUÑO RIB  / UNIDAD"},{"$f":"H607","v":9730.2900000000009},{"$f":"C607&D607&E607&F607&G607","v":"CUATRO (4)TRES (3)ABATA PUÑO RIB  / UNIDADCOLOMBIANA DE TEXTILES POR MAYOR S.A."},{"$f":"B607&H607","v":"C4S3-0069730.29"},{"$f":"G607","v":"COLOMBIANA DE TEXTILES POR MAYOR S.A."},"Und",{"$f":"C607&D607&E607&F607&G607","v":"CUATRO (4)TRES (3)ABATA PUÑO RIB  / UNIDADCOLOMBIANA DE TEXTILES POR MAYOR S.A."},{"$f":"H607","v":9730.2900000000009}]
[{"$f":"\"ate01-\"&B608&\" \"&C608&\" \"&D608&\" \"&E608","v":"ate01-C4S3-007 CUATRO (4) TRES (3) A"},"C4S3-007","CUATRO (4)","TRES (3)","A","BATA QUIRURGICA ASTOUND  / UNIDAD","JM GRUPO",12960.75,{"$f":"B608&G608","v":"C4S3-007JM GRUPO"},{"$f":"C608&D608&E608&F608","v":"CUATRO (4)TRES (3)ABATA QUIRURGICA ASTOUND  / UNIDAD"},{"$f":"H608","v":12960.75},{"$f":"C608&D608&E608&F608&G608","v":"CUATRO (4)TRES (3)ABATA QUIRURGICA ASTOUND  / UNIDADJM GRUPO"},{"$f":"B608&H608","v":"C4S3-00712960.75"},{"$f":"G608","v":"JM GRUPO"},"Und",{"$f":"C608&D608&E608&F608&G608","v":"CUATRO (4)TRES (3)ABATA QUIRURGICA ASTOUND  / UNIDADJM GRUPO"},{"$f":"H608","v":12960.75}]
[{"$f":"\"ate01-\"&B609&\" \"&C609&\" \"&D609&\" \"&E609","v":"ate01-C4S3-007 CUATRO (4) TRES (3) A"},"C4S3-007","CUATRO (4)","TRES (3)","A","BATA QUIRURGICA ASTOUND  / UNIDAD","UT EMERGENCIAS 2021",18163.21,{"$f":"B609&G609","v":"C4S3-007UT EMERGENCIAS 2021"},{"$f":"C609&D609&E609&F609","v":"CUATRO (4)TRES (3)ABATA QUIRURGICA ASTOUND  / UNIDAD"},{"$f":"H609","v":18163.21},{"$f":"C609&D609&E609&F609&G609","v":"CUATRO (4)TRES (3)ABATA QUIRURGICA ASTOUND  / UNIDADUT EMERGENCIAS 2021"},{"$f":"B609&H609","v":"C4S3-00718163.21"},{"$f":"G609","v":"UT EMERGENCIAS 2021"},"Und",{"$f":"C609&D609&E609&F609&G609","v":"CUATRO (4)TRES (3)ABATA QUIRURGICA ASTOUND  / UNIDADUT EMERGENCIAS 2021"},{"$f":"H609","v":18163.21}]
[{"$f":"\"ate01-\"&B610&\" \"&C610&\" \"&D610&\" \"&E610","v":"ate01-C4S3-007 CUATRO (4) TRES (3) A"},"C4S3-007","CUATRO (4)","TRES (3)","A","BATA QUIRURGICA ASTOUND  / UNIDAD","UNION TEMPORAL AYGEMA",18357.82,{"$f":"B610&G610","v":"C4S3-007UNION TEMPORAL AYGEMA"},{"$f":"C610&D610&E610&F610","v":"CUATRO (4)TRES (3)ABATA QUIRURGICA ASTOUND  / UNIDAD"},{"$f":"H610","v":18357.82},{"$f":"C610&D610&E610&F610&G610","v":"CUATRO (4)TRES (3)ABATA QUIRURGICA ASTOUND  / UNIDADUNION TEMPORAL AYGEMA"},{"$f":"B610&H610","v":"C4S3-00718357.82"},{"$f":"G610","v":"UNION TEMPORAL AYGEMA"},"Und",{"$f":"C610&D610&E610&F610&G610","v":"CUATRO (4)TRES (3)ABATA QUIRURGICA ASTOUND  / UNIDADUNION TEMPORAL AYGEMA"},{"$f":"H610","v":18357.82}]
[{"$f":"\"ate01-\"&B611&\" \"&C611&\" \"&D611&\" \"&E611","v":"ate01-C4S3-007 CUATRO (4) TRES (3) A"},"C4S3-007","CUATRO (4)","TRES (3)","A","BATA QUIRURGICA ASTOUND  / UNIDAD","COLOMBIANA DE TEXTILES POR MAYOR S.A.",29580.09,{"$f":"B611&G611","v":"C4S3-007COLOMBIANA DE TEXTILES POR MAYOR S.A."},{"$f":"C611&D611&E611&F611","v":"CUATRO (4)TRES (3)ABATA QUIRURGICA ASTOUND  / UNIDAD"},{"$f":"H611","v":29580.09},{"$f":"C611&D611&E611&F611&G611","v":"CUATRO (4)TRES (3)ABATA QUIRURGICA ASTOUND  / UNIDADCOLOMBIANA DE TEXTILES POR MAYOR S.A."},{"$f":"B611&H611","v":"C4S3-00729580.09"},{"$f":"G611","v":"COLOMBIANA DE TEXTILES POR MAYOR S.A."},"Und",{"$f":"C611&D611&E611&F611&G611","v":"CUATRO (4)TRES (3)ABATA QUIRURGICA ASTOUND  / UNIDADCOLOMBIANA DE TEXTILES POR MAYOR S.A."},{"$f":"H611","v":29580.09}]
[{"$f":"\"ate01-\"&B612&\" \"&C612&\" \"&D612&\" \"&E612","v":"ate01-C4S3-008 CUATRO (4) TRES (3) A"},"C4S3-008","CUATRO (4)","TRES (3)","A","CAMPOS QUIRURGICOS - CAMPO OPERATORIO  / PAQUETE X UNIDAD","JM GRUPO",36313.449999999997,{"$f":"B612&G612","v":"C4S3-008JM GRUPO"},{"$f":"C612&D612&E612&F612","v":"CUATRO (4)TRES (3)ACAMPOS QUIRURGICOS - CAMPO OPERATORIO  / PAQUETE X UNIDAD"},{"$f":"H612","v":36313.449999999997},{"$f":"C612&D612&E612&F612&G612","v":"CUATRO (4)TRES (3)ACAMPOS QUIRURGICOS - CAMPO OPERATORIO  / PAQUETE X UNIDADJM GRUPO"},{"$f":"B612&H612","v":"C4S3-00836313.45"},{"$f":"G612","v":"JM GRUPO"},"Und",{"$f":"C612&D612&E612&F612&G612","v":"CUATRO (4)TRES (3)ACAMPOS QUIRURGICOS - CAMPO OPERATORIO  / PAQUETE X UNIDADJM GRUPO"},{"$f":"H612","v":36313.449999999997}]
[{"$f":"\"ate01-\"&B613&\" \"&C613&\" \"&D613&\" \"&E613","v":"ate01-C4S3-008 CUATRO (4) TRES (3) A"},"C4S3-008","CUATRO (4)","TRES (3)","A","CAMPOS QUIRURGICOS - CAMPO OPERATORIO  / PAQUETE X UNIDAD","UT EMERGENCIAS 2021",1946.06,{"$f":"B613&G613","v":"C4S3-008UT EMERGENCIAS 2021"},{"$f":"C613&D613&E613&F613","v":"CUATRO (4)TRES (3)ACAMPOS QUIRURGICOS - CAMPO OPERATORIO  / PAQUETE X UNIDAD"},{"$f":"H613","v":1946.06},{"$f":"C613&D613&E613&F613&G613","v":"CUATRO (4)TRES (3)ACAMPOS QUIRURGICOS - CAMPO OPERATORIO  / PAQUETE X UNIDADUT EMERGENCIAS 2021"},{"$f":"B613&H613","v":"C4S3-0081946.06"},{"$f":"G613","v":"UT EMERGENCIAS 2021"},"Und",{"$f":"C613&D613&E613&F613&G613","v":"CUATRO (4)TRES (3)ACAMPOS QUIRURGICOS - CAMPO OPERATORIO  / PAQUETE X UNIDADUT EMERGENCIAS 2021"},{"$f":"H613","v":1946.06}]
[{"$f":"\"ate01-\"&B614&\" \"&C614&\" \"&D614&\" \"&E614","v":"ate01-C4S3-008 CUATRO (4) TRES (3) A"},"C4S3-008","CUATRO (4)","TRES (3)","A","CAMPOS QUIRURGICOS - CAMPO OPERATORIO  / PAQUETE X UNIDAD","UNION TEMPORAL AYGEMA",1946.06,{"$f":"B614&G614","v":"C4S3-008UNION TEMPORAL AYGEMA"},{"$f":"C614&D614&E614&F614","v":"CUATRO (4)TRES (3)ACAMPOS QUIRURGICOS - CAMPO OPERATORIO  / PAQUETE X UNIDAD"},{"$f":"H614","v":1946.06},{"$f":"C614&D614&E614&F614&G614","v":"CUATRO (4)TRES (3)ACAMPOS QUIRURGICOS - CAMPO OPERATORIO  / PAQUETE X UNIDADUNION TEMPORAL AYGEMA"},{"$f":"B614&H614","v":"C4S3-0081946.06"},{"$f":"G614","v":"UNION TEMPORAL AYGEMA"},"Und",{"$f":"C614&D614&E614&F614&G614","v":"CUATRO (4)TRES (3)ACAMPOS QUIRURGICOS - CAMPO OPERATORIO  / PAQUETE X UNIDADUNION TEMPORAL AYGEMA"},{"$f":"H614","v":1946.06}]
[{"$f":"\"ate01-\"&B615&\" \"&C615&\" \"&D615&\" \"&E615","v":"ate01-C4S3-008 CUATRO (4) TRES (3) A"},"C4S3-008","CUATRO (4)","TRES (3)","A","CAMPOS QUIRURGICOS - CAMPO OPERATORIO  / PAQUETE X UNIDAD","COLOMBIANA DE TEXTILES POR MAYOR S.A.",71355.47,{"$f":"B615&G615","v":"C4S3-008COLOMBIANA DE TEXTILES POR MAYOR S.A."},{"$f":"C615&D615&E615&F615","v":"CUATRO (4)TRES (3)ACAMPOS QUIRURGICOS - CAMPO OPERATORIO  / PAQUETE X UNIDAD"},{"$f":"H615","v":71355.47},{"$f":"C615&D615&E615&F615&G615","v":"CUATRO (4)TRES (3)ACAMPOS QUIRURGICOS - CAMPO OPERATORIO  / PAQUETE X UNIDADCOLOMBIANA DE TEXTILES POR MAYOR S.A."},{"$f":"B615&H615","v":"C4S3-00871355.47"},{"$f":"G615","v":"COLOMBIANA DE TEXTILES POR MAYOR S.A."},"Und",{"$f":"C615&D615&E615&F615&G615","v":"CUATRO (4)TRES (3)ACAMPOS QUIRURGICOS - CAMPO OPERATORIO  / PAQUETE X UNIDADCOLOMBIANA DE TEXTILES POR MAYOR S.A."},{"$f":"H615","v":71355.47}]
[{"$f":"\"ate01-\"&B616&\" \"&C616&\" \"&D616&\" \"&E616","v":"ate01-C4S3-010 CUATRO (4) TRES (3) A"},"C4S3-010","CUATRO (4)","TRES (3)","A","GORRO DESECHABLE REDONDO ELÁSTICO AZUL  / BOLSA X  50 UNIDADES","JM GRUPO",21925.59,{"$f":"B616&G616","v":"C4S3-010JM GRUPO"},{"$f":"C616&D616&E616&F616","v":"CUATRO (4)TRES (3)AGORRO DESECHABLE REDONDO ELÁSTICO AZUL  / BOLSA X  50 UNIDADES"},{"$f":"H616","v":21925.59},{"$f":"C616&D616&E616&F616&G616","v":"CUATRO (4)TRES (3)AGORRO DESECHABLE REDONDO ELÁSTICO AZUL  / BOLSA X  50 UNIDADESJM GRUPO"},{"$f":"B616&H616","v":"C4S3-01021925.59"},{"$f":"G616","v":"JM GRUPO"},"Und",{"$f":"C616&D616&E616&F616&G616","v":"CUATRO (4)TRES (3)AGORRO DESECHABLE REDONDO ELÁSTICO AZUL  / BOLSA X  50 UNIDADESJM GRUPO"},{"$f":"H616","v":21925.59}]
[{"$f":"\"ate01-\"&B617&\" \"&C617&\" \"&D617&\" \"&E617","v":"ate01-C4S3-010 CUATRO (4) TRES (3) A"},"C4S3-010","CUATRO (4)","TRES (3)","A","GORRO DESECHABLE REDONDO ELÁSTICO AZUL  / BOLSA X  50 UNIDADES","UT EMERGENCIAS 2021",23352.7,{"$f":"B617&G617","v":"C4S3-010UT EMERGENCIAS 2021"},{"$f":"C617&D617&E617&F617","v":"CUATRO (4)TRES (3)AGORRO DESECHABLE REDONDO ELÁSTICO AZUL  / BOLSA X  50 UNIDADES"},{"$f":"H617","v":23352.7},{"$f":"C617&D617&E617&F617&G617","v":"CUATRO (4)TRES (3)AGORRO DESECHABLE REDONDO ELÁSTICO AZUL  / BOLSA X  50 UNIDADESUT EMERGENCIAS 2021"},{"$f":"B617&H617","v":"C4S3-01023352.7"},{"$f":"G617","v":"UT EMERGENCIAS 2021"},"Und",{"$f":"C617&D617&E617&F617&G617","v":"CUATRO (4)TRES (3)AGORRO DESECHABLE REDONDO ELÁSTICO AZUL  / BOLSA X  50 UNIDADESUT EMERGENCIAS 2021"},{"$f":"H617","v":23352.7}]
[{"$f":"\"ate01-\"&B618&\" \"&C618&\" \"&D618&\" \"&E618","v":"ate01-C4S3-010 CUATRO (4) TRES (3) A"},"C4S3-010","CUATRO (4)","TRES (3)","A","GORRO DESECHABLE REDONDO ELÁSTICO AZUL  / BOLSA X  50 UNIDADES","UNION TEMPORAL AYGEMA",23222.959999999999,{"$f":"B618&G618","v":"C4S3-010UNION TEMPORAL AYGEMA"},{"$f":"C618&D618&E618&F618","v":"CUATRO (4)TRES (3)AGORRO DESECHABLE REDONDO ELÁSTICO AZUL  / BOLSA X  50 UNIDADES"},{"$f":"H618","v":23222.959999999999},{"$f":"C618&D618&E618&F618&G618","v":"CUATRO (4)TRES (3)AGORRO DESECHABLE REDONDO ELÁSTICO AZUL  / BOLSA X  50 UNIDADESUNION TEMPORAL AYGEMA"},{"$f":"B618&H618","v":"C4S3-01023222.96"},{"$f":"G618","v":"UNION TEMPORAL AYGEMA"},"Und",{"$f":"C618&D618&E618&F618&G618","v":"CUATRO (4)TRES (3)AGORRO DESECHABLE REDONDO ELÁSTICO AZUL  / BOLSA X  50 UNIDADESUNION TEMPORAL AYGEMA"},{"$f":"H618","v":23222.959999999999}]
[{"$f":"\"ate01-\"&B619&\" \"&C619&\" \"&D619&\" \"&E619","v":"ate01-C4S3-010 CUATRO (4) TRES (3) A"},"C4S3-010","CUATRO (4)","TRES (3)","A","GORRO DESECHABLE REDONDO ELÁSTICO AZUL  / BOLSA X  50 UNIDADES","COLOMBIANA DE TEXTILES POR MAYOR S.A.",22314.799999999999,{"$f":"B619&G619","v":"C4S3-010COLOMBIANA DE TEXTILES POR MAYOR S.A."},{"$f":"C619&D619&E619&F619","v":"CUATRO (4)TRES (3)AGORRO DESECHABLE REDONDO ELÁSTICO AZUL  / BOLSA X  50 UNIDADES"},{"$f":"H619","v":22314.799999999999},{"$f":"C619&D619&E619&F619&G619","v":"CUATRO (4)TRES (3)AGORRO DESECHABLE REDONDO ELÁSTICO AZUL  / BOLSA X  50 UNIDADESCOLOMBIANA DE TEXTILES POR MAYOR S.A."},{"$f":"B619&H619","v":"C4S3-01022314.8"},{"$f":"G619","v":"COLOMBIANA DE TEXTILES POR MAYOR S.A."},"Und",{"$f":"C619&D619&E619&F619&G619","v":"CUATRO (4)TRES (3)AGORRO DESECHABLE REDONDO ELÁSTICO AZUL  / BOLSA X  50 UNIDADESCOLOMBIANA DE TEXTILES POR MAYOR S.A."},{"$f":"H619","v":22314.799999999999}]
[{"$f":"\"ate01-\"&B620&\" \"&C620&\" \"&D620&\" \"&E620","v":"ate01-C4S3-011 CUATRO (4) TRES (3) A"},"C4S3-011","CUATRO (4)","TRES (3)","A","GORRO QUIRURJICO  / BOLSA X  50 UNIDADES","JM GRUPO",34899.31,{"$f":"B620&G620","v":"C4S3-011JM GRUPO"},{"$f":"C620&D620&E620&F620","v":"CUATRO (4)TRES (3)AGORRO QUIRURJICO  / BOLSA X  50 UNIDADES"},{"$f":"H620","v":34899.31},{"$f":"C620&D620&E620&F620&G620","v":"CUATRO (4)TRES (3)AGORRO QUIRURJICO  / BOLSA X  50 UNIDADESJM GRUPO"},{"$f":"B620&H620","v":"C4S3-01134899.31"},{"$f":"G620","v":"JM GRUPO"},"Und",{"$f":"C620&D620&E620&F620&G620","v":"CUATRO (4)TRES (3)AGORRO QUIRURJICO  / BOLSA X  50 UNIDADESJM GRUPO"},{"$f":"H620","v":34899.31}]
[{"$f":"\"ate01-\"&B621&\" \"&C621&\" \"&D621&\" \"&E621","v":"ate01-C4S3-011 CUATRO (4) TRES (3) A"},"C4S3-011","CUATRO (4)","TRES (3)","A","GORRO QUIRURJICO  / BOLSA X  50 UNIDADES","UT EMERGENCIAS 2021",25947.439999999999,{"$f":"B621&G621","v":"C4S3-011UT EMERGENCIAS 2021"},{"$f":"C621&D621&E621&F621","v":"CUATRO (4)TRES (3)AGORRO QUIRURJICO  / BOLSA X  50 UNIDADES"},{"$f":"H621","v":25947.439999999999},{"$f":"C621&D621&E621&F621&G621","v":"CUATRO (4)TRES (3)AGORRO QUIRURJICO  / BOLSA X  50 UNIDADESUT EMERGENCIAS 2021"},{"$f":"B621&H621","v":"C4S3-01125947.44"},{"$f":"G621","v":"UT EMERGENCIAS 2021"},"Und",{"$f":"C621&D621&E621&F621&G621","v":"CUATRO (4)TRES (3)AGORRO QUIRURJICO  / BOLSA X  50 UNIDADESUT EMERGENCIAS 2021"},{"$f":"H621","v":25947.439999999999}]
[{"$f":"\"ate01-\"&B622&\" \"&C622&\" \"&D622&\" \"&E622","v":"ate01-C4S3-011 CUATRO (4) TRES (3) A"},"C4S3-011","CUATRO (4)","TRES (3)","A","GORRO QUIRURJICO  / BOLSA X  50 UNIDADES","UNION TEMPORAL AYGEMA",25687.97,{"$f":"B622&G622","v":"C4S3-011UNION TEMPORAL AYGEMA"},{"$f":"C622&D622&E622&F622","v":"CUATRO (4)TRES (3)AGORRO QUIRURJICO  / BOLSA X  50 UNIDADES"},{"$f":"H622","v":25687.97},{"$f":"C622&D622&E622&F622&G622","v":"CUATRO (4)TRES (3)AGORRO QUIRURJICO  / BOLSA X  50 UNIDADESUNION TEMPORAL AYGEMA"},{"$f":"B622&H622","v":"C4S3-01125687.97"},{"$f":"G622","v":"UNION TEMPORAL AYGEMA"},"Und",{"$f":"C622&D622&E622&F622&G622","v":"CUATRO (4)TRES (3)AGORRO QUIRURJICO  / BOLSA X  50 UNIDADESUNION TEMPORAL AYGEMA"},{"$f":"H622","v":25687.97}]
[{"$f":"\"ate01-\"&B623&\" \"&C623&\" \"&D623&\" \"&E623","v":"ate01-C4S3-011 CUATRO (4) TRES (3) A"},"C4S3-011","CUATRO (4)","TRES (3)","A","GORRO QUIRURJICO  / BOLSA X  50 UNIDADES","COLOMBIANA DE TEXTILES POR MAYOR S.A.",26596.13,{"$f":"B623&G623","v":"C4S3-011COLOMBIANA DE TEXTILES POR MAYOR S.A."},{"$f":"C623&D623&E623&F623","v":"CUATRO (4)TRES (3)AGORRO QUIRURJICO  / BOLSA X  50 UNIDADES"},{"$f":"H623","v":26596.13},{"$f":"C623&D623&E623&F623&G623","v":"CUATRO (4)TRES (3)AGORRO QUIRURJICO  / BOLSA X  50 UNIDADESCOLOMBIANA DE TEXTILES POR MAYOR S.A."},{"$f":"B623&H623","v":"C4S3-01126596.13"},{"$f":"G623","v":"COLOMBIANA DE TEXTILES POR MAYOR S.A."},"Und",{"$f":"C623&D623&E623&F623&G623","v":"CUATRO (4)TRES (3)AGORRO QUIRURJICO  / BOLSA X  50 UNIDADESCOLOMBIANA DE TEXTILES POR MAYOR S.A."},{"$f":"H623","v":26596.13}]
[{"$f":"\"ate01-\"&B624&\" \"&C624&\" \"&D624&\" \"&E624","v":"ate01-C4S3-012 CUATRO (4) TRES (3) C"},"C4S3-012","CUATRO (4)","TRES (3)","C","GUANTES DE LATEX   / CAJA X 100 UNIDADES","JM GRUPO",75234.61,{"$f":"B624&G624","v":"C4S3-012JM GRUPO"},{"$f":"C624&D624&E624&F624","v":"CUATRO (4)TRES (3)CGUANTES DE LATEX   / CAJA X 100 UNIDADES"},{"$f":"H624","v":75234.61},{"$f":"C624&D624&E624&F624&G624","v":"CUATRO (4)TRES (3)CGUANTES DE LATEX   / CAJA X 100 UNIDADESJM GRUPO"},{"$f":"B624&H624","v":"C4S3-01275234.61"},{"$f":"G624","v":"JM GRUPO"},"Und",{"$f":"C624&D624&E624&F624&G624","v":"CUATRO (4)TRES (3)CGUANTES DE LATEX   / CAJA X 100 UNIDADESJM GRUPO"},{"$f":"H624","v":75234.61}]
[{"$f":"\"ate01-\"&B625&\" \"&C625&\" \"&D625&\" \"&E625","v":"ate01-C4S3-012 CUATRO (4) TRES (3) C"},"C4S3-012","CUATRO (4)","TRES (3)","C","GUANTES DE LATEX   / CAJA X 100 UNIDADES","UNION TEMPORAL AYGEMA",91075.53,{"$f":"B625&G625","v":"C4S3-012UNION TEMPORAL AYGEMA"},{"$f":"C625&D625&E625&F625","v":"CUATRO (4)TRES (3)CGUANTES DE LATEX   / CAJA X 100 UNIDADES"},{"$f":"H625","v":91075.53},{"$f":"C625&D625&E625&F625&G625","v":"CUATRO (4)TRES (3)CGUANTES DE LATEX   / CAJA X 100 UNIDADESUNION TEMPORAL AYGEMA"},{"$f":"B625&H625","v":"C4S3-01291075.53"},{"$f":"G625","v":"UNION TEMPORAL AYGEMA"},"Und",{"$f":"C625&D625&E625&F625&G625","v":"CUATRO (4)TRES (3)CGUANTES DE LATEX   / CAJA X 100 UNIDADESUNION TEMPORAL AYGEMA"},{"$f":"H625","v":91075.53}]
[{"$f":"\"ate01-\"&B626&\" \"&C626&\" \"&D626&\" \"&E626","v":"ate01-C4S3-012 CUATRO (4) TRES (3) C"},"C4S3-012","CUATRO (4)","TRES (3)","C","GUANTES DE LATEX   / CAJA X 100 UNIDADES","SUPRISA S.A.S.",78355.199999999997,{"$f":"B626&G626","v":"C4S3-012SUPRISA S.A.S."},{"$f":"C626&D626&E626&F626","v":"CUATRO (4)TRES (3)CGUANTES DE LATEX   / CAJA X 100 UNIDADES"},{"$f":"H626","v":78355.199999999997},{"$f":"C626&D626&E626&F626&G626","v":"CUATRO (4)TRES (3)CGUANTES DE LATEX   / CAJA X 100 UNIDADESSUPRISA S.A.S."},{"$f":"B626&H626","v":"C4S3-01278355.2"},{"$f":"G626","v":"SUPRISA S.A.S."},"Und",{"$f":"C626&D626&E626&F626&G626","v":"CUATRO (4)TRES (3)CGUANTES DE LATEX   / CAJA X 100 UNIDADESSUPRISA S.A.S."},{"$f":"H626","v":78355.199999999997}]
[{"$f":"\"ate01-\"&B627&\" \"&C627&\" \"&D627&\" \"&E627","v":"ate01-C4S3-012 CUATRO (4) TRES (3) C"},"C4S3-012","CUATRO (4)","TRES (3)","C","GUANTES DE LATEX   / CAJA X 100 UNIDADES","MIGUEL ANGEL VALLEJO BURGOS",67463.350000000006,{"$f":"B627&G627","v":"C4S3-012MIGUEL ANGEL VALLEJO BURGOS"},{"$f":"C627&D627&E627&F627","v":"CUATRO (4)TRES (3)CGUANTES DE LATEX   / CAJA X 100 UNIDADES"},{"$f":"H627","v":67463.350000000006},{"$f":"C627&D627&E627&F627&G627","v":"CUATRO (4)TRES (3)CGUANTES DE LATEX   / CAJA X 100 UNIDADESMIGUEL ANGEL VALLEJO BURGOS"},{"$f":"B627&H627","v":"C4S3-01267463.35"},{"$f":"G627","v":"MIGUEL ANGEL VALLEJO BURGOS"},"Und",{"$f":"C627&D627&E627&F627&G627","v":"CUATRO (4)TRES (3)CGUANTES DE LATEX   / CAJA X 100 UNIDADESMIGUEL ANGEL VALLEJO BURGOS"},{"$f":"H627","v":67463.350000000006}]
[{"$f":"\"ate01-\"&B628&\" \"&C628&\" \"&D628&\" \"&E628","v":"ate01-C4S3-013 CUATRO (4) TRES (3) C"},"C4S3-013","CUATRO (4)","TRES (3)","C","GUANTES DE NITRILO  / CAJA X 50 UNIDADES","JM GRUPO",88208.33,{"$f":"B628&G628","v":"C4S3-013JM GRUPO"},{"$f":"C628&D628&E628&F628","v":"CUATRO (4)TRES (3)CGUANTES DE NITRILO  / CAJA X 50 UNIDADES"},{"$f":"H628","v":88208.33},{"$f":"C628&D628&E628&F628&G628","v":"CUATRO (4)TRES (3)CGUANTES DE NITRILO  / CAJA X 50 UNIDADESJM GRUPO"},{"$f":"B628&H628","v":"C4S3-01388208.33"},{"$f":"G628","v":"JM GRUPO"},"Und",{"$f":"C628&D628&E628&F628&G628","v":"CUATRO (4)TRES (3)CGUANTES DE NITRILO  / CAJA X 50 UNIDADESJM GRUPO"},{"$f":"H628","v":88208.33}]
[{"$f":"\"ate01-\"&B629&\" \"&C629&\" \"&D629&\" \"&E629","v":"ate01-C4S3-013 CUATRO (4) TRES (3) C"},"C4S3-013","CUATRO (4)","TRES (3)","C","GUANTES DE NITRILO  / CAJA X 50 UNIDADES","UNION TEMPORAL AYGEMA",104178.98,{"$f":"B629&G629","v":"C4S3-013UNION TEMPORAL AYGEMA"},{"$f":"C629&D629&E629&F629","v":"CUATRO (4)TRES (3)CGUANTES DE NITRILO  / CAJA X 50 UNIDADES"},{"$f":"H629","v":104178.98},{"$f":"C629&D629&E629&F629&G629","v":"CUATRO (4)TRES (3)CGUANTES DE NITRILO  / CAJA X 50 UNIDADESUNION TEMPORAL AYGEMA"},{"$f":"B629&H629","v":"C4S3-013104178.98"},{"$f":"G629","v":"UNION TEMPORAL AYGEMA"},"Und",{"$f":"C629&D629&E629&F629&G629","v":"CUATRO (4)TRES (3)CGUANTES DE NITRILO  / CAJA X 50 UNIDADESUNION TEMPORAL AYGEMA"},{"$f":"H629","v":104178.98}]
[{"$f":"\"ate01-\"&B630&\" \"&C630&\" \"&D630&\" \"&E630","v":"ate01-C4S3-013 CUATRO (4) TRES (3) C"},"C4S3-013","CUATRO (4)","TRES (3)","C","GUANTES DE NITRILO  / CAJA X 50 UNIDADES","SUPRISA S.A.S.",100912,{"$f":"B630&G630","v":"C4S3-013SUPRISA S.A.S."},{"$f":"C630&D630&E630&F630","v":"CUATRO (4)TRES (3)CGUANTES DE NITRILO  / CAJA X 50 UNIDADES"},{"$f":"H630","v":100912},{"$f":"C630&D630&E630&F630&G630","v":"CUATRO (4)TRES (3)CGUANTES DE NITRILO  / CAJA X 50 UNIDADESSUPRISA S.A.S."},{"$f":"B630&H630","v":"C4S3-013100912"},{"$f":"G630","v":"SUPRISA S.A.S."},"Und",{"$f":"C630&D630&E630&F630&G630","v":"CUATRO (4)TRES (3)CGUANTES DE NITRILO  / CAJA X 50 UNIDADESSUPRISA S.A.S."},{"$f":"H630","v":100912}]
[{"$f":"\"ate01-\"&B631&\" \"&C631&\" \"&D631&\" \"&E631","v":"ate01-C4S3-013 CUATRO (4) TRES (3) C"},"C4S3-013","CUATRO (4)","TRES (3)","C","GUANTES DE NITRILO  / CAJA X 50 UNIDADES","MIGUEL ANGEL VALLEJO BURGOS",81285.56,{"$f":"B631&G631","v":"C4S3-013MIGUEL ANGEL VALLEJO BURGOS"},{"$f":"C631&D631&E631&F631","v":"CUATRO (4)TRES (3)CGUANTES DE NITRILO  / CAJA X 50 UNIDADES"},{"$f":"H631","v":81285.56},{"$f":"C631&D631&E631&F631&G631","v":"CUATRO (4)TRES (3)CGUANTES DE NITRILO  / CAJA X 50 UNIDADESMIGUEL ANGEL VALLEJO BURGOS"},{"$f":"B631&H631","v":"C4S3-01381285.56"},{"$f":"G631","v":"MIGUEL ANGEL VALLEJO BURGOS"},"Und",{"$f":"C631&D631&E631&F631&G631","v":"CUATRO (4)TRES (3)CGUANTES DE NITRILO  / CAJA X 50 UNIDADESMIGUEL ANGEL VALLEJO BURGOS"},{"$f":"H631","v":81285.56}]
[{"$f":"\"ate01-\"&B632&\" \"&C632&\" \"&D632&\" \"&E632","v":"ate01-C4S3-014 CUATRO (4) TRES (3) C"},"C4S3-014","CUATRO (4)","TRES (3)","C","GUANTES ESTÉRILES  / CAJA X 50 UNIDADES","JM GRUPO",88208.33,{"$f":"B632&G632","v":"C4S3-014JM GRUPO"},{"$f":"C632&D632&E632&F632","v":"CUATRO (4)TRES (3)CGUANTES ESTÉRILES  / CAJA X 50 UNIDADES"},{"$f":"H632","v":88208.33},{"$f":"C632&D632&E632&F632&G632","v":"CUATRO (4)TRES (3)CGUANTES ESTÉRILES  / CAJA X 50 UNIDADESJM GRUPO"},{"$f":"B632&H632","v":"C4S3-01488208.33"},{"$f":"G632","v":"JM GRUPO"},"Und",{"$f":"C632&D632&E632&F632&G632","v":"CUATRO (4)TRES (3)CGUANTES ESTÉRILES  / CAJA X 50 UNIDADESJM GRUPO"},{"$f":"H632","v":88208.33}]
[{"$f":"\"ate01-\"&B633&\" \"&C633&\" \"&D633&\" \"&E633","v":"ate01-C4S3-014 CUATRO (4) TRES (3) C"},"C4S3-014","CUATRO (4)","TRES (3)","C","GUANTES ESTÉRILES  / CAJA X 50 UNIDADES","UNION TEMPORAL AYGEMA",96589.36,{"$f":"B633&G633","v":"C4S3-014UNION TEMPORAL AYGEMA"},{"$f":"C633&D633&E633&F633","v":"CUATRO (4)TRES (3)CGUANTES ESTÉRILES  / CAJA X 50 UNIDADES"},{"$f":"H633","v":96589.36},{"$f":"C633&D633&E633&F633&G633","v":"CUATRO (4)TRES (3)CGUANTES ESTÉRILES  / CAJA X 50 UNIDADESUNION TEMPORAL AYGEMA"},{"$f":"B633&H633","v":"C4S3-01496589.36"},{"$f":"G633","v":"UNION TEMPORAL AYGEMA"},"Und",{"$f":"C633&D633&E633&F633&G633","v":"CUATRO (4)TRES (3)CGUANTES ESTÉRILES  / CAJA X 50 UNIDADESUNION TEMPORAL AYGEMA"},{"$f":"H633","v":96589.36}]
[{"$f":"\"ate01-\"&B634&\" \"&C634&\" \"&D634&\" \"&E634","v":"ate01-C4S3-014 CUATRO (4) TRES (3) C"},"C4S3-014","CUATRO (4)","TRES (3)","C","GUANTES ESTÉRILES  / CAJA X 50 UNIDADES","SUPRISA S.A.S.",78355.199999999997,{"$f":"B634&G634","v":"C4S3-014SUPRISA S.A.S."},{"$f":"C634&D634&E634&F634","v":"CUATRO (4)TRES (3)CGUANTES ESTÉRILES  / CAJA X 50 UNIDADES"},{"$f":"H634","v":78355.199999999997},{"$f":"C634&D634&E634&F634&G634","v":"CUATRO (4)TRES (3)CGUANTES ESTÉRILES  / CAJA X 50 UNIDADESSUPRISA S.A.S."},{"$f":"B634&H634","v":"C4S3-01478355.2"},{"$f":"G634","v":"SUPRISA S.A.S."},"Und",{"$f":"C634&D634&E634&F634&G634","v":"CUATRO (4)TRES (3)CGUANTES ESTÉRILES  / CAJA X 50 UNIDADESSUPRISA S.A.S."},{"$f":"H634","v":78355.199999999997}]
[{"$f":"\"ate01-\"&B635&\" \"&C635&\" \"&D635&\" \"&E635","v":"ate01-C4S3-014 CUATRO (4) TRES (3) C"},"C4S3-014","CUATRO (4)","TRES (3)","C","GUANTES ESTÉRILES  / CAJA X 50 UNIDADES","MIGUEL ANGEL VALLEJO BURGOS",68760.72,{"$f":"B635&G635","v":"C4S3-014MIGUEL ANGEL VALLEJO BURGOS"},{"$f":"C635&D635&E635&F635","v":"CUATRO (4)TRES (3)CGUANTES ESTÉRILES  / CAJA X 50 UNIDADES"},{"$f":"H635","v":68760.72},{"$f":"C635&D635&E635&F635&G635","v":"CUATRO (4)TRES (3)CGUANTES ESTÉRILES  / CAJA X 50 UNIDADESMIGUEL ANGEL VALLEJO BURGOS"},{"$f":"B635&H635","v":"C4S3-01468760.72"},{"$f":"G635","v":"MIGUEL ANGEL VALLEJO BURGOS"},"Und",{"$f":"C635&D635&E635&F635&G635","v":"CUATRO (4)TRES (3)CGUANTES ESTÉRILES  / CAJA X 50 UNIDADESMIGUEL ANGEL VALLEJO BURGOS"},{"$f":"H635","v":68760.72}]
[{"$f":"\"ate01-\"&B636&\" \"&C636&\" \"&D636&\" \"&E636","v":"ate01-C4S3-015 CUATRO (4) TRES (3) A"},"C4S3-015","CUATRO (4)","TRES (3)","A","POLAINAS  / CAJA X 50 UNIDADES","JM GRUPO",34899.31,{"$f":"B636&G636","v":"C4S3-015JM GRUPO"},{"$f":"C636&D636&E636&F636","v":"CUATRO (4)TRES (3)APOLAINAS  / CAJA X 50 UNIDADES"},{"$f":"H636","v":34899.31},{"$f":"C636&D636&E636&F636&G636","v":"CUATRO (4)TRES (3)APOLAINAS  / CAJA X 50 UNIDADESJM GRUPO"},{"$f":"B636&H636","v":"C4S3-01534899.31"},{"$f":"G636","v":"JM GRUPO"},"Und",{"$f":"C636&D636&E636&F636&G636","v":"CUATRO (4)TRES (3)APOLAINAS  / CAJA X 50 UNIDADESJM GRUPO"},{"$f":"H636","v":34899.31}]
[{"$f":"\"ate01-\"&B637&\" \"&C637&\" \"&D637&\" \"&E637","v":"ate01-C4S3-015 CUATRO (4) TRES (3) A"},"C4S3-015","CUATRO (4)","TRES (3)","A","POLAINAS  / CAJA X 50 UNIDADES","UT EMERGENCIAS 2021",23352.7,{"$f":"B637&G637","v":"C4S3-015UT EMERGENCIAS 2021"},{"$f":"C637&D637&E637&F637","v":"CUATRO (4)TRES (3)APOLAINAS  / CAJA X 50 UNIDADES"},{"$f":"H637","v":23352.7},{"$f":"C637&D637&E637&F637&G637","v":"CUATRO (4)TRES (3)APOLAINAS  / CAJA X 50 UNIDADESUT EMERGENCIAS 2021"},{"$f":"B637&H637","v":"C4S3-01523352.7"},{"$f":"G637","v":"UT EMERGENCIAS 2021"},"Und",{"$f":"C637&D637&E637&F637&G637","v":"CUATRO (4)TRES (3)APOLAINAS  / CAJA X 50 UNIDADESUT EMERGENCIAS 2021"},{"$f":"H637","v":23352.7}]
[{"$f":"\"ate01-\"&B638&\" \"&C638&\" \"&D638&\" \"&E638","v":"ate01-C4S3-015 CUATRO (4) TRES (3) A"},"C4S3-015","CUATRO (4)","TRES (3)","A","POLAINAS  / CAJA X 50 UNIDADES","UNION TEMPORAL AYGEMA",23352.7,{"$f":"B638&G638","v":"C4S3-015UNION TEMPORAL AYGEMA"},{"$f":"C638&D638&E638&F638","v":"CUATRO (4)TRES (3)APOLAINAS  / CAJA X 50 UNIDADES"},{"$f":"H638","v":23352.7},{"$f":"C638&D638&E638&F638&G638","v":"CUATRO (4)TRES (3)APOLAINAS  / CAJA X 50 UNIDADESUNION TEMPORAL AYGEMA"},{"$f":"B638&H638","v":"C4S3-01523352.7"},{"$f":"G638","v":"UNION TEMPORAL AYGEMA"},"Und",{"$f":"C638&D638&E638&F638&G638","v":"CUATRO (4)TRES (3)APOLAINAS  / CAJA X 50 UNIDADESUNION TEMPORAL AYGEMA"},{"$f":"H638","v":23352.7}]
[{"$f":"\"ate01-\"&B639&\" \"&C639&\" \"&D639&\" \"&E639","v":"ate01-C4S3-015 CUATRO (4) TRES (3) A"},"C4S3-015","CUATRO (4)","TRES (3)","A","POLAINAS  / CAJA X 50 UNIDADES","COLOMBIANA DE TEXTILES POR MAYOR S.A.",66684.929999999993,{"$f":"B639&G639","v":"C4S3-015COLOMBIANA DE TEXTILES POR MAYOR S.A."},{"$f":"C639&D639&E639&F639","v":"CUATRO (4)TRES (3)APOLAINAS  / CAJA X 50 UNIDADES"},{"$f":"H639","v":66684.929999999993},{"$f":"C639&D639&E639&F639&G639","v":"CUATRO (4)TRES (3)APOLAINAS  / CAJA X 50 UNIDADESCOLOMBIANA DE TEXTILES POR MAYOR S.A."},{"$f":"B639&H639","v":"C4S3-01566684.93"},{"$f":"G639","v":"COLOMBIANA DE TEXTILES POR MAYOR S.A."},"Und",{"$f":"C639&D639&E639&F639&G639","v":"CUATRO (4)TRES (3)APOLAINAS  / CAJA X 50 UNIDADESCOLOMBIANA DE TEXTILES POR MAYOR S.A."},{"$f":"H639","v":66684.929999999993}]
[{"$f":"\"ate01-\"&B640&\" \"&C640&\" \"&D640&\" \"&E640","v":"ate01-C4S3-016 CUATRO (4) TRES (3) D"},"C4S3-016","CUATRO (4)","TRES (3)","D","TAPABOCAS DE USO GENERAL NO MÉDICO EN MATERIAL TEXTIL LAVABLE ADULTO / UNIDAD","IMPLESEG S.A.S.",3051.42,{"$f":"B640&G640","v":"C4S3-016IMPLESEG S.A.S."},{"$f":"C640&D640&E640&F640","v":"CUATRO (4)TRES (3)DTAPABOCAS DE USO GENERAL NO MÉDICO EN MATERIAL TEXTIL LAVABLE ADULTO / UNIDAD"},{"$f":"H640","v":3051.42},{"$f":"C640&D640&E640&F640&G640","v":"CUATRO (4)TRES (3)DTAPABOCAS DE USO GENERAL NO MÉDICO EN MATERIAL TEXTIL LAVABLE ADULTO / UNIDADIMPLESEG S.A.S."},{"$f":"B640&H640","v":"C4S3-0163051.42"},{"$f":"G640","v":"IMPLESEG S.A.S."},"Und",{"$f":"C640&D640&E640&F640&G640","v":"CUATRO (4)TRES (3)DTAPABOCAS DE USO GENERAL NO MÉDICO EN MATERIAL TEXTIL LAVABLE ADULTO / UNIDADIMPLESEG S.A.S."},{"$f":"H640","v":3051.42}]
[{"$f":"\"ate01-\"&B641&\" \"&C641&\" \"&D641&\" \"&E641","v":"ate01-C4S3-016 CUATRO (4) TRES (3) D"},"C4S3-016","CUATRO (4)","TRES (3)","D","TAPABOCAS DE USO GENERAL NO MÉDICO EN MATERIAL TEXTIL LAVABLE ADULTO / UNIDAD","JM GRUPO",5124.62,{"$f":"B641&G641","v":"C4S3-016JM GRUPO"},{"$f":"C641&D641&E641&F641","v":"CUATRO (4)TRES (3)DTAPABOCAS DE USO GENERAL NO MÉDICO EN MATERIAL TEXTIL LAVABLE ADULTO / UNIDAD"},{"$f":"H641","v":5124.62},{"$f":"C641&D641&E641&F641&G641","v":"CUATRO (4)TRES (3)DTAPABOCAS DE USO GENERAL NO MÉDICO EN MATERIAL TEXTIL LAVABLE ADULTO / UNIDADJM GRUPO"},{"$f":"B641&H641","v":"C4S3-0165124.62"},{"$f":"G641","v":"JM GRUPO"},"Und",{"$f":"C641&D641&E641&F641&G641","v":"CUATRO (4)TRES (3)DTAPABOCAS DE USO GENERAL NO MÉDICO EN MATERIAL TEXTIL LAVABLE ADULTO / UNIDADJM GRUPO"},{"$f":"H641","v":5124.62}]
[{"$f":"\"ate01-\"&B642&\" \"&C642&\" \"&D642&\" \"&E642","v":"ate01-C4S3-016 CUATRO (4) TRES (3) D"},"C4S3-016","CUATRO (4)","TRES (3)","D","TAPABOCAS DE USO GENERAL NO MÉDICO EN MATERIAL TEXTIL LAVABLE ADULTO / UNIDAD","SUMIMAS S.A.S.",12784.96,{"$f":"B642&G642","v":"C4S3-016SUMIMAS S.A.S."},{"$f":"C642&D642&E642&F642","v":"CUATRO (4)TRES (3)DTAPABOCAS DE USO GENERAL NO MÉDICO EN MATERIAL TEXTIL LAVABLE ADULTO / UNIDAD"},{"$f":"H642","v":12784.96},{"$f":"C642&D642&E642&F642&G642","v":"CUATRO (4)TRES (3)DTAPABOCAS DE USO GENERAL NO MÉDICO EN MATERIAL TEXTIL LAVABLE ADULTO / UNIDADSUMIMAS S.A.S."},{"$f":"B642&H642","v":"C4S3-01612784.96"},{"$f":"G642","v":"SUMIMAS S.A.S."},"Und",{"$f":"C642&D642&E642&F642&G642","v":"CUATRO (4)TRES (3)DTAPABOCAS DE USO GENERAL NO MÉDICO EN MATERIAL TEXTIL LAVABLE ADULTO / UNIDADSUMIMAS S.A.S."},{"$f":"H642","v":12784.96}]
[{"$f":"\"ate01-\"&B643&\" \"&C643&\" \"&D643&\" \"&E643","v":"ate01-C4S3-016 CUATRO (4) TRES (3) D"},"C4S3-016","CUATRO (4)","TRES (3)","D","TAPABOCAS DE USO GENERAL NO MÉDICO EN MATERIAL TEXTIL LAVABLE ADULTO / UNIDAD","UT EMERGENCIAS 2021",5838.17,{"$f":"B643&G643","v":"C4S3-016UT EMERGENCIAS 2021"},{"$f":"C643&D643&E643&F643","v":"CUATRO (4)TRES (3)DTAPABOCAS DE USO GENERAL NO MÉDICO EN MATERIAL TEXTIL LAVABLE ADULTO / UNIDAD"},{"$f":"H643","v":5838.17},{"$f":"C643&D643&E643&F643&G643","v":"CUATRO (4)TRES (3)DTAPABOCAS DE USO GENERAL NO MÉDICO EN MATERIAL TEXTIL LAVABLE ADULTO / UNIDADUT EMERGENCIAS 2021"},{"$f":"B643&H643","v":"C4S3-0165838.17"},{"$f":"G643","v":"UT EMERGENCIAS 2021"},"Und",{"$f":"C643&D643&E643&F643&G643","v":"CUATRO (4)TRES (3)DTAPABOCAS DE USO GENERAL NO MÉDICO EN MATERIAL TEXTIL LAVABLE ADULTO / UNIDADUT EMERGENCIAS 2021"},{"$f":"H643","v":5838.17}]
[{"$f":"\"ate01-\"&B644&\" \"&C644&\" \"&D644&\" \"&E644","v":"ate01-C4S3-016 CUATRO (4) TRES (3) D"},"C4S3-016","CUATRO (4)","TRES (3)","D","TAPABOCAS DE USO GENERAL NO MÉDICO EN MATERIAL TEXTIL LAVABLE ADULTO / UNIDAD","INCOLDEXT S.A.S.",9265.83,{"$f":"B644&G644","v":"C4S3-016INCOLDEXT S.A.S."},{"$f":"C644&D644&E644&F644","v":"CUATRO (4)TRES (3)DTAPABOCAS DE USO GENERAL NO MÉDICO EN MATERIAL TEXTIL LAVABLE ADULTO / UNIDAD"},{"$f":"H644","v":9265.83},{"$f":"C644&D644&E644&F644&G644","v":"CUATRO (4)TRES (3)DTAPABOCAS DE USO GENERAL NO MÉDICO EN MATERIAL TEXTIL LAVABLE ADULTO / UNIDADINCOLDEXT S.A.S."},{"$f":"B644&H644","v":"C4S3-0169265.83"},{"$f":"G644","v":"INCOLDEXT S.A.S."},"Und",{"$f":"C644&D644&E644&F644&G644","v":"CUATRO (4)TRES (3)DTAPABOCAS DE USO GENERAL NO MÉDICO EN MATERIAL TEXTIL LAVABLE ADULTO / UNIDADINCOLDEXT S.A.S."},{"$f":"H644","v":9265.83}]
[{"$f":"\"ate01-\"&B645&\" \"&C645&\" \"&D645&\" \"&E645","v":"ate01-C4S3-016 CUATRO (4) TRES (3) D"},"C4S3-016","CUATRO (4)","TRES (3)","D","TAPABOCAS DE USO GENERAL NO MÉDICO EN MATERIAL TEXTIL LAVABLE ADULTO / UNIDAD","UNION TEMPORAL AYGEMA",5448.96,{"$f":"B645&G645","v":"C4S3-016UNION TEMPORAL AYGEMA"},{"$f":"C645&D645&E645&F645","v":"CUATRO (4)TRES (3)DTAPABOCAS DE USO GENERAL NO MÉDICO EN MATERIAL TEXTIL LAVABLE ADULTO / UNIDAD"},{"$f":"H645","v":5448.96},{"$f":"C645&D645&E645&F645&G645","v":"CUATRO (4)TRES (3)DTAPABOCAS DE USO GENERAL NO MÉDICO EN MATERIAL TEXTIL LAVABLE ADULTO / UNIDADUNION TEMPORAL AYGEMA"},{"$f":"B645&H645","v":"C4S3-0165448.96"},{"$f":"G645","v":"UNION TEMPORAL AYGEMA"},"Und",{"$f":"C645&D645&E645&F645&G645","v":"CUATRO (4)TRES (3)DTAPABOCAS DE USO GENERAL NO MÉDICO EN MATERIAL TEXTIL LAVABLE ADULTO / UNIDADUNION TEMPORAL AYGEMA"},{"$f":"H645","v":5448.96}]
[{"$f":"\"ate01-\"&B646&\" \"&C646&\" \"&D646&\" \"&E646","v":"ate01-C4S3-016 CUATRO (4) TRES (3) D"},"C4S3-016","CUATRO (4)","TRES (3)","D","TAPABOCAS DE USO GENERAL NO MÉDICO EN MATERIAL TEXTIL LAVABLE ADULTO / UNIDAD","COMERCIALIZADORA DINPRO S.A.S.",3243.43,{"$f":"B646&G646","v":"C4S3-016COMERCIALIZADORA DINPRO S.A.S."},{"$f":"C646&D646&E646&F646","v":"CUATRO (4)TRES (3)DTAPABOCAS DE USO GENERAL NO MÉDICO EN MATERIAL TEXTIL LAVABLE ADULTO / UNIDAD"},{"$f":"H646","v":3243.43},{"$f":"C646&D646&E646&F646&G646","v":"CUATRO (4)TRES (3)DTAPABOCAS DE USO GENERAL NO MÉDICO EN MATERIAL TEXTIL LAVABLE ADULTO / UNIDADCOMERCIALIZADORA DINPRO S.A.S."},{"$f":"B646&H646","v":"C4S3-0163243.43"},{"$f":"G646","v":"COMERCIALIZADORA DINPRO S.A.S."},"Und",{"$f":"C646&D646&E646&F646&G646","v":"CUATRO (4)TRES (3)DTAPABOCAS DE USO GENERAL NO MÉDICO EN MATERIAL TEXTIL LAVABLE ADULTO / UNIDADCOMERCIALIZADORA DINPRO S.A.S."},{"$f":"H646","v":3243.43}]
[{"$f":"\"ate01-\"&B647&\" \"&C647&\" \"&D647&\" \"&E647","v":"ate01-C4S3-016 CUATRO (4) TRES (3) D"},"C4S3-016","CUATRO (4)","TRES (3)","D","TAPABOCAS DE USO GENERAL NO MÉDICO EN MATERIAL TEXTIL LAVABLE ADULTO / UNIDAD","LIMINA S.A.S.",15568.47,{"$f":"B647&G647","v":"C4S3-016LIMINA S.A.S."},{"$f":"C647&D647&E647&F647","v":"CUATRO (4)TRES (3)DTAPABOCAS DE USO GENERAL NO MÉDICO EN MATERIAL TEXTIL LAVABLE ADULTO / UNIDAD"},{"$f":"H647","v":15568.47},{"$f":"C647&D647&E647&F647&G647","v":"CUATRO (4)TRES (3)DTAPABOCAS DE USO GENERAL NO MÉDICO EN MATERIAL TEXTIL LAVABLE ADULTO / UNIDADLIMINA S.A.S."},{"$f":"B647&H647","v":"C4S3-01615568.47"},{"$f":"G647","v":"LIMINA S.A.S."},"Und",{"$f":"C647&D647&E647&F647&G647","v":"CUATRO (4)TRES (3)DTAPABOCAS DE USO GENERAL NO MÉDICO EN MATERIAL TEXTIL LAVABLE ADULTO / UNIDADLIMINA S.A.S."},{"$f":"H647","v":15568.47}]
[{"$f":"\"ate01-\"&B648&\" \"&C648&\" \"&D648&\" \"&E648","v":"ate01-C4S3-016 CUATRO (4) TRES (3) D"},"C4S3-016","CUATRO (4)","TRES (3)","D","TAPABOCAS DE USO GENERAL NO MÉDICO EN MATERIAL TEXTIL LAVABLE ADULTO / UNIDAD","INMADICA ANDINA",4540.8,{"$f":"B648&G648","v":"C4S3-016INMADICA ANDINA"},{"$f":"C648&D648&E648&F648","v":"CUATRO (4)TRES (3)DTAPABOCAS DE USO GENERAL NO MÉDICO EN MATERIAL TEXTIL LAVABLE ADULTO / UNIDAD"},{"$f":"H648","v":4540.8},{"$f":"C648&D648&E648&F648&G648","v":"CUATRO (4)TRES (3)DTAPABOCAS DE USO GENERAL NO MÉDICO EN MATERIAL TEXTIL LAVABLE ADULTO / UNIDADINMADICA ANDINA"},{"$f":"B648&H648","v":"C4S3-0164540.8"},{"$f":"G648","v":"INMADICA ANDINA"},"Und",{"$f":"C648&D648&E648&F648&G648","v":"CUATRO (4)TRES (3)DTAPABOCAS DE USO GENERAL NO MÉDICO EN MATERIAL TEXTIL LAVABLE ADULTO / UNIDADINMADICA ANDINA"},{"$f":"H648","v":4540.8}]
[{"$f":"\"ate01-\"&B649&\" \"&C649&\" \"&D649&\" \"&E649","v":"ate01-C4S3-016 CUATRO (4) TRES (3) D"},"C4S3-016","CUATRO (4)","TRES (3)","D","TAPABOCAS DE USO GENERAL NO MÉDICO EN MATERIAL TEXTIL LAVABLE ADULTO / UNIDAD","COLOMBIANA DE TEXTILES POR MAYOR S.A.",6876.07,{"$f":"B649&G649","v":"C4S3-016COLOMBIANA DE TEXTILES POR MAYOR S.A."},{"$f":"C649&D649&E649&F649","v":"CUATRO (4)TRES (3)DTAPABOCAS DE USO GENERAL NO MÉDICO EN MATERIAL TEXTIL LAVABLE ADULTO / UNIDAD"},{"$f":"H649","v":6876.07},{"$f":"C649&D649&E649&F649&G649","v":"CUATRO (4)TRES (3)DTAPABOCAS DE USO GENERAL NO MÉDICO EN MATERIAL TEXTIL LAVABLE ADULTO / UNIDADCOLOMBIANA DE TEXTILES POR MAYOR S.A."},{"$f":"B649&H649","v":"C4S3-0166876.07"},{"$f":"G649","v":"COLOMBIANA DE TEXTILES POR MAYOR S.A."},"Und",{"$f":"C649&D649&E649&F649&G649","v":"CUATRO (4)TRES (3)DTAPABOCAS DE USO GENERAL NO MÉDICO EN MATERIAL TEXTIL LAVABLE ADULTO / UNIDADCOLOMBIANA DE TEXTILES POR MAYOR S.A."},{"$f":"H649","v":6876.07}]
[{"$f":"\"ate01-\"&B650&\" \"&C650&\" \"&D650&\" \"&E650","v":"ate01-C4S3-016 CUATRO (4) TRES (3) D"},"C4S3-016","CUATRO (4)","TRES (3)","D","TAPABOCAS DE USO GENERAL NO MÉDICO EN MATERIAL TEXTIL LAVABLE ADULTO / UNIDAD","MIGUEL ANGEL VALLEJO BURGOS",2309.3200000000002,{"$f":"B650&G650","v":"C4S3-016MIGUEL ANGEL VALLEJO BURGOS"},{"$f":"C650&D650&E650&F650","v":"CUATRO (4)TRES (3)DTAPABOCAS DE USO GENERAL NO MÉDICO EN MATERIAL TEXTIL LAVABLE ADULTO / UNIDAD"},{"$f":"H650","v":2309.3200000000002},{"$f":"C650&D650&E650&F650&G650","v":"CUATRO (4)TRES (3)DTAPABOCAS DE USO GENERAL NO MÉDICO EN MATERIAL TEXTIL LAVABLE ADULTO / UNIDADMIGUEL ANGEL VALLEJO BURGOS"},{"$f":"B650&H650","v":"C4S3-0162309.32"},{"$f":"G650","v":"MIGUEL ANGEL VALLEJO BURGOS"},"Und",{"$f":"C650&D650&E650&F650&G650","v":"CUATRO (4)TRES (3)DTAPABOCAS DE USO GENERAL NO MÉDICO EN MATERIAL TEXTIL LAVABLE ADULTO / UNIDADMIGUEL ANGEL VALLEJO BURGOS"},{"$f":"H650","v":2309.3200000000002}]
[{"$f":"\"ate01-\"&B651&\" \"&C651&\" \"&D651&\" \"&E651","v":"ate01-C4S3-017 CUATRO (4) TRES (3) D"},"C4S3-017","CUATRO (4)","TRES (3)","D","TAPABOCAS DE USO GENERAL NO MÉDICO EN MATERIAL TEXTIL LAVABLE NIÑO / UNIDAD","IMPLESEG S.A.S.",3051.42,{"$f":"B651&G651","v":"C4S3-017IMPLESEG S.A.S."},{"$f":"C651&D651&E651&F651","v":"CUATRO (4)TRES (3)DTAPABOCAS DE USO GENERAL NO MÉDICO EN MATERIAL TEXTIL LAVABLE NIÑO / UNIDAD"},{"$f":"H651","v":3051.42},{"$f":"C651&D651&E651&F651&G651","v":"CUATRO (4)TRES (3)DTAPABOCAS DE USO GENERAL NO MÉDICO EN MATERIAL TEXTIL LAVABLE NIÑO / UNIDADIMPLESEG S.A.S."},{"$f":"B651&H651","v":"C4S3-0173051.42"},{"$f":"G651","v":"IMPLESEG S.A.S."},"Und",{"$f":"C651&D651&E651&F651&G651","v":"CUATRO (4)TRES (3)DTAPABOCAS DE USO GENERAL NO MÉDICO EN MATERIAL TEXTIL LAVABLE NIÑO / UNIDADIMPLESEG S.A.S."},{"$f":"H651","v":3051.42}]
[{"$f":"\"ate01-\"&B652&\" \"&C652&\" \"&D652&\" \"&E652","v":"ate01-C4S3-017 CUATRO (4) TRES (3) D"},"C4S3-017","CUATRO (4)","TRES (3)","D","TAPABOCAS DE USO GENERAL NO MÉDICO EN MATERIAL TEXTIL LAVABLE NIÑO / UNIDAD","JM GRUPO",5124.62,{"$f":"B652&G652","v":"C4S3-017JM GRUPO"},{"$f":"C652&D652&E652&F652","v":"CUATRO (4)TRES (3)DTAPABOCAS DE USO GENERAL NO MÉDICO EN MATERIAL TEXTIL LAVABLE NIÑO / UNIDAD"},{"$f":"H652","v":5124.62},{"$f":"C652&D652&E652&F652&G652","v":"CUATRO (4)TRES (3)DTAPABOCAS DE USO GENERAL NO MÉDICO EN MATERIAL TEXTIL LAVABLE NIÑO / UNIDADJM GRUPO"},{"$f":"B652&H652","v":"C4S3-0175124.62"},{"$f":"G652","v":"JM GRUPO"},"Und",{"$f":"C652&D652&E652&F652&G652","v":"CUATRO (4)TRES (3)DTAPABOCAS DE USO GENERAL NO MÉDICO EN MATERIAL TEXTIL LAVABLE NIÑO / UNIDADJM GRUPO"},{"$f":"H652","v":5124.62}]
[{"$f":"\"ate01-\"&B653&\" \"&C653&\" \"&D653&\" \"&E653","v":"ate01-C4S3-017 CUATRO (4) TRES (3) D"},"C4S3-017","CUATRO (4)","TRES (3)","D","TAPABOCAS DE USO GENERAL NO MÉDICO EN MATERIAL TEXTIL LAVABLE NIÑO / UNIDAD","SUMIMAS S.A.S.",12420.49,{"$f":"B653&G653","v":"C4S3-017SUMIMAS S.A.S."},{"$f":"C653&D653&E653&F653","v":"CUATRO (4)TRES (3)DTAPABOCAS DE USO GENERAL NO MÉDICO EN MATERIAL TEXTIL LAVABLE NIÑO / UNIDAD"},{"$f":"H653","v":12420.49},{"$f":"C653&D653&E653&F653&G653","v":"CUATRO (4)TRES (3)DTAPABOCAS DE USO GENERAL NO MÉDICO EN MATERIAL TEXTIL LAVABLE NIÑO / UNIDADSUMIMAS S.A.S."},{"$f":"B653&H653","v":"C4S3-01712420.49"},{"$f":"G653","v":"SUMIMAS S.A.S."},"Und",{"$f":"C653&D653&E653&F653&G653","v":"CUATRO (4)TRES (3)DTAPABOCAS DE USO GENERAL NO MÉDICO EN MATERIAL TEXTIL LAVABLE NIÑO / UNIDADSUMIMAS S.A.S."},{"$f":"H653","v":12420.49}]
[{"$f":"\"ate01-\"&B654&\" \"&C654&\" \"&D654&\" \"&E654","v":"ate01-C4S3-017 CUATRO (4) TRES (3) D"},"C4S3-017","CUATRO (4)","TRES (3)","D","TAPABOCAS DE USO GENERAL NO MÉDICO EN MATERIAL TEXTIL LAVABLE NIÑO / UNIDAD","UT EMERGENCIAS 2021",5838.17,{"$f":"B654&G654","v":"C4S3-017UT EMERGENCIAS 2021"},{"$f":"C654&D654&E654&F654","v":"CUATRO (4)TRES (3)DTAPABOCAS DE USO GENERAL NO MÉDICO EN MATERIAL TEXTIL LAVABLE NIÑO / UNIDAD"},{"$f":"H654","v":5838.17},{"$f":"C654&D654&E654&F654&G654","v":"CUATRO (4)TRES (3)DTAPABOCAS DE USO GENERAL NO MÉDICO EN MATERIAL TEXTIL LAVABLE NIÑO / UNIDADUT EMERGENCIAS 2021"},{"$f":"B654&H654","v":"C4S3-0175838.17"},{"$f":"G654","v":"UT EMERGENCIAS 2021"},"Und",{"$f":"C654&D654&E654&F654&G654","v":"CUATRO (4)TRES (3)DTAPABOCAS DE USO GENERAL NO MÉDICO EN MATERIAL TEXTIL LAVABLE NIÑO / UNIDADUT EMERGENCIAS 2021"},{"$f":"H654","v":5838.17}]
[{"$f":"\"ate01-\"&B655&\" \"&C655&\" \"&D655&\" \"&E655","v":"ate01-C4S3-017 CUATRO (4) TRES (3) D"},"C4S3-017","CUATRO (4)","TRES (3)","D","TAPABOCAS DE USO GENERAL NO MÉDICO EN MATERIAL TEXTIL LAVABLE NIÑO / UNIDAD","INCOLDEXT S.A.S.",8339.51,{"$f":"B655&G655","v":"C4S3-017INCOLDEXT S.A.S."},{"$f":"C655&D655&E655&F655","v":"CUATRO (4)TRES (3)DTAPABOCAS DE USO GENERAL NO MÉDICO EN MATERIAL TEXTIL LAVABLE NIÑO / UNIDAD"},{"$f":"H655","v":8339.51},{"$f":"C655&D655&E655&F655&G655","v":"CUATRO (4)TRES (3)DTAPABOCAS DE USO GENERAL NO MÉDICO EN MATERIAL TEXTIL LAVABLE NIÑO / UNIDADINCOLDEXT S.A.S."},{"$f":"B655&H655","v":"C4S3-0178339.51"},{"$f":"G655","v":"INCOLDEXT S.A.S."},"Und",{"$f":"C655&D655&E655&F655&G655","v":"CUATRO (4)TRES (3)DTAPABOCAS DE USO GENERAL NO MÉDICO EN MATERIAL TEXTIL LAVABLE NIÑO / UNIDADINCOLDEXT S.A.S."},{"$f":"H655","v":8339.51}]
[{"$f":"\"ate01-\"&B656&\" \"&C656&\" \"&D656&\" \"&E656","v":"ate01-C4S3-017 CUATRO (4) TRES (3) D"},"C4S3-017","CUATRO (4)","TRES (3)","D","TAPABOCAS DE USO GENERAL NO MÉDICO EN MATERIAL TEXTIL LAVABLE NIÑO / UNIDAD","UNION TEMPORAL AYGEMA",5448.96,{"$f":"B656&G656","v":"C4S3-017UNION TEMPORAL AYGEMA"},{"$f":"C656&D656&E656&F656","v":"CUATRO (4)TRES (3)DTAPABOCAS DE USO GENERAL NO MÉDICO EN MATERIAL TEXTIL LAVABLE NIÑO / UNIDAD"},{"$f":"H656","v":5448.96},{"$f":"C656&D656&E656&F656&G656","v":"CUATRO (4)TRES (3)DTAPABOCAS DE USO GENERAL NO MÉDICO EN MATERIAL TEXTIL LAVABLE NIÑO / UNIDADUNION TEMPORAL AYGEMA"},{"$f":"B656&H656","v":"C4S3-0175448.96"},{"$f":"G656","v":"UNION TEMPORAL AYGEMA"},"Und",{"$f":"C656&D656&E656&F656&G656","v":"CUATRO (4)TRES (3)DTAPABOCAS DE USO GENERAL NO MÉDICO EN MATERIAL TEXTIL LAVABLE NIÑO / UNIDADUNION TEMPORAL AYGEMA"},{"$f":"H656","v":5448.96}]
[{"$f":"\"ate01-\"&B657&\" \"&C657&\" \"&D657&\" \"&E657","v":"ate01-C4S3-017 CUATRO (4) TRES (3) D"},"C4S3-017","CUATRO (4)","TRES (3)","D","TAPABOCAS DE USO GENERAL NO MÉDICO EN MATERIAL TEXTIL LAVABLE NIÑO / UNIDAD","COMERCIALIZADORA DINPRO S.A.S.",3243.43,{"$f":"B657&G657","v":"C4S3-017COMERCIALIZADORA DINPRO S.A.S."},{"$f":"C657&D657&E657&F657","v":"CUATRO (4)TRES (3)DTAPABOCAS DE USO GENERAL NO MÉDICO EN MATERIAL TEXTIL LAVABLE NIÑO / UNIDAD"},{"$f":"H657","v":3243.43},{"$f":"C657&D657&E657&F657&G657","v":"CUATRO (4)TRES (3)DTAPABOCAS DE USO GENERAL NO MÉDICO EN MATERIAL TEXTIL LAVABLE NIÑO / UNIDADCOMERCIALIZADORA DINPRO S.A.S."},{"$f":"B657&H657","v":"C4S3-0173243.43"},{"$f":"G657","v":"COMERCIALIZADORA DINPRO S.A.S."},"Und",{"$f":"C657&D657&E657&F657&G657","v":"CUATRO (4)TRES (3)DTAPABOCAS DE USO GENERAL NO MÉDICO EN MATERIAL TEXTIL LAVABLE NIÑO / UNIDADCOMERCIALIZADORA DINPRO S.A.S."},{"$f":"H657","v":3243.43}]
[{"$f":"\"ate01-\"&B658&\" \"&C658&\" \"&D658&\" \"&E658","v":"ate01-C4S3-017 CUATRO (4) TRES (3) D"},"C4S3-017","CUATRO (4)","TRES (3)","D","TAPABOCAS DE USO GENERAL NO MÉDICO EN MATERIAL TEXTIL LAVABLE NIÑO / UNIDAD","LIMINA S.A.S.",15568.47,{"$f":"B658&G658","v":"C4S3-017LIMINA S.A.S."},{"$f":"C658&D658&E658&F658","v":"CUATRO (4)TRES (3)DTAPABOCAS DE USO GENERAL NO MÉDICO EN MATERIAL TEXTIL LAVABLE NIÑO / UNIDAD"},{"$f":"H658","v":15568.47},{"$f":"C658&D658&E658&F658&G658","v":"CUATRO (4)TRES (3)DTAPABOCAS DE USO GENERAL NO MÉDICO EN MATERIAL TEXTIL LAVABLE NIÑO / UNIDADLIMINA S.A.S."},{"$f":"B658&H658","v":"C4S3-01715568.47"},{"$f":"G658","v":"LIMINA S.A.S."},"Und",{"$f":"C658&D658&E658&F658&G658","v":"CUATRO (4)TRES (3)DTAPABOCAS DE USO GENERAL NO MÉDICO EN MATERIAL TEXTIL LAVABLE NIÑO / UNIDADLIMINA S.A.S."},{"$f":"H658","v":15568.47}]
[{"$f":"\"ate01-\"&B659&\" \"&C659&\" \"&D659&\" \"&E659","v":"ate01-C4S3-017 CUATRO (4) TRES (3) D"},"C4S3-017","CUATRO (4)","TRES (3)","D","TAPABOCAS DE USO GENERAL NO MÉDICO EN MATERIAL TEXTIL LAVABLE NIÑO / UNIDAD","INMADICA ANDINA",4540.8,{"$f":"B659&G659","v":"C4S3-017INMADICA ANDINA"},{"$f":"C659&D659&E659&F659","v":"CUATRO (4)TRES (3)DTAPABOCAS DE USO GENERAL NO MÉDICO EN MATERIAL TEXTIL LAVABLE NIÑO / UNIDAD"},{"$f":"H659","v":4540.8},{"$f":"C659&D659&E659&F659&G659","v":"CUATRO (4)TRES (3)DTAPABOCAS DE USO GENERAL NO MÉDICO EN MATERIAL TEXTIL LAVABLE NIÑO / UNIDADINMADICA ANDINA"},{"$f":"B659&H659","v":"C4S3-0174540.8"},{"$f":"G659","v":"INMADICA ANDINA"},"Und",{"$f":"C659&D659&E659&F659&G659","v":"CUATRO (4)TRES (3)DTAPABOCAS DE USO GENERAL NO MÉDICO EN MATERIAL TEXTIL LAVABLE NIÑO / UNIDADINMADICA ANDINA"},{"$f":"H659","v":4540.8}]
[{"$f":"\"ate01-\"&B660&\" \"&C660&\" \"&D660&\" \"&E660","v":"ate01-C4S3-017 CUATRO (4) TRES (3) D"},"C4S3-017","CUATRO (4)","TRES (3)","D","TAPABOCAS DE USO GENERAL NO MÉDICO EN MATERIAL TEXTIL LAVABLE NIÑO / UNIDAD","COLOMBIANA DE TEXTILES POR MAYOR S.A.",6616.6,{"$f":"B660&G660","v":"C4S3-017COLOMBIANA DE TEXTILES POR MAYOR S.A."},{"$f":"C660&D660&E660&F660","v":"CUATRO (4)TRES (3)DTAPABOCAS DE USO GENERAL NO MÉDICO EN MATERIAL TEXTIL LAVABLE NIÑO / UNIDAD"},{"$f":"H660","v":6616.6},{"$f":"C660&D660&E660&F660&G660","v":"CUATRO (4)TRES (3)DTAPABOCAS DE USO GENERAL NO MÉDICO EN MATERIAL TEXTIL LAVABLE NIÑO / UNIDADCOLOMBIANA DE TEXTILES POR MAYOR S.A."},{"$f":"B660&H660","v":"C4S3-0176616.6"},{"$f":"G660","v":"COLOMBIANA DE TEXTILES POR MAYOR S.A."},"Und",{"$f":"C660&D660&E660&F660&G660","v":"CUATRO (4)TRES (3)DTAPABOCAS DE USO GENERAL NO MÉDICO EN MATERIAL TEXTIL LAVABLE NIÑO / UNIDADCOLOMBIANA DE TEXTILES POR MAYOR S.A."},{"$f":"H660","v":6616.6}]
[{"$f":"\"ate01-\"&B661&\" \"&C661&\" \"&D661&\" \"&E661","v":"ate01-C4S3-017 CUATRO (4) TRES (3) D"},"C4S3-017","CUATRO (4)","TRES (3)","D","TAPABOCAS DE USO GENERAL NO MÉDICO EN MATERIAL TEXTIL LAVABLE NIÑO / UNIDAD","MIGUEL ANGEL VALLEJO BURGOS",2516.9,{"$f":"B661&G661","v":"C4S3-017MIGUEL ANGEL VALLEJO BURGOS"},{"$f":"C661&D661&E661&F661","v":"CUATRO (4)TRES (3)DTAPABOCAS DE USO GENERAL NO MÉDICO EN MATERIAL TEXTIL LAVABLE NIÑO / UNIDAD"},{"$f":"H661","v":2516.9},{"$f":"C661&D661&E661&F661&G661","v":"CUATRO (4)TRES (3)DTAPABOCAS DE USO GENERAL NO MÉDICO EN MATERIAL TEXTIL LAVABLE NIÑO / UNIDADMIGUEL ANGEL VALLEJO BURGOS"},{"$f":"B661&H661","v":"C4S3-0172516.9"},{"$f":"G661","v":"MIGUEL ANGEL VALLEJO BURGOS"},"Und",{"$f":"C661&D661&E661&F661&G661","v":"CUATRO (4)TRES (3)DTAPABOCAS DE USO GENERAL NO MÉDICO EN MATERIAL TEXTIL LAVABLE NIÑO / UNIDADMIGUEL ANGEL VALLEJO BURGOS"},{"$f":"H661","v":2516.9}]
[{"$f":"\"ate01-\"&B662&\" \"&C662&\" \"&D662&\" \"&E662","v":"ate01-C4S3-018 CUATRO (4) TRES (3) E"},"C4S3-018","CUATRO (4)","TRES (3)","E","TAPABOCAS QUIRUGICO N95 / CAJA X 20 UND","JM GRUPO",240013.85,{"$f":"B662&G662","v":"C4S3-018JM GRUPO"},{"$f":"C662&D662&E662&F662","v":"CUATRO (4)TRES (3)ETAPABOCAS QUIRUGICO N95 / CAJA X 20 UND"},{"$f":"H662","v":240013.85},{"$f":"C662&D662&E662&F662&G662","v":"CUATRO (4)TRES (3)ETAPABOCAS QUIRUGICO N95 / CAJA X 20 UNDJM GRUPO"},{"$f":"B662&H662","v":"C4S3-018240013.85"},{"$f":"G662","v":"JM GRUPO"},"Und",{"$f":"C662&D662&E662&F662&G662","v":"CUATRO (4)TRES (3)ETAPABOCAS QUIRUGICO N95 / CAJA X 20 UNDJM GRUPO"},{"$f":"H662","v":240013.85}]
[{"$f":"\"ate01-\"&B663&\" \"&C663&\" \"&D663&\" \"&E663","v":"ate01-C4S3-018 CUATRO (4) TRES (3) E"},"C4S3-018","CUATRO (4)","TRES (3)","E","TAPABOCAS QUIRUGICO N95 / CAJA X 20 UND","INVERSIONES SARHEM DE COLOMBIA S.A.S.",108979.26,{"$f":"B663&G663","v":"C4S3-018INVERSIONES SARHEM DE COLOMBIA S.A.S."},{"$f":"C663&D663&E663&F663","v":"CUATRO (4)TRES (3)ETAPABOCAS QUIRUGICO N95 / CAJA X 20 UND"},{"$f":"H663","v":108979.26},{"$f":"C663&D663&E663&F663&G663","v":"CUATRO (4)TRES (3)ETAPABOCAS QUIRUGICO N95 / CAJA X 20 UNDINVERSIONES SARHEM DE COLOMBIA S.A.S."},{"$f":"B663&H663","v":"C4S3-018108979.26"},{"$f":"G663","v":"INVERSIONES SARHEM DE COLOMBIA S.A.S."},"Und",{"$f":"C663&D663&E663&F663&G663","v":"CUATRO (4)TRES (3)ETAPABOCAS QUIRUGICO N95 / CAJA X 20 UNDINVERSIONES SARHEM DE COLOMBIA S.A.S."},{"$f":"H663","v":108979.26}]
[{"$f":"\"ate01-\"&B664&\" \"&C664&\" \"&D664&\" \"&E664","v":"ate01-C4S3-018 CUATRO (4) TRES (3) E"},"C4S3-018","CUATRO (4)","TRES (3)","E","TAPABOCAS QUIRUGICO N95 / CAJA X 20 UND","UT EMERGENCIAS 2021",129737.22,{"$f":"B664&G664","v":"C4S3-018UT EMERGENCIAS 2021"},{"$f":"C664&D664&E664&F664","v":"CUATRO (4)TRES (3)ETAPABOCAS QUIRUGICO N95 / CAJA X 20 UND"},{"$f":"H664","v":129737.22},{"$f":"C664&D664&E664&F664&G664","v":"CUATRO (4)TRES (3)ETAPABOCAS QUIRUGICO N95 / CAJA X 20 UNDUT EMERGENCIAS 2021"},{"$f":"B664&H664","v":"C4S3-018129737.22"},{"$f":"G664","v":"UT EMERGENCIAS 2021"},"Und",{"$f":"C664&D664&E664&F664&G664","v":"CUATRO (4)TRES (3)ETAPABOCAS QUIRUGICO N95 / CAJA X 20 UNDUT EMERGENCIAS 2021"},{"$f":"H664","v":129737.22}]
[{"$f":"\"ate01-\"&B665&\" \"&C665&\" \"&D665&\" \"&E665","v":"ate01-C4S3-018 CUATRO (4) TRES (3) E"},"C4S3-018","CUATRO (4)","TRES (3)","E","TAPABOCAS QUIRUGICO N95 / CAJA X 20 UND","LIMINA S.A.S.",41819.49,{"$f":"B665&G665","v":"C4S3-018LIMINA S.A.S."},{"$f":"C665&D665&E665&F665","v":"CUATRO (4)TRES (3)ETAPABOCAS QUIRUGICO N95 / CAJA X 20 UND"},{"$f":"H665","v":41819.49},{"$f":"C665&D665&E665&F665&G665","v":"CUATRO (4)TRES (3)ETAPABOCAS QUIRUGICO N95 / CAJA X 20 UNDLIMINA S.A.S."},{"$f":"B665&H665","v":"C4S3-01841819.49"},{"$f":"G665","v":"LIMINA S.A.S."},"Und",{"$f":"C665&D665&E665&F665&G665","v":"CUATRO (4)TRES (3)ETAPABOCAS QUIRUGICO N95 / CAJA X 20 UNDLIMINA S.A.S."},{"$f":"H665","v":41819.49}]
[{"$f":"\"ate01-\"&B666&\" \"&C666&\" \"&D666&\" \"&E666","v":"ate01-C4S3-018 CUATRO (4) TRES (3) E"},"C4S3-018","CUATRO (4)","TRES (3)","E","TAPABOCAS QUIRUGICO N95 / CAJA X 20 UND","COLOMBIANA DE TEXTILES POR MAYOR S.A.",91815.03,{"$f":"B666&G666","v":"C4S3-018COLOMBIANA DE TEXTILES POR MAYOR S.A."},{"$f":"C666&D666&E666&F666","v":"CUATRO (4)TRES (3)ETAPABOCAS QUIRUGICO N95 / CAJA X 20 UND"},{"$f":"H666","v":91815.03},{"$f":"C666&D666&E666&F666&G666","v":"CUATRO (4)TRES (3)ETAPABOCAS QUIRUGICO N95 / CAJA X 20 UNDCOLOMBIANA DE TEXTILES POR MAYOR S.A."},{"$f":"B666&H666","v":"C4S3-01891815.03"},{"$f":"G666","v":"COLOMBIANA DE TEXTILES POR MAYOR S.A."},"Und",{"$f":"C666&D666&E666&F666&G666","v":"CUATRO (4)TRES (3)ETAPABOCAS QUIRUGICO N95 / CAJA X 20 UNDCOLOMBIANA DE TEXTILES POR MAYOR S.A."},{"$f":"H666","v":91815.03}]
[{"$f":"\"ate01-\"&B667&\" \"&C667&\" \"&D667&\" \"&E667","v":"ate01-C4S3-018 CUATRO (4) TRES (3) E"},"C4S3-018","CUATRO (4)","TRES (3)","E","TAPABOCAS QUIRUGICO N95 / CAJA X 20 UND","MIGUEL ANGEL VALLEJO BURGOS",67463.350000000006,{"$f":"B667&G667","v":"C4S3-018MIGUEL ANGEL VALLEJO BURGOS"},{"$f":"C667&D667&E667&F667","v":"CUATRO (4)TRES (3)ETAPABOCAS QUIRUGICO N95 / CAJA X 20 UND"},{"$f":"H667","v":67463.350000000006},{"$f":"C667&D667&E667&F667&G667","v":"CUATRO (4)TRES (3)ETAPABOCAS QUIRUGICO N95 / CAJA X 20 UNDMIGUEL ANGEL VALLEJO BURGOS"},{"$f":"B667&H667","v":"C4S3-01867463.35"},{"$f":"G667","v":"MIGUEL ANGEL VALLEJO BURGOS"},"Und",{"$f":"C667&D667&E667&F667&G667","v":"CUATRO (4)TRES (3)ETAPABOCAS QUIRUGICO N95 / CAJA X 20 UNDMIGUEL ANGEL VALLEJO BURGOS"},{"$f":"H667","v":67463.350000000006}]
[{"$f":"\"ate01-\"&B668&\" \"&C668&\" \"&D668&\" \"&E668","v":"ate01-C4S3-019 CUATRO (4) TRES (3) E"},"C4S3-019","CUATRO (4)","TRES (3)","E","TAPABOCAS QUIRUGICO DESECHABLE CON SUJECIÓN ELÁSTICA A LA OREJA / CAJA X 50 UND","JM GRUPO",23352.7,{"$f":"B668&G668","v":"C4S3-019JM GRUPO"},{"$f":"C668&D668&E668&F668","v":"CUATRO (4)TRES (3)ETAPABOCAS QUIRUGICO DESECHABLE CON SUJECIÓN ELÁSTICA A LA OREJA / CAJA X 50 UND"},{"$f":"H668","v":23352.7},{"$f":"C668&D668&E668&F668&G668","v":"CUATRO (4)TRES (3)ETAPABOCAS QUIRUGICO DESECHABLE CON SUJECIÓN ELÁSTICA A LA OREJA / CAJA X 50 UNDJM GRUPO"},{"$f":"B668&H668","v":"C4S3-01923352.7"},{"$f":"G668","v":"JM GRUPO"},"Und",{"$f":"C668&D668&E668&F668&G668","v":"CUATRO (4)TRES (3)ETAPABOCAS QUIRUGICO DESECHABLE CON SUJECIÓN ELÁSTICA A LA OREJA / CAJA X 50 UNDJM GRUPO"},{"$f":"H668","v":23352.7}]
[{"$f":"\"ate01-\"&B669&\" \"&C669&\" \"&D669&\" \"&E669","v":"ate01-C4S3-019 CUATRO (4) TRES (3) E"},"C4S3-019","CUATRO (4)","TRES (3)","E","TAPABOCAS QUIRUGICO DESECHABLE CON SUJECIÓN ELÁSTICA A LA OREJA / CAJA X 50 UND","INVERSIONES SARHEM DE COLOMBIA S.A.S.",12973.72,{"$f":"B669&G669","v":"C4S3-019INVERSIONES SARHEM DE COLOMBIA S.A.S."},{"$f":"C669&D669&E669&F669","v":"CUATRO (4)TRES (3)ETAPABOCAS QUIRUGICO DESECHABLE CON SUJECIÓN ELÁSTICA A LA OREJA / CAJA X 50 UND"},{"$f":"H669","v":12973.72},{"$f":"C669&D669&E669&F669&G669","v":"CUATRO (4)TRES (3)ETAPABOCAS QUIRUGICO DESECHABLE CON SUJECIÓN ELÁSTICA A LA OREJA / CAJA X 50 UNDINVERSIONES SARHEM DE COLOMBIA S.A.S."},{"$f":"B669&H669","v":"C4S3-01912973.72"},{"$f":"G669","v":"INVERSIONES SARHEM DE COLOMBIA S.A.S."},"Und",{"$f":"C669&D669&E669&F669&G669","v":"CUATRO (4)TRES (3)ETAPABOCAS QUIRUGICO DESECHABLE CON SUJECIÓN ELÁSTICA A LA OREJA / CAJA X 50 UNDINVERSIONES SARHEM DE COLOMBIA S.A.S."},{"$f":"H669","v":12973.72}]
[{"$f":"\"ate01-\"&B670&\" \"&C670&\" \"&D670&\" \"&E670","v":"ate01-C4S3-019 CUATRO (4) TRES (3) E"},"C4S3-019","CUATRO (4)","TRES (3)","E","TAPABOCAS QUIRUGICO DESECHABLE CON SUJECIÓN ELÁSTICA A LA OREJA / CAJA X 50 UND","UT EMERGENCIAS 2021",18163.21,{"$f":"B670&G670","v":"C4S3-019UT EMERGENCIAS 2021"},{"$f":"C670&D670&E670&F670","v":"CUATRO (4)TRES (3)ETAPABOCAS QUIRUGICO DESECHABLE CON SUJECIÓN ELÁSTICA A LA OREJA / CAJA X 50 UND"},{"$f":"H670","v":18163.21},{"$f":"C670&D670&E670&F670&G670","v":"CUATRO (4)TRES (3)ETAPABOCAS QUIRUGICO DESECHABLE CON SUJECIÓN ELÁSTICA A LA OREJA / CAJA X 50 UNDUT EMERGENCIAS 2021"},{"$f":"B670&H670","v":"C4S3-01918163.21"},{"$f":"G670","v":"UT EMERGENCIAS 2021"},"Und",{"$f":"C670&D670&E670&F670&G670","v":"CUATRO (4)TRES (3)ETAPABOCAS QUIRUGICO DESECHABLE CON SUJECIÓN ELÁSTICA A LA OREJA / CAJA X 50 UNDUT EMERGENCIAS 2021"},{"$f":"H670","v":18163.21}]
[{"$f":"\"ate01-\"&B671&\" \"&C671&\" \"&D671&\" \"&E671","v":"ate01-C4S3-019 CUATRO (4) TRES (3) E"},"C4S3-019","CUATRO (4)","TRES (3)","E","TAPABOCAS QUIRUGICO DESECHABLE CON SUJECIÓN ELÁSTICA A LA OREJA / CAJA X 50 UND","LIMINA S.A.S.",836402.86,{"$f":"B671&G671","v":"C4S3-019LIMINA S.A.S."},{"$f":"C671&D671&E671&F671","v":"CUATRO (4)TRES (3)ETAPABOCAS QUIRUGICO DESECHABLE CON SUJECIÓN ELÁSTICA A LA OREJA / CAJA X 50 UND"},{"$f":"H671","v":836402.86},{"$f":"C671&D671&E671&F671&G671","v":"CUATRO (4)TRES (3)ETAPABOCAS QUIRUGICO DESECHABLE CON SUJECIÓN ELÁSTICA A LA OREJA / CAJA X 50 UNDLIMINA S.A.S."},{"$f":"B671&H671","v":"C4S3-019836402.86"},{"$f":"G671","v":"LIMINA S.A.S."},"Und",{"$f":"C671&D671&E671&F671&G671","v":"CUATRO (4)TRES (3)ETAPABOCAS QUIRUGICO DESECHABLE CON SUJECIÓN ELÁSTICA A LA OREJA / CAJA X 50 UNDLIMINA S.A.S."},{"$f":"H671","v":836402.86}]
[{"$f":"\"ate01-\"&B672&\" \"&C672&\" \"&D672&\" \"&E672","v":"ate01-C4S3-019 CUATRO (4) TRES (3) E"},"C4S3-019","CUATRO (4)","TRES (3)","E","TAPABOCAS QUIRUGICO DESECHABLE CON SUJECIÓN ELÁSTICA A LA OREJA / CAJA X 50 UND","COLOMBIANA DE TEXTILES POR MAYOR S.A.",15970.65,{"$f":"B672&G672","v":"C4S3-019COLOMBIANA DE TEXTILES POR MAYOR S.A."},{"$f":"C672&D672&E672&F672","v":"CUATRO (4)TRES (3)ETAPABOCAS QUIRUGICO DESECHABLE CON SUJECIÓN ELÁSTICA A LA OREJA / CAJA X 50 UND"},{"$f":"H672","v":15970.65},{"$f":"C672&D672&E672&F672&G672","v":"CUATRO (4)TRES (3)ETAPABOCAS QUIRUGICO DESECHABLE CON SUJECIÓN ELÁSTICA A LA OREJA / CAJA X 50 UNDCOLOMBIANA DE TEXTILES POR MAYOR S.A."},{"$f":"B672&H672","v":"C4S3-01915970.65"},{"$f":"G672","v":"COLOMBIANA DE TEXTILES POR MAYOR S.A."},"Und",{"$f":"C672&D672&E672&F672&G672","v":"CUATRO (4)TRES (3)ETAPABOCAS QUIRUGICO DESECHABLE CON SUJECIÓN ELÁSTICA A LA OREJA / CAJA X 50 UNDCOLOMBIANA DE TEXTILES POR MAYOR S.A."},{"$f":"H672","v":15970.65}]
[{"$f":"\"ate01-\"&B673&\" \"&C673&\" \"&D673&\" \"&E673","v":"ate01-C4S3-019 CUATRO (4) TRES (3) E"},"C4S3-019","CUATRO (4)","TRES (3)","E","TAPABOCAS QUIRUGICO DESECHABLE CON SUJECIÓN ELÁSTICA A LA OREJA / CAJA X 50 UND","MIGUEL ANGEL VALLEJO BURGOS",18811.900000000001,{"$f":"B673&G673","v":"C4S3-019MIGUEL ANGEL VALLEJO BURGOS"},{"$f":"C673&D673&E673&F673","v":"CUATRO (4)TRES (3)ETAPABOCAS QUIRUGICO DESECHABLE CON SUJECIÓN ELÁSTICA A LA OREJA / CAJA X 50 UND"},{"$f":"H673","v":18811.900000000001},{"$f":"C673&D673&E673&F673&G673","v":"CUATRO (4)TRES (3)ETAPABOCAS QUIRUGICO DESECHABLE CON SUJECIÓN ELÁSTICA A LA OREJA / CAJA X 50 UNDMIGUEL ANGEL VALLEJO BURGOS"},{"$f":"B673&H673","v":"C4S3-01918811.9"},{"$f":"G673","v":"MIGUEL ANGEL VALLEJO BURGOS"},"Und",{"$f":"C673&D673&E673&F673&G673","v":"CUATRO (4)TRES (3)ETAPABOCAS QUIRUGICO DESECHABLE CON SUJECIÓN ELÁSTICA A LA OREJA / CAJA X 50 UNDMIGUEL ANGEL VALLEJO BURGOS"},{"$f":"H673","v":18811.900000000001}]
[{"$f":"\"ate01-\"&B674&\" \"&C674&\" \"&D674&\" \"&E674","v":"ate01-C4S3-020 CUATRO (4) TRES (3) E"},"C4S3-020","CUATRO (4)","TRES (3)","E","TAPABOCAS QUIRUGICO DESECHABLE DE ATAR ATRÁS DEL CUELLO CON CUATRO (4) TIRAS / CAJA X 50 UND","JM GRUPO",23352.7,{"$f":"B674&G674","v":"C4S3-020JM GRUPO"},{"$f":"C674&D674&E674&F674","v":"CUATRO (4)TRES (3)ETAPABOCAS QUIRUGICO DESECHABLE DE ATAR ATRÁS DEL CUELLO CON CUATRO (4) TIRAS / CAJA X 50 UND"},{"$f":"H674","v":23352.7},{"$f":"C674&D674&E674&F674&G674","v":"CUATRO (4)TRES (3)ETAPABOCAS QUIRUGICO DESECHABLE DE ATAR ATRÁS DEL CUELLO CON CUATRO (4) TIRAS / CAJA X 50 UNDJM GRUPO"},{"$f":"B674&H674","v":"C4S3-02023352.7"},{"$f":"G674","v":"JM GRUPO"},"Und",{"$f":"C674&D674&E674&F674&G674","v":"CUATRO (4)TRES (3)ETAPABOCAS QUIRUGICO DESECHABLE DE ATAR ATRÁS DEL CUELLO CON CUATRO (4) TIRAS / CAJA X 50 UNDJM GRUPO"},{"$f":"H674","v":23352.7}]
[{"$f":"\"ate01-\"&B675&\" \"&C675&\" \"&D675&\" \"&E675","v":"ate01-C4S3-020 CUATRO (4) TRES (3) E"},"C4S3-020","CUATRO (4)","TRES (3)","E","TAPABOCAS QUIRUGICO DESECHABLE DE ATAR ATRÁS DEL CUELLO CON CUATRO (4) TIRAS / CAJA X 50 UND","INVERSIONES SARHEM DE COLOMBIA S.A.S.",15568.47,{"$f":"B675&G675","v":"C4S3-020INVERSIONES SARHEM DE COLOMBIA S.A.S."},{"$f":"C675&D675&E675&F675","v":"CUATRO (4)TRES (3)ETAPABOCAS QUIRUGICO DESECHABLE DE ATAR ATRÁS DEL CUELLO CON CUATRO (4) TIRAS / CAJA X 50 UND"},{"$f":"H675","v":15568.47},{"$f":"C675&D675&E675&F675&G675","v":"CUATRO (4)TRES (3)ETAPABOCAS QUIRUGICO DESECHABLE DE ATAR ATRÁS DEL CUELLO CON CUATRO (4) TIRAS / CAJA X 50 UNDINVERSIONES SARHEM DE COLOMBIA S.A.S."},{"$f":"B675&H675","v":"C4S3-02015568.47"},{"$f":"G675","v":"INVERSIONES SARHEM DE COLOMBIA S.A.S."},"Und",{"$f":"C675&D675&E675&F675&G675","v":"CUATRO (4)TRES (3)ETAPABOCAS QUIRUGICO DESECHABLE DE ATAR ATRÁS DEL CUELLO CON CUATRO (4) TIRAS / CAJA X 50 UNDINVERSIONES SARHEM DE COLOMBIA S.A.S."},{"$f":"H675","v":15568.47}]
[{"$f":"\"ate01-\"&B676&\" \"&C676&\" \"&D676&\" \"&E676","v":"ate01-C4S3-020 CUATRO (4) TRES (3) E"},"C4S3-020","CUATRO (4)","TRES (3)","E","TAPABOCAS QUIRUGICO DESECHABLE DE ATAR ATRÁS DEL CUELLO CON CUATRO (4) TIRAS / CAJA X 50 UND","UT EMERGENCIAS 2021",233526.99,{"$f":"B676&G676","v":"C4S3-020UT EMERGENCIAS 2021"},{"$f":"C676&D676&E676&F676","v":"CUATRO (4)TRES (3)ETAPABOCAS QUIRUGICO DESECHABLE DE ATAR ATRÁS DEL CUELLO CON CUATRO (4) TIRAS / CAJA X 50 UND"},{"$f":"H676","v":233526.99},{"$f":"C676&D676&E676&F676&G676","v":"CUATRO (4)TRES (3)ETAPABOCAS QUIRUGICO DESECHABLE DE ATAR ATRÁS DEL CUELLO CON CUATRO (4) TIRAS / CAJA X 50 UNDUT EMERGENCIAS 2021"},{"$f":"B676&H676","v":"C4S3-020233526.99"},{"$f":"G676","v":"UT EMERGENCIAS 2021"},"Und",{"$f":"C676&D676&E676&F676&G676","v":"CUATRO (4)TRES (3)ETAPABOCAS QUIRUGICO DESECHABLE DE ATAR ATRÁS DEL CUELLO CON CUATRO (4) TIRAS / CAJA X 50 UNDUT EMERGENCIAS 2021"},{"$f":"H676","v":233526.99}]
[{"$f":"\"ate01-\"&B677&\" \"&C677&\" \"&D677&\" \"&E677","v":"ate01-C4S3-020 CUATRO (4) TRES (3) E"},"C4S3-020","CUATRO (4)","TRES (3)","E","TAPABOCAS QUIRUGICO DESECHABLE DE ATAR ATRÁS DEL CUELLO CON CUATRO (4) TIRAS / CAJA X 50 UND","LIMINA S.A.S.",90816.05,{"$f":"B677&G677","v":"C4S3-020LIMINA S.A.S."},{"$f":"C677&D677&E677&F677","v":"CUATRO (4)TRES (3)ETAPABOCAS QUIRUGICO DESECHABLE DE ATAR ATRÁS DEL CUELLO CON CUATRO (4) TIRAS / CAJA X 50 UND"},{"$f":"H677","v":90816.05},{"$f":"C677&D677&E677&F677&G677","v":"CUATRO (4)TRES (3)ETAPABOCAS QUIRUGICO DESECHABLE DE ATAR ATRÁS DEL CUELLO CON CUATRO (4) TIRAS / CAJA X 50 UNDLIMINA S.A.S."},{"$f":"B677&H677","v":"C4S3-02090816.05"},{"$f":"G677","v":"LIMINA S.A.S."},"Und",{"$f":"C677&D677&E677&F677&G677","v":"CUATRO (4)TRES (3)ETAPABOCAS QUIRUGICO DESECHABLE DE ATAR ATRÁS DEL CUELLO CON CUATRO (4) TIRAS / CAJA X 50 UNDLIMINA S.A.S."},{"$f":"H677","v":90816.05}]
[{"$f":"\"ate01-\"&B678&\" \"&C678&\" \"&D678&\" \"&E678","v":"ate01-C4S3-020 CUATRO (4) TRES (3) E"},"C4S3-020","CUATRO (4)","TRES (3)","E","TAPABOCAS QUIRUGICO DESECHABLE DE ATAR ATRÁS DEL CUELLO CON CUATRO (4) TIRAS / CAJA X 50 UND","COLOMBIANA DE TEXTILES POR MAYOR S.A.",99806.84,{"$f":"B678&G678","v":"C4S3-020COLOMBIANA DE TEXTILES POR MAYOR S.A."},{"$f":"C678&D678&E678&F678","v":"CUATRO (4)TRES (3)ETAPABOCAS QUIRUGICO DESECHABLE DE ATAR ATRÁS DEL CUELLO CON CUATRO (4) TIRAS / CAJA X 50 UND"},{"$f":"H678","v":99806.84},{"$f":"C678&D678&E678&F678&G678","v":"CUATRO (4)TRES (3)ETAPABOCAS QUIRUGICO DESECHABLE DE ATAR ATRÁS DEL CUELLO CON CUATRO (4) TIRAS / CAJA X 50 UNDCOLOMBIANA DE TEXTILES POR MAYOR S.A."},{"$f":"B678&H678","v":"C4S3-02099806.84"},{"$f":"G678","v":"COLOMBIANA DE TEXTILES POR MAYOR S.A."},"Und",{"$f":"C678&D678&E678&F678&G678","v":"CUATRO (4)TRES (3)ETAPABOCAS QUIRUGICO DESECHABLE DE ATAR ATRÁS DEL CUELLO CON CUATRO (4) TIRAS / CAJA X 50 UNDCOLOMBIANA DE TEXTILES POR MAYOR S.A."},{"$f":"H678","v":99806.84}]
[{"$f":"\"ate01-\"&B679&\" \"&C679&\" \"&D679&\" \"&E679","v":"ate01-C4S3-020 CUATRO (4) TRES (3) E"},"C4S3-020","CUATRO (4)","TRES (3)","E","TAPABOCAS QUIRUGICO DESECHABLE DE ATAR ATRÁS DEL CUELLO CON CUATRO (4) TIRAS / CAJA X 50 UND","MIGUEL ANGEL VALLEJO BURGOS",32434.3,{"$f":"B679&G679","v":"C4S3-020MIGUEL ANGEL VALLEJO BURGOS"},{"$f":"C679&D679&E679&F679","v":"CUATRO (4)TRES (3)ETAPABOCAS QUIRUGICO DESECHABLE DE ATAR ATRÁS DEL CUELLO CON CUATRO (4) TIRAS / CAJA X 50 UND"},{"$f":"H679","v":32434.3},{"$f":"C679&D679&E679&F679&G679","v":"CUATRO (4)TRES (3)ETAPABOCAS QUIRUGICO DESECHABLE DE ATAR ATRÁS DEL CUELLO CON CUATRO (4) TIRAS / CAJA X 50 UNDMIGUEL ANGEL VALLEJO BURGOS"},{"$f":"B679&H679","v":"C4S3-02032434.3"},{"$f":"G679","v":"MIGUEL ANGEL VALLEJO BURGOS"},"Und",{"$f":"C679&D679&E679&F679&G679","v":"CUATRO (4)TRES (3)ETAPABOCAS QUIRUGICO DESECHABLE DE ATAR ATRÁS DEL CUELLO CON CUATRO (4) TIRAS / CAJA X 50 UNDMIGUEL ANGEL VALLEJO BURGOS"},{"$f":"H679","v":32434.3}]
[{"$f":"\"ate01-\"&B680&\" \"&C680&\" \"&D680&\" \"&E680","v":"ate01-C4S3-021 CUATRO (4) TRES (3) A"},"C4S3-021","CUATRO (4)","TRES (3)","A","TRAJE BIOLÓGICO  / UNIDAD","JM GRUPO",64855.63,{"$f":"B680&G680","v":"C4S3-021JM GRUPO"},{"$f":"C680&D680&E680&F680","v":"CUATRO (4)TRES (3)ATRAJE BIOLÓGICO  / UNIDAD"},{"$f":"H680","v":64855.63},{"$f":"C680&D680&E680&F680&G680","v":"CUATRO (4)TRES (3)ATRAJE BIOLÓGICO  / UNIDADJM GRUPO"},{"$f":"B680&H680","v":"C4S3-02164855.63"},{"$f":"G680","v":"JM GRUPO"},"Und",{"$f":"C680&D680&E680&F680&G680","v":"CUATRO (4)TRES (3)ATRAJE BIOLÓGICO  / UNIDADJM GRUPO"},{"$f":"H680","v":64855.63}]
[{"$f":"\"ate01-\"&B681&\" \"&C681&\" \"&D681&\" \"&E681","v":"ate01-C4S3-021 CUATRO (4) TRES (3) A"},"C4S3-021","CUATRO (4)","TRES (3)","A","TRAJE BIOLÓGICO  / UNIDAD","UT EMERGENCIAS 2021",42813.279999999999,{"$f":"B681&G681","v":"C4S3-021UT EMERGENCIAS 2021"},{"$f":"C681&D681&E681&F681","v":"CUATRO (4)TRES (3)ATRAJE BIOLÓGICO  / UNIDAD"},{"$f":"H681","v":42813.279999999999},{"$f":"C681&D681&E681&F681&G681","v":"CUATRO (4)TRES (3)ATRAJE BIOLÓGICO  / UNIDADUT EMERGENCIAS 2021"},{"$f":"B681&H681","v":"C4S3-02142813.28"},{"$f":"G681","v":"UT EMERGENCIAS 2021"},"Und",{"$f":"C681&D681&E681&F681&G681","v":"CUATRO (4)TRES (3)ATRAJE BIOLÓGICO  / UNIDADUT EMERGENCIAS 2021"},{"$f":"H681","v":42813.279999999999}]
[{"$f":"\"ate01-\"&B682&\" \"&C682&\" \"&D682&\" \"&E682","v":"ate01-C4S3-021 CUATRO (4) TRES (3) A"},"C4S3-021","CUATRO (4)","TRES (3)","A","TRAJE BIOLÓGICO  / UNIDAD","UNION TEMPORAL AYGEMA",43072.76,{"$f":"B682&G682","v":"C4S3-021UNION TEMPORAL AYGEMA"},{"$f":"C682&D682&E682&F682","v":"CUATRO (4)TRES (3)ATRAJE BIOLÓGICO  / UNIDAD"},{"$f":"H682","v":43072.76},{"$f":"C682&D682&E682&F682&G682","v":"CUATRO (4)TRES (3)ATRAJE BIOLÓGICO  / UNIDADUNION TEMPORAL AYGEMA"},{"$f":"B682&H682","v":"C4S3-02143072.76"},{"$f":"G682","v":"UNION TEMPORAL AYGEMA"},"Und",{"$f":"C682&D682&E682&F682&G682","v":"CUATRO (4)TRES (3)ATRAJE BIOLÓGICO  / UNIDADUNION TEMPORAL AYGEMA"},{"$f":"H682","v":43072.76}]
[{"$f":"\"ate01-\"&B683&\" \"&C683&\" \"&D683&\" \"&E683","v":"ate01-C4S3-021 CUATRO (4) TRES (3) A"},"C4S3-021","CUATRO (4)","TRES (3)","A","TRAJE BIOLÓGICO  / UNIDAD","COLOMBIANA DE TEXTILES POR MAYOR S.A.",49300.14,{"$f":"B683&G683","v":"C4S3-021COLOMBIANA DE TEXTILES POR MAYOR S.A."},{"$f":"C683&D683&E683&F683","v":"CUATRO (4)TRES (3)ATRAJE BIOLÓGICO  / UNIDAD"},{"$f":"H683","v":49300.14},{"$f":"C683&D683&E683&F683&G683","v":"CUATRO (4)TRES (3)ATRAJE BIOLÓGICO  / UNIDADCOLOMBIANA DE TEXTILES POR MAYOR S.A."},{"$f":"B683&H683","v":"C4S3-02149300.14"},{"$f":"G683","v":"COLOMBIANA DE TEXTILES POR MAYOR S.A."},"Und",{"$f":"C683&D683&E683&F683&G683","v":"CUATRO (4)TRES (3)ATRAJE BIOLÓGICO  / UNIDADCOLOMBIANA DE TEXTILES POR MAYOR S.A."},{"$f":"H683","v":49300.14}]
[{"$f":"\"ate01-\"&B684&\" \"&C684&\" \"&D684&\" \"&E684","v":"ate01-C4S3-022 CUATRO (4) TRES (3) A"},"C4S3-022","CUATRO (4)","TRES (3)","A","TRAJE DESECHABLE ANTIFLUIDO  / UNIDAD","JM GRUPO",64855.63,{"$f":"B684&G684","v":"C4S3-022JM GRUPO"},{"$f":"C684&D684&E684&F684","v":"CUATRO (4)TRES (3)ATRAJE DESECHABLE ANTIFLUIDO  / UNIDAD"},{"$f":"H684","v":64855.63},{"$f":"C684&D684&E684&F684&G684","v":"CUATRO (4)TRES (3)ATRAJE DESECHABLE ANTIFLUIDO  / UNIDADJM GRUPO"},{"$f":"B684&H684","v":"C4S3-02264855.63"},{"$f":"G684","v":"JM GRUPO"},"Und",{"$f":"C684&D684&E684&F684&G684","v":"CUATRO (4)TRES (3)ATRAJE DESECHABLE ANTIFLUIDO  / UNIDADJM GRUPO"},{"$f":"H684","v":64855.63}]
[{"$f":"\"ate01-\"&B685&\" \"&C685&\" \"&D685&\" \"&E685","v":"ate01-C4S3-022 CUATRO (4) TRES (3) A"},"C4S3-022","CUATRO (4)","TRES (3)","A","TRAJE DESECHABLE ANTIFLUIDO  / UNIDAD","UT EMERGENCIAS 2021",25947.439999999999,{"$f":"B685&G685","v":"C4S3-022UT EMERGENCIAS 2021"},{"$f":"C685&D685&E685&F685","v":"CUATRO (4)TRES (3)ATRAJE DESECHABLE ANTIFLUIDO  / UNIDAD"},{"$f":"H685","v":25947.439999999999},{"$f":"C685&D685&E685&F685&G685","v":"CUATRO (4)TRES (3)ATRAJE DESECHABLE ANTIFLUIDO  / UNIDADUT EMERGENCIAS 2021"},{"$f":"B685&H685","v":"C4S3-02225947.44"},{"$f":"G685","v":"UT EMERGENCIAS 2021"},"Und",{"$f":"C685&D685&E685&F685&G685","v":"CUATRO (4)TRES (3)ATRAJE DESECHABLE ANTIFLUIDO  / UNIDADUT EMERGENCIAS 2021"},{"$f":"H685","v":25947.439999999999}]
[{"$f":"\"ate01-\"&B686&\" \"&C686&\" \"&D686&\" \"&E686","v":"ate01-C4S3-022 CUATRO (4) TRES (3) A"},"C4S3-022","CUATRO (4)","TRES (3)","A","TRAJE DESECHABLE ANTIFLUIDO  / UNIDAD","UNION TEMPORAL AYGEMA",25687.97,{"$f":"B686&G686","v":"C4S3-022UNION TEMPORAL AYGEMA"},{"$f":"C686&D686&E686&F686","v":"CUATRO (4)TRES (3)ATRAJE DESECHABLE ANTIFLUIDO  / UNIDAD"},{"$f":"H686","v":25687.97},{"$f":"C686&D686&E686&F686&G686","v":"CUATRO (4)TRES (3)ATRAJE DESECHABLE ANTIFLUIDO  / UNIDADUNION TEMPORAL AYGEMA"},{"$f":"B686&H686","v":"C4S3-02225687.97"},{"$f":"G686","v":"UNION TEMPORAL AYGEMA"},"Und",{"$f":"C686&D686&E686&F686&G686","v":"CUATRO (4)TRES (3)ATRAJE DESECHABLE ANTIFLUIDO  / UNIDADUNION TEMPORAL AYGEMA"},{"$f":"H686","v":25687.97}]
[{"$f":"\"ate01-\"&B687&\" \"&C687&\" \"&D687&\" \"&E687","v":"ate01-C4S3-022 CUATRO (4) TRES (3) A"},"C4S3-022","CUATRO (4)","TRES (3)","A","TRAJE DESECHABLE ANTIFLUIDO  / UNIDAD","COLOMBIANA DE TEXTILES POR MAYOR S.A.",88869.99,{"$f":"B687&G687","v":"C4S3-022COLOMBIANA DE TEXTILES POR MAYOR S.A."},{"$f":"C687&D687&E687&F687","v":"CUATRO (4)TRES (3)ATRAJE DESECHABLE ANTIFLUIDO  / UNIDAD"},{"$f":"H687","v":88869.99},{"$f":"C687&D687&E687&F687&G687","v":"CUATRO (4)TRES (3)ATRAJE DESECHABLE ANTIFLUIDO  / UNIDADCOLOMBIANA DE TEXTILES POR MAYOR S.A."},{"$f":"B687&H687","v":"C4S3-02288869.99"},{"$f":"G687","v":"COLOMBIANA DE TEXTILES POR MAYOR S.A."},"Und",{"$f":"C687&D687&E687&F687&G687","v":"CUATRO (4)TRES (3)ATRAJE DESECHABLE ANTIFLUIDO  / UNIDADCOLOMBIANA DE TEXTILES POR MAYOR S.A."},{"$f":"H687","v":88869.99}]
[{"$f":"\"ate01-\"&B688&\" \"&C688&\" \"&D688&\" \"&E688","v":"ate01-C4S3-024 CUATRO (4) TRES (3) A"},"C4S3-024","CUATRO (4)","TRES (3)","A","TRAJES DE BIO PORTECCIÓN- BLUSA  / UNIDAD","JM GRUPO",38908.19,{"$f":"B688&G688","v":"C4S3-024JM GRUPO"},{"$f":"C688&D688&E688&F688","v":"CUATRO (4)TRES (3)ATRAJES DE BIO PORTECCIÓN- BLUSA  / UNIDAD"},{"$f":"H688","v":38908.19},{"$f":"C688&D688&E688&F688&G688","v":"CUATRO (4)TRES (3)ATRAJES DE BIO PORTECCIÓN- BLUSA  / UNIDADJM GRUPO"},{"$f":"B688&H688","v":"C4S3-02438908.19"},{"$f":"G688","v":"JM GRUPO"},"Und",{"$f":"C688&D688&E688&F688&G688","v":"CUATRO (4)TRES (3)ATRAJES DE BIO PORTECCIÓN- BLUSA  / UNIDADJM GRUPO"},{"$f":"H688","v":38908.19}]
[{"$f":"\"ate01-\"&B689&\" \"&C689&\" \"&D689&\" \"&E689","v":"ate01-C4S3-024 CUATRO (4) TRES (3) A"},"C4S3-024","CUATRO (4)","TRES (3)","A","TRAJES DE BIO PORTECCIÓN- BLUSA  / UNIDAD","UT EMERGENCIAS 2021",28542.19,{"$f":"B689&G689","v":"C4S3-024UT EMERGENCIAS 2021"},{"$f":"C689&D689&E689&F689","v":"CUATRO (4)TRES (3)ATRAJES DE BIO PORTECCIÓN- BLUSA  / UNIDAD"},{"$f":"H689","v":28542.19},{"$f":"C689&D689&E689&F689&G689","v":"CUATRO (4)TRES (3)ATRAJES DE BIO PORTECCIÓN- BLUSA  / UNIDADUT EMERGENCIAS 2021"},{"$f":"B689&H689","v":"C4S3-02428542.19"},{"$f":"G689","v":"UT EMERGENCIAS 2021"},"Und",{"$f":"C689&D689&E689&F689&G689","v":"CUATRO (4)TRES (3)ATRAJES DE BIO PORTECCIÓN- BLUSA  / UNIDADUT EMERGENCIAS 2021"},{"$f":"H689","v":28542.19}]
[{"$f":"\"ate01-\"&B690&\" \"&C690&\" \"&D690&\" \"&E690","v":"ate01-C4S3-024 CUATRO (4) TRES (3) A"},"C4S3-024","CUATRO (4)","TRES (3)","A","TRAJES DE BIO PORTECCIÓN- BLUSA  / UNIDAD","UNION TEMPORAL AYGEMA",28931.4,{"$f":"B690&G690","v":"C4S3-024UNION TEMPORAL AYGEMA"},{"$f":"C690&D690&E690&F690","v":"CUATRO (4)TRES (3)ATRAJES DE BIO PORTECCIÓN- BLUSA  / UNIDAD"},{"$f":"H690","v":28931.4},{"$f":"C690&D690&E690&F690&G690","v":"CUATRO (4)TRES (3)ATRAJES DE BIO PORTECCIÓN- BLUSA  / UNIDADUNION TEMPORAL AYGEMA"},{"$f":"B690&H690","v":"C4S3-02428931.4"},{"$f":"G690","v":"UNION TEMPORAL AYGEMA"},"Und",{"$f":"C690&D690&E690&F690&G690","v":"CUATRO (4)TRES (3)ATRAJES DE BIO PORTECCIÓN- BLUSA  / UNIDADUNION TEMPORAL AYGEMA"},{"$f":"H690","v":28931.4}]
[{"$f":"\"ate01-\"&B691&\" \"&C691&\" \"&D691&\" \"&E691","v":"ate01-C4S3-024 CUATRO (4) TRES (3) A"},"C4S3-024","CUATRO (4)","TRES (3)","A","TRAJES DE BIO PORTECCIÓN- BLUSA  / UNIDAD","COLOMBIANA DE TEXTILES POR MAYOR S.A.",49948.83,{"$f":"B691&G691","v":"C4S3-024COLOMBIANA DE TEXTILES POR MAYOR S.A."},{"$f":"C691&D691&E691&F691","v":"CUATRO (4)TRES (3)ATRAJES DE BIO PORTECCIÓN- BLUSA  / UNIDAD"},{"$f":"H691","v":49948.83},{"$f":"C691&D691&E691&F691&G691","v":"CUATRO (4)TRES (3)ATRAJES DE BIO PORTECCIÓN- BLUSA  / UNIDADCOLOMBIANA DE TEXTILES POR MAYOR S.A."},{"$f":"B691&H691","v":"C4S3-02449948.83"},{"$f":"G691","v":"COLOMBIANA DE TEXTILES POR MAYOR S.A."},"Und",{"$f":"C691&D691&E691&F691&G691","v":"CUATRO (4)TRES (3)ATRAJES DE BIO PORTECCIÓN- BLUSA  / UNIDADCOLOMBIANA DE TEXTILES POR MAYOR S.A."},{"$f":"H691","v":49948.83}]
[{"$f":"\"ate01-\"&B692&\" \"&C692&\" \"&D692&\" \"&E692","v":"ate01-C4S3-025 CUATRO (4) TRES (3) A"},"C4S3-025","CUATRO (4)","TRES (3)","A","TRAJES DE BIO PORTECCIÓN- PANTALON  / UNIDAD","JM GRUPO",44097.68,{"$f":"B692&G692","v":"C4S3-025JM GRUPO"},{"$f":"C692&D692&E692&F692","v":"CUATRO (4)TRES (3)ATRAJES DE BIO PORTECCIÓN- PANTALON  / UNIDAD"},{"$f":"H692","v":44097.68},{"$f":"C692&D692&E692&F692&G692","v":"CUATRO (4)TRES (3)ATRAJES DE BIO PORTECCIÓN- PANTALON  / UNIDADJM GRUPO"},{"$f":"B692&H692","v":"C4S3-02544097.68"},{"$f":"G692","v":"JM GRUPO"},"Und",{"$f":"C692&D692&E692&F692&G692","v":"CUATRO (4)TRES (3)ATRAJES DE BIO PORTECCIÓN- PANTALON  / UNIDADJM GRUPO"},{"$f":"H692","v":44097.68}]
[{"$f":"\"ate01-\"&B693&\" \"&C693&\" \"&D693&\" \"&E693","v":"ate01-C4S3-025 CUATRO (4) TRES (3) A"},"C4S3-025","CUATRO (4)","TRES (3)","A","TRAJES DE BIO PORTECCIÓN- PANTALON  / UNIDAD","UT EMERGENCIAS 2021",28542.19,{"$f":"B693&G693","v":"C4S3-025UT EMERGENCIAS 2021"},{"$f":"C693&D693&E693&F693","v":"CUATRO (4)TRES (3)ATRAJES DE BIO PORTECCIÓN- PANTALON  / UNIDAD"},{"$f":"H693","v":28542.19},{"$f":"C693&D693&E693&F693&G693","v":"CUATRO (4)TRES (3)ATRAJES DE BIO PORTECCIÓN- PANTALON  / UNIDADUT EMERGENCIAS 2021"},{"$f":"B693&H693","v":"C4S3-02528542.19"},{"$f":"G693","v":"UT EMERGENCIAS 2021"},"Und",{"$f":"C693&D693&E693&F693&G693","v":"CUATRO (4)TRES (3)ATRAJES DE BIO PORTECCIÓN- PANTALON  / UNIDADUT EMERGENCIAS 2021"},{"$f":"H693","v":28542.19}]
[{"$f":"\"ate01-\"&B694&\" \"&C694&\" \"&D694&\" \"&E694","v":"ate01-C4S3-025 CUATRO (4) TRES (3) A"},"C4S3-025","CUATRO (4)","TRES (3)","A","TRAJES DE BIO PORTECCIÓN- PANTALON  / UNIDAD","UNION TEMPORAL AYGEMA",28152.98,{"$f":"B694&G694","v":"C4S3-025UNION TEMPORAL AYGEMA"},{"$f":"C694&D694&E694&F694","v":"CUATRO (4)TRES (3)ATRAJES DE BIO PORTECCIÓN- PANTALON  / UNIDAD"},{"$f":"H694","v":28152.98},{"$f":"C694&D694&E694&F694&G694","v":"CUATRO (4)TRES (3)ATRAJES DE BIO PORTECCIÓN- PANTALON  / UNIDADUNION TEMPORAL AYGEMA"},{"$f":"B694&H694","v":"C4S3-02528152.98"},{"$f":"G694","v":"UNION TEMPORAL AYGEMA"},"Und",{"$f":"C694&D694&E694&F694&G694","v":"CUATRO (4)TRES (3)ATRAJES DE BIO PORTECCIÓN- PANTALON  / UNIDADUNION TEMPORAL AYGEMA"},{"$f":"H694","v":28152.98}]
[{"$f":"\"ate01-\"&B695&\" \"&C695&\" \"&D695&\" \"&E695","v":"ate01-C4S3-025 CUATRO (4) TRES (3) A"},"C4S3-025","CUATRO (4)","TRES (3)","A","TRAJES DE BIO PORTECCIÓN- PANTALON  / UNIDAD","COLOMBIANA DE TEXTILES POR MAYOR S.A.",38921.160000000003,{"$f":"B695&G695","v":"C4S3-025COLOMBIANA DE TEXTILES POR MAYOR S.A."},{"$f":"C695&D695&E695&F695","v":"CUATRO (4)TRES (3)ATRAJES DE BIO PORTECCIÓN- PANTALON  / UNIDAD"},{"$f":"H695","v":38921.160000000003},{"$f":"C695&D695&E695&F695&G695","v":"CUATRO (4)TRES (3)ATRAJES DE BIO PORTECCIÓN- PANTALON  / UNIDADCOLOMBIANA DE TEXTILES POR MAYOR S.A."},{"$f":"B695&H695","v":"C4S3-02538921.16"},{"$f":"G695","v":"COLOMBIANA DE TEXTILES POR MAYOR S.A."},"Und",{"$f":"C695&D695&E695&F695&G695","v":"CUATRO (4)TRES (3)ATRAJES DE BIO PORTECCIÓN- PANTALON  / UNIDADCOLOMBIANA DE TEXTILES POR MAYOR S.A."},{"$f":"H695","v":38921.160000000003}]
[{"$f":"\"ate01-\"&B696&\" \"&C696&\" \"&D696&\" \"&E696","v":"ate01-C4S3-028 CUATRO (4) TRES (3) C"},"C4S3-028","CUATRO (4)","TRES (3)","C","GUANTES DE NEOPRENO EN PAR /  PAR","JM GRUPO",40205.56,{"$f":"B696&G696","v":"C4S3-028JM GRUPO"},{"$f":"C696&D696&E696&F696","v":"CUATRO (4)TRES (3)CGUANTES DE NEOPRENO EN PAR /  PAR"},{"$f":"H696","v":40205.56},{"$f":"C696&D696&E696&F696&G696","v":"CUATRO (4)TRES (3)CGUANTES DE NEOPRENO EN PAR /  PARJM GRUPO"},{"$f":"B696&H696","v":"C4S3-02840205.56"},{"$f":"G696","v":"JM GRUPO"},"Und",{"$f":"C696&D696&E696&F696&G696","v":"CUATRO (4)TRES (3)CGUANTES DE NEOPRENO EN PAR /  PARJM GRUPO"},{"$f":"H696","v":40205.56}]
[{"$f":"\"ate01-\"&B697&\" \"&C697&\" \"&D697&\" \"&E697","v":"ate01-C4S3-028 CUATRO (4) TRES (3) C"},"C4S3-028","CUATRO (4)","TRES (3)","C","GUANTES DE NEOPRENO EN PAR /  PAR","UNION TEMPORAL AYGEMA",17968.599999999999,{"$f":"B697&G697","v":"C4S3-028UNION TEMPORAL AYGEMA"},{"$f":"C697&D697&E697&F697","v":"CUATRO (4)TRES (3)CGUANTES DE NEOPRENO EN PAR /  PAR"},{"$f":"H697","v":17968.599999999999},{"$f":"C697&D697&E697&F697&G697","v":"CUATRO (4)TRES (3)CGUANTES DE NEOPRENO EN PAR /  PARUNION TEMPORAL AYGEMA"},{"$f":"B697&H697","v":"C4S3-02817968.6"},{"$f":"G697","v":"UNION TEMPORAL AYGEMA"},"Und",{"$f":"C697&D697&E697&F697&G697","v":"CUATRO (4)TRES (3)CGUANTES DE NEOPRENO EN PAR /  PARUNION TEMPORAL AYGEMA"},{"$f":"H697","v":17968.599999999999}]
[{"$f":"\"ate01-\"&B698&\" \"&C698&\" \"&D698&\" \"&E698","v":"ate01-C4S3-028 CUATRO (4) TRES (3) C"},"C4S3-028","CUATRO (4)","TRES (3)","C","GUANTES DE NEOPRENO EN PAR /  PAR","SUPRISA S.A.S.",12714.91,{"$f":"B698&G698","v":"C4S3-028SUPRISA S.A.S."},{"$f":"C698&D698&E698&F698","v":"CUATRO (4)TRES (3)CGUANTES DE NEOPRENO EN PAR /  PAR"},{"$f":"H698","v":12714.91},{"$f":"C698&D698&E698&F698&G698","v":"CUATRO (4)TRES (3)CGUANTES DE NEOPRENO EN PAR /  PARSUPRISA S.A.S."},{"$f":"B698&H698","v":"C4S3-02812714.91"},{"$f":"G698","v":"SUPRISA S.A.S."},"Und",{"$f":"C698&D698&E698&F698&G698","v":"CUATRO (4)TRES (3)CGUANTES DE NEOPRENO EN PAR /  PARSUPRISA S.A.S."},{"$f":"H698","v":12714.91}]
[{"$f":"\"ate01-\"&B699&\" \"&C699&\" \"&D699&\" \"&E699","v":"ate01-C4S3-028 CUATRO (4) TRES (3) C"},"C4S3-028","CUATRO (4)","TRES (3)","C","GUANTES DE NEOPRENO EN PAR /  PAR","MIGUEL ANGEL VALLEJO BURGOS",62272.57,{"$f":"B699&G699","v":"C4S3-028MIGUEL ANGEL VALLEJO BURGOS"},{"$f":"C699&D699&E699&F699","v":"CUATRO (4)TRES (3)CGUANTES DE NEOPRENO EN PAR /  PAR"},{"$f":"H699","v":62272.57},{"$f":"C699&D699&E699&F699&G699","v":"CUATRO (4)TRES (3)CGUANTES DE NEOPRENO EN PAR /  PARMIGUEL ANGEL VALLEJO BURGOS"},{"$f":"B699&H699","v":"C4S3-02862272.57"},{"$f":"G699","v":"MIGUEL ANGEL VALLEJO BURGOS"},"Und",{"$f":"C699&D699&E699&F699&G699","v":"CUATRO (4)TRES (3)CGUANTES DE NEOPRENO EN PAR /  PARMIGUEL ANGEL VALLEJO BURGOS"},{"$f":"H699","v":62272.57}]
[{"$f":"\"ate01-\"&B700&\" \"&C700&\" \"&D700&\" \"&E700","v":"ate01-C4S3-029 CUATRO (4) TRES (3) A"},"C4S3-029","CUATRO (4)","TRES (3)","A","GORRO QUIRURGICO CON RECUENTO CONTROLADO MICROBIANO / BOLSA X  50 UNIDADES","JM GRUPO",34899.31,{"$f":"B700&G700","v":"C4S3-029JM GRUPO"},{"$f":"C700&D700&E700&F700","v":"CUATRO (4)TRES (3)AGORRO QUIRURGICO CON RECUENTO CONTROLADO MICROBIANO / BOLSA X  50 UNIDADES"},{"$f":"H700","v":34899.31},{"$f":"C700&D700&E700&F700&G700","v":"CUATRO (4)TRES (3)AGORRO QUIRURGICO CON RECUENTO CONTROLADO MICROBIANO / BOLSA X  50 UNIDADESJM GRUPO"},{"$f":"B700&H700","v":"C4S3-02934899.31"},{"$f":"G700","v":"JM GRUPO"},"Und",{"$f":"C700&D700&E700&F700&G700","v":"CUATRO (4)TRES (3)AGORRO QUIRURGICO CON RECUENTO CONTROLADO MICROBIANO / BOLSA X  50 UNIDADESJM GRUPO"},{"$f":"H700","v":34899.31}]
[{"$f":"\"ate01-\"&B701&\" \"&C701&\" \"&D701&\" \"&E701","v":"ate01-C4S3-029 CUATRO (4) TRES (3) A"},"C4S3-029","CUATRO (4)","TRES (3)","A","GORRO QUIRURGICO CON RECUENTO CONTROLADO MICROBIANO / BOLSA X  50 UNIDADES","UT EMERGENCIAS 2021",31136.93,{"$f":"B701&G701","v":"C4S3-029UT EMERGENCIAS 2021"},{"$f":"C701&D701&E701&F701","v":"CUATRO (4)TRES (3)AGORRO QUIRURGICO CON RECUENTO CONTROLADO MICROBIANO / BOLSA X  50 UNIDADES"},{"$f":"H701","v":31136.93},{"$f":"C701&D701&E701&F701&G701","v":"CUATRO (4)TRES (3)AGORRO QUIRURGICO CON RECUENTO CONTROLADO MICROBIANO / BOLSA X  50 UNIDADESUT EMERGENCIAS 2021"},{"$f":"B701&H701","v":"C4S3-02931136.93"},{"$f":"G701","v":"UT EMERGENCIAS 2021"},"Und",{"$f":"C701&D701&E701&F701&G701","v":"CUATRO (4)TRES (3)AGORRO QUIRURGICO CON RECUENTO CONTROLADO MICROBIANO / BOLSA X  50 UNIDADESUT EMERGENCIAS 2021"},{"$f":"H701","v":31136.93}]
[{"$f":"\"ate01-\"&B702&\" \"&C702&\" \"&D702&\" \"&E702","v":"ate01-C4S3-029 CUATRO (4) TRES (3) A"},"C4S3-029","CUATRO (4)","TRES (3)","A","GORRO QUIRURGICO CON RECUENTO CONTROLADO MICROBIANO / BOLSA X  50 UNIDADES","UNION TEMPORAL AYGEMA",31007.19,{"$f":"B702&G702","v":"C4S3-029UNION TEMPORAL AYGEMA"},{"$f":"C702&D702&E702&F702","v":"CUATRO (4)TRES (3)AGORRO QUIRURGICO CON RECUENTO CONTROLADO MICROBIANO / BOLSA X  50 UNIDADES"},{"$f":"H702","v":31007.19},{"$f":"C702&D702&E702&F702&G702","v":"CUATRO (4)TRES (3)AGORRO QUIRURGICO CON RECUENTO CONTROLADO MICROBIANO / BOLSA X  50 UNIDADESUNION TEMPORAL AYGEMA"},{"$f":"B702&H702","v":"C4S3-02931007.19"},{"$f":"G702","v":"UNION TEMPORAL AYGEMA"},"Und",{"$f":"C702&D702&E702&F702&G702","v":"CUATRO (4)TRES (3)AGORRO QUIRURGICO CON RECUENTO CONTROLADO MICROBIANO / BOLSA X  50 UNIDADESUNION TEMPORAL AYGEMA"},{"$f":"H702","v":31007.19}]
[{"$f":"\"ate01-\"&B703&\" \"&C703&\" \"&D703&\" \"&E703","v":"ate01-C4S3-029 CUATRO (4) TRES (3) A"},"C4S3-029","CUATRO (4)","TRES (3)","A","GORRO QUIRURGICO CON RECUENTO CONTROLADO MICROBIANO / BOLSA X  50 UNIDADES","COLOMBIANA DE TEXTILES POR MAYOR S.A.",26596.13,{"$f":"B703&G703","v":"C4S3-029COLOMBIANA DE TEXTILES POR MAYOR S.A."},{"$f":"C703&D703&E703&F703","v":"CUATRO (4)TRES (3)AGORRO QUIRURGICO CON RECUENTO CONTROLADO MICROBIANO / BOLSA X  50 UNIDADES"},{"$f":"H703","v":26596.13},{"$f":"C703&D703&E703&F703&G703","v":"CUATRO (4)TRES (3)AGORRO QUIRURGICO CON RECUENTO CONTROLADO MICROBIANO / BOLSA X  50 UNIDADESCOLOMBIANA DE TEXTILES POR MAYOR S.A."},{"$f":"B703&H703","v":"C4S3-02926596.13"},{"$f":"G703","v":"COLOMBIANA DE TEXTILES POR MAYOR S.A."},"Und",{"$f":"C703&D703&E703&F703&G703","v":"CUATRO (4)TRES (3)AGORRO QUIRURGICO CON RECUENTO CONTROLADO MICROBIANO / BOLSA X  50 UNIDADESCOLOMBIANA DE TEXTILES POR MAYOR S.A."},{"$f":"H703","v":26596.13}]
[{"$f":"\"ate01-\"&B704&\" \"&C704&\" \"&D704&\" \"&E704","v":"ate01-C4S3-030 CUATRO (4) TRES (3) C"},"C4S3-030","CUATRO (4)","TRES (3)","C","GUANTES DE CARNAZA / PAR ","JM GRUPO",15568.47,{"$f":"B704&G704","v":"C4S3-030JM GRUPO"},{"$f":"C704&D704&E704&F704","v":"CUATRO (4)TRES (3)CGUANTES DE CARNAZA / PAR "},{"$f":"H704","v":15568.47},{"$f":"C704&D704&E704&F704&G704","v":"CUATRO (4)TRES (3)CGUANTES DE CARNAZA / PAR JM GRUPO"},{"$f":"B704&H704","v":"C4S3-03015568.47"},{"$f":"G704","v":"JM GRUPO"},"Und",{"$f":"C704&D704&E704&F704&G704","v":"CUATRO (4)TRES (3)CGUANTES DE CARNAZA / PAR JM GRUPO"},{"$f":"H704","v":15568.47}]
[{"$f":"\"ate01-\"&B705&\" \"&C705&\" \"&D705&\" \"&E705","v":"ate01-C4S3-030 CUATRO (4) TRES (3) C"},"C4S3-030","CUATRO (4)","TRES (3)","C","GUANTES DE CARNAZA / PAR ","UNION TEMPORAL AYGEMA",8368.0499999999993,{"$f":"B705&G705","v":"C4S3-030UNION TEMPORAL AYGEMA"},{"$f":"C705&D705&E705&F705","v":"CUATRO (4)TRES (3)CGUANTES DE CARNAZA / PAR "},{"$f":"H705","v":8368.0499999999993},{"$f":"C705&D705&E705&F705&G705","v":"CUATRO (4)TRES (3)CGUANTES DE CARNAZA / PAR UNION TEMPORAL AYGEMA"},{"$f":"B705&H705","v":"C4S3-0308368.05"},{"$f":"G705","v":"UNION TEMPORAL AYGEMA"},"Und",{"$f":"C705&D705&E705&F705&G705","v":"CUATRO (4)TRES (3)CGUANTES DE CARNAZA / PAR UNION TEMPORAL AYGEMA"},{"$f":"H705","v":8368.0499999999993}]
[{"$f":"\"ate01-\"&B706&\" \"&C706&\" \"&D706&\" \"&E706","v":"ate01-C4S3-030 CUATRO (4) TRES (3) C"},"C4S3-030","CUATRO (4)","TRES (3)","C","GUANTES DE CARNAZA / PAR ","SUPRISA S.A.S.",13059.2,{"$f":"B706&G706","v":"C4S3-030SUPRISA S.A.S."},{"$f":"C706&D706&E706&F706","v":"CUATRO (4)TRES (3)CGUANTES DE CARNAZA / PAR "},{"$f":"H706","v":13059.2},{"$f":"C706&D706&E706&F706&G706","v":"CUATRO (4)TRES (3)CGUANTES DE CARNAZA / PAR SUPRISA S.A.S."},{"$f":"B706&H706","v":"C4S3-03013059.2"},{"$f":"G706","v":"SUPRISA S.A.S."},"Und",{"$f":"C706&D706&E706&F706&G706","v":"CUATRO (4)TRES (3)CGUANTES DE CARNAZA / PAR SUPRISA S.A.S."},{"$f":"H706","v":13059.2}]
[{"$f":"\"ate01-\"&B707&\" \"&C707&\" \"&D707&\" \"&E707","v":"ate01-C4S3-030 CUATRO (4) TRES (3) C"},"C4S3-030","CUATRO (4)","TRES (3)","C","GUANTES DE CARNAZA / PAR ","MIGUEL ANGEL VALLEJO BURGOS",25298.76,{"$f":"B707&G707","v":"C4S3-030MIGUEL ANGEL VALLEJO BURGOS"},{"$f":"C707&D707&E707&F707","v":"CUATRO (4)TRES (3)CGUANTES DE CARNAZA / PAR "},{"$f":"H707","v":25298.76},{"$f":"C707&D707&E707&F707&G707","v":"CUATRO (4)TRES (3)CGUANTES DE CARNAZA / PAR MIGUEL ANGEL VALLEJO BURGOS"},{"$f":"B707&H707","v":"C4S3-03025298.76"},{"$f":"G707","v":"MIGUEL ANGEL VALLEJO BURGOS"},"Und",{"$f":"C707&D707&E707&F707&G707","v":"CUATRO (4)TRES (3)CGUANTES DE CARNAZA / PAR MIGUEL ANGEL VALLEJO BURGOS"},{"$f":"H707","v":25298.76}]
[{"$f":"\"ate01-\"&B708&\" \"&C708&\" \"&D708&\" \"&E708","v":"ate01-C4S3-031 CUATRO (4) TRES (3) C"},"C4S3-031","CUATRO (4)","TRES (3)","C","GUANTES DE VAQUETA / PAR ","JM GRUPO",20757.95,{"$f":"B708&G708","v":"C4S3-031JM GRUPO"},{"$f":"C708&D708&E708&F708","v":"CUATRO (4)TRES (3)CGUANTES DE VAQUETA / PAR "},{"$f":"H708","v":20757.95},{"$f":"C708&D708&E708&F708&G708","v":"CUATRO (4)TRES (3)CGUANTES DE VAQUETA / PAR JM GRUPO"},{"$f":"B708&H708","v":"C4S3-03120757.95"},{"$f":"G708","v":"JM GRUPO"},"Und",{"$f":"C708&D708&E708&F708&G708","v":"CUATRO (4)TRES (3)CGUANTES DE VAQUETA / PAR JM GRUPO"},{"$f":"H708","v":20757.95}]
[{"$f":"\"ate01-\"&B709&\" \"&C709&\" \"&D709&\" \"&E709","v":"ate01-C4S3-031 CUATRO (4) TRES (3) C"},"C4S3-031","CUATRO (4)","TRES (3)","C","GUANTES DE VAQUETA / PAR ","UNION TEMPORAL AYGEMA",7913.97,{"$f":"B709&G709","v":"C4S3-031UNION TEMPORAL AYGEMA"},{"$f":"C709&D709&E709&F709","v":"CUATRO (4)TRES (3)CGUANTES DE VAQUETA / PAR "},{"$f":"H709","v":7913.97},{"$f":"C709&D709&E709&F709&G709","v":"CUATRO (4)TRES (3)CGUANTES DE VAQUETA / PAR UNION TEMPORAL AYGEMA"},{"$f":"B709&H709","v":"C4S3-0317913.97"},{"$f":"G709","v":"UNION TEMPORAL AYGEMA"},"Und",{"$f":"C709&D709&E709&F709&G709","v":"CUATRO (4)TRES (3)CGUANTES DE VAQUETA / PAR UNION TEMPORAL AYGEMA"},{"$f":"H709","v":7913.97}]
[{"$f":"\"ate01-\"&B710&\" \"&C710&\" \"&D710&\" \"&E710","v":"ate01-C4S3-031 CUATRO (4) TRES (3) C"},"C4S3-031","CUATRO (4)","TRES (3)","C","GUANTES DE VAQUETA / PAR ","SUPRISA S.A.S.",14246.4,{"$f":"B710&G710","v":"C4S3-031SUPRISA S.A.S."},{"$f":"C710&D710&E710&F710","v":"CUATRO (4)TRES (3)CGUANTES DE VAQUETA / PAR "},{"$f":"H710","v":14246.4},{"$f":"C710&D710&E710&F710&G710","v":"CUATRO (4)TRES (3)CGUANTES DE VAQUETA / PAR SUPRISA S.A.S."},{"$f":"B710&H710","v":"C4S3-03114246.4"},{"$f":"G710","v":"SUPRISA S.A.S."},"Und",{"$f":"C710&D710&E710&F710&G710","v":"CUATRO (4)TRES (3)CGUANTES DE VAQUETA / PAR SUPRISA S.A.S."},{"$f":"H710","v":14246.4}]
[{"$f":"\"ate01-\"&B711&\" \"&C711&\" \"&D711&\" \"&E711","v":"ate01-C4S3-031 CUATRO (4) TRES (3) C"},"C4S3-031","CUATRO (4)","TRES (3)","C","GUANTES DE VAQUETA / PAR ","MIGUEL ANGEL VALLEJO BURGOS",21406.639999999999,{"$f":"B711&G711","v":"C4S3-031MIGUEL ANGEL VALLEJO BURGOS"},{"$f":"C711&D711&E711&F711","v":"CUATRO (4)TRES (3)CGUANTES DE VAQUETA / PAR "},{"$f":"H711","v":21406.639999999999},{"$f":"C711&D711&E711&F711&G711","v":"CUATRO (4)TRES (3)CGUANTES DE VAQUETA / PAR MIGUEL ANGEL VALLEJO BURGOS"},{"$f":"B711&H711","v":"C4S3-03121406.64"},{"$f":"G711","v":"MIGUEL ANGEL VALLEJO BURGOS"},"Und",{"$f":"C711&D711&E711&F711&G711","v":"CUATRO (4)TRES (3)CGUANTES DE VAQUETA / PAR MIGUEL ANGEL VALLEJO BURGOS"},{"$f":"H711","v":21406.639999999999}]
[{"$f":"\"ate01-\"&B712&\" \"&C712&\" \"&D712&\" \"&E712","v":"ate01-C4S4-001 CUATRO (4) CUATRO (4) C"},"C4S4-001","CUATRO (4)","CUATRO (4)","C","CEPILLO DE DIENTES / UNIDAD","SUMIMAS S.A.S.",8582.1200000000008,{"$f":"B712&G712","v":"C4S4-001SUMIMAS S.A.S."},{"$f":"C712&D712&E712&F712","v":"CUATRO (4)CUATRO (4)CCEPILLO DE DIENTES / UNIDAD"},{"$f":"H712","v":8582.1200000000008},{"$f":"C712&D712&E712&F712&G712","v":"CUATRO (4)CUATRO (4)CCEPILLO DE DIENTES / UNIDADSUMIMAS S.A.S."},{"$f":"B712&H712","v":"C4S4-0018582.12"},{"$f":"G712","v":"SUMIMAS S.A.S."},"Und",{"$f":"C712&D712&E712&F712&G712","v":"CUATRO (4)CUATRO (4)CCEPILLO DE DIENTES / UNIDADSUMIMAS S.A.S."},{"$f":"H712","v":8582.1200000000008}]
[{"$f":"\"ate01-\"&B713&\" \"&C713&\" \"&D713&\" \"&E713","v":"ate01-C4S4-001 CUATRO (4) CUATRO (4) C"},"C4S4-001","CUATRO (4)","CUATRO (4)","C","CEPILLO DE DIENTES / UNIDAD","UNION TEMPORAL AYGEMA",3827.25,{"$f":"B713&G713","v":"C4S4-001UNION TEMPORAL AYGEMA"},{"$f":"C713&D713&E713&F713","v":"CUATRO (4)CUATRO (4)CCEPILLO DE DIENTES / UNIDAD"},{"$f":"H713","v":3827.25},{"$f":"C713&D713&E713&F713&G713","v":"CUATRO (4)CUATRO (4)CCEPILLO DE DIENTES / UNIDADUNION TEMPORAL AYGEMA"},{"$f":"B713&H713","v":"C4S4-0013827.25"},{"$f":"G713","v":"UNION TEMPORAL AYGEMA"},"Und",{"$f":"C713&D713&E713&F713&G713","v":"CUATRO (4)CUATRO (4)CCEPILLO DE DIENTES / UNIDADUNION TEMPORAL AYGEMA"},{"$f":"H713","v":3827.25}]
[{"$f":"\"ate01-\"&B714&\" \"&C714&\" \"&D714&\" \"&E714","v":"ate01-C4S4-001 CUATRO (4) CUATRO (4) C"},"C4S4-001","CUATRO (4)","CUATRO (4)","C","CEPILLO DE DIENTES / UNIDAD","UT SS 2021- CCENEG- 041-01-2021",1297.3699999999999,{"$f":"B714&G714","v":"C4S4-001UT SS 2021- CCENEG- 041-01-2021"},{"$f":"C714&D714&E714&F714","v":"CUATRO (4)CUATRO (4)CCEPILLO DE DIENTES / UNIDAD"},{"$f":"H714","v":1297.3699999999999},{"$f":"C714&D714&E714&F714&G714","v":"CUATRO (4)CUATRO (4)CCEPILLO DE DIENTES / UNIDADUT SS 2021- CCENEG- 041-01-2021"},{"$f":"B714&H714","v":"C4S4-0011297.37"},{"$f":"G714","v":"UT SS 2021- CCENEG- 041-01-2021"},"Und",{"$f":"C714&D714&E714&F714&G714","v":"CUATRO (4)CUATRO (4)CCEPILLO DE DIENTES / UNIDADUT SS 2021- CCENEG- 041-01-2021"},{"$f":"H714","v":1297.3699999999999}]
[{"$f":"\"ate01-\"&B715&\" \"&C715&\" \"&D715&\" \"&E715","v":"ate01-C4S4-001 CUATRO (4) CUATRO (4) C"},"C4S4-001","CUATRO (4)","CUATRO (4)","C","CEPILLO DE DIENTES / UNIDAD","SUPRISA S.A.S.",3243.43,{"$f":"B715&G715","v":"C4S4-001SUPRISA S.A.S."},{"$f":"C715&D715&E715&F715","v":"CUATRO (4)CUATRO (4)CCEPILLO DE DIENTES / UNIDAD"},{"$f":"H715","v":3243.43},{"$f":"C715&D715&E715&F715&G715","v":"CUATRO (4)CUATRO (4)CCEPILLO DE DIENTES / UNIDADSUPRISA S.A.S."},{"$f":"B715&H715","v":"C4S4-0013243.43"},{"$f":"G715","v":"SUPRISA S.A.S."},"Und",{"$f":"C715&D715&E715&F715&G715","v":"CUATRO (4)CUATRO (4)CCEPILLO DE DIENTES / UNIDADSUPRISA S.A.S."},{"$f":"H715","v":3243.43}]
[{"$f":"\"ate01-\"&B716&\" \"&C716&\" \"&D716&\" \"&E716","v":"ate01-C4S4-001 CUATRO (4) CUATRO (4) C"},"C4S4-001","CUATRO (4)","CUATRO (4)","C","CEPILLO DE DIENTES / UNIDAD","COMERCIALIZADORA DINPRO S.A.S.",4540.8,{"$f":"B716&G716","v":"C4S4-001COMERCIALIZADORA DINPRO S.A.S."},{"$f":"C716&D716&E716&F716","v":"CUATRO (4)CUATRO (4)CCEPILLO DE DIENTES / UNIDAD"},{"$f":"H716","v":4540.8},{"$f":"C716&D716&E716&F716&G716","v":"CUATRO (4)CUATRO (4)CCEPILLO DE DIENTES / UNIDADCOMERCIALIZADORA DINPRO S.A.S."},{"$f":"B716&H716","v":"C4S4-0014540.8"},{"$f":"G716","v":"COMERCIALIZADORA DINPRO S.A.S."},"Und",{"$f":"C716&D716&E716&F716&G716","v":"CUATRO (4)CUATRO (4)CCEPILLO DE DIENTES / UNIDADCOMERCIALIZADORA DINPRO S.A.S."},{"$f":"H716","v":4540.8}]
[{"$f":"\"ate01-\"&B717&\" \"&C717&\" \"&D717&\" \"&E717","v":"ate01-C4S4-001 CUATRO (4) CUATRO (4) C"},"C4S4-001","CUATRO (4)","CUATRO (4)","C","CEPILLO DE DIENTES / UNIDAD","MIGUEL ANGEL VALLEJO BURGOS",2862,{"$f":"B717&G717","v":"C4S4-001MIGUEL ANGEL VALLEJO BURGOS"},{"$f":"C717&D717&E717&F717","v":"CUATRO (4)CUATRO (4)CCEPILLO DE DIENTES / UNIDAD"},{"$f":"H717","v":2862},{"$f":"C717&D717&E717&F717&G717","v":"CUATRO (4)CUATRO (4)CCEPILLO DE DIENTES / UNIDADMIGUEL ANGEL VALLEJO BURGOS"},{"$f":"B717&H717","v":"C4S4-0012862"},{"$f":"G717","v":"MIGUEL ANGEL VALLEJO BURGOS"},"Und",{"$f":"C717&D717&E717&F717&G717","v":"CUATRO (4)CUATRO (4)CCEPILLO DE DIENTES / UNIDADMIGUEL ANGEL VALLEJO BURGOS"},{"$f":"H717","v":2862}]
[{"$f":"\"ate01-\"&B718&\" \"&C718&\" \"&D718&\" \"&E718","v":"ate01-C4S4-002 CUATRO (4) CUATRO (4) C"},"C4S4-002","CUATRO (4)","CUATRO (4)","C","PAPEL HIGIÉNICO 1 / UN ROLLO","SUMIMAS S.A.S.",2038.17,{"$f":"B718&G718","v":"C4S4-002SUMIMAS S.A.S."},{"$f":"C718&D718&E718&F718","v":"CUATRO (4)CUATRO (4)CPAPEL HIGIÉNICO 1 / UN ROLLO"},{"$f":"H718","v":2038.17},{"$f":"C718&D718&E718&F718&G718","v":"CUATRO (4)CUATRO (4)CPAPEL HIGIÉNICO 1 / UN ROLLOSUMIMAS S.A.S."},{"$f":"B718&H718","v":"C4S4-0022038.17"},{"$f":"G718","v":"SUMIMAS S.A.S."},"Und",{"$f":"C718&D718&E718&F718&G718","v":"CUATRO (4)CUATRO (4)CPAPEL HIGIÉNICO 1 / UN ROLLOSUMIMAS S.A.S."},{"$f":"H718","v":2038.17}]
[{"$f":"\"ate01-\"&B719&\" \"&C719&\" \"&D719&\" \"&E719","v":"ate01-C4S4-002 CUATRO (4) CUATRO (4) C"},"C4S4-002","CUATRO (4)","CUATRO (4)","C","PAPEL HIGIÉNICO 1 / UN ROLLO","UNION TEMPORAL AYGEMA",2724.48,{"$f":"B719&G719","v":"C4S4-002UNION TEMPORAL AYGEMA"},{"$f":"C719&D719&E719&F719","v":"CUATRO (4)CUATRO (4)CPAPEL HIGIÉNICO 1 / UN ROLLO"},{"$f":"H719","v":2724.48},{"$f":"C719&D719&E719&F719&G719","v":"CUATRO (4)CUATRO (4)CPAPEL HIGIÉNICO 1 / UN ROLLOUNION TEMPORAL AYGEMA"},{"$f":"B719&H719","v":"C4S4-0022724.48"},{"$f":"G719","v":"UNION TEMPORAL AYGEMA"},"Und",{"$f":"C719&D719&E719&F719&G719","v":"CUATRO (4)CUATRO (4)CPAPEL HIGIÉNICO 1 / UN ROLLOUNION TEMPORAL AYGEMA"},{"$f":"H719","v":2724.48}]
[{"$f":"\"ate01-\"&B720&\" \"&C720&\" \"&D720&\" \"&E720","v":"ate01-C4S4-002 CUATRO (4) CUATRO (4) C"},"C4S4-002","CUATRO (4)","CUATRO (4)","C","PAPEL HIGIÉNICO 1 / UN ROLLO","UT SS 2021- CCENEG- 041-01-2021",2164.02,{"$f":"B720&G720","v":"C4S4-002UT SS 2021- CCENEG- 041-01-2021"},{"$f":"C720&D720&E720&F720","v":"CUATRO (4)CUATRO (4)CPAPEL HIGIÉNICO 1 / UN ROLLO"},{"$f":"H720","v":2164.02},{"$f":"C720&D720&E720&F720&G720","v":"CUATRO (4)CUATRO (4)CPAPEL HIGIÉNICO 1 / UN ROLLOUT SS 2021- CCENEG- 041-01-2021"},{"$f":"B720&H720","v":"C4S4-0022164.02"},{"$f":"G720","v":"UT SS 2021- CCENEG- 041-01-2021"},"Und",{"$f":"C720&D720&E720&F720&G720","v":"CUATRO (4)CUATRO (4)CPAPEL HIGIÉNICO 1 / UN ROLLOUT SS 2021- CCENEG- 041-01-2021"},{"$f":"H720","v":2164.02}]
[{"$f":"\"ate01-\"&B721&\" \"&C721&\" \"&D721&\" \"&E721","v":"ate01-C4S4-002 CUATRO (4) CUATRO (4) C"},"C4S4-002","CUATRO (4)","CUATRO (4)","C","PAPEL HIGIÉNICO 1 / UN ROLLO","SUPRISA S.A.S.",1852.65,{"$f":"B721&G721","v":"C4S4-002SUPRISA S.A.S."},{"$f":"C721&D721&E721&F721","v":"CUATRO (4)CUATRO (4)CPAPEL HIGIÉNICO 1 / UN ROLLO"},{"$f":"H721","v":1852.65},{"$f":"C721&D721&E721&F721&G721","v":"CUATRO (4)CUATRO (4)CPAPEL HIGIÉNICO 1 / UN ROLLOSUPRISA S.A.S."},{"$f":"B721&H721","v":"C4S4-0021852.65"},{"$f":"G721","v":"SUPRISA S.A.S."},"Und",{"$f":"C721&D721&E721&F721&G721","v":"CUATRO (4)CUATRO (4)CPAPEL HIGIÉNICO 1 / UN ROLLOSUPRISA S.A.S."},{"$f":"H721","v":1852.65}]
[{"$f":"\"ate01-\"&B722&\" \"&C722&\" \"&D722&\" \"&E722","v":"ate01-C4S4-002 CUATRO (4) CUATRO (4) C"},"C4S4-002","CUATRO (4)","CUATRO (4)","C","PAPEL HIGIÉNICO 1 / UN ROLLO","COMERCIALIZADORA DINPRO S.A.S.",2594.7399999999998,{"$f":"B722&G722","v":"C4S4-002COMERCIALIZADORA DINPRO S.A.S."},{"$f":"C722&D722&E722&F722","v":"CUATRO (4)CUATRO (4)CPAPEL HIGIÉNICO 1 / UN ROLLO"},{"$f":"H722","v":2594.7399999999998},{"$f":"C722&D722&E722&F722&G722","v":"CUATRO (4)CUATRO (4)CPAPEL HIGIÉNICO 1 / UN ROLLOCOMERCIALIZADORA DINPRO S.A.S."},{"$f":"B722&H722","v":"C4S4-0022594.74"},{"$f":"G722","v":"COMERCIALIZADORA DINPRO S.A.S."},"Und",{"$f":"C722&D722&E722&F722&G722","v":"CUATRO (4)CUATRO (4)CPAPEL HIGIÉNICO 1 / UN ROLLOCOMERCIALIZADORA DINPRO S.A.S."},{"$f":"H722","v":2594.7399999999998}]
[{"$f":"\"ate01-\"&B723&\" \"&C723&\" \"&D723&\" \"&E723","v":"ate01-C4S4-002 CUATRO (4) CUATRO (4) C"},"C4S4-002","CUATRO (4)","CUATRO (4)","C","PAPEL HIGIÉNICO 1 / UN ROLLO","MIGUEL ANGEL VALLEJO BURGOS",1638.58,{"$f":"B723&G723","v":"C4S4-002MIGUEL ANGEL VALLEJO BURGOS"},{"$f":"C723&D723&E723&F723","v":"CUATRO (4)CUATRO (4)CPAPEL HIGIÉNICO 1 / UN ROLLO"},{"$f":"H723","v":1638.58},{"$f":"C723&D723&E723&F723&G723","v":"CUATRO (4)CUATRO (4)CPAPEL HIGIÉNICO 1 / UN ROLLOMIGUEL ANGEL VALLEJO BURGOS"},{"$f":"B723&H723","v":"C4S4-0021638.58"},{"$f":"G723","v":"MIGUEL ANGEL VALLEJO BURGOS"},"Und",{"$f":"C723&D723&E723&F723&G723","v":"CUATRO (4)CUATRO (4)CPAPEL HIGIÉNICO 1 / UN ROLLOMIGUEL ANGEL VALLEJO BURGOS"},{"$f":"H723","v":1638.58}]
[{"$f":"\"ate01-\"&B724&\" \"&C724&\" \"&D724&\" \"&E724","v":"ate01-C4S4-003 CUATRO (4) CUATRO (4) C"},"C4S4-003","CUATRO (4)","CUATRO (4)","C","PAPEL HIGIÉNICO 2 / UN ROLLO","SUMIMAS S.A.S.",14097.25,{"$f":"B724&G724","v":"C4S4-003SUMIMAS S.A.S."},{"$f":"C724&D724&E724&F724","v":"CUATRO (4)CUATRO (4)CPAPEL HIGIÉNICO 2 / UN ROLLO"},{"$f":"H724","v":14097.25},{"$f":"C724&D724&E724&F724&G724","v":"CUATRO (4)CUATRO (4)CPAPEL HIGIÉNICO 2 / UN ROLLOSUMIMAS S.A.S."},{"$f":"B724&H724","v":"C4S4-00314097.25"},{"$f":"G724","v":"SUMIMAS S.A.S."},"Und",{"$f":"C724&D724&E724&F724&G724","v":"CUATRO (4)CUATRO (4)CPAPEL HIGIÉNICO 2 / UN ROLLOSUMIMAS S.A.S."},{"$f":"H724","v":14097.25}]
[{"$f":"\"ate01-\"&B725&\" \"&C725&\" \"&D725&\" \"&E725","v":"ate01-C4S4-003 CUATRO (4) CUATRO (4) C"},"C4S4-003","CUATRO (4)","CUATRO (4)","C","PAPEL HIGIÉNICO 2 / UN ROLLO","UNION TEMPORAL AYGEMA",23352.7,{"$f":"B725&G725","v":"C4S4-003UNION TEMPORAL AYGEMA"},{"$f":"C725&D725&E725&F725","v":"CUATRO (4)CUATRO (4)CPAPEL HIGIÉNICO 2 / UN ROLLO"},{"$f":"H725","v":23352.7},{"$f":"C725&D725&E725&F725&G725","v":"CUATRO (4)CUATRO (4)CPAPEL HIGIÉNICO 2 / UN ROLLOUNION TEMPORAL AYGEMA"},{"$f":"B725&H725","v":"C4S4-00323352.7"},{"$f":"G725","v":"UNION TEMPORAL AYGEMA"},"Und",{"$f":"C725&D725&E725&F725&G725","v":"CUATRO (4)CUATRO (4)CPAPEL HIGIÉNICO 2 / UN ROLLOUNION TEMPORAL AYGEMA"},{"$f":"H725","v":23352.7}]
[{"$f":"\"ate01-\"&B726&\" \"&C726&\" \"&D726&\" \"&E726","v":"ate01-C4S4-003 CUATRO (4) CUATRO (4) C"},"C4S4-003","CUATRO (4)","CUATRO (4)","C","PAPEL HIGIÉNICO 2 / UN ROLLO","UT SS 2021- CCENEG- 041-01-2021",9616.1200000000008,{"$f":"B726&G726","v":"C4S4-003UT SS 2021- CCENEG- 041-01-2021"},{"$f":"C726&D726&E726&F726","v":"CUATRO (4)CUATRO (4)CPAPEL HIGIÉNICO 2 / UN ROLLO"},{"$f":"H726","v":9616.1200000000008},{"$f":"C726&D726&E726&F726&G726","v":"CUATRO (4)CUATRO (4)CPAPEL HIGIÉNICO 2 / UN ROLLOUT SS 2021- CCENEG- 041-01-2021"},{"$f":"B726&H726","v":"C4S4-0039616.12"},{"$f":"G726","v":"UT SS 2021- CCENEG- 041-01-2021"},"Und",{"$f":"C726&D726&E726&F726&G726","v":"CUATRO (4)CUATRO (4)CPAPEL HIGIÉNICO 2 / UN ROLLOUT SS 2021- CCENEG- 041-01-2021"},{"$f":"H726","v":9616.1200000000008}]
[{"$f":"\"ate01-\"&B727&\" \"&C727&\" \"&D727&\" \"&E727","v":"ate01-C4S4-003 CUATRO (4) CUATRO (4) C"},"C4S4-003","CUATRO (4)","CUATRO (4)","C","PAPEL HIGIÉNICO 2 / UN ROLLO","SUPRISA S.A.S.",13622.41,{"$f":"B727&G727","v":"C4S4-003SUPRISA S.A.S."},{"$f":"C727&D727&E727&F727","v":"CUATRO (4)CUATRO (4)CPAPEL HIGIÉNICO 2 / UN ROLLO"},{"$f":"H727","v":13622.41},{"$f":"C727&D727&E727&F727&G727","v":"CUATRO (4)CUATRO (4)CPAPEL HIGIÉNICO 2 / UN ROLLOSUPRISA S.A.S."},{"$f":"B727&H727","v":"C4S4-00313622.41"},{"$f":"G727","v":"SUPRISA S.A.S."},"Und",{"$f":"C727&D727&E727&F727&G727","v":"CUATRO (4)CUATRO (4)CPAPEL HIGIÉNICO 2 / UN ROLLOSUPRISA S.A.S."},{"$f":"H727","v":13622.41}]
[{"$f":"\"ate01-\"&B728&\" \"&C728&\" \"&D728&\" \"&E728","v":"ate01-C4S4-003 CUATRO (4) CUATRO (4) C"},"C4S4-003","CUATRO (4)","CUATRO (4)","C","PAPEL HIGIÉNICO 2 / UN ROLLO","COMERCIALIZADORA DINPRO S.A.S.",10378.98,{"$f":"B728&G728","v":"C4S4-003COMERCIALIZADORA DINPRO S.A.S."},{"$f":"C728&D728&E728&F728","v":"CUATRO (4)CUATRO (4)CPAPEL HIGIÉNICO 2 / UN ROLLO"},{"$f":"H728","v":10378.98},{"$f":"C728&D728&E728&F728&G728","v":"CUATRO (4)CUATRO (4)CPAPEL HIGIÉNICO 2 / UN ROLLOCOMERCIALIZADORA DINPRO S.A.S."},{"$f":"B728&H728","v":"C4S4-00310378.98"},{"$f":"G728","v":"COMERCIALIZADORA DINPRO S.A.S."},"Und",{"$f":"C728&D728&E728&F728&G728","v":"CUATRO (4)CUATRO (4)CPAPEL HIGIÉNICO 2 / UN ROLLOCOMERCIALIZADORA DINPRO S.A.S."},{"$f":"H728","v":10378.98}]
[{"$f":"\"ate01-\"&B729&\" \"&C729&\" \"&D729&\" \"&E729","v":"ate01-C4S4-003 CUATRO (4) CUATRO (4) C"},"C4S4-003","CUATRO (4)","CUATRO (4)","C","PAPEL HIGIÉNICO 2 / UN ROLLO","MIGUEL ANGEL VALLEJO BURGOS",9456.5499999999993,{"$f":"B729&G729","v":"C4S4-003MIGUEL ANGEL VALLEJO BURGOS"},{"$f":"C729&D729&E729&F729","v":"CUATRO (4)CUATRO (4)CPAPEL HIGIÉNICO 2 / UN ROLLO"},{"$f":"H729","v":9456.5499999999993},{"$f":"C729&D729&E729&F729&G729","v":"CUATRO (4)CUATRO (4)CPAPEL HIGIÉNICO 2 / UN ROLLOMIGUEL ANGEL VALLEJO BURGOS"},{"$f":"B729&H729","v":"C4S4-0039456.55"},{"$f":"G729","v":"MIGUEL ANGEL VALLEJO BURGOS"},"Und",{"$f":"C729&D729&E729&F729&G729","v":"CUATRO (4)CUATRO (4)CPAPEL HIGIÉNICO 2 / UN ROLLOMIGUEL ANGEL VALLEJO BURGOS"},{"$f":"H729","v":9456.5499999999993}]
[{"$f":"\"ate01-\"&B730&\" \"&C730&\" \"&D730&\" \"&E730","v":"ate01-C4S4-004 CUATRO (4) CUATRO (4) C"},"C4S4-004","CUATRO (4)","CUATRO (4)","C","PAPEL HIGIÉNICO 3 / UN ROLLO","SUMIMAS S.A.S.",15259.69,{"$f":"B730&G730","v":"C4S4-004SUMIMAS S.A.S."},{"$f":"C730&D730&E730&F730","v":"CUATRO (4)CUATRO (4)CPAPEL HIGIÉNICO 3 / UN ROLLO"},{"$f":"H730","v":15259.69},{"$f":"C730&D730&E730&F730&G730","v":"CUATRO (4)CUATRO (4)CPAPEL HIGIÉNICO 3 / UN ROLLOSUMIMAS S.A.S."},{"$f":"B730&H730","v":"C4S4-00415259.69"},{"$f":"G730","v":"SUMIMAS S.A.S."},"Und",{"$f":"C730&D730&E730&F730&G730","v":"CUATRO (4)CUATRO (4)CPAPEL HIGIÉNICO 3 / UN ROLLOSUMIMAS S.A.S."},{"$f":"H730","v":15259.69}]
[{"$f":"\"ate01-\"&B731&\" \"&C731&\" \"&D731&\" \"&E731","v":"ate01-C4S4-004 CUATRO (4) CUATRO (4) C"},"C4S4-004","CUATRO (4)","CUATRO (4)","C","PAPEL HIGIÉNICO 3 / UN ROLLO","UNION TEMPORAL AYGEMA",23352.7,{"$f":"B731&G731","v":"C4S4-004UNION TEMPORAL AYGEMA"},{"$f":"C731&D731&E731&F731","v":"CUATRO (4)CUATRO (4)CPAPEL HIGIÉNICO 3 / UN ROLLO"},{"$f":"H731","v":23352.7},{"$f":"C731&D731&E731&F731&G731","v":"CUATRO (4)CUATRO (4)CPAPEL HIGIÉNICO 3 / UN ROLLOUNION TEMPORAL AYGEMA"},{"$f":"B731&H731","v":"C4S4-00423352.7"},{"$f":"G731","v":"UNION TEMPORAL AYGEMA"},"Und",{"$f":"C731&D731&E731&F731&G731","v":"CUATRO (4)CUATRO (4)CPAPEL HIGIÉNICO 3 / UN ROLLOUNION TEMPORAL AYGEMA"},{"$f":"H731","v":23352.7}]
[{"$f":"\"ate01-\"&B732&\" \"&C732&\" \"&D732&\" \"&E732","v":"ate01-C4S4-004 CUATRO (4) CUATRO (4) C"},"C4S4-004","CUATRO (4)","CUATRO (4)","C","PAPEL HIGIÉNICO 3 / UN ROLLO","UT SS 2021- CCENEG- 041-01-2021",9552.5499999999993,{"$f":"B732&G732","v":"C4S4-004UT SS 2021- CCENEG- 041-01-2021"},{"$f":"C732&D732&E732&F732","v":"CUATRO (4)CUATRO (4)CPAPEL HIGIÉNICO 3 / UN ROLLO"},{"$f":"H732","v":9552.5499999999993},{"$f":"C732&D732&E732&F732&G732","v":"CUATRO (4)CUATRO (4)CPAPEL HIGIÉNICO 3 / UN ROLLOUT SS 2021- CCENEG- 041-01-2021"},{"$f":"B732&H732","v":"C4S4-0049552.55"},{"$f":"G732","v":"UT SS 2021- CCENEG- 041-01-2021"},"Und",{"$f":"C732&D732&E732&F732&G732","v":"CUATRO (4)CUATRO (4)CPAPEL HIGIÉNICO 3 / UN ROLLOUT SS 2021- CCENEG- 041-01-2021"},{"$f":"H732","v":9552.5499999999993}]
[{"$f":"\"ate01-\"&B733&\" \"&C733&\" \"&D733&\" \"&E733","v":"ate01-C4S4-004 CUATRO (4) CUATRO (4) C"},"C4S4-004","CUATRO (4)","CUATRO (4)","C","PAPEL HIGIÉNICO 3 / UN ROLLO","SUPRISA S.A.S.",13622.41,{"$f":"B733&G733","v":"C4S4-004SUPRISA S.A.S."},{"$f":"C733&D733&E733&F733","v":"CUATRO (4)CUATRO (4)CPAPEL HIGIÉNICO 3 / UN ROLLO"},{"$f":"H733","v":13622.41},{"$f":"C733&D733&E733&F733&G733","v":"CUATRO (4)CUATRO (4)CPAPEL HIGIÉNICO 3 / UN ROLLOSUPRISA S.A.S."},{"$f":"B733&H733","v":"C4S4-00413622.41"},{"$f":"G733","v":"SUPRISA S.A.S."},"Und",{"$f":"C733&D733&E733&F733&G733","v":"CUATRO (4)CUATRO (4)CPAPEL HIGIÉNICO 3 / UN ROLLOSUPRISA S.A.S."},{"$f":"H733","v":13622.41}]
[{"$f":"\"ate01-\"&B734&\" \"&C734&\" \"&D734&\" \"&E734","v":"ate01-C4S4-004 CUATRO (4) CUATRO (4) C"},"C4S4-004","CUATRO (4)","CUATRO (4)","C","PAPEL HIGIÉNICO 3 / UN ROLLO","COMERCIALIZADORA DINPRO S.A.S.",10378.98,{"$f":"B734&G734","v":"C4S4-004COMERCIALIZADORA DINPRO S.A.S."},{"$f":"C734&D734&E734&F734","v":"CUATRO (4)CUATRO (4)CPAPEL HIGIÉNICO 3 / UN ROLLO"},{"$f":"H734","v":10378.98},{"$f":"C734&D734&E734&F734&G734","v":"CUATRO (4)CUATRO (4)CPAPEL HIGIÉNICO 3 / UN ROLLOCOMERCIALIZADORA DINPRO S.A.S."},{"$f":"B734&H734","v":"C4S4-00410378.98"},{"$f":"G734","v":"COMERCIALIZADORA DINPRO S.A.S."},"Und",{"$f":"C734&D734&E734&F734&G734","v":"CUATRO (4)CUATRO (4)CPAPEL HIGIÉNICO 3 / UN ROLLOCOMERCIALIZADORA DINPRO S.A.S."},{"$f":"H734","v":10378.98}]
[{"$f":"\"ate01-\"&B735&\" \"&C735&\" \"&D735&\" \"&E735","v":"ate01-C4S4-004 CUATRO (4) CUATRO (4) C"},"C4S4-004","CUATRO (4)","CUATRO (4)","C","PAPEL HIGIÉNICO 3 / UN ROLLO","MIGUEL ANGEL VALLEJO BURGOS",8117.66,{"$f":"B735&G735","v":"C4S4-004MIGUEL ANGEL VALLEJO BURGOS"},{"$f":"C735&D735&E735&F735","v":"CUATRO (4)CUATRO (4)CPAPEL HIGIÉNICO 3 / UN ROLLO"},{"$f":"H735","v":8117.66},{"$f":"C735&D735&E735&F735&G735","v":"CUATRO (4)CUATRO (4)CPAPEL HIGIÉNICO 3 / UN ROLLOMIGUEL ANGEL VALLEJO BURGOS"},{"$f":"B735&H735","v":"C4S4-0048117.66"},{"$f":"G735","v":"MIGUEL ANGEL VALLEJO BURGOS"},"Und",{"$f":"C735&D735&E735&F735&G735","v":"CUATRO (4)CUATRO (4)CPAPEL HIGIÉNICO 3 / UN ROLLOMIGUEL ANGEL VALLEJO BURGOS"},{"$f":"H735","v":8117.66}]
[{"$f":"\"ate01-\"&B736&\" \"&C736&\" \"&D736&\" \"&E736","v":"ate01-C4S4-005 CUATRO (4) CUATRO (4) C"},"C4S4-005","CUATRO (4)","CUATRO (4)","C","PAPEL HIGIÉNICO 4 / UN ROLLO","SUMIMAS S.A.S.",14284.07,{"$f":"B736&G736","v":"C4S4-005SUMIMAS S.A.S."},{"$f":"C736&D736&E736&F736","v":"CUATRO (4)CUATRO (4)CPAPEL HIGIÉNICO 4 / UN ROLLO"},{"$f":"H736","v":14284.07},{"$f":"C736&D736&E736&F736&G736","v":"CUATRO (4)CUATRO (4)CPAPEL HIGIÉNICO 4 / UN ROLLOSUMIMAS S.A.S."},{"$f":"B736&H736","v":"C4S4-00514284.07"},{"$f":"G736","v":"SUMIMAS S.A.S."},"Und",{"$f":"C736&D736&E736&F736&G736","v":"CUATRO (4)CUATRO (4)CPAPEL HIGIÉNICO 4 / UN ROLLOSUMIMAS S.A.S."},{"$f":"H736","v":14284.07}]
[{"$f":"\"ate01-\"&B737&\" \"&C737&\" \"&D737&\" \"&E737","v":"ate01-C4S4-005 CUATRO (4) CUATRO (4) C"},"C4S4-005","CUATRO (4)","CUATRO (4)","C","PAPEL HIGIÉNICO 4 / UN ROLLO","UNION TEMPORAL AYGEMA",41515.910000000003,{"$f":"B737&G737","v":"C4S4-005UNION TEMPORAL AYGEMA"},{"$f":"C737&D737&E737&F737","v":"CUATRO (4)CUATRO (4)CPAPEL HIGIÉNICO 4 / UN ROLLO"},{"$f":"H737","v":41515.910000000003},{"$f":"C737&D737&E737&F737&G737","v":"CUATRO (4)CUATRO (4)CPAPEL HIGIÉNICO 4 / UN ROLLOUNION TEMPORAL AYGEMA"},{"$f":"B737&H737","v":"C4S4-00541515.91"},{"$f":"G737","v":"UNION TEMPORAL AYGEMA"},"Und",{"$f":"C737&D737&E737&F737&G737","v":"CUATRO (4)CUATRO (4)CPAPEL HIGIÉNICO 4 / UN ROLLOUNION TEMPORAL AYGEMA"},{"$f":"H737","v":41515.910000000003}]
[{"$f":"\"ate01-\"&B738&\" \"&C738&\" \"&D738&\" \"&E738","v":"ate01-C4S4-005 CUATRO (4) CUATRO (4) C"},"C4S4-005","CUATRO (4)","CUATRO (4)","C","PAPEL HIGIÉNICO 4 / UN ROLLO","UT SS 2021- CCENEG- 041-01-2021",11397.41,{"$f":"B738&G738","v":"C4S4-005UT SS 2021- CCENEG- 041-01-2021"},{"$f":"C738&D738&E738&F738","v":"CUATRO (4)CUATRO (4)CPAPEL HIGIÉNICO 4 / UN ROLLO"},{"$f":"H738","v":11397.41},{"$f":"C738&D738&E738&F738&G738","v":"CUATRO (4)CUATRO (4)CPAPEL HIGIÉNICO 4 / UN ROLLOUT SS 2021- CCENEG- 041-01-2021"},{"$f":"B738&H738","v":"C4S4-00511397.41"},{"$f":"G738","v":"UT SS 2021- CCENEG- 041-01-2021"},"Und",{"$f":"C738&D738&E738&F738&G738","v":"CUATRO (4)CUATRO (4)CPAPEL HIGIÉNICO 4 / UN ROLLOUT SS 2021- CCENEG- 041-01-2021"},{"$f":"H738","v":11397.41}]
[{"$f":"\"ate01-\"&B739&\" \"&C739&\" \"&D739&\" \"&E739","v":"ate01-C4S4-005 CUATRO (4) CUATRO (4) C"},"C4S4-005","CUATRO (4)","CUATRO (4)","C","PAPEL HIGIÉNICO 4 / UN ROLLO","SUPRISA S.A.S.",16673.830000000002,{"$f":"B739&G739","v":"C4S4-005SUPRISA S.A.S."},{"$f":"C739&D739&E739&F739","v":"CUATRO (4)CUATRO (4)CPAPEL HIGIÉNICO 4 / UN ROLLO"},{"$f":"H739","v":16673.830000000002},{"$f":"C739&D739&E739&F739&G739","v":"CUATRO (4)CUATRO (4)CPAPEL HIGIÉNICO 4 / UN ROLLOSUPRISA S.A.S."},{"$f":"B739&H739","v":"C4S4-00516673.83"},{"$f":"G739","v":"SUPRISA S.A.S."},"Und",{"$f":"C739&D739&E739&F739&G739","v":"CUATRO (4)CUATRO (4)CPAPEL HIGIÉNICO 4 / UN ROLLOSUPRISA S.A.S."},{"$f":"H739","v":16673.830000000002}]
[{"$f":"\"ate01-\"&B740&\" \"&C740&\" \"&D740&\" \"&E740","v":"ate01-C4S4-005 CUATRO (4) CUATRO (4) C"},"C4S4-005","CUATRO (4)","CUATRO (4)","C","PAPEL HIGIÉNICO 4 / UN ROLLO","COMERCIALIZADORA DINPRO S.A.S.",9730.2900000000009,{"$f":"B740&G740","v":"C4S4-005COMERCIALIZADORA DINPRO S.A.S."},{"$f":"C740&D740&E740&F740","v":"CUATRO (4)CUATRO (4)CPAPEL HIGIÉNICO 4 / UN ROLLO"},{"$f":"H740","v":9730.2900000000009},{"$f":"C740&D740&E740&F740&G740","v":"CUATRO (4)CUATRO (4)CPAPEL HIGIÉNICO 4 / UN ROLLOCOMERCIALIZADORA DINPRO S.A.S."},{"$f":"B740&H740","v":"C4S4-0059730.29"},{"$f":"G740","v":"COMERCIALIZADORA DINPRO S.A.S."},"Und",{"$f":"C740&D740&E740&F740&G740","v":"CUATRO (4)CUATRO (4)CPAPEL HIGIÉNICO 4 / UN ROLLOCOMERCIALIZADORA DINPRO S.A.S."},{"$f":"H740","v":9730.2900000000009}]
[{"$f":"\"ate01-\"&B741&\" \"&C741&\" \"&D741&\" \"&E741","v":"ate01-C4S4-005 CUATRO (4) CUATRO (4) C"},"C4S4-005","CUATRO (4)","CUATRO (4)","C","PAPEL HIGIÉNICO 4 / UN ROLLO","MIGUEL ANGEL VALLEJO BURGOS",10254.43,{"$f":"B741&G741","v":"C4S4-005MIGUEL ANGEL VALLEJO BURGOS"},{"$f":"C741&D741&E741&F741","v":"CUATRO (4)CUATRO (4)CPAPEL HIGIÉNICO 4 / UN ROLLO"},{"$f":"H741","v":10254.43},{"$f":"C741&D741&E741&F741&G741","v":"CUATRO (4)CUATRO (4)CPAPEL HIGIÉNICO 4 / UN ROLLOMIGUEL ANGEL VALLEJO BURGOS"},{"$f":"B741&H741","v":"C4S4-00510254.43"},{"$f":"G741","v":"MIGUEL ANGEL VALLEJO BURGOS"},"Und",{"$f":"C741&D741&E741&F741&G741","v":"CUATRO (4)CUATRO (4)CPAPEL HIGIÉNICO 4 / UN ROLLOMIGUEL ANGEL VALLEJO BURGOS"},{"$f":"H741","v":10254.43}]
[{"$f":"\"ate01-\"&B742&\" \"&C742&\" \"&D742&\" \"&E742","v":"ate01-C4S4-006 CUATRO (4) CUATRO (4) C"},"C4S4-006","CUATRO (4)","CUATRO (4)","C","PAPEL HIGIÉNICO 5 / UN ROLLO","SUMIMAS S.A.S.",16913.84,{"$f":"B742&G742","v":"C4S4-006SUMIMAS S.A.S."},{"$f":"C742&D742&E742&F742","v":"CUATRO (4)CUATRO (4)CPAPEL HIGIÉNICO 5 / UN ROLLO"},{"$f":"H742","v":16913.84},{"$f":"C742&D742&E742&F742&G742","v":"CUATRO (4)CUATRO (4)CPAPEL HIGIÉNICO 5 / UN ROLLOSUMIMAS S.A.S."},{"$f":"B742&H742","v":"C4S4-00616913.84"},{"$f":"G742","v":"SUMIMAS S.A.S."},"Und",{"$f":"C742&D742&E742&F742&G742","v":"CUATRO (4)CUATRO (4)CPAPEL HIGIÉNICO 5 / UN ROLLOSUMIMAS S.A.S."},{"$f":"H742","v":16913.84}]
[{"$f":"\"ate01-\"&B743&\" \"&C743&\" \"&D743&\" \"&E743","v":"ate01-C4S4-006 CUATRO (4) CUATRO (4) C"},"C4S4-006","CUATRO (4)","CUATRO (4)","C","PAPEL HIGIÉNICO 5 / UN ROLLO","UNION TEMPORAL AYGEMA",41515.910000000003,{"$f":"B743&G743","v":"C4S4-006UNION TEMPORAL AYGEMA"},{"$f":"C743&D743&E743&F743","v":"CUATRO (4)CUATRO (4)CPAPEL HIGIÉNICO 5 / UN ROLLO"},{"$f":"H743","v":41515.910000000003},{"$f":"C743&D743&E743&F743&G743","v":"CUATRO (4)CUATRO (4)CPAPEL HIGIÉNICO 5 / UN ROLLOUNION TEMPORAL AYGEMA"},{"$f":"B743&H743","v":"C4S4-00641515.91"},{"$f":"G743","v":"UNION TEMPORAL AYGEMA"},"Und",{"$f":"C743&D743&E743&F743&G743","v":"CUATRO (4)CUATRO (4)CPAPEL HIGIÉNICO 5 / UN ROLLOUNION TEMPORAL AYGEMA"},{"$f":"H743","v":41515.910000000003}]
[{"$f":"\"ate01-\"&B744&\" \"&C744&\" \"&D744&\" \"&E744","v":"ate01-C4S4-006 CUATRO (4) CUATRO (4) C"},"C4S4-006","CUATRO (4)","CUATRO (4)","C","PAPEL HIGIÉNICO 5 / UN ROLLO","UT SS 2021- CCENEG- 041-01-2021",12833.61,{"$f":"B744&G744","v":"C4S4-006UT SS 2021- CCENEG- 041-01-2021"},{"$f":"C744&D744&E744&F744","v":"CUATRO (4)CUATRO (4)CPAPEL HIGIÉNICO 5 / UN ROLLO"},{"$f":"H744","v":12833.61},{"$f":"C744&D744&E744&F744&G744","v":"CUATRO (4)CUATRO (4)CPAPEL HIGIÉNICO 5 / UN ROLLOUT SS 2021- CCENEG- 041-01-2021"},{"$f":"B744&H744","v":"C4S4-00612833.61"},{"$f":"G744","v":"UT SS 2021- CCENEG- 041-01-2021"},"Und",{"$f":"C744&D744&E744&F744&G744","v":"CUATRO (4)CUATRO (4)CPAPEL HIGIÉNICO 5 / UN ROLLOUT SS 2021- CCENEG- 041-01-2021"},{"$f":"H744","v":12833.61}]
[{"$f":"\"ate01-\"&B745&\" \"&C745&\" \"&D745&\" \"&E745","v":"ate01-C4S4-006 CUATRO (4) CUATRO (4) C"},"C4S4-006","CUATRO (4)","CUATRO (4)","C","PAPEL HIGIÉNICO 5 / UN ROLLO","SUPRISA S.A.S.",16673.830000000002,{"$f":"B745&G745","v":"C4S4-006SUPRISA S.A.S."},{"$f":"C745&D745&E745&F745","v":"CUATRO (4)CUATRO (4)CPAPEL HIGIÉNICO 5 / UN ROLLO"},{"$f":"H745","v":16673.830000000002},{"$f":"C745&D745&E745&F745&G745","v":"CUATRO (4)CUATRO (4)CPAPEL HIGIÉNICO 5 / UN ROLLOSUPRISA S.A.S."},{"$f":"B745&H745","v":"C4S4-00616673.83"},{"$f":"G745","v":"SUPRISA S.A.S."},"Und",{"$f":"C745&D745&E745&F745&G745","v":"CUATRO (4)CUATRO (4)CPAPEL HIGIÉNICO 5 / UN ROLLOSUPRISA S.A.S."},{"$f":"H745","v":16673.830000000002}]
[{"$f":"\"ate01-\"&B746&\" \"&C746&\" \"&D746&\" \"&E746","v":"ate01-C4S4-006 CUATRO (4) CUATRO (4) C"},"C4S4-006","CUATRO (4)","CUATRO (4)","C","PAPEL HIGIÉNICO 5 / UN ROLLO","COMERCIALIZADORA DINPRO S.A.S.",9341.08,{"$f":"B746&G746","v":"C4S4-006COMERCIALIZADORA DINPRO S.A.S."},{"$f":"C746&D746&E746&F746","v":"CUATRO (4)CUATRO (4)CPAPEL HIGIÉNICO 5 / UN ROLLO"},{"$f":"H746","v":9341.08},{"$f":"C746&D746&E746&F746&G746","v":"CUATRO (4)CUATRO (4)CPAPEL HIGIÉNICO 5 / UN ROLLOCOMERCIALIZADORA DINPRO S.A.S."},{"$f":"B746&H746","v":"C4S4-0069341.08"},{"$f":"G746","v":"COMERCIALIZADORA DINPRO S.A.S."},"Und",{"$f":"C746&D746&E746&F746&G746","v":"CUATRO (4)CUATRO (4)CPAPEL HIGIÉNICO 5 / UN ROLLOCOMERCIALIZADORA DINPRO S.A.S."},{"$f":"H746","v":9341.08}]
[{"$f":"\"ate01-\"&B747&\" \"&C747&\" \"&D747&\" \"&E747","v":"ate01-C4S4-006 CUATRO (4) CUATRO (4) C"},"C4S4-006","CUATRO (4)","CUATRO (4)","C","PAPEL HIGIÉNICO 5 / UN ROLLO","MIGUEL ANGEL VALLEJO BURGOS",11051.02,{"$f":"B747&G747","v":"C4S4-006MIGUEL ANGEL VALLEJO BURGOS"},{"$f":"C747&D747&E747&F747","v":"CUATRO (4)CUATRO (4)CPAPEL HIGIÉNICO 5 / UN ROLLO"},{"$f":"H747","v":11051.02},{"$f":"C747&D747&E747&F747&G747","v":"CUATRO (4)CUATRO (4)CPAPEL HIGIÉNICO 5 / UN ROLLOMIGUEL ANGEL VALLEJO BURGOS"},{"$f":"B747&H747","v":"C4S4-00611051.02"},{"$f":"G747","v":"MIGUEL ANGEL VALLEJO BURGOS"},"Und",{"$f":"C747&D747&E747&F747&G747","v":"CUATRO (4)CUATRO (4)CPAPEL HIGIÉNICO 5 / UN ROLLOMIGUEL ANGEL VALLEJO BURGOS"},{"$f":"H747","v":11051.02}]
[{"$f":"\"ate01-\"&B748&\" \"&C748&\" \"&D748&\" \"&E748","v":"ate01-C4S4-007 CUATRO (4) CUATRO (4) C"},"C4S4-007","CUATRO (4)","CUATRO (4)","C","PAPEL HIGIÉNICO 6 / PAQUETE DE 250 UNIDADES","SUMIMAS S.A.S.",6111.92,{"$f":"B748&G748","v":"C4S4-007SUMIMAS S.A.S."},{"$f":"C748&D748&E748&F748","v":"CUATRO (4)CUATRO (4)CPAPEL HIGIÉNICO 6 / PAQUETE DE 250 UNIDADES"},{"$f":"H748","v":6111.92},{"$f":"C748&D748&E748&F748&G748","v":"CUATRO (4)CUATRO (4)CPAPEL HIGIÉNICO 6 / PAQUETE DE 250 UNIDADESSUMIMAS S.A.S."},{"$f":"B748&H748","v":"C4S4-0076111.92"},{"$f":"G748","v":"SUMIMAS S.A.S."},"Und",{"$f":"C748&D748&E748&F748&G748","v":"CUATRO (4)CUATRO (4)CPAPEL HIGIÉNICO 6 / PAQUETE DE 250 UNIDADESSUMIMAS S.A.S."},{"$f":"H748","v":6111.92}]
[{"$f":"\"ate01-\"&B749&\" \"&C749&\" \"&D749&\" \"&E749","v":"ate01-C4S4-007 CUATRO (4) CUATRO (4) C"},"C4S4-007","CUATRO (4)","CUATRO (4)","C","PAPEL HIGIÉNICO 6 / PAQUETE DE 250 UNIDADES","UNION TEMPORAL AYGEMA",622738.64,{"$f":"B749&G749","v":"C4S4-007UNION TEMPORAL AYGEMA"},{"$f":"C749&D749&E749&F749","v":"CUATRO (4)CUATRO (4)CPAPEL HIGIÉNICO 6 / PAQUETE DE 250 UNIDADES"},{"$f":"H749","v":622738.64},{"$f":"C749&D749&E749&F749&G749","v":"CUATRO (4)CUATRO (4)CPAPEL HIGIÉNICO 6 / PAQUETE DE 250 UNIDADESUNION TEMPORAL AYGEMA"},{"$f":"B749&H749","v":"C4S4-007622738.64"},{"$f":"G749","v":"UNION TEMPORAL AYGEMA"},"Und",{"$f":"C749&D749&E749&F749&G749","v":"CUATRO (4)CUATRO (4)CPAPEL HIGIÉNICO 6 / PAQUETE DE 250 UNIDADESUNION TEMPORAL AYGEMA"},{"$f":"H749","v":622738.64}]
[{"$f":"\"ate01-\"&B750&\" \"&C750&\" \"&D750&\" \"&E750","v":"ate01-C4S4-007 CUATRO (4) CUATRO (4) C"},"C4S4-007","CUATRO (4)","CUATRO (4)","C","PAPEL HIGIÉNICO 6 / PAQUETE DE 250 UNIDADES","UT SS 2021- CCENEG- 041-01-2021",5971.8,{"$f":"B750&G750","v":"C4S4-007UT SS 2021- CCENEG- 041-01-2021"},{"$f":"C750&D750&E750&F750","v":"CUATRO (4)CUATRO (4)CPAPEL HIGIÉNICO 6 / PAQUETE DE 250 UNIDADES"},{"$f":"H750","v":5971.8},{"$f":"C750&D750&E750&F750&G750","v":"CUATRO (4)CUATRO (4)CPAPEL HIGIÉNICO 6 / PAQUETE DE 250 UNIDADESUT SS 2021- CCENEG- 041-01-2021"},{"$f":"B750&H750","v":"C4S4-0075971.8"},{"$f":"G750","v":"UT SS 2021- CCENEG- 041-01-2021"},"Und",{"$f":"C750&D750&E750&F750&G750","v":"CUATRO (4)CUATRO (4)CPAPEL HIGIÉNICO 6 / PAQUETE DE 250 UNIDADESUT SS 2021- CCENEG- 041-01-2021"},{"$f":"H750","v":5971.8}]
[{"$f":"\"ate01-\"&B751&\" \"&C751&\" \"&D751&\" \"&E751","v":"ate01-C4S4-007 CUATRO (4) CUATRO (4) C"},"C4S4-007","CUATRO (4)","CUATRO (4)","C","PAPEL HIGIÉNICO 6 / PAQUETE DE 250 UNIDADES","SUPRISA S.A.S.",5249.17,{"$f":"B751&G751","v":"C4S4-007SUPRISA S.A.S."},{"$f":"C751&D751&E751&F751","v":"CUATRO (4)CUATRO (4)CPAPEL HIGIÉNICO 6 / PAQUETE DE 250 UNIDADES"},{"$f":"H751","v":5249.17},{"$f":"C751&D751&E751&F751&G751","v":"CUATRO (4)CUATRO (4)CPAPEL HIGIÉNICO 6 / PAQUETE DE 250 UNIDADESSUPRISA S.A.S."},{"$f":"B751&H751","v":"C4S4-0075249.17"},{"$f":"G751","v":"SUPRISA S.A.S."},"Und",{"$f":"C751&D751&E751&F751&G751","v":"CUATRO (4)CUATRO (4)CPAPEL HIGIÉNICO 6 / PAQUETE DE 250 UNIDADESSUPRISA S.A.S."},{"$f":"H751","v":5249.17}]
[{"$f":"\"ate01-\"&B752&\" \"&C752&\" \"&D752&\" \"&E752","v":"ate01-C4S4-007 CUATRO (4) CUATRO (4) C"},"C4S4-007","CUATRO (4)","CUATRO (4)","C","PAPEL HIGIÉNICO 6 / PAQUETE DE 250 UNIDADES","COMERCIALIZADORA DINPRO S.A.S.",5448.96,{"$f":"B752&G752","v":"C4S4-007COMERCIALIZADORA DINPRO S.A.S."},{"$f":"C752&D752&E752&F752","v":"CUATRO (4)CUATRO (4)CPAPEL HIGIÉNICO 6 / PAQUETE DE 250 UNIDADES"},{"$f":"H752","v":5448.96},{"$f":"C752&D752&E752&F752&G752","v":"CUATRO (4)CUATRO (4)CPAPEL HIGIÉNICO 6 / PAQUETE DE 250 UNIDADESCOMERCIALIZADORA DINPRO S.A.S."},{"$f":"B752&H752","v":"C4S4-0075448.96"},{"$f":"G752","v":"COMERCIALIZADORA DINPRO S.A.S."},"Und",{"$f":"C752&D752&E752&F752&G752","v":"CUATRO (4)CUATRO (4)CPAPEL HIGIÉNICO 6 / PAQUETE DE 250 UNIDADESCOMERCIALIZADORA DINPRO S.A.S."},{"$f":"H752","v":5448.96}]
[{"$f":"\"ate01-\"&B753&\" \"&C753&\" \"&D753&\" \"&E753","v":"ate01-C4S4-007 CUATRO (4) CUATRO (4) C"},"C4S4-007","CUATRO (4)","CUATRO (4)","C","PAPEL HIGIÉNICO 6 / PAQUETE DE 250 UNIDADES","MIGUEL ANGEL VALLEJO BURGOS",6850.13,{"$f":"B753&G753","v":"C4S4-007MIGUEL ANGEL VALLEJO BURGOS"},{"$f":"C753&D753&E753&F753","v":"CUATRO (4)CUATRO (4)CPAPEL HIGIÉNICO 6 / PAQUETE DE 250 UNIDADES"},{"$f":"H753","v":6850.13},{"$f":"C753&D753&E753&F753&G753","v":"CUATRO (4)CUATRO (4)CPAPEL HIGIÉNICO 6 / PAQUETE DE 250 UNIDADESMIGUEL ANGEL VALLEJO BURGOS"},{"$f":"B753&H753","v":"C4S4-0076850.13"},{"$f":"G753","v":"MIGUEL ANGEL VALLEJO BURGOS"},"Und",{"$f":"C753&D753&E753&F753&G753","v":"CUATRO (4)CUATRO (4)CPAPEL HIGIÉNICO 6 / PAQUETE DE 250 UNIDADESMIGUEL ANGEL VALLEJO BURGOS"},{"$f":"H753","v":6850.13}]
[{"$f":"\"ate01-\"&B754&\" \"&C754&\" \"&D754&\" \"&E754","v":"ate01-C4S4-008 CUATRO (4) CUATRO (4) C"},"C4S4-008","CUATRO (4)","CUATRO (4)","C","PAPEL VINIPEL / UN ROLLO","SUMIMAS S.A.S.",27942.799999999999,{"$f":"B754&G754","v":"C4S4-008SUMIMAS S.A.S."},{"$f":"C754&D754&E754&F754","v":"CUATRO (4)CUATRO (4)CPAPEL VINIPEL / UN ROLLO"},{"$f":"H754","v":27942.799999999999},{"$f":"C754&D754&E754&F754&G754","v":"CUATRO (4)CUATRO (4)CPAPEL VINIPEL / UN ROLLOSUMIMAS S.A.S."},{"$f":"B754&H754","v":"C4S4-00827942.8"},{"$f":"G754","v":"SUMIMAS S.A.S."},"Und",{"$f":"C754&D754&E754&F754&G754","v":"CUATRO (4)CUATRO (4)CPAPEL VINIPEL / UN ROLLOSUMIMAS S.A.S."},{"$f":"H754","v":27942.799999999999}]
[{"$f":"\"ate01-\"&B755&\" \"&C755&\" \"&D755&\" \"&E755","v":"ate01-C4S4-008 CUATRO (4) CUATRO (4) C"},"C4S4-008","CUATRO (4)","CUATRO (4)","C","PAPEL VINIPEL / UN ROLLO","UNION TEMPORAL AYGEMA",18422.68,{"$f":"B755&G755","v":"C4S4-008UNION TEMPORAL AYGEMA"},{"$f":"C755&D755&E755&F755","v":"CUATRO (4)CUATRO (4)CPAPEL VINIPEL / UN ROLLO"},{"$f":"H755","v":18422.68},{"$f":"C755&D755&E755&F755&G755","v":"CUATRO (4)CUATRO (4)CPAPEL VINIPEL / UN ROLLOUNION TEMPORAL AYGEMA"},{"$f":"B755&H755","v":"C4S4-00818422.68"},{"$f":"G755","v":"UNION TEMPORAL AYGEMA"},"Und",{"$f":"C755&D755&E755&F755&G755","v":"CUATRO (4)CUATRO (4)CPAPEL VINIPEL / UN ROLLOUNION TEMPORAL AYGEMA"},{"$f":"H755","v":18422.68}]
[{"$f":"\"ate01-\"&B756&\" \"&C756&\" \"&D756&\" \"&E756","v":"ate01-C4S4-008 CUATRO (4) CUATRO (4) C"},"C4S4-008","CUATRO (4)","CUATRO (4)","C","PAPEL VINIPEL / UN ROLLO","UT SS 2021- CCENEG- 041-01-2021",16519.439999999999,{"$f":"B756&G756","v":"C4S4-008UT SS 2021- CCENEG- 041-01-2021"},{"$f":"C756&D756&E756&F756","v":"CUATRO (4)CUATRO (4)CPAPEL VINIPEL / UN ROLLO"},{"$f":"H756","v":16519.439999999999},{"$f":"C756&D756&E756&F756&G756","v":"CUATRO (4)CUATRO (4)CPAPEL VINIPEL / UN ROLLOUT SS 2021- CCENEG- 041-01-2021"},{"$f":"B756&H756","v":"C4S4-00816519.44"},{"$f":"G756","v":"UT SS 2021- CCENEG- 041-01-2021"},"Und",{"$f":"C756&D756&E756&F756&G756","v":"CUATRO (4)CUATRO (4)CPAPEL VINIPEL / UN ROLLOUT SS 2021- CCENEG- 041-01-2021"},{"$f":"H756","v":16519.439999999999}]
[{"$f":"\"ate01-\"&B757&\" \"&C757&\" \"&D757&\" \"&E757","v":"ate01-C4S4-008 CUATRO (4) CUATRO (4) C"},"C4S4-008","CUATRO (4)","CUATRO (4)","C","PAPEL VINIPEL / UN ROLLO","SUPRISA S.A.S.",33965.199999999997,{"$f":"B757&G757","v":"C4S4-008SUPRISA S.A.S."},{"$f":"C757&D757&E757&F757","v":"CUATRO (4)CUATRO (4)CPAPEL VINIPEL / UN ROLLO"},{"$f":"H757","v":33965.199999999997},{"$f":"C757&D757&E757&F757&G757","v":"CUATRO (4)CUATRO (4)CPAPEL VINIPEL / UN ROLLOSUPRISA S.A.S."},{"$f":"B757&H757","v":"C4S4-00833965.2"},{"$f":"G757","v":"SUPRISA S.A.S."},"Und",{"$f":"C757&D757&E757&F757&G757","v":"CUATRO (4)CUATRO (4)CPAPEL VINIPEL / UN ROLLOSUPRISA S.A.S."},{"$f":"H757","v":33965.199999999997}]
[{"$f":"\"ate01-\"&B758&\" \"&C758&\" \"&D758&\" \"&E758","v":"ate01-C4S4-008 CUATRO (4) CUATRO (4) C"},"C4S4-008","CUATRO (4)","CUATRO (4)","C","PAPEL VINIPEL / UN ROLLO","COMERCIALIZADORA DINPRO S.A.S.",20757.95,{"$f":"B758&G758","v":"C4S4-008COMERCIALIZADORA DINPRO S.A.S."},{"$f":"C758&D758&E758&F758","v":"CUATRO (4)CUATRO (4)CPAPEL VINIPEL / UN ROLLO"},{"$f":"H758","v":20757.95},{"$f":"C758&D758&E758&F758&G758","v":"CUATRO (4)CUATRO (4)CPAPEL VINIPEL / UN ROLLOCOMERCIALIZADORA DINPRO S.A.S."},{"$f":"B758&H758","v":"C4S4-00820757.95"},{"$f":"G758","v":"COMERCIALIZADORA DINPRO S.A.S."},"Und",{"$f":"C758&D758&E758&F758&G758","v":"CUATRO (4)CUATRO (4)CPAPEL VINIPEL / UN ROLLOCOMERCIALIZADORA DINPRO S.A.S."},{"$f":"H758","v":20757.95}]
[{"$f":"\"ate01-\"&B759&\" \"&C759&\" \"&D759&\" \"&E759","v":"ate01-C4S4-008 CUATRO (4) CUATRO (4) C"},"C4S4-008","CUATRO (4)","CUATRO (4)","C","PAPEL VINIPEL / UN ROLLO","MIGUEL ANGEL VALLEJO BURGOS",9590.18,{"$f":"B759&G759","v":"C4S4-008MIGUEL ANGEL VALLEJO BURGOS"},{"$f":"C759&D759&E759&F759","v":"CUATRO (4)CUATRO (4)CPAPEL VINIPEL / UN ROLLO"},{"$f":"H759","v":9590.18},{"$f":"C759&D759&E759&F759&G759","v":"CUATRO (4)CUATRO (4)CPAPEL VINIPEL / UN ROLLOMIGUEL ANGEL VALLEJO BURGOS"},{"$f":"B759&H759","v":"C4S4-0089590.18"},{"$f":"G759","v":"MIGUEL ANGEL VALLEJO BURGOS"},"Und",{"$f":"C759&D759&E759&F759&G759","v":"CUATRO (4)CUATRO (4)CPAPEL VINIPEL / UN ROLLOMIGUEL ANGEL VALLEJO BURGOS"},{"$f":"H759","v":9590.18}]
[{"$f":"\"ate01-\"&B760&\" \"&C760&\" \"&D760&\" \"&E760","v":"ate01-C4S4-009 CUATRO (4) CUATRO (4) C"},"C4S4-009","CUATRO (4)","CUATRO (4)","C","TOALLAS PARA SECAR LAS MANOS / UN ROLLO","SUMIMAS S.A.S.",23853.48,{"$f":"B760&G760","v":"C4S4-009SUMIMAS S.A.S."},{"$f":"C760&D760&E760&F760","v":"CUATRO (4)CUATRO (4)CTOALLAS PARA SECAR LAS MANOS / UN ROLLO"},{"$f":"H760","v":23853.48},{"$f":"C760&D760&E760&F760&G760","v":"CUATRO (4)CUATRO (4)CTOALLAS PARA SECAR LAS MANOS / UN ROLLOSUMIMAS S.A.S."},{"$f":"B760&H760","v":"C4S4-00923853.48"},{"$f":"G760","v":"SUMIMAS S.A.S."},"Und",{"$f":"C760&D760&E760&F760&G760","v":"CUATRO (4)CUATRO (4)CTOALLAS PARA SECAR LAS MANOS / UN ROLLOSUMIMAS S.A.S."},{"$f":"H760","v":23853.48}]
[{"$f":"\"ate01-\"&B761&\" \"&C761&\" \"&D761&\" \"&E761","v":"ate01-C4S4-009 CUATRO (4) CUATRO (4) C"},"C4S4-009","CUATRO (4)","CUATRO (4)","C","TOALLAS PARA SECAR LAS MANOS / UN ROLLO","UNION TEMPORAL AYGEMA",38921.160000000003,{"$f":"B761&G761","v":"C4S4-009UNION TEMPORAL AYGEMA"},{"$f":"C761&D761&E761&F761","v":"CUATRO (4)CUATRO (4)CTOALLAS PARA SECAR LAS MANOS / UN ROLLO"},{"$f":"H761","v":38921.160000000003},{"$f":"C761&D761&E761&F761&G761","v":"CUATRO (4)CUATRO (4)CTOALLAS PARA SECAR LAS MANOS / UN ROLLOUNION TEMPORAL AYGEMA"},{"$f":"B761&H761","v":"C4S4-00938921.16"},{"$f":"G761","v":"UNION TEMPORAL AYGEMA"},"Und",{"$f":"C761&D761&E761&F761&G761","v":"CUATRO (4)CUATRO (4)CTOALLAS PARA SECAR LAS MANOS / UN ROLLOUNION TEMPORAL AYGEMA"},{"$f":"H761","v":38921.160000000003}]
[{"$f":"\"ate01-\"&B762&\" \"&C762&\" \"&D762&\" \"&E762","v":"ate01-C4S4-009 CUATRO (4) CUATRO (4) C"},"C4S4-009","CUATRO (4)","CUATRO (4)","C","TOALLAS PARA SECAR LAS MANOS / UN ROLLO","UT SS 2021- CCENEG- 041-01-2021",16921.63,{"$f":"B762&G762","v":"C4S4-009UT SS 2021- CCENEG- 041-01-2021"},{"$f":"C762&D762&E762&F762","v":"CUATRO (4)CUATRO (4)CTOALLAS PARA SECAR LAS MANOS / UN ROLLO"},{"$f":"H762","v":16921.63},{"$f":"C762&D762&E762&F762&G762","v":"CUATRO (4)CUATRO (4)CTOALLAS PARA SECAR LAS MANOS / UN ROLLOUT SS 2021- CCENEG- 041-01-2021"},{"$f":"B762&H762","v":"C4S4-00916921.63"},{"$f":"G762","v":"UT SS 2021- CCENEG- 041-01-2021"},"Und",{"$f":"C762&D762&E762&F762&G762","v":"CUATRO (4)CUATRO (4)CTOALLAS PARA SECAR LAS MANOS / UN ROLLOUT SS 2021- CCENEG- 041-01-2021"},{"$f":"H762","v":16921.63}]
[{"$f":"\"ate01-\"&B763&\" \"&C763&\" \"&D763&\" \"&E763","v":"ate01-C4S4-009 CUATRO (4) CUATRO (4) C"},"C4S4-009","CUATRO (4)","CUATRO (4)","C","TOALLAS PARA SECAR LAS MANOS / UN ROLLO","SUPRISA S.A.S.",17759.169999999998,{"$f":"B763&G763","v":"C4S4-009SUPRISA S.A.S."},{"$f":"C763&D763&E763&F763","v":"CUATRO (4)CUATRO (4)CTOALLAS PARA SECAR LAS MANOS / UN ROLLO"},{"$f":"H763","v":17759.169999999998},{"$f":"C763&D763&E763&F763&G763","v":"CUATRO (4)CUATRO (4)CTOALLAS PARA SECAR LAS MANOS / UN ROLLOSUPRISA S.A.S."},{"$f":"B763&H763","v":"C4S4-00917759.17"},{"$f":"G763","v":"SUPRISA S.A.S."},"Und",{"$f":"C763&D763&E763&F763&G763","v":"CUATRO (4)CUATRO (4)CTOALLAS PARA SECAR LAS MANOS / UN ROLLOSUPRISA S.A.S."},{"$f":"H763","v":17759.169999999998}]
[{"$f":"\"ate01-\"&B764&\" \"&C764&\" \"&D764&\" \"&E764","v":"ate01-C4S4-009 CUATRO (4) CUATRO (4) C"},"C4S4-009","CUATRO (4)","CUATRO (4)","C","TOALLAS PARA SECAR LAS MANOS / UN ROLLO","COMERCIALIZADORA DINPRO S.A.S.",11546.61,{"$f":"B764&G764","v":"C4S4-009COMERCIALIZADORA DINPRO S.A.S."},{"$f":"C764&D764&E764&F764","v":"CUATRO (4)CUATRO (4)CTOALLAS PARA SECAR LAS MANOS / UN ROLLO"},{"$f":"H764","v":11546.61},{"$f":"C764&D764&E764&F764&G764","v":"CUATRO (4)CUATRO (4)CTOALLAS PARA SECAR LAS MANOS / UN ROLLOCOMERCIALIZADORA DINPRO S.A.S."},{"$f":"B764&H764","v":"C4S4-00911546.61"},{"$f":"G764","v":"COMERCIALIZADORA DINPRO S.A.S."},"Und",{"$f":"C764&D764&E764&F764&G764","v":"CUATRO (4)CUATRO (4)CTOALLAS PARA SECAR LAS MANOS / UN ROLLOCOMERCIALIZADORA DINPRO S.A.S."},{"$f":"H764","v":11546.61}]
[{"$f":"\"ate01-\"&B765&\" \"&C765&\" \"&D765&\" \"&E765","v":"ate01-C4S4-009 CUATRO (4) CUATRO (4) C"},"C4S4-009","CUATRO (4)","CUATRO (4)","C","TOALLAS PARA SECAR LAS MANOS / UN ROLLO","MIGUEL ANGEL VALLEJO BURGOS",41515.910000000003,{"$f":"B765&G765","v":"C4S4-009MIGUEL ANGEL VALLEJO BURGOS"},{"$f":"C765&D765&E765&F765","v":"CUATRO (4)CUATRO (4)CTOALLAS PARA SECAR LAS MANOS / UN ROLLO"},{"$f":"H765","v":41515.910000000003},{"$f":"C765&D765&E765&F765&G765","v":"CUATRO (4)CUATRO (4)CTOALLAS PARA SECAR LAS MANOS / UN ROLLOMIGUEL ANGEL VALLEJO BURGOS"},{"$f":"B765&H765","v":"C4S4-00941515.91"},{"$f":"G765","v":"MIGUEL ANGEL VALLEJO BURGOS"},"Und",{"$f":"C765&D765&E765&F765&G765","v":"CUATRO (4)CUATRO (4)CTOALLAS PARA SECAR LAS MANOS / UN ROLLOMIGUEL ANGEL VALLEJO BURGOS"},{"$f":"H765","v":41515.910000000003}]
[{"$f":"\"ate01-\"&B766&\" \"&C766&\" \"&D766&\" \"&E766","v":"ate01-C4S4-010 CUATRO (4) CUATRO (4) C"},"C4S4-010","CUATRO (4)","CUATRO (4)","C","SERVILLETA PARA SECAR LAS MANOS / PAQUETE DE 100 UNIDADES","SUMIMAS S.A.S.",2489.66,{"$f":"B766&G766","v":"C4S4-010SUMIMAS S.A.S."},{"$f":"C766&D766&E766&F766","v":"CUATRO (4)CUATRO (4)CSERVILLETA PARA SECAR LAS MANOS / PAQUETE DE 100 UNIDADES"},{"$f":"H766","v":2489.66},{"$f":"C766&D766&E766&F766&G766","v":"CUATRO (4)CUATRO (4)CSERVILLETA PARA SECAR LAS MANOS / PAQUETE DE 100 UNIDADESSUMIMAS S.A.S."},{"$f":"B766&H766","v":"C4S4-0102489.66"},{"$f":"G766","v":"SUMIMAS S.A.S."},"Und",{"$f":"C766&D766&E766&F766&G766","v":"CUATRO (4)CUATRO (4)CSERVILLETA PARA SECAR LAS MANOS / PAQUETE DE 100 UNIDADESSUMIMAS S.A.S."},{"$f":"H766","v":2489.66}]
[{"$f":"\"ate01-\"&B767&\" \"&C767&\" \"&D767&\" \"&E767","v":"ate01-C4S4-010 CUATRO (4) CUATRO (4) C"},"C4S4-010","CUATRO (4)","CUATRO (4)","C","SERVILLETA PARA SECAR LAS MANOS / PAQUETE DE 100 UNIDADES","UNION TEMPORAL AYGEMA",6616.6,{"$f":"B767&G767","v":"C4S4-010UNION TEMPORAL AYGEMA"},{"$f":"C767&D767&E767&F767","v":"CUATRO (4)CUATRO (4)CSERVILLETA PARA SECAR LAS MANOS / PAQUETE DE 100 UNIDADES"},{"$f":"H767","v":6616.6},{"$f":"C767&D767&E767&F767&G767","v":"CUATRO (4)CUATRO (4)CSERVILLETA PARA SECAR LAS MANOS / PAQUETE DE 100 UNIDADESUNION TEMPORAL AYGEMA"},{"$f":"B767&H767","v":"C4S4-0106616.6"},{"$f":"G767","v":"UNION TEMPORAL AYGEMA"},"Und",{"$f":"C767&D767&E767&F767&G767","v":"CUATRO (4)CUATRO (4)CSERVILLETA PARA SECAR LAS MANOS / PAQUETE DE 100 UNIDADESUNION TEMPORAL AYGEMA"},{"$f":"H767","v":6616.6}]
[{"$f":"\"ate01-\"&B768&\" \"&C768&\" \"&D768&\" \"&E768","v":"ate01-C4S4-010 CUATRO (4) CUATRO (4) C"},"C4S4-010","CUATRO (4)","CUATRO (4)","C","SERVILLETA PARA SECAR LAS MANOS / PAQUETE DE 100 UNIDADES","UT SS 2021- CCENEG- 041-01-2021",5974.4,{"$f":"B768&G768","v":"C4S4-010UT SS 2021- CCENEG- 041-01-2021"},{"$f":"C768&D768&E768&F768","v":"CUATRO (4)CUATRO (4)CSERVILLETA PARA SECAR LAS MANOS / PAQUETE DE 100 UNIDADES"},{"$f":"H768","v":5974.4},{"$f":"C768&D768&E768&F768&G768","v":"CUATRO (4)CUATRO (4)CSERVILLETA PARA SECAR LAS MANOS / PAQUETE DE 100 UNIDADESUT SS 2021- CCENEG- 041-01-2021"},{"$f":"B768&H768","v":"C4S4-0105974.4"},{"$f":"G768","v":"UT SS 2021- CCENEG- 041-01-2021"},"Und",{"$f":"C768&D768&E768&F768&G768","v":"CUATRO (4)CUATRO (4)CSERVILLETA PARA SECAR LAS MANOS / PAQUETE DE 100 UNIDADESUT SS 2021- CCENEG- 041-01-2021"},{"$f":"H768","v":5974.4}]
[{"$f":"\"ate01-\"&B769&\" \"&C769&\" \"&D769&\" \"&E769","v":"ate01-C4S4-010 CUATRO (4) CUATRO (4) C"},"C4S4-010","CUATRO (4)","CUATRO (4)","C","SERVILLETA PARA SECAR LAS MANOS / PAQUETE DE 100 UNIDADES","SUPRISA S.A.S.",3242.13,{"$f":"B769&G769","v":"C4S4-010SUPRISA S.A.S."},{"$f":"C769&D769&E769&F769","v":"CUATRO (4)CUATRO (4)CSERVILLETA PARA SECAR LAS MANOS / PAQUETE DE 100 UNIDADES"},{"$f":"H769","v":3242.13},{"$f":"C769&D769&E769&F769&G769","v":"CUATRO (4)CUATRO (4)CSERVILLETA PARA SECAR LAS MANOS / PAQUETE DE 100 UNIDADESSUPRISA S.A.S."},{"$f":"B769&H769","v":"C4S4-0103242.13"},{"$f":"G769","v":"SUPRISA S.A.S."},"Und",{"$f":"C769&D769&E769&F769&G769","v":"CUATRO (4)CUATRO (4)CSERVILLETA PARA SECAR LAS MANOS / PAQUETE DE 100 UNIDADESSUPRISA S.A.S."},{"$f":"H769","v":3242.13}]
[{"$f":"\"ate01-\"&B770&\" \"&C770&\" \"&D770&\" \"&E770","v":"ate01-C4S4-010 CUATRO (4) CUATRO (4) C"},"C4S4-010","CUATRO (4)","CUATRO (4)","C","SERVILLETA PARA SECAR LAS MANOS / PAQUETE DE 100 UNIDADES","COMERCIALIZADORA DINPRO S.A.S.",6486.86,{"$f":"B770&G770","v":"C4S4-010COMERCIALIZADORA DINPRO S.A.S."},{"$f":"C770&D770&E770&F770","v":"CUATRO (4)CUATRO (4)CSERVILLETA PARA SECAR LAS MANOS / PAQUETE DE 100 UNIDADES"},{"$f":"H770","v":6486.86},{"$f":"C770&D770&E770&F770&G770","v":"CUATRO (4)CUATRO (4)CSERVILLETA PARA SECAR LAS MANOS / PAQUETE DE 100 UNIDADESCOMERCIALIZADORA DINPRO S.A.S."},{"$f":"B770&H770","v":"C4S4-0106486.86"},{"$f":"G770","v":"COMERCIALIZADORA DINPRO S.A.S."},"Und",{"$f":"C770&D770&E770&F770&G770","v":"CUATRO (4)CUATRO (4)CSERVILLETA PARA SECAR LAS MANOS / PAQUETE DE 100 UNIDADESCOMERCIALIZADORA DINPRO S.A.S."},{"$f":"H770","v":6486.86}]
[{"$f":"\"ate01-\"&B771&\" \"&C771&\" \"&D771&\" \"&E771","v":"ate01-C4S4-010 CUATRO (4) CUATRO (4) C"},"C4S4-010","CUATRO (4)","CUATRO (4)","C","SERVILLETA PARA SECAR LAS MANOS / PAQUETE DE 100 UNIDADES","MIGUEL ANGEL VALLEJO BURGOS",3588.53,{"$f":"B771&G771","v":"C4S4-010MIGUEL ANGEL VALLEJO BURGOS"},{"$f":"C771&D771&E771&F771","v":"CUATRO (4)CUATRO (4)CSERVILLETA PARA SECAR LAS MANOS / PAQUETE DE 100 UNIDADES"},{"$f":"H771","v":3588.53},{"$f":"C771&D771&E771&F771&G771","v":"CUATRO (4)CUATRO (4)CSERVILLETA PARA SECAR LAS MANOS / PAQUETE DE 100 UNIDADESMIGUEL ANGEL VALLEJO BURGOS"},{"$f":"B771&H771","v":"C4S4-0103588.53"},{"$f":"G771","v":"MIGUEL ANGEL VALLEJO BURGOS"},"Und",{"$f":"C771&D771&E771&F771&G771","v":"CUATRO (4)CUATRO (4)CSERVILLETA PARA SECAR LAS MANOS / PAQUETE DE 100 UNIDADESMIGUEL ANGEL VALLEJO BURGOS"},{"$f":"H771","v":3588.53}]
[{"$f":"\"ate01-\"&B772&\" \"&C772&\" \"&D772&\" \"&E772","v":"ate01-C4S4-011 CUATRO (4) CUATRO (4) C"},"C4S4-011","CUATRO (4)","CUATRO (4)","C","TOALLAS PARA MANOS 1 / UN ROLLO","SUMIMAS S.A.S.",29494.46,{"$f":"B772&G772","v":"C4S4-011SUMIMAS S.A.S."},{"$f":"C772&D772&E772&F772","v":"CUATRO (4)CUATRO (4)CTOALLAS PARA MANOS 1 / UN ROLLO"},{"$f":"H772","v":29494.46},{"$f":"C772&D772&E772&F772&G772","v":"CUATRO (4)CUATRO (4)CTOALLAS PARA MANOS 1 / UN ROLLOSUMIMAS S.A.S."},{"$f":"B772&H772","v":"C4S4-01129494.46"},{"$f":"G772","v":"SUMIMAS S.A.S."},"Und",{"$f":"C772&D772&E772&F772&G772","v":"CUATRO (4)CUATRO (4)CTOALLAS PARA MANOS 1 / UN ROLLOSUMIMAS S.A.S."},{"$f":"H772","v":29494.46}]
[{"$f":"\"ate01-\"&B773&\" \"&C773&\" \"&D773&\" \"&E773","v":"ate01-C4S4-011 CUATRO (4) CUATRO (4) C"},"C4S4-011","CUATRO (4)","CUATRO (4)","C","TOALLAS PARA MANOS 1 / UN ROLLO","UNION TEMPORAL AYGEMA",38921.160000000003,{"$f":"B773&G773","v":"C4S4-011UNION TEMPORAL AYGEMA"},{"$f":"C773&D773&E773&F773","v":"CUATRO (4)CUATRO (4)CTOALLAS PARA MANOS 1 / UN ROLLO"},{"$f":"H773","v":38921.160000000003},{"$f":"C773&D773&E773&F773&G773","v":"CUATRO (4)CUATRO (4)CTOALLAS PARA MANOS 1 / UN ROLLOUNION TEMPORAL AYGEMA"},{"$f":"B773&H773","v":"C4S4-01138921.16"},{"$f":"G773","v":"UNION TEMPORAL AYGEMA"},"Und",{"$f":"C773&D773&E773&F773&G773","v":"CUATRO (4)CUATRO (4)CTOALLAS PARA MANOS 1 / UN ROLLOUNION TEMPORAL AYGEMA"},{"$f":"H773","v":38921.160000000003}]
[{"$f":"\"ate01-\"&B774&\" \"&C774&\" \"&D774&\" \"&E774","v":"ate01-C4S4-011 CUATRO (4) CUATRO (4) C"},"C4S4-011","CUATRO (4)","CUATRO (4)","C","TOALLAS PARA MANOS 1 / UN ROLLO","UT SS 2021- CCENEG- 041-01-2021",15865.56,{"$f":"B774&G774","v":"C4S4-011UT SS 2021- CCENEG- 041-01-2021"},{"$f":"C774&D774&E774&F774","v":"CUATRO (4)CUATRO (4)CTOALLAS PARA MANOS 1 / UN ROLLO"},{"$f":"H774","v":15865.56},{"$f":"C774&D774&E774&F774&G774","v":"CUATRO (4)CUATRO (4)CTOALLAS PARA MANOS 1 / UN ROLLOUT SS 2021- CCENEG- 041-01-2021"},{"$f":"B774&H774","v":"C4S4-01115865.56"},{"$f":"G774","v":"UT SS 2021- CCENEG- 041-01-2021"},"Und",{"$f":"C774&D774&E774&F774&G774","v":"CUATRO (4)CUATRO (4)CTOALLAS PARA MANOS 1 / UN ROLLOUT SS 2021- CCENEG- 041-01-2021"},{"$f":"H774","v":15865.56}]
[{"$f":"\"ate01-\"&B775&\" \"&C775&\" \"&D775&\" \"&E775","v":"ate01-C4S4-011 CUATRO (4) CUATRO (4) C"},"C4S4-011","CUATRO (4)","CUATRO (4)","C","TOALLAS PARA MANOS 1 / UN ROLLO","SUPRISA S.A.S.",24856.35,{"$f":"B775&G775","v":"C4S4-011SUPRISA S.A.S."},{"$f":"C775&D775&E775&F775","v":"CUATRO (4)CUATRO (4)CTOALLAS PARA MANOS 1 / UN ROLLO"},{"$f":"H775","v":24856.35},{"$f":"C775&D775&E775&F775&G775","v":"CUATRO (4)CUATRO (4)CTOALLAS PARA MANOS 1 / UN ROLLOSUPRISA S.A.S."},{"$f":"B775&H775","v":"C4S4-01124856.35"},{"$f":"G775","v":"SUPRISA S.A.S."},"Und",{"$f":"C775&D775&E775&F775&G775","v":"CUATRO (4)CUATRO (4)CTOALLAS PARA MANOS 1 / UN ROLLOSUPRISA S.A.S."},{"$f":"H775","v":24856.35}]
[{"$f":"\"ate01-\"&B776&\" \"&C776&\" \"&D776&\" \"&E776","v":"ate01-C4S4-011 CUATRO (4) CUATRO (4) C"},"C4S4-011","CUATRO (4)","CUATRO (4)","C","TOALLAS PARA MANOS 1 / UN ROLLO","COMERCIALIZADORA DINPRO S.A.S.",12325.04,{"$f":"B776&G776","v":"C4S4-011COMERCIALIZADORA DINPRO S.A.S."},{"$f":"C776&D776&E776&F776","v":"CUATRO (4)CUATRO (4)CTOALLAS PARA MANOS 1 / UN ROLLO"},{"$f":"H776","v":12325.04},{"$f":"C776&D776&E776&F776&G776","v":"CUATRO (4)CUATRO (4)CTOALLAS PARA MANOS 1 / UN ROLLOCOMERCIALIZADORA DINPRO S.A.S."},{"$f":"B776&H776","v":"C4S4-01112325.04"},{"$f":"G776","v":"COMERCIALIZADORA DINPRO S.A.S."},"Und",{"$f":"C776&D776&E776&F776&G776","v":"CUATRO (4)CUATRO (4)CTOALLAS PARA MANOS 1 / UN ROLLOCOMERCIALIZADORA DINPRO S.A.S."},{"$f":"H776","v":12325.04}]
[{"$f":"\"ate01-\"&B777&\" \"&C777&\" \"&D777&\" \"&E777","v":"ate01-C4S4-011 CUATRO (4) CUATRO (4) C"},"C4S4-011","CUATRO (4)","CUATRO (4)","C","TOALLAS PARA MANOS 1 / UN ROLLO","MIGUEL ANGEL VALLEJO BURGOS",16191.2,{"$f":"B777&G777","v":"C4S4-011MIGUEL ANGEL VALLEJO BURGOS"},{"$f":"C777&D777&E777&F777","v":"CUATRO (4)CUATRO (4)CTOALLAS PARA MANOS 1 / UN ROLLO"},{"$f":"H777","v":16191.2},{"$f":"C777&D777&E777&F777&G777","v":"CUATRO (4)CUATRO (4)CTOALLAS PARA MANOS 1 / UN ROLLOMIGUEL ANGEL VALLEJO BURGOS"},{"$f":"B777&H777","v":"C4S4-01116191.2"},{"$f":"G777","v":"MIGUEL ANGEL VALLEJO BURGOS"},"Und",{"$f":"C777&D777&E777&F777&G777","v":"CUATRO (4)CUATRO (4)CTOALLAS PARA MANOS 1 / UN ROLLOMIGUEL ANGEL VALLEJO BURGOS"},{"$f":"H777","v":16191.2}]
[{"$f":"\"ate01-\"&B778&\" \"&C778&\" \"&D778&\" \"&E778","v":"ate01-C4S4-012 CUATRO (4) CUATRO (4) C"},"C4S4-012","CUATRO (4)","CUATRO (4)","C","TOALLAS PARA MANOS 2 / UN ROLLO","SUMIMAS S.A.S.",23854.78,{"$f":"B778&G778","v":"C4S4-012SUMIMAS S.A.S."},{"$f":"C778&D778&E778&F778","v":"CUATRO (4)CUATRO (4)CTOALLAS PARA MANOS 2 / UN ROLLO"},{"$f":"H778","v":23854.78},{"$f":"C778&D778&E778&F778&G778","v":"CUATRO (4)CUATRO (4)CTOALLAS PARA MANOS 2 / UN ROLLOSUMIMAS S.A.S."},{"$f":"B778&H778","v":"C4S4-01223854.78"},{"$f":"G778","v":"SUMIMAS S.A.S."},"Und",{"$f":"C778&D778&E778&F778&G778","v":"CUATRO (4)CUATRO (4)CTOALLAS PARA MANOS 2 / UN ROLLOSUMIMAS S.A.S."},{"$f":"H778","v":23854.78}]
[{"$f":"\"ate01-\"&B779&\" \"&C779&\" \"&D779&\" \"&E779","v":"ate01-C4S4-012 CUATRO (4) CUATRO (4) C"},"C4S4-012","CUATRO (4)","CUATRO (4)","C","TOALLAS PARA MANOS 2 / UN ROLLO","UNION TEMPORAL AYGEMA",38921.160000000003,{"$f":"B779&G779","v":"C4S4-012UNION TEMPORAL AYGEMA"},{"$f":"C779&D779&E779&F779","v":"CUATRO (4)CUATRO (4)CTOALLAS PARA MANOS 2 / UN ROLLO"},{"$f":"H779","v":38921.160000000003},{"$f":"C779&D779&E779&F779&G779","v":"CUATRO (4)CUATRO (4)CTOALLAS PARA MANOS 2 / UN ROLLOUNION TEMPORAL AYGEMA"},{"$f":"B779&H779","v":"C4S4-01238921.16"},{"$f":"G779","v":"UNION TEMPORAL AYGEMA"},"Und",{"$f":"C779&D779&E779&F779&G779","v":"CUATRO (4)CUATRO (4)CTOALLAS PARA MANOS 2 / UN ROLLOUNION TEMPORAL AYGEMA"},{"$f":"H779","v":38921.160000000003}]
[{"$f":"\"ate01-\"&B780&\" \"&C780&\" \"&D780&\" \"&E780","v":"ate01-C4S4-012 CUATRO (4) CUATRO (4) C"},"C4S4-012","CUATRO (4)","CUATRO (4)","C","TOALLAS PARA MANOS 2 / UN ROLLO","UT SS 2021- CCENEG- 041-01-2021",16921.63,{"$f":"B780&G780","v":"C4S4-012UT SS 2021- CCENEG- 041-01-2021"},{"$f":"C780&D780&E780&F780","v":"CUATRO (4)CUATRO (4)CTOALLAS PARA MANOS 2 / UN ROLLO"},{"$f":"H780","v":16921.63},{"$f":"C780&D780&E780&F780&G780","v":"CUATRO (4)CUATRO (4)CTOALLAS PARA MANOS 2 / UN ROLLOUT SS 2021- CCENEG- 041-01-2021"},{"$f":"B780&H780","v":"C4S4-01216921.63"},{"$f":"G780","v":"UT SS 2021- CCENEG- 041-01-2021"},"Und",{"$f":"C780&D780&E780&F780&G780","v":"CUATRO (4)CUATRO (4)CTOALLAS PARA MANOS 2 / UN ROLLOUT SS 2021- CCENEG- 041-01-2021"},{"$f":"H780","v":16921.63}]
[{"$f":"\"ate01-\"&B781&\" \"&C781&\" \"&D781&\" \"&E781","v":"ate01-C4S4-012 CUATRO (4) CUATRO (4) C"},"C4S4-012","CUATRO (4)","CUATRO (4)","C","TOALLAS PARA MANOS 2 / UN ROLLO","SUPRISA S.A.S.",24856.35,{"$f":"B781&G781","v":"C4S4-012SUPRISA S.A.S."},{"$f":"C781&D781&E781&F781","v":"CUATRO (4)CUATRO (4)CTOALLAS PARA MANOS 2 / UN ROLLO"},{"$f":"H781","v":24856.35},{"$f":"C781&D781&E781&F781&G781","v":"CUATRO (4)CUATRO (4)CTOALLAS PARA MANOS 2 / UN ROLLOSUPRISA S.A.S."},{"$f":"B781&H781","v":"C4S4-01224856.35"},{"$f":"G781","v":"SUPRISA S.A.S."},"Und",{"$f":"C781&D781&E781&F781&G781","v":"CUATRO (4)CUATRO (4)CTOALLAS PARA MANOS 2 / UN ROLLOSUPRISA S.A.S."},{"$f":"H781","v":24856.35}]
[{"$f":"\"ate01-\"&B782&\" \"&C782&\" \"&D782&\" \"&E782","v":"ate01-C4S4-012 CUATRO (4) CUATRO (4) C"},"C4S4-012","CUATRO (4)","CUATRO (4)","C","TOALLAS PARA MANOS 2 / UN ROLLO","COMERCIALIZADORA DINPRO S.A.S.",11546.61,{"$f":"B782&G782","v":"C4S4-012COMERCIALIZADORA DINPRO S.A.S."},{"$f":"C782&D782&E782&F782","v":"CUATRO (4)CUATRO (4)CTOALLAS PARA MANOS 2 / UN ROLLO"},{"$f":"H782","v":11546.61},{"$f":"C782&D782&E782&F782&G782","v":"CUATRO (4)CUATRO (4)CTOALLAS PARA MANOS 2 / UN ROLLOCOMERCIALIZADORA DINPRO S.A.S."},{"$f":"B782&H782","v":"C4S4-01211546.61"},{"$f":"G782","v":"COMERCIALIZADORA DINPRO S.A.S."},"Und",{"$f":"C782&D782&E782&F782&G782","v":"CUATRO (4)CUATRO (4)CTOALLAS PARA MANOS 2 / UN ROLLOCOMERCIALIZADORA DINPRO S.A.S."},{"$f":"H782","v":11546.61}]
[{"$f":"\"ate01-\"&B783&\" \"&C783&\" \"&D783&\" \"&E783","v":"ate01-C4S4-012 CUATRO (4) CUATRO (4) C"},"C4S4-012","CUATRO (4)","CUATRO (4)","C","TOALLAS PARA MANOS 2 / UN ROLLO","MIGUEL ANGEL VALLEJO BURGOS",17598.849999999999,{"$f":"B783&G783","v":"C4S4-012MIGUEL ANGEL VALLEJO BURGOS"},{"$f":"C783&D783&E783&F783","v":"CUATRO (4)CUATRO (4)CTOALLAS PARA MANOS 2 / UN ROLLO"},{"$f":"H783","v":17598.849999999999},{"$f":"C783&D783&E783&F783&G783","v":"CUATRO (4)CUATRO (4)CTOALLAS PARA MANOS 2 / UN ROLLOMIGUEL ANGEL VALLEJO BURGOS"},{"$f":"B783&H783","v":"C4S4-01217598.85"},{"$f":"G783","v":"MIGUEL ANGEL VALLEJO BURGOS"},"Und",{"$f":"C783&D783&E783&F783&G783","v":"CUATRO (4)CUATRO (4)CTOALLAS PARA MANOS 2 / UN ROLLOMIGUEL ANGEL VALLEJO BURGOS"},{"$f":"H783","v":17598.849999999999}]
[{"$f":"\"ate01-\"&B784&\" \"&C784&\" \"&D784&\" \"&E784","v":"ate01-C4S4-013 CUATRO (4) CUATRO (4) C"},"C4S4-013","CUATRO (4)","CUATRO (4)","C","TOALLAS PARA MANOS 3 / PAQUETE DE MÍNIMO 150 UNIDADES","SUMIMAS S.A.S.",6235.17,{"$f":"B784&G784","v":"C4S4-013SUMIMAS S.A.S."},{"$f":"C784&D784&E784&F784","v":"CUATRO (4)CUATRO (4)CTOALLAS PARA MANOS 3 / PAQUETE DE MÍNIMO 150 UNIDADES"},{"$f":"H784","v":6235.17},{"$f":"C784&D784&E784&F784&G784","v":"CUATRO (4)CUATRO (4)CTOALLAS PARA MANOS 3 / PAQUETE DE MÍNIMO 150 UNIDADESSUMIMAS S.A.S."},{"$f":"B784&H784","v":"C4S4-0136235.17"},{"$f":"G784","v":"SUMIMAS S.A.S."},"Und",{"$f":"C784&D784&E784&F784&G784","v":"CUATRO (4)CUATRO (4)CTOALLAS PARA MANOS 3 / PAQUETE DE MÍNIMO 150 UNIDADESSUMIMAS S.A.S."},{"$f":"H784","v":6235.17}]
[{"$f":"\"ate01-\"&B785&\" \"&C785&\" \"&D785&\" \"&E785","v":"ate01-C4S4-013 CUATRO (4) CUATRO (4) C"},"C4S4-013","CUATRO (4)","CUATRO (4)","C","TOALLAS PARA MANOS 3 / PAQUETE DE MÍNIMO 150 UNIDADES","UNION TEMPORAL AYGEMA",10378.98,{"$f":"B785&G785","v":"C4S4-013UNION TEMPORAL AYGEMA"},{"$f":"C785&D785&E785&F785","v":"CUATRO (4)CUATRO (4)CTOALLAS PARA MANOS 3 / PAQUETE DE MÍNIMO 150 UNIDADES"},{"$f":"H785","v":10378.98},{"$f":"C785&D785&E785&F785&G785","v":"CUATRO (4)CUATRO (4)CTOALLAS PARA MANOS 3 / PAQUETE DE MÍNIMO 150 UNIDADESUNION TEMPORAL AYGEMA"},{"$f":"B785&H785","v":"C4S4-01310378.98"},{"$f":"G785","v":"UNION TEMPORAL AYGEMA"},"Und",{"$f":"C785&D785&E785&F785&G785","v":"CUATRO (4)CUATRO (4)CTOALLAS PARA MANOS 3 / PAQUETE DE MÍNIMO 150 UNIDADESUNION TEMPORAL AYGEMA"},{"$f":"H785","v":10378.98}]
[{"$f":"\"ate01-\"&B786&\" \"&C786&\" \"&D786&\" \"&E786","v":"ate01-C4S4-013 CUATRO (4) CUATRO (4) C"},"C4S4-013","CUATRO (4)","CUATRO (4)","C","TOALLAS PARA MANOS 3 / PAQUETE DE MÍNIMO 150 UNIDADES","UT SS 2021- CCENEG- 041-01-2021",5029.91,{"$f":"B786&G786","v":"C4S4-013UT SS 2021- CCENEG- 041-01-2021"},{"$f":"C786&D786&E786&F786","v":"CUATRO (4)CUATRO (4)CTOALLAS PARA MANOS 3 / PAQUETE DE MÍNIMO 150 UNIDADES"},{"$f":"H786","v":5029.91},{"$f":"C786&D786&E786&F786&G786","v":"CUATRO (4)CUATRO (4)CTOALLAS PARA MANOS 3 / PAQUETE DE MÍNIMO 150 UNIDADESUT SS 2021- CCENEG- 041-01-2021"},{"$f":"B786&H786","v":"C4S4-0135029.91"},{"$f":"G786","v":"UT SS 2021- CCENEG- 041-01-2021"},"Und",{"$f":"C786&D786&E786&F786&G786","v":"CUATRO (4)CUATRO (4)CTOALLAS PARA MANOS 3 / PAQUETE DE MÍNIMO 150 UNIDADESUT SS 2021- CCENEG- 041-01-2021"},{"$f":"H786","v":5029.91}]
[{"$f":"\"ate01-\"&B787&\" \"&C787&\" \"&D787&\" \"&E787","v":"ate01-C4S4-013 CUATRO (4) CUATRO (4) C"},"C4S4-013","CUATRO (4)","CUATRO (4)","C","TOALLAS PARA MANOS 3 / PAQUETE DE MÍNIMO 150 UNIDADES","SUPRISA S.A.S.",8491.2999999999993,{"$f":"B787&G787","v":"C4S4-013SUPRISA S.A.S."},{"$f":"C787&D787&E787&F787","v":"CUATRO (4)CUATRO (4)CTOALLAS PARA MANOS 3 / PAQUETE DE MÍNIMO 150 UNIDADES"},{"$f":"H787","v":8491.2999999999993},{"$f":"C787&D787&E787&F787&G787","v":"CUATRO (4)CUATRO (4)CTOALLAS PARA MANOS 3 / PAQUETE DE MÍNIMO 150 UNIDADESSUPRISA S.A.S."},{"$f":"B787&H787","v":"C4S4-0138491.3"},{"$f":"G787","v":"SUPRISA S.A.S."},"Und",{"$f":"C787&D787&E787&F787&G787","v":"CUATRO (4)CUATRO (4)CTOALLAS PARA MANOS 3 / PAQUETE DE MÍNIMO 150 UNIDADESSUPRISA S.A.S."},{"$f":"H787","v":8491.2999999999993}]
[{"$f":"\"ate01-\"&B788&\" \"&C788&\" \"&D788&\" \"&E788","v":"ate01-C4S4-013 CUATRO (4) CUATRO (4) C"},"C4S4-013","CUATRO (4)","CUATRO (4)","C","TOALLAS PARA MANOS 3 / PAQUETE DE MÍNIMO 150 UNIDADES","COMERCIALIZADORA DINPRO S.A.S.",4670.54,{"$f":"B788&G788","v":"C4S4-013COMERCIALIZADORA DINPRO S.A.S."},{"$f":"C788&D788&E788&F788","v":"CUATRO (4)CUATRO (4)CTOALLAS PARA MANOS 3 / PAQUETE DE MÍNIMO 150 UNIDADES"},{"$f":"H788","v":4670.54},{"$f":"C788&D788&E788&F788&G788","v":"CUATRO (4)CUATRO (4)CTOALLAS PARA MANOS 3 / PAQUETE DE MÍNIMO 150 UNIDADESCOMERCIALIZADORA DINPRO S.A.S."},{"$f":"B788&H788","v":"C4S4-0134670.54"},{"$f":"G788","v":"COMERCIALIZADORA DINPRO S.A.S."},"Und",{"$f":"C788&D788&E788&F788&G788","v":"CUATRO (4)CUATRO (4)CTOALLAS PARA MANOS 3 / PAQUETE DE MÍNIMO 150 UNIDADESCOMERCIALIZADORA DINPRO S.A.S."},{"$f":"H788","v":4670.54}]
[{"$f":"\"ate01-\"&B789&\" \"&C789&\" \"&D789&\" \"&E789","v":"ate01-C4S4-013 CUATRO (4) CUATRO (4) C"},"C4S4-013","CUATRO (4)","CUATRO (4)","C","TOALLAS PARA MANOS 3 / PAQUETE DE MÍNIMO 150 UNIDADES","MIGUEL ANGEL VALLEJO BURGOS",7040.84,{"$f":"B789&G789","v":"C4S4-013MIGUEL ANGEL VALLEJO BURGOS"},{"$f":"C789&D789&E789&F789","v":"CUATRO (4)CUATRO (4)CTOALLAS PARA MANOS 3 / PAQUETE DE MÍNIMO 150 UNIDADES"},{"$f":"H789","v":7040.84},{"$f":"C789&D789&E789&F789&G789","v":"CUATRO (4)CUATRO (4)CTOALLAS PARA MANOS 3 / PAQUETE DE MÍNIMO 150 UNIDADESMIGUEL ANGEL VALLEJO BURGOS"},{"$f":"B789&H789","v":"C4S4-0137040.84"},{"$f":"G789","v":"MIGUEL ANGEL VALLEJO BURGOS"},"Und",{"$f":"C789&D789&E789&F789&G789","v":"CUATRO (4)CUATRO (4)CTOALLAS PARA MANOS 3 / PAQUETE DE MÍNIMO 150 UNIDADESMIGUEL ANGEL VALLEJO BURGOS"},{"$f":"H789","v":7040.84}]
[{"$f":"\"ate01-\"&B790&\" \"&C790&\" \"&D790&\" \"&E790","v":"ate01-C4S4-014 CUATRO (4) CUATRO (4) C"},"C4S4-014","CUATRO (4)","CUATRO (4)","C","TOALLAS PARA MANOS 4 / PAQUETE DE MÍNIMO 150 UNIDADES","SUMIMAS S.A.S.",7226.36,{"$f":"B790&G790","v":"C4S4-014SUMIMAS S.A.S."},{"$f":"C790&D790&E790&F790","v":"CUATRO (4)CUATRO (4)CTOALLAS PARA MANOS 4 / PAQUETE DE MÍNIMO 150 UNIDADES"},{"$f":"H790","v":7226.36},{"$f":"C790&D790&E790&F790&G790","v":"CUATRO (4)CUATRO (4)CTOALLAS PARA MANOS 4 / PAQUETE DE MÍNIMO 150 UNIDADESSUMIMAS S.A.S."},{"$f":"B790&H790","v":"C4S4-0147226.36"},{"$f":"G790","v":"SUMIMAS S.A.S."},"Und",{"$f":"C790&D790&E790&F790&G790","v":"CUATRO (4)CUATRO (4)CTOALLAS PARA MANOS 4 / PAQUETE DE MÍNIMO 150 UNIDADESSUMIMAS S.A.S."},{"$f":"H790","v":7226.36}]
[{"$f":"\"ate01-\"&B791&\" \"&C791&\" \"&D791&\" \"&E791","v":"ate01-C4S4-014 CUATRO (4) CUATRO (4) C"},"C4S4-014","CUATRO (4)","CUATRO (4)","C","TOALLAS PARA MANOS 4 / PAQUETE DE MÍNIMO 150 UNIDADES","UNION TEMPORAL AYGEMA",10378.98,{"$f":"B791&G791","v":"C4S4-014UNION TEMPORAL AYGEMA"},{"$f":"C791&D791&E791&F791","v":"CUATRO (4)CUATRO (4)CTOALLAS PARA MANOS 4 / PAQUETE DE MÍNIMO 150 UNIDADES"},{"$f":"H791","v":10378.98},{"$f":"C791&D791&E791&F791&G791","v":"CUATRO (4)CUATRO (4)CTOALLAS PARA MANOS 4 / PAQUETE DE MÍNIMO 150 UNIDADESUNION TEMPORAL AYGEMA"},{"$f":"B791&H791","v":"C4S4-01410378.98"},{"$f":"G791","v":"UNION TEMPORAL AYGEMA"},"Und",{"$f":"C791&D791&E791&F791&G791","v":"CUATRO (4)CUATRO (4)CTOALLAS PARA MANOS 4 / PAQUETE DE MÍNIMO 150 UNIDADESUNION TEMPORAL AYGEMA"},{"$f":"H791","v":10378.98}]
[{"$f":"\"ate01-\"&B792&\" \"&C792&\" \"&D792&\" \"&E792","v":"ate01-C4S4-014 CUATRO (4) CUATRO (4) C"},"C4S4-014","CUATRO (4)","CUATRO (4)","C","TOALLAS PARA MANOS 4 / PAQUETE DE MÍNIMO 150 UNIDADES","UT SS 2021- CCENEG- 041-01-2021",6549.13,{"$f":"B792&G792","v":"C4S4-014UT SS 2021- CCENEG- 041-01-2021"},{"$f":"C792&D792&E792&F792","v":"CUATRO (4)CUATRO (4)CTOALLAS PARA MANOS 4 / PAQUETE DE MÍNIMO 150 UNIDADES"},{"$f":"H792","v":6549.13},{"$f":"C792&D792&E792&F792&G792","v":"CUATRO (4)CUATRO (4)CTOALLAS PARA MANOS 4 / PAQUETE DE MÍNIMO 150 UNIDADESUT SS 2021- CCENEG- 041-01-2021"},{"$f":"B792&H792","v":"C4S4-0146549.13"},{"$f":"G792","v":"UT SS 2021- CCENEG- 041-01-2021"},"Und",{"$f":"C792&D792&E792&F792&G792","v":"CUATRO (4)CUATRO (4)CTOALLAS PARA MANOS 4 / PAQUETE DE MÍNIMO 150 UNIDADESUT SS 2021- CCENEG- 041-01-2021"},{"$f":"H792","v":6549.13}]
[{"$f":"\"ate01-\"&B793&\" \"&C793&\" \"&D793&\" \"&E793","v":"ate01-C4S4-014 CUATRO (4) CUATRO (4) C"},"C4S4-014","CUATRO (4)","CUATRO (4)","C","TOALLAS PARA MANOS 4 / PAQUETE DE MÍNIMO 150 UNIDADES","SUPRISA S.A.S.",12042.21,{"$f":"B793&G793","v":"C4S4-014SUPRISA S.A.S."},{"$f":"C793&D793&E793&F793","v":"CUATRO (4)CUATRO (4)CTOALLAS PARA MANOS 4 / PAQUETE DE MÍNIMO 150 UNIDADES"},{"$f":"H793","v":12042.21},{"$f":"C793&D793&E793&F793&G793","v":"CUATRO (4)CUATRO (4)CTOALLAS PARA MANOS 4 / PAQUETE DE MÍNIMO 150 UNIDADESSUPRISA S.A.S."},{"$f":"B793&H793","v":"C4S4-01412042.21"},{"$f":"G793","v":"SUPRISA S.A.S."},"Und",{"$f":"C793&D793&E793&F793&G793","v":"CUATRO (4)CUATRO (4)CTOALLAS PARA MANOS 4 / PAQUETE DE MÍNIMO 150 UNIDADESSUPRISA S.A.S."},{"$f":"H793","v":12042.21}]
[{"$f":"\"ate01-\"&B794&\" \"&C794&\" \"&D794&\" \"&E794","v":"ate01-C4S4-014 CUATRO (4) CUATRO (4) C"},"C4S4-014","CUATRO (4)","CUATRO (4)","C","TOALLAS PARA MANOS 4 / PAQUETE DE MÍNIMO 150 UNIDADES","COMERCIALIZADORA DINPRO S.A.S.",5448.96,{"$f":"B794&G794","v":"C4S4-014COMERCIALIZADORA DINPRO S.A.S."},{"$f":"C794&D794&E794&F794","v":"CUATRO (4)CUATRO (4)CTOALLAS PARA MANOS 4 / PAQUETE DE MÍNIMO 150 UNIDADES"},{"$f":"H794","v":5448.96},{"$f":"C794&D794&E794&F794&G794","v":"CUATRO (4)CUATRO (4)CTOALLAS PARA MANOS 4 / PAQUETE DE MÍNIMO 150 UNIDADESCOMERCIALIZADORA DINPRO S.A.S."},{"$f":"B794&H794","v":"C4S4-0145448.96"},{"$f":"G794","v":"COMERCIALIZADORA DINPRO S.A.S."},"Und",{"$f":"C794&D794&E794&F794&G794","v":"CUATRO (4)CUATRO (4)CTOALLAS PARA MANOS 4 / PAQUETE DE MÍNIMO 150 UNIDADESCOMERCIALIZADORA DINPRO S.A.S."},{"$f":"H794","v":5448.96}]
[{"$f":"\"ate01-\"&B795&\" \"&C795&\" \"&D795&\" \"&E795","v":"ate01-C4S4-014 CUATRO (4) CUATRO (4) C"},"C4S4-014","CUATRO (4)","CUATRO (4)","C","TOALLAS PARA MANOS 4 / PAQUETE DE MÍNIMO 150 UNIDADES","MIGUEL ANGEL VALLEJO BURGOS",7808.88,{"$f":"B795&G795","v":"C4S4-014MIGUEL ANGEL VALLEJO BURGOS"},{"$f":"C795&D795&E795&F795","v":"CUATRO (4)CUATRO (4)CTOALLAS PARA MANOS 4 / PAQUETE DE MÍNIMO 150 UNIDADES"},{"$f":"H795","v":7808.88},{"$f":"C795&D795&E795&F795&G795","v":"CUATRO (4)CUATRO (4)CTOALLAS PARA MANOS 4 / PAQUETE DE MÍNIMO 150 UNIDADESMIGUEL ANGEL VALLEJO BURGOS"},{"$f":"B795&H795","v":"C4S4-0147808.88"},{"$f":"G795","v":"MIGUEL ANGEL VALLEJO BURGOS"},"Und",{"$f":"C795&D795&E795&F795&G795","v":"CUATRO (4)CUATRO (4)CTOALLAS PARA MANOS 4 / PAQUETE DE MÍNIMO 150 UNIDADESMIGUEL ANGEL VALLEJO BURGOS"},{"$f":"H795","v":7808.88}]
[{"$f":"\"ate01-\"&B796&\" \"&C796&\" \"&D796&\" \"&E796","v":"ate01-C4S4-015 CUATRO (4) CUATRO (4) C"},"C4S4-015","CUATRO (4)","CUATRO (4)","C","PAÑO LIMPIEZA / UNIDAD","SUMIMAS S.A.S.",3992.01,{"$f":"B796&G796","v":"C4S4-015SUMIMAS S.A.S."},{"$f":"C796&D796&E796&F796","v":"CUATRO (4)CUATRO (4)CPAÑO LIMPIEZA / UNIDAD"},{"$f":"H796","v":3992.01},{"$f":"C796&D796&E796&F796&G796","v":"CUATRO (4)CUATRO (4)CPAÑO LIMPIEZA / UNIDADSUMIMAS S.A.S."},{"$f":"B796&H796","v":"C4S4-0153992.01"},{"$f":"G796","v":"SUMIMAS S.A.S."},"Und",{"$f":"C796&D796&E796&F796&G796","v":"CUATRO (4)CUATRO (4)CPAÑO LIMPIEZA / UNIDADSUMIMAS S.A.S."},{"$f":"H796","v":3992.01}]
[{"$f":"\"ate01-\"&B797&\" \"&C797&\" \"&D797&\" \"&E797","v":"ate01-C4S4-015 CUATRO (4) CUATRO (4) C"},"C4S4-015","CUATRO (4)","CUATRO (4)","C","PAÑO LIMPIEZA / UNIDAD","UNION TEMPORAL AYGEMA",2568.8000000000002,{"$f":"B797&G797","v":"C4S4-015UNION TEMPORAL AYGEMA"},{"$f":"C797&D797&E797&F797","v":"CUATRO (4)CUATRO (4)CPAÑO LIMPIEZA / UNIDAD"},{"$f":"H797","v":2568.8000000000002},{"$f":"C797&D797&E797&F797&G797","v":"CUATRO (4)CUATRO (4)CPAÑO LIMPIEZA / UNIDADUNION TEMPORAL AYGEMA"},{"$f":"B797&H797","v":"C4S4-0152568.8"},{"$f":"G797","v":"UNION TEMPORAL AYGEMA"},"Und",{"$f":"C797&D797&E797&F797&G797","v":"CUATRO (4)CUATRO (4)CPAÑO LIMPIEZA / UNIDADUNION TEMPORAL AYGEMA"},{"$f":"H797","v":2568.8000000000002}]
[{"$f":"\"ate01-\"&B798&\" \"&C798&\" \"&D798&\" \"&E798","v":"ate01-C4S4-015 CUATRO (4) CUATRO (4) C"},"C4S4-015","CUATRO (4)","CUATRO (4)","C","PAÑO LIMPIEZA / UNIDAD","UT SS 2021- CCENEG- 041-01-2021",2287.27,{"$f":"B798&G798","v":"C4S4-015UT SS 2021- CCENEG- 041-01-2021"},{"$f":"C798&D798&E798&F798","v":"CUATRO (4)CUATRO (4)CPAÑO LIMPIEZA / UNIDAD"},{"$f":"H798","v":2287.27},{"$f":"C798&D798&E798&F798&G798","v":"CUATRO (4)CUATRO (4)CPAÑO LIMPIEZA / UNIDADUT SS 2021- CCENEG- 041-01-2021"},{"$f":"B798&H798","v":"C4S4-0152287.27"},{"$f":"G798","v":"UT SS 2021- CCENEG- 041-01-2021"},"Und",{"$f":"C798&D798&E798&F798&G798","v":"CUATRO (4)CUATRO (4)CPAÑO LIMPIEZA / UNIDADUT SS 2021- CCENEG- 041-01-2021"},{"$f":"H798","v":2287.27}]
[{"$f":"\"ate01-\"&B799&\" \"&C799&\" \"&D799&\" \"&E799","v":"ate01-C4S4-015 CUATRO (4) CUATRO (4) C"},"C4S4-015","CUATRO (4)","CUATRO (4)","C","PAÑO LIMPIEZA / UNIDAD","SUPRISA S.A.S.",5403.56,{"$f":"B799&G799","v":"C4S4-015SUPRISA S.A.S."},{"$f":"C799&D799&E799&F799","v":"CUATRO (4)CUATRO (4)CPAÑO LIMPIEZA / UNIDAD"},{"$f":"H799","v":5403.56},{"$f":"C799&D799&E799&F799&G799","v":"CUATRO (4)CUATRO (4)CPAÑO LIMPIEZA / UNIDADSUPRISA S.A.S."},{"$f":"B799&H799","v":"C4S4-0155403.56"},{"$f":"G799","v":"SUPRISA S.A.S."},"Und",{"$f":"C799&D799&E799&F799&G799","v":"CUATRO (4)CUATRO (4)CPAÑO LIMPIEZA / UNIDADSUPRISA S.A.S."},{"$f":"H799","v":5403.56}]
[{"$f":"\"ate01-\"&B800&\" \"&C800&\" \"&D800&\" \"&E800","v":"ate01-C4S4-015 CUATRO (4) CUATRO (4) C"},"C4S4-015","CUATRO (4)","CUATRO (4)","C","PAÑO LIMPIEZA / UNIDAD","COMERCIALIZADORA DINPRO S.A.S.",1297.3699999999999,{"$f":"B800&G800","v":"C4S4-015COMERCIALIZADORA DINPRO S.A.S."},{"$f":"C800&D800&E800&F800","v":"CUATRO (4)CUATRO (4)CPAÑO LIMPIEZA / UNIDAD"},{"$f":"H800","v":1297.3699999999999},{"$f":"C800&D800&E800&F800&G800","v":"CUATRO (4)CUATRO (4)CPAÑO LIMPIEZA / UNIDADCOMERCIALIZADORA DINPRO S.A.S."},{"$f":"B800&H800","v":"C4S4-0151297.37"},{"$f":"G800","v":"COMERCIALIZADORA DINPRO S.A.S."},"Und",{"$f":"C800&D800&E800&F800&G800","v":"CUATRO (4)CUATRO (4)CPAÑO LIMPIEZA / UNIDADCOMERCIALIZADORA DINPRO S.A.S."},{"$f":"H800","v":1297.3699999999999}]
[{"$f":"\"ate01-\"&B801&\" \"&C801&\" \"&D801&\" \"&E801","v":"ate01-C4S4-015 CUATRO (4) CUATRO (4) C"},"C4S4-015","CUATRO (4)","CUATRO (4)","C","PAÑO LIMPIEZA / UNIDAD","MIGUEL ANGEL VALLEJO BURGOS",8846.7800000000007,{"$f":"B801&G801","v":"C4S4-015MIGUEL ANGEL VALLEJO BURGOS"},{"$f":"C801&D801&E801&F801","v":"CUATRO (4)CUATRO (4)CPAÑO LIMPIEZA / UNIDAD"},{"$f":"H801","v":8846.7800000000007},{"$f":"C801&D801&E801&F801&G801","v":"CUATRO (4)CUATRO (4)CPAÑO LIMPIEZA / UNIDADMIGUEL ANGEL VALLEJO BURGOS"},{"$f":"B801&H801","v":"C4S4-0158846.78"},{"$f":"G801","v":"MIGUEL ANGEL VALLEJO BURGOS"},"Und",{"$f":"C801&D801&E801&F801&G801","v":"CUATRO (4)CUATRO (4)CPAÑO LIMPIEZA / UNIDADMIGUEL ANGEL VALLEJO BURGOS"},{"$f":"H801","v":8846.7800000000007}]
[{"$f":"\"ate01-\"&B802&\" \"&C802&\" \"&D802&\" \"&E802","v":"ate01-C4S4-016 CUATRO (4) CUATRO (4) C"},"C4S4-016","CUATRO (4)","CUATRO (4)","C","TOALLAS ABSORVENTES / UNIDAD DE ROLLO POR 80 MTS","SUMIMAS S.A.S.",21057.65,{"$f":"B802&G802","v":"C4S4-016SUMIMAS S.A.S."},{"$f":"C802&D802&E802&F802","v":"CUATRO (4)CUATRO (4)CTOALLAS ABSORVENTES / UNIDAD DE ROLLO POR 80 MTS"},{"$f":"H802","v":21057.65},{"$f":"C802&D802&E802&F802&G802","v":"CUATRO (4)CUATRO (4)CTOALLAS ABSORVENTES / UNIDAD DE ROLLO POR 80 MTSSUMIMAS S.A.S."},{"$f":"B802&H802","v":"C4S4-01621057.65"},{"$f":"G802","v":"SUMIMAS S.A.S."},"Und",{"$f":"C802&D802&E802&F802&G802","v":"CUATRO (4)CUATRO (4)CTOALLAS ABSORVENTES / UNIDAD DE ROLLO POR 80 MTSSUMIMAS S.A.S."},{"$f":"H802","v":21057.65}]
[{"$f":"\"ate01-\"&B803&\" \"&C803&\" \"&D803&\" \"&E803","v":"ate01-C4S4-016 CUATRO (4) CUATRO (4) C"},"C4S4-016","CUATRO (4)","CUATRO (4)","C","TOALLAS ABSORVENTES / UNIDAD DE ROLLO POR 80 MTS","UNION TEMPORAL AYGEMA",64868.61,{"$f":"B803&G803","v":"C4S4-016UNION TEMPORAL AYGEMA"},{"$f":"C803&D803&E803&F803","v":"CUATRO (4)CUATRO (4)CTOALLAS ABSORVENTES / UNIDAD DE ROLLO POR 80 MTS"},{"$f":"H803","v":64868.61},{"$f":"C803&D803&E803&F803&G803","v":"CUATRO (4)CUATRO (4)CTOALLAS ABSORVENTES / UNIDAD DE ROLLO POR 80 MTSUNION TEMPORAL AYGEMA"},{"$f":"B803&H803","v":"C4S4-01664868.61"},{"$f":"G803","v":"UNION TEMPORAL AYGEMA"},"Und",{"$f":"C803&D803&E803&F803&G803","v":"CUATRO (4)CUATRO (4)CTOALLAS ABSORVENTES / UNIDAD DE ROLLO POR 80 MTSUNION TEMPORAL AYGEMA"},{"$f":"H803","v":64868.61}]
[{"$f":"\"ate01-\"&B804&\" \"&C804&\" \"&D804&\" \"&E804","v":"ate01-C4S4-016 CUATRO (4) CUATRO (4) C"},"C4S4-016","CUATRO (4)","CUATRO (4)","C","TOALLAS ABSORVENTES / UNIDAD DE ROLLO POR 80 MTS","UT SS 2021- CCENEG- 041-01-2021",25096.37,{"$f":"B804&G804","v":"C4S4-016UT SS 2021- CCENEG- 041-01-2021"},{"$f":"C804&D804&E804&F804","v":"CUATRO (4)CUATRO (4)CTOALLAS ABSORVENTES / UNIDAD DE ROLLO POR 80 MTS"},{"$f":"H804","v":25096.37},{"$f":"C804&D804&E804&F804&G804","v":"CUATRO (4)CUATRO (4)CTOALLAS ABSORVENTES / UNIDAD DE ROLLO POR 80 MTSUT SS 2021- CCENEG- 041-01-2021"},{"$f":"B804&H804","v":"C4S4-01625096.37"},{"$f":"G804","v":"UT SS 2021- CCENEG- 041-01-2021"},"Und",{"$f":"C804&D804&E804&F804&G804","v":"CUATRO (4)CUATRO (4)CTOALLAS ABSORVENTES / UNIDAD DE ROLLO POR 80 MTSUT SS 2021- CCENEG- 041-01-2021"},{"$f":"H804","v":25096.37}]
[{"$f":"\"ate01-\"&B805&\" \"&C805&\" \"&D805&\" \"&E805","v":"ate01-C4S4-016 CUATRO (4) CUATRO (4) C"},"C4S4-016","CUATRO (4)","CUATRO (4)","C","TOALLAS ABSORVENTES / UNIDAD DE ROLLO POR 80 MTS","SUPRISA S.A.S.",45544.25,{"$f":"B805&G805","v":"C4S4-016SUPRISA S.A.S."},{"$f":"C805&D805&E805&F805","v":"CUATRO (4)CUATRO (4)CTOALLAS ABSORVENTES / UNIDAD DE ROLLO POR 80 MTS"},{"$f":"H805","v":45544.25},{"$f":"C805&D805&E805&F805&G805","v":"CUATRO (4)CUATRO (4)CTOALLAS ABSORVENTES / UNIDAD DE ROLLO POR 80 MTSSUPRISA S.A.S."},{"$f":"B805&H805","v":"C4S4-01645544.25"},{"$f":"G805","v":"SUPRISA S.A.S."},"Und",{"$f":"C805&D805&E805&F805&G805","v":"CUATRO (4)CUATRO (4)CTOALLAS ABSORVENTES / UNIDAD DE ROLLO POR 80 MTSSUPRISA S.A.S."},{"$f":"H805","v":45544.25}]
[{"$f":"\"ate01-\"&B806&\" \"&C806&\" \"&D806&\" \"&E806","v":"ate01-C4S4-016 CUATRO (4) CUATRO (4) C"},"C4S4-016","CUATRO (4)","CUATRO (4)","C","TOALLAS ABSORVENTES / UNIDAD DE ROLLO POR 80 MTS","COMERCIALIZADORA DINPRO S.A.S.",5189.49,{"$f":"B806&G806","v":"C4S4-016COMERCIALIZADORA DINPRO S.A.S."},{"$f":"C806&D806&E806&F806","v":"CUATRO (4)CUATRO (4)CTOALLAS ABSORVENTES / UNIDAD DE ROLLO POR 80 MTS"},{"$f":"H806","v":5189.49},{"$f":"C806&D806&E806&F806&G806","v":"CUATRO (4)CUATRO (4)CTOALLAS ABSORVENTES / UNIDAD DE ROLLO POR 80 MTSCOMERCIALIZADORA DINPRO S.A.S."},{"$f":"B806&H806","v":"C4S4-0165189.49"},{"$f":"G806","v":"COMERCIALIZADORA DINPRO S.A.S."},"Und",{"$f":"C806&D806&E806&F806&G806","v":"CUATRO (4)CUATRO (4)CTOALLAS ABSORVENTES / UNIDAD DE ROLLO POR 80 MTSCOMERCIALIZADORA DINPRO S.A.S."},{"$f":"H806","v":5189.49}]
[{"$f":"\"ate01-\"&B807&\" \"&C807&\" \"&D807&\" \"&E807","v":"ate01-C4S4-016 CUATRO (4) CUATRO (4) C"},"C4S4-016","CUATRO (4)","CUATRO (4)","C","TOALLAS ABSORVENTES / UNIDAD DE ROLLO POR 80 MTS","MIGUEL ANGEL VALLEJO BURGOS",36588.49,{"$f":"B807&G807","v":"C4S4-016MIGUEL ANGEL VALLEJO BURGOS"},{"$f":"C807&D807&E807&F807","v":"CUATRO (4)CUATRO (4)CTOALLAS ABSORVENTES / UNIDAD DE ROLLO POR 80 MTS"},{"$f":"H807","v":36588.49},{"$f":"C807&D807&E807&F807&G807","v":"CUATRO (4)CUATRO (4)CTOALLAS ABSORVENTES / UNIDAD DE ROLLO POR 80 MTSMIGUEL ANGEL VALLEJO BURGOS"},{"$f":"B807&H807","v":"C4S4-01636588.49"},{"$f":"G807","v":"MIGUEL ANGEL VALLEJO BURGOS"},"Und",{"$f":"C807&D807&E807&F807&G807","v":"CUATRO (4)CUATRO (4)CTOALLAS ABSORVENTES / UNIDAD DE ROLLO POR 80 MTSMIGUEL ANGEL VALLEJO BURGOS"},{"$f":"H807","v":36588.49}]
[{"$f":"\"ate01-\"&B808&\" \"&C808&\" \"&D808&\" \"&E808","v":"ate01-C4S4-017 CUATRO (4) CUATRO (4) D"},"C4S4-017","CUATRO (4)","CUATRO (4)","D","DETERGENTE DESINFECTANTE DESODORANTE FRASCO PARA LA LIMPIEZA Y LA DESINFECCIÓN DE TODA SUPERFICIE LAVABLE  / FRASCO  X 1LT CON TAPA DOSIFICADORA INTEGRADA","JM GRUPO",10119.5,{"$f":"B808&G808","v":"C4S4-017JM GRUPO"},{"$f":"C808&D808&E808&F808","v":"CUATRO (4)CUATRO (4)DDETERGENTE DESINFECTANTE DESODORANTE FRASCO PARA LA LIMPIEZA Y LA DESINFECCIÓN DE TODA SUPERFICIE LAVABLE  / FRASCO  X 1LT CON TAPA DOSIFICADORA INTEGRADA"},{"$f":"H808","v":10119.5},{"$f":"C808&D808&E808&F808&G808","v":"CUATRO (4)CUATRO (4)DDETERGENTE DESINFECTANTE DESODORANTE FRASCO PARA LA LIMPIEZA Y LA DESINFECCIÓN DE TODA SUPERFICIE LAVABLE  / FRASCO  X 1LT CON TAPA DOSIFICADORA INTEGRADAJM GRUPO"},{"$f":"B808&H808","v":"C4S4-01710119.5"},{"$f":"G808","v":"JM GRUPO"},"Und",{"$f":"C808&D808&E808&F808&G808","v":"CUATRO (4)CUATRO (4)DDETERGENTE DESINFECTANTE DESODORANTE FRASCO PARA LA LIMPIEZA Y LA DESINFECCIÓN DE TODA SUPERFICIE LAVABLE  / FRASCO  X 1LT CON TAPA DOSIFICADORA INTEGRADAJM GRUPO"},{"$f":"H808","v":10119.5}]
[{"$f":"\"ate01-\"&B809&\" \"&C809&\" \"&D809&\" \"&E809","v":"ate01-C4S4-017 CUATRO (4) CUATRO (4) D"},"C4S4-017","CUATRO (4)","CUATRO (4)","D","DETERGENTE DESINFECTANTE DESODORANTE FRASCO PARA LA LIMPIEZA Y LA DESINFECCIÓN DE TODA SUPERFICIE LAVABLE  / FRASCO  X 1LT CON TAPA DOSIFICADORA INTEGRADA","SUMIMAS S.A.S.",11976.04,{"$f":"B809&G809","v":"C4S4-017SUMIMAS S.A.S."},{"$f":"C809&D809&E809&F809","v":"CUATRO (4)CUATRO (4)DDETERGENTE DESINFECTANTE DESODORANTE FRASCO PARA LA LIMPIEZA Y LA DESINFECCIÓN DE TODA SUPERFICIE LAVABLE  / FRASCO  X 1LT CON TAPA DOSIFICADORA INTEGRADA"},{"$f":"H809","v":11976.04},{"$f":"C809&D809&E809&F809&G809","v":"CUATRO (4)CUATRO (4)DDETERGENTE DESINFECTANTE DESODORANTE FRASCO PARA LA LIMPIEZA Y LA DESINFECCIÓN DE TODA SUPERFICIE LAVABLE  / FRASCO  X 1LT CON TAPA DOSIFICADORA INTEGRADASUMIMAS S.A.S."},{"$f":"B809&H809","v":"C4S4-01711976.04"},{"$f":"G809","v":"SUMIMAS S.A.S."},"Und",{"$f":"C809&D809&E809&F809&G809","v":"CUATRO (4)CUATRO (4)DDETERGENTE DESINFECTANTE DESODORANTE FRASCO PARA LA LIMPIEZA Y LA DESINFECCIÓN DE TODA SUPERFICIE LAVABLE  / FRASCO  X 1LT CON TAPA DOSIFICADORA INTEGRADASUMIMAS S.A.S."},{"$f":"H809","v":11976.04}]
[{"$f":"\"ate01-\"&B810&\" \"&C810&\" \"&D810&\" \"&E810","v":"ate01-C4S4-017 CUATRO (4) CUATRO (4) D"},"C4S4-017","CUATRO (4)","CUATRO (4)","D","DETERGENTE DESINFECTANTE DESODORANTE FRASCO PARA LA LIMPIEZA Y LA DESINFECCIÓN DE TODA SUPERFICIE LAVABLE  / FRASCO  X 1LT CON TAPA DOSIFICADORA INTEGRADA","UT SS 2021- CCENEG- 041-01-2021",6227.39,{"$f":"B810&G810","v":"C4S4-017UT SS 2021- CCENEG- 041-01-2021"},{"$f":"C810&D810&E810&F810","v":"CUATRO (4)CUATRO (4)DDETERGENTE DESINFECTANTE DESODORANTE FRASCO PARA LA LIMPIEZA Y LA DESINFECCIÓN DE TODA SUPERFICIE LAVABLE  / FRASCO  X 1LT CON TAPA DOSIFICADORA INTEGRADA"},{"$f":"H810","v":6227.39},{"$f":"C810&D810&E810&F810&G810","v":"CUATRO (4)CUATRO (4)DDETERGENTE DESINFECTANTE DESODORANTE FRASCO PARA LA LIMPIEZA Y LA DESINFECCIÓN DE TODA SUPERFICIE LAVABLE  / FRASCO  X 1LT CON TAPA DOSIFICADORA INTEGRADAUT SS 2021- CCENEG- 041-01-2021"},{"$f":"B810&H810","v":"C4S4-0176227.39"},{"$f":"G810","v":"UT SS 2021- CCENEG- 041-01-2021"},"Und",{"$f":"C810&D810&E810&F810&G810","v":"CUATRO (4)CUATRO (4)DDETERGENTE DESINFECTANTE DESODORANTE FRASCO PARA LA LIMPIEZA Y LA DESINFECCIÓN DE TODA SUPERFICIE LAVABLE  / FRASCO  X 1LT CON TAPA DOSIFICADORA INTEGRADAUT SS 2021- CCENEG- 041-01-2021"},{"$f":"H810","v":6227.39}]
[{"$f":"\"ate01-\"&B811&\" \"&C811&\" \"&D811&\" \"&E811","v":"ate01-C4S4-018 CUATRO (4) CUATRO (4) D"},"C4S4-018","CUATRO (4)","CUATRO (4)","D","DETERGENTE DESINFECTANTE LIQUIDO A BASE DE AMONIOS CUATERNARIOS DE V GENERACIÓN / FRASCO X 1000 ML","JM GRUPO",38921.160000000003,{"$f":"B811&G811","v":"C4S4-018JM GRUPO"},{"$f":"C811&D811&E811&F811","v":"CUATRO (4)CUATRO (4)DDETERGENTE DESINFECTANTE LIQUIDO A BASE DE AMONIOS CUATERNARIOS DE V GENERACIÓN / FRASCO X 1000 ML"},{"$f":"H811","v":38921.160000000003},{"$f":"C811&D811&E811&F811&G811","v":"CUATRO (4)CUATRO (4)DDETERGENTE DESINFECTANTE LIQUIDO A BASE DE AMONIOS CUATERNARIOS DE V GENERACIÓN / FRASCO X 1000 MLJM GRUPO"},{"$f":"B811&H811","v":"C4S4-01838921.16"},{"$f":"G811","v":"JM GRUPO"},"Und",{"$f":"C811&D811&E811&F811&G811","v":"CUATRO (4)CUATRO (4)DDETERGENTE DESINFECTANTE LIQUIDO A BASE DE AMONIOS CUATERNARIOS DE V GENERACIÓN / FRASCO X 1000 MLJM GRUPO"},{"$f":"H811","v":38921.160000000003}]
[{"$f":"\"ate01-\"&B812&\" \"&C812&\" \"&D812&\" \"&E812","v":"ate01-C4S4-018 CUATRO (4) CUATRO (4) D"},"C4S4-018","CUATRO (4)","CUATRO (4)","D","DETERGENTE DESINFECTANTE LIQUIDO A BASE DE AMONIOS CUATERNARIOS DE V GENERACIÓN / FRASCO X 1000 ML","SUMIMAS S.A.S.",29939.46,{"$f":"B812&G812","v":"C4S4-018SUMIMAS S.A.S."},{"$f":"C812&D812&E812&F812","v":"CUATRO (4)CUATRO (4)DDETERGENTE DESINFECTANTE LIQUIDO A BASE DE AMONIOS CUATERNARIOS DE V GENERACIÓN / FRASCO X 1000 ML"},{"$f":"H812","v":29939.46},{"$f":"C812&D812&E812&F812&G812","v":"CUATRO (4)CUATRO (4)DDETERGENTE DESINFECTANTE LIQUIDO A BASE DE AMONIOS CUATERNARIOS DE V GENERACIÓN / FRASCO X 1000 MLSUMIMAS S.A.S."},{"$f":"B812&H812","v":"C4S4-01829939.46"},{"$f":"G812","v":"SUMIMAS S.A.S."},"Und",{"$f":"C812&D812&E812&F812&G812","v":"CUATRO (4)CUATRO (4)DDETERGENTE DESINFECTANTE LIQUIDO A BASE DE AMONIOS CUATERNARIOS DE V GENERACIÓN / FRASCO X 1000 MLSUMIMAS S.A.S."},{"$f":"H812","v":29939.46}]
[{"$f":"\"ate01-\"&B813&\" \"&C813&\" \"&D813&\" \"&E813","v":"ate01-C4S4-018 CUATRO (4) CUATRO (4) D"},"C4S4-018","CUATRO (4)","CUATRO (4)","D","DETERGENTE DESINFECTANTE LIQUIDO A BASE DE AMONIOS CUATERNARIOS DE V GENERACIÓN / FRASCO X 1000 ML","UT SS 2021- CCENEG- 041-01-2021",6227.39,{"$f":"B813&G813","v":"C4S4-018UT SS 2021- CCENEG- 041-01-2021"},{"$f":"C813&D813&E813&F813","v":"CUATRO (4)CUATRO (4)DDETERGENTE DESINFECTANTE LIQUIDO A BASE DE AMONIOS CUATERNARIOS DE V GENERACIÓN / FRASCO X 1000 ML"},{"$f":"H813","v":6227.39},{"$f":"C813&D813&E813&F813&G813","v":"CUATRO (4)CUATRO (4)DDETERGENTE DESINFECTANTE LIQUIDO A BASE DE AMONIOS CUATERNARIOS DE V GENERACIÓN / FRASCO X 1000 MLUT SS 2021- CCENEG- 041-01-2021"},{"$f":"B813&H813","v":"C4S4-0186227.39"},{"$f":"G813","v":"UT SS 2021- CCENEG- 041-01-2021"},"Und",{"$f":"C813&D813&E813&F813&G813","v":"CUATRO (4)CUATRO (4)DDETERGENTE DESINFECTANTE LIQUIDO A BASE DE AMONIOS CUATERNARIOS DE V GENERACIÓN / FRASCO X 1000 MLUT SS 2021- CCENEG- 041-01-2021"},{"$f":"H813","v":6227.39}]
[{"$f":"\"ate01-\"&B814&\" \"&C814&\" \"&D814&\" \"&E814","v":"ate01-C4S4-019 CUATRO (4) CUATRO (4) D"},"C4S4-019","CUATRO (4)","CUATRO (4)","D","JABÓN DISPENSADOR PARA MANOS 1 / RECIPIENTE PLÁSTICO DE 850 ML","JM GRUPO",3373.17,{"$f":"B814&G814","v":"C4S4-019JM GRUPO"},{"$f":"C814&D814&E814&F814","v":"CUATRO (4)CUATRO (4)DJABÓN DISPENSADOR PARA MANOS 1 / RECIPIENTE PLÁSTICO DE 850 ML"},{"$f":"H814","v":3373.17},{"$f":"C814&D814&E814&F814&G814","v":"CUATRO (4)CUATRO (4)DJABÓN DISPENSADOR PARA MANOS 1 / RECIPIENTE PLÁSTICO DE 850 MLJM GRUPO"},{"$f":"B814&H814","v":"C4S4-0193373.17"},{"$f":"G814","v":"JM GRUPO"},"Und",{"$f":"C814&D814&E814&F814&G814","v":"CUATRO (4)CUATRO (4)DJABÓN DISPENSADOR PARA MANOS 1 / RECIPIENTE PLÁSTICO DE 850 MLJM GRUPO"},{"$f":"H814","v":3373.17}]
[{"$f":"\"ate01-\"&B815&\" \"&C815&\" \"&D815&\" \"&E815","v":"ate01-C4S4-019 CUATRO (4) CUATRO (4) D"},"C4S4-019","CUATRO (4)","CUATRO (4)","D","JABÓN DISPENSADOR PARA MANOS 1 / RECIPIENTE PLÁSTICO DE 850 ML","SUMIMAS S.A.S.",9979.39,{"$f":"B815&G815","v":"C4S4-019SUMIMAS S.A.S."},{"$f":"C815&D815&E815&F815","v":"CUATRO (4)CUATRO (4)DJABÓN DISPENSADOR PARA MANOS 1 / RECIPIENTE PLÁSTICO DE 850 ML"},{"$f":"H815","v":9979.39},{"$f":"C815&D815&E815&F815&G815","v":"CUATRO (4)CUATRO (4)DJABÓN DISPENSADOR PARA MANOS 1 / RECIPIENTE PLÁSTICO DE 850 MLSUMIMAS S.A.S."},{"$f":"B815&H815","v":"C4S4-0199979.39"},{"$f":"G815","v":"SUMIMAS S.A.S."},"Und",{"$f":"C815&D815&E815&F815&G815","v":"CUATRO (4)CUATRO (4)DJABÓN DISPENSADOR PARA MANOS 1 / RECIPIENTE PLÁSTICO DE 850 MLSUMIMAS S.A.S."},{"$f":"H815","v":9979.39}]
[{"$f":"\"ate01-\"&B816&\" \"&C816&\" \"&D816&\" \"&E816","v":"ate01-C4S4-019 CUATRO (4) CUATRO (4) D"},"C4S4-019","CUATRO (4)","CUATRO (4)","D","JABÓN DISPENSADOR PARA MANOS 1 / RECIPIENTE PLÁSTICO DE 850 ML","UT SS 2021- CCENEG- 041-01-2021",6746.34,{"$f":"B816&G816","v":"C4S4-019UT SS 2021- CCENEG- 041-01-2021"},{"$f":"C816&D816&E816&F816","v":"CUATRO (4)CUATRO (4)DJABÓN DISPENSADOR PARA MANOS 1 / RECIPIENTE PLÁSTICO DE 850 ML"},{"$f":"H816","v":6746.34},{"$f":"C816&D816&E816&F816&G816","v":"CUATRO (4)CUATRO (4)DJABÓN DISPENSADOR PARA MANOS 1 / RECIPIENTE PLÁSTICO DE 850 MLUT SS 2021- CCENEG- 041-01-2021"},{"$f":"B816&H816","v":"C4S4-0196746.34"},{"$f":"G816","v":"UT SS 2021- CCENEG- 041-01-2021"},"Und",{"$f":"C816&D816&E816&F816&G816","v":"CUATRO (4)CUATRO (4)DJABÓN DISPENSADOR PARA MANOS 1 / RECIPIENTE PLÁSTICO DE 850 MLUT SS 2021- CCENEG- 041-01-2021"},{"$f":"H816","v":6746.34}]
[{"$f":"\"ate01-\"&B817&\" \"&C817&\" \"&D817&\" \"&E817","v":"ate01-C4S4-020 CUATRO (4) CUATRO (4) D"},"C4S4-020","CUATRO (4)","CUATRO (4)","D","JABÓN LÍQUIDO CON CLORHEXIDINA DIGLUCONATO / FRASCO POR 500 ML.","JM GRUPO",88221.31,{"$f":"B817&G817","v":"C4S4-020JM GRUPO"},{"$f":"C817&D817&E817&F817","v":"CUATRO (4)CUATRO (4)DJABÓN LÍQUIDO CON CLORHEXIDINA DIGLUCONATO / FRASCO POR 500 ML."},{"$f":"H817","v":88221.31},{"$f":"C817&D817&E817&F817&G817","v":"CUATRO (4)CUATRO (4)DJABÓN LÍQUIDO CON CLORHEXIDINA DIGLUCONATO / FRASCO POR 500 ML.JM GRUPO"},{"$f":"B817&H817","v":"C4S4-02088221.31"},{"$f":"G817","v":"JM GRUPO"},"Und",{"$f":"C817&D817&E817&F817&G817","v":"CUATRO (4)CUATRO (4)DJABÓN LÍQUIDO CON CLORHEXIDINA DIGLUCONATO / FRASCO POR 500 ML.JM GRUPO"},{"$f":"H817","v":88221.31}]
[{"$f":"\"ate01-\"&B818&\" \"&C818&\" \"&D818&\" \"&E818","v":"ate01-C4S4-020 CUATRO (4) CUATRO (4) D"},"C4S4-020","CUATRO (4)","CUATRO (4)","D","JABÓN LÍQUIDO CON CLORHEXIDINA DIGLUCONATO / FRASCO POR 500 ML.","SUMIMAS S.A.S.",39918.839999999997,{"$f":"B818&G818","v":"C4S4-020SUMIMAS S.A.S."},{"$f":"C818&D818&E818&F818","v":"CUATRO (4)CUATRO (4)DJABÓN LÍQUIDO CON CLORHEXIDINA DIGLUCONATO / FRASCO POR 500 ML."},{"$f":"H818","v":39918.839999999997},{"$f":"C818&D818&E818&F818&G818","v":"CUATRO (4)CUATRO (4)DJABÓN LÍQUIDO CON CLORHEXIDINA DIGLUCONATO / FRASCO POR 500 ML.SUMIMAS S.A.S."},{"$f":"B818&H818","v":"C4S4-02039918.84"},{"$f":"G818","v":"SUMIMAS S.A.S."},"Und",{"$f":"C818&D818&E818&F818&G818","v":"CUATRO (4)CUATRO (4)DJABÓN LÍQUIDO CON CLORHEXIDINA DIGLUCONATO / FRASCO POR 500 ML.SUMIMAS S.A.S."},{"$f":"H818","v":39918.839999999997}]
[{"$f":"\"ate01-\"&B819&\" \"&C819&\" \"&D819&\" \"&E819","v":"ate01-C4S4-020 CUATRO (4) CUATRO (4) D"},"C4S4-020","CUATRO (4)","CUATRO (4)","D","JABÓN LÍQUIDO CON CLORHEXIDINA DIGLUCONATO / FRASCO POR 500 ML.","UT SS 2021- CCENEG- 041-01-2021",5812.23,{"$f":"B819&G819","v":"C4S4-020UT SS 2021- CCENEG- 041-01-2021"},{"$f":"C819&D819&E819&F819","v":"CUATRO (4)CUATRO (4)DJABÓN LÍQUIDO CON CLORHEXIDINA DIGLUCONATO / FRASCO POR 500 ML."},{"$f":"H819","v":5812.23},{"$f":"C819&D819&E819&F819&G819","v":"CUATRO (4)CUATRO (4)DJABÓN LÍQUIDO CON CLORHEXIDINA DIGLUCONATO / FRASCO POR 500 ML.UT SS 2021- CCENEG- 041-01-2021"},{"$f":"B819&H819","v":"C4S4-0205812.23"},{"$f":"G819","v":"UT SS 2021- CCENEG- 041-01-2021"},"Und",{"$f":"C819&D819&E819&F819&G819","v":"CUATRO (4)CUATRO (4)DJABÓN LÍQUIDO CON CLORHEXIDINA DIGLUCONATO / FRASCO POR 500 ML.UT SS 2021- CCENEG- 041-01-2021"},{"$f":"H819","v":5812.23}]
[{"$f":"\"ate01-\"&B820&\" \"&C820&\" \"&D820&\" \"&E820","v":"ate01-C4S4-021 CUATRO (4) CUATRO (4) D"},"C4S4-021","CUATRO (4)","CUATRO (4)","D","JABÓN DISPENSADOR PARA MANOS 2 GALÓN POR 4 LITROS / RECIPIENTE PLÁSTICO DE GALÓN POR 4 LITROS","JM GRUPO",15568.47,{"$f":"B820&G820","v":"C4S4-021JM GRUPO"},{"$f":"C820&D820&E820&F820","v":"CUATRO (4)CUATRO (4)DJABÓN DISPENSADOR PARA MANOS 2 GALÓN POR 4 LITROS / RECIPIENTE PLÁSTICO DE GALÓN POR 4 LITROS"},{"$f":"H820","v":15568.47},{"$f":"C820&D820&E820&F820&G820","v":"CUATRO (4)CUATRO (4)DJABÓN DISPENSADOR PARA MANOS 2 GALÓN POR 4 LITROS / RECIPIENTE PLÁSTICO DE GALÓN POR 4 LITROSJM GRUPO"},{"$f":"B820&H820","v":"C4S4-02115568.47"},{"$f":"G820","v":"JM GRUPO"},"Und",{"$f":"C820&D820&E820&F820&G820","v":"CUATRO (4)CUATRO (4)DJABÓN DISPENSADOR PARA MANOS 2 GALÓN POR 4 LITROS / RECIPIENTE PLÁSTICO DE GALÓN POR 4 LITROSJM GRUPO"},{"$f":"H820","v":15568.47}]
[{"$f":"\"ate01-\"&B821&\" \"&C821&\" \"&D821&\" \"&E821","v":"ate01-C4S4-021 CUATRO (4) CUATRO (4) D"},"C4S4-021","CUATRO (4)","CUATRO (4)","D","JABÓN DISPENSADOR PARA MANOS 2 GALÓN POR 4 LITROS / RECIPIENTE PLÁSTICO DE GALÓN POR 4 LITROS","SUMIMAS S.A.S.",15968.06,{"$f":"B821&G821","v":"C4S4-021SUMIMAS S.A.S."},{"$f":"C821&D821&E821&F821","v":"CUATRO (4)CUATRO (4)DJABÓN DISPENSADOR PARA MANOS 2 GALÓN POR 4 LITROS / RECIPIENTE PLÁSTICO DE GALÓN POR 4 LITROS"},{"$f":"H821","v":15968.06},{"$f":"C821&D821&E821&F821&G821","v":"CUATRO (4)CUATRO (4)DJABÓN DISPENSADOR PARA MANOS 2 GALÓN POR 4 LITROS / RECIPIENTE PLÁSTICO DE GALÓN POR 4 LITROSSUMIMAS S.A.S."},{"$f":"B821&H821","v":"C4S4-02115968.06"},{"$f":"G821","v":"SUMIMAS S.A.S."},"Und",{"$f":"C821&D821&E821&F821&G821","v":"CUATRO (4)CUATRO (4)DJABÓN DISPENSADOR PARA MANOS 2 GALÓN POR 4 LITROS / RECIPIENTE PLÁSTICO DE GALÓN POR 4 LITROSSUMIMAS S.A.S."},{"$f":"H821","v":15968.06}]
[{"$f":"\"ate01-\"&B822&\" \"&C822&\" \"&D822&\" \"&E822","v":"ate01-C4S4-021 CUATRO (4) CUATRO (4) D"},"C4S4-021","CUATRO (4)","CUATRO (4)","D","JABÓN DISPENSADOR PARA MANOS 2 GALÓN POR 4 LITROS / RECIPIENTE PLÁSTICO DE GALÓN POR 4 LITROS","UT SS 2021- CCENEG- 041-01-2021",8899.9699999999993,{"$f":"B822&G822","v":"C4S4-021UT SS 2021- CCENEG- 041-01-2021"},{"$f":"C822&D822&E822&F822","v":"CUATRO (4)CUATRO (4)DJABÓN DISPENSADOR PARA MANOS 2 GALÓN POR 4 LITROS / RECIPIENTE PLÁSTICO DE GALÓN POR 4 LITROS"},{"$f":"H822","v":8899.9699999999993},{"$f":"C822&D822&E822&F822&G822","v":"CUATRO (4)CUATRO (4)DJABÓN DISPENSADOR PARA MANOS 2 GALÓN POR 4 LITROS / RECIPIENTE PLÁSTICO DE GALÓN POR 4 LITROSUT SS 2021- CCENEG- 041-01-2021"},{"$f":"B822&H822","v":"C4S4-0218899.97"},{"$f":"G822","v":"UT SS 2021- CCENEG- 041-01-2021"},"Und",{"$f":"C822&D822&E822&F822&G822","v":"CUATRO (4)CUATRO (4)DJABÓN DISPENSADOR PARA MANOS 2 GALÓN POR 4 LITROS / RECIPIENTE PLÁSTICO DE GALÓN POR 4 LITROSUT SS 2021- CCENEG- 041-01-2021"},{"$f":"H822","v":8899.9699999999993}]
[{"$f":"\"ate01-\"&B823&\" \"&C823&\" \"&D823&\" \"&E823","v":"ate01-C4S4-022 CUATRO (4) CUATRO (4) D"},"C4S4-022","CUATRO (4)","CUATRO (4)","D","JABÓN EN BARRA / UNA BARRA DE 250 GRAMOS","JM GRUPO",2724.48,{"$f":"B823&G823","v":"C4S4-022JM GRUPO"},{"$f":"C823&D823&E823&F823","v":"CUATRO (4)CUATRO (4)DJABÓN EN BARRA / UNA BARRA DE 250 GRAMOS"},{"$f":"H823","v":2724.48},{"$f":"C823&D823&E823&F823&G823","v":"CUATRO (4)CUATRO (4)DJABÓN EN BARRA / UNA BARRA DE 250 GRAMOSJM GRUPO"},{"$f":"B823&H823","v":"C4S4-0222724.48"},{"$f":"G823","v":"JM GRUPO"},"Und",{"$f":"C823&D823&E823&F823&G823","v":"CUATRO (4)CUATRO (4)DJABÓN EN BARRA / UNA BARRA DE 250 GRAMOSJM GRUPO"},{"$f":"H823","v":2724.48}]
[{"$f":"\"ate01-\"&B824&\" \"&C824&\" \"&D824&\" \"&E824","v":"ate01-C4S4-022 CUATRO (4) CUATRO (4) D"},"C4S4-022","CUATRO (4)","CUATRO (4)","D","JABÓN EN BARRA / UNA BARRA DE 250 GRAMOS","SUMIMAS S.A.S.",1756.64,{"$f":"B824&G824","v":"C4S4-022SUMIMAS S.A.S."},{"$f":"C824&D824&E824&F824","v":"CUATRO (4)CUATRO (4)DJABÓN EN BARRA / UNA BARRA DE 250 GRAMOS"},{"$f":"H824","v":1756.64},{"$f":"C824&D824&E824&F824&G824","v":"CUATRO (4)CUATRO (4)DJABÓN EN BARRA / UNA BARRA DE 250 GRAMOSSUMIMAS S.A.S."},{"$f":"B824&H824","v":"C4S4-0221756.64"},{"$f":"G824","v":"SUMIMAS S.A.S."},"Und",{"$f":"C824&D824&E824&F824&G824","v":"CUATRO (4)CUATRO (4)DJABÓN EN BARRA / UNA BARRA DE 250 GRAMOSSUMIMAS S.A.S."},{"$f":"H824","v":1756.64}]
[{"$f":"\"ate01-\"&B825&\" \"&C825&\" \"&D825&\" \"&E825","v":"ate01-C4S4-022 CUATRO (4) CUATRO (4) D"},"C4S4-022","CUATRO (4)","CUATRO (4)","D","JABÓN EN BARRA / UNA BARRA DE 250 GRAMOS","UT SS 2021- CCENEG- 041-01-2021",2214.61,{"$f":"B825&G825","v":"C4S4-022UT SS 2021- CCENEG- 041-01-2021"},{"$f":"C825&D825&E825&F825","v":"CUATRO (4)CUATRO (4)DJABÓN EN BARRA / UNA BARRA DE 250 GRAMOS"},{"$f":"H825","v":2214.61},{"$f":"C825&D825&E825&F825&G825","v":"CUATRO (4)CUATRO (4)DJABÓN EN BARRA / UNA BARRA DE 250 GRAMOSUT SS 2021- CCENEG- 041-01-2021"},{"$f":"B825&H825","v":"C4S4-0222214.61"},{"$f":"G825","v":"UT SS 2021- CCENEG- 041-01-2021"},"Und",{"$f":"C825&D825&E825&F825&G825","v":"CUATRO (4)CUATRO (4)DJABÓN EN BARRA / UNA BARRA DE 250 GRAMOSUT SS 2021- CCENEG- 041-01-2021"},{"$f":"H825","v":2214.61}]
[{"$f":"\"ate01-\"&B826&\" \"&C826&\" \"&D826&\" \"&E826","v":"ate01-C4S4-023 CUATRO (4) CUATRO (4) D"},"C4S4-023","CUATRO (4)","CUATRO (4)","D","JABÓN LAVAVAJILLAS O LAVALOZAS TIPO 1 / RECIPIENTE PLÁSTICO DE 3.785 CC ","JM GRUPO",16346.89,{"$f":"B826&G826","v":"C4S4-023JM GRUPO"},{"$f":"C826&D826&E826&F826","v":"CUATRO (4)CUATRO (4)DJABÓN LAVAVAJILLAS O LAVALOZAS TIPO 1 / RECIPIENTE PLÁSTICO DE 3.785 CC "},{"$f":"H826","v":16346.89},{"$f":"C826&D826&E826&F826&G826","v":"CUATRO (4)CUATRO (4)DJABÓN LAVAVAJILLAS O LAVALOZAS TIPO 1 / RECIPIENTE PLÁSTICO DE 3.785 CC JM GRUPO"},{"$f":"B826&H826","v":"C4S4-02316346.89"},{"$f":"G826","v":"JM GRUPO"},"Und",{"$f":"C826&D826&E826&F826&G826","v":"CUATRO (4)CUATRO (4)DJABÓN LAVAVAJILLAS O LAVALOZAS TIPO 1 / RECIPIENTE PLÁSTICO DE 3.785 CC JM GRUPO"},{"$f":"H826","v":16346.89}]
[{"$f":"\"ate01-\"&B827&\" \"&C827&\" \"&D827&\" \"&E827","v":"ate01-C4S4-023 CUATRO (4) CUATRO (4) D"},"C4S4-023","CUATRO (4)","CUATRO (4)","D","JABÓN LAVAVAJILLAS O LAVALOZAS TIPO 1 / RECIPIENTE PLÁSTICO DE 3.785 CC ","SUMIMAS S.A.S.",19960.07,{"$f":"B827&G827","v":"C4S4-023SUMIMAS S.A.S."},{"$f":"C827&D827&E827&F827","v":"CUATRO (4)CUATRO (4)DJABÓN LAVAVAJILLAS O LAVALOZAS TIPO 1 / RECIPIENTE PLÁSTICO DE 3.785 CC "},{"$f":"H827","v":19960.07},{"$f":"C827&D827&E827&F827&G827","v":"CUATRO (4)CUATRO (4)DJABÓN LAVAVAJILLAS O LAVALOZAS TIPO 1 / RECIPIENTE PLÁSTICO DE 3.785 CC SUMIMAS S.A.S."},{"$f":"B827&H827","v":"C4S4-02319960.07"},{"$f":"G827","v":"SUMIMAS S.A.S."},"Und",{"$f":"C827&D827&E827&F827&G827","v":"CUATRO (4)CUATRO (4)DJABÓN LAVAVAJILLAS O LAVALOZAS TIPO 1 / RECIPIENTE PLÁSTICO DE 3.785 CC SUMIMAS S.A.S."},{"$f":"H827","v":19960.07}]
[{"$f":"\"ate01-\"&B828&\" \"&C828&\" \"&D828&\" \"&E828","v":"ate01-C4S4-023 CUATRO (4) CUATRO (4) D"},"C4S4-023","CUATRO (4)","CUATRO (4)","D","JABÓN LAVAVAJILLAS O LAVALOZAS TIPO 1 / RECIPIENTE PLÁSTICO DE 3.785 CC ","UT SS 2021- CCENEG- 041-01-2021",16259.97,{"$f":"B828&G828","v":"C4S4-023UT SS 2021- CCENEG- 041-01-2021"},{"$f":"C828&D828&E828&F828","v":"CUATRO (4)CUATRO (4)DJABÓN LAVAVAJILLAS O LAVALOZAS TIPO 1 / RECIPIENTE PLÁSTICO DE 3.785 CC "},{"$f":"H828","v":16259.97},{"$f":"C828&D828&E828&F828&G828","v":"CUATRO (4)CUATRO (4)DJABÓN LAVAVAJILLAS O LAVALOZAS TIPO 1 / RECIPIENTE PLÁSTICO DE 3.785 CC UT SS 2021- CCENEG- 041-01-2021"},{"$f":"B828&H828","v":"C4S4-02316259.97"},{"$f":"G828","v":"UT SS 2021- CCENEG- 041-01-2021"},"Und",{"$f":"C828&D828&E828&F828&G828","v":"CUATRO (4)CUATRO (4)DJABÓN LAVAVAJILLAS O LAVALOZAS TIPO 1 / RECIPIENTE PLÁSTICO DE 3.785 CC UT SS 2021- CCENEG- 041-01-2021"},{"$f":"H828","v":16259.97}]
[{"$f":"\"ate01-\"&B829&\" \"&C829&\" \"&D829&\" \"&E829","v":"ate01-C4S4-024 CUATRO (4) CUATRO (4) D"},"C4S4-024","CUATRO (4)","CUATRO (4)","D","JABÓN LAVAVAJILLAS O LAVALOZAS TIPO 2 / RECIPIENTE PLÁSTICO DE 500 CC","JM GRUPO",3048.82,{"$f":"B829&G829","v":"C4S4-024JM GRUPO"},{"$f":"C829&D829&E829&F829","v":"CUATRO (4)CUATRO (4)DJABÓN LAVAVAJILLAS O LAVALOZAS TIPO 2 / RECIPIENTE PLÁSTICO DE 500 CC"},{"$f":"H829","v":3048.82},{"$f":"C829&D829&E829&F829&G829","v":"CUATRO (4)CUATRO (4)DJABÓN LAVAVAJILLAS O LAVALOZAS TIPO 2 / RECIPIENTE PLÁSTICO DE 500 CCJM GRUPO"},{"$f":"B829&H829","v":"C4S4-0243048.82"},{"$f":"G829","v":"JM GRUPO"},"Und",{"$f":"C829&D829&E829&F829&G829","v":"CUATRO (4)CUATRO (4)DJABÓN LAVAVAJILLAS O LAVALOZAS TIPO 2 / RECIPIENTE PLÁSTICO DE 500 CCJM GRUPO"},{"$f":"H829","v":3048.82}]
[{"$f":"\"ate01-\"&B830&\" \"&C830&\" \"&D830&\" \"&E830","v":"ate01-C4S4-024 CUATRO (4) CUATRO (4) D"},"C4S4-024","CUATRO (4)","CUATRO (4)","D","JABÓN LAVAVAJILLAS O LAVALOZAS TIPO 2 / RECIPIENTE PLÁSTICO DE 500 CC","SUMIMAS S.A.S.",7584.44,{"$f":"B830&G830","v":"C4S4-024SUMIMAS S.A.S."},{"$f":"C830&D830&E830&F830","v":"CUATRO (4)CUATRO (4)DJABÓN LAVAVAJILLAS O LAVALOZAS TIPO 2 / RECIPIENTE PLÁSTICO DE 500 CC"},{"$f":"H830","v":7584.44},{"$f":"C830&D830&E830&F830&G830","v":"CUATRO (4)CUATRO (4)DJABÓN LAVAVAJILLAS O LAVALOZAS TIPO 2 / RECIPIENTE PLÁSTICO DE 500 CCSUMIMAS S.A.S."},{"$f":"B830&H830","v":"C4S4-0247584.44"},{"$f":"G830","v":"SUMIMAS S.A.S."},"Und",{"$f":"C830&D830&E830&F830&G830","v":"CUATRO (4)CUATRO (4)DJABÓN LAVAVAJILLAS O LAVALOZAS TIPO 2 / RECIPIENTE PLÁSTICO DE 500 CCSUMIMAS S.A.S."},{"$f":"H830","v":7584.44}]
[{"$f":"\"ate01-\"&B831&\" \"&C831&\" \"&D831&\" \"&E831","v":"ate01-C4S4-024 CUATRO (4) CUATRO (4) D"},"C4S4-024","CUATRO (4)","CUATRO (4)","D","JABÓN LAVAVAJILLAS O LAVALOZAS TIPO 2 / RECIPIENTE PLÁSTICO DE 500 CC","UT SS 2021- CCENEG- 041-01-2021",4930.01,{"$f":"B831&G831","v":"C4S4-024UT SS 2021- CCENEG- 041-01-2021"},{"$f":"C831&D831&E831&F831","v":"CUATRO (4)CUATRO (4)DJABÓN LAVAVAJILLAS O LAVALOZAS TIPO 2 / RECIPIENTE PLÁSTICO DE 500 CC"},{"$f":"H831","v":4930.01},{"$f":"C831&D831&E831&F831&G831","v":"CUATRO (4)CUATRO (4)DJABÓN LAVAVAJILLAS O LAVALOZAS TIPO 2 / RECIPIENTE PLÁSTICO DE 500 CCUT SS 2021- CCENEG- 041-01-2021"},{"$f":"B831&H831","v":"C4S4-0244930.01"},{"$f":"G831","v":"UT SS 2021- CCENEG- 041-01-2021"},"Und",{"$f":"C831&D831&E831&F831&G831","v":"CUATRO (4)CUATRO (4)DJABÓN LAVAVAJILLAS O LAVALOZAS TIPO 2 / RECIPIENTE PLÁSTICO DE 500 CCUT SS 2021- CCENEG- 041-01-2021"},{"$f":"H831","v":4930.01}]
[{"$f":"\"ate01-\"&B832&\" \"&C832&\" \"&D832&\" \"&E832","v":"ate01-C4S4-025 CUATRO (4) CUATRO (4) D"},"C4S4-025","CUATRO (4)","CUATRO (4)","D","JABÓN LAVAVAJILLAS O LAVALOZAS TIPO 3 / RECIPIENTE PLÁSTICO DE 900 GRAMOS","JM GRUPO",5189.49,{"$f":"B832&G832","v":"C4S4-025JM GRUPO"},{"$f":"C832&D832&E832&F832","v":"CUATRO (4)CUATRO (4)DJABÓN LAVAVAJILLAS O LAVALOZAS TIPO 3 / RECIPIENTE PLÁSTICO DE 900 GRAMOS"},{"$f":"H832","v":5189.49},{"$f":"C832&D832&E832&F832&G832","v":"CUATRO (4)CUATRO (4)DJABÓN LAVAVAJILLAS O LAVALOZAS TIPO 3 / RECIPIENTE PLÁSTICO DE 900 GRAMOSJM GRUPO"},{"$f":"B832&H832","v":"C4S4-0255189.49"},{"$f":"G832","v":"JM GRUPO"},"Und",{"$f":"C832&D832&E832&F832&G832","v":"CUATRO (4)CUATRO (4)DJABÓN LAVAVAJILLAS O LAVALOZAS TIPO 3 / RECIPIENTE PLÁSTICO DE 900 GRAMOSJM GRUPO"},{"$f":"H832","v":5189.49}]
[{"$f":"\"ate01-\"&B833&\" \"&C833&\" \"&D833&\" \"&E833","v":"ate01-C4S4-025 CUATRO (4) CUATRO (4) D"},"C4S4-025","CUATRO (4)","CUATRO (4)","D","JABÓN LAVAVAJILLAS O LAVALOZAS TIPO 3 / RECIPIENTE PLÁSTICO DE 900 GRAMOS","SUMIMAS S.A.S.",6878.67,{"$f":"B833&G833","v":"C4S4-025SUMIMAS S.A.S."},{"$f":"C833&D833&E833&F833","v":"CUATRO (4)CUATRO (4)DJABÓN LAVAVAJILLAS O LAVALOZAS TIPO 3 / RECIPIENTE PLÁSTICO DE 900 GRAMOS"},{"$f":"H833","v":6878.67},{"$f":"C833&D833&E833&F833&G833","v":"CUATRO (4)CUATRO (4)DJABÓN LAVAVAJILLAS O LAVALOZAS TIPO 3 / RECIPIENTE PLÁSTICO DE 900 GRAMOSSUMIMAS S.A.S."},{"$f":"B833&H833","v":"C4S4-0256878.67"},{"$f":"G833","v":"SUMIMAS S.A.S."},"Und",{"$f":"C833&D833&E833&F833&G833","v":"CUATRO (4)CUATRO (4)DJABÓN LAVAVAJILLAS O LAVALOZAS TIPO 3 / RECIPIENTE PLÁSTICO DE 900 GRAMOSSUMIMAS S.A.S."},{"$f":"H833","v":6878.67}]
[{"$f":"\"ate01-\"&B834&\" \"&C834&\" \"&D834&\" \"&E834","v":"ate01-C4S4-025 CUATRO (4) CUATRO (4) D"},"C4S4-025","CUATRO (4)","CUATRO (4)","D","JABÓN LAVAVAJILLAS O LAVALOZAS TIPO 3 / RECIPIENTE PLÁSTICO DE 900 GRAMOS","UT SS 2021- CCENEG- 041-01-2021",4985.8,{"$f":"B834&G834","v":"C4S4-025UT SS 2021- CCENEG- 041-01-2021"},{"$f":"C834&D834&E834&F834","v":"CUATRO (4)CUATRO (4)DJABÓN LAVAVAJILLAS O LAVALOZAS TIPO 3 / RECIPIENTE PLÁSTICO DE 900 GRAMOS"},{"$f":"H834","v":4985.8},{"$f":"C834&D834&E834&F834&G834","v":"CUATRO (4)CUATRO (4)DJABÓN LAVAVAJILLAS O LAVALOZAS TIPO 3 / RECIPIENTE PLÁSTICO DE 900 GRAMOSUT SS 2021- CCENEG- 041-01-2021"},{"$f":"B834&H834","v":"C4S4-0254985.8"},{"$f":"G834","v":"UT SS 2021- CCENEG- 041-01-2021"},"Und",{"$f":"C834&D834&E834&F834&G834","v":"CUATRO (4)CUATRO (4)DJABÓN LAVAVAJILLAS O LAVALOZAS TIPO 3 / RECIPIENTE PLÁSTICO DE 900 GRAMOSUT SS 2021- CCENEG- 041-01-2021"},{"$f":"H834","v":4985.8}]
[{"$f":"\"ate01-\"&B835&\" \"&C835&\" \"&D835&\" \"&E835","v":"ate01-C4S4-026 CUATRO (4) CUATRO (4) D"},"C4S4-026","CUATRO (4)","CUATRO (4)","D","JABÓN GERMICIDA  / FRASCO POR 500 ML.","JM GRUPO",15568.47,{"$f":"B835&G835","v":"C4S4-026JM GRUPO"},{"$f":"C835&D835&E835&F835","v":"CUATRO (4)CUATRO (4)DJABÓN GERMICIDA  / FRASCO POR 500 ML."},{"$f":"H835","v":15568.47},{"$f":"C835&D835&E835&F835&G835","v":"CUATRO (4)CUATRO (4)DJABÓN GERMICIDA  / FRASCO POR 500 ML.JM GRUPO"},{"$f":"B835&H835","v":"C4S4-02615568.47"},{"$f":"G835","v":"JM GRUPO"},"Und",{"$f":"C835&D835&E835&F835&G835","v":"CUATRO (4)CUATRO (4)DJABÓN GERMICIDA  / FRASCO POR 500 ML.JM GRUPO"},{"$f":"H835","v":15568.47}]
[{"$f":"\"ate01-\"&B836&\" \"&C836&\" \"&D836&\" \"&E836","v":"ate01-C4S4-026 CUATRO (4) CUATRO (4) D"},"C4S4-026","CUATRO (4)","CUATRO (4)","D","JABÓN GERMICIDA  / FRASCO POR 500 ML.","SUMIMAS S.A.S.",18961.09,{"$f":"B836&G836","v":"C4S4-026SUMIMAS S.A.S."},{"$f":"C836&D836&E836&F836","v":"CUATRO (4)CUATRO (4)DJABÓN GERMICIDA  / FRASCO POR 500 ML."},{"$f":"H836","v":18961.09},{"$f":"C836&D836&E836&F836&G836","v":"CUATRO (4)CUATRO (4)DJABÓN GERMICIDA  / FRASCO POR 500 ML.SUMIMAS S.A.S."},{"$f":"B836&H836","v":"C4S4-02618961.09"},{"$f":"G836","v":"SUMIMAS S.A.S."},"Und",{"$f":"C836&D836&E836&F836&G836","v":"CUATRO (4)CUATRO (4)DJABÓN GERMICIDA  / FRASCO POR 500 ML.SUMIMAS S.A.S."},{"$f":"H836","v":18961.09}]
[{"$f":"\"ate01-\"&B837&\" \"&C837&\" \"&D837&\" \"&E837","v":"ate01-C4S4-026 CUATRO (4) CUATRO (4) D"},"C4S4-026","CUATRO (4)","CUATRO (4)","D","JABÓN GERMICIDA  / FRASCO POR 500 ML.","UT SS 2021- CCENEG- 041-01-2021",11131.45,{"$f":"B837&G837","v":"C4S4-026UT SS 2021- CCENEG- 041-01-2021"},{"$f":"C837&D837&E837&F837","v":"CUATRO (4)CUATRO (4)DJABÓN GERMICIDA  / FRASCO POR 500 ML."},{"$f":"H837","v":11131.45},{"$f":"C837&D837&E837&F837&G837","v":"CUATRO (4)CUATRO (4)DJABÓN GERMICIDA  / FRASCO POR 500 ML.UT SS 2021- CCENEG- 041-01-2021"},{"$f":"B837&H837","v":"C4S4-02611131.45"},{"$f":"G837","v":"UT SS 2021- CCENEG- 041-01-2021"},"Und",{"$f":"C837&D837&E837&F837&G837","v":"CUATRO (4)CUATRO (4)DJABÓN GERMICIDA  / FRASCO POR 500 ML.UT SS 2021- CCENEG- 041-01-2021"},{"$f":"H837","v":11131.45}]
[{"$f":"\"ate01-\"&B838&\" \"&C838&\" \"&D838&\" \"&E838","v":"ate01-C4S4-027 CUATRO (4) CUATRO (4) D"},"C4S4-027","CUATRO (4)","CUATRO (4)","D","JABÓN QUIRURGICO GALÓN / GALON POR 3.750 ML","JM GRUPO",62273.86,{"$f":"B838&G838","v":"C4S4-027JM GRUPO"},{"$f":"C838&D838&E838&F838","v":"CUATRO (4)CUATRO (4)DJABÓN QUIRURGICO GALÓN / GALON POR 3.750 ML"},{"$f":"H838","v":62273.86},{"$f":"C838&D838&E838&F838&G838","v":"CUATRO (4)CUATRO (4)DJABÓN QUIRURGICO GALÓN / GALON POR 3.750 MLJM GRUPO"},{"$f":"B838&H838","v":"C4S4-02762273.86"},{"$f":"G838","v":"JM GRUPO"},"Und",{"$f":"C838&D838&E838&F838&G838","v":"CUATRO (4)CUATRO (4)DJABÓN QUIRURGICO GALÓN / GALON POR 3.750 MLJM GRUPO"},{"$f":"H838","v":62273.86}]
[{"$f":"\"ate01-\"&B839&\" \"&C839&\" \"&D839&\" \"&E839","v":"ate01-C4S4-027 CUATRO (4) CUATRO (4) D"},"C4S4-027","CUATRO (4)","CUATRO (4)","D","JABÓN QUIRURGICO GALÓN / GALON POR 3.750 ML","SUMIMAS S.A.S.",319353.34999999998,{"$f":"B839&G839","v":"C4S4-027SUMIMAS S.A.S."},{"$f":"C839&D839&E839&F839","v":"CUATRO (4)CUATRO (4)DJABÓN QUIRURGICO GALÓN / GALON POR 3.750 ML"},{"$f":"H839","v":319353.34999999998},{"$f":"C839&D839&E839&F839&G839","v":"CUATRO (4)CUATRO (4)DJABÓN QUIRURGICO GALÓN / GALON POR 3.750 MLSUMIMAS S.A.S."},{"$f":"B839&H839","v":"C4S4-027319353.35"},{"$f":"G839","v":"SUMIMAS S.A.S."},"Und",{"$f":"C839&D839&E839&F839&G839","v":"CUATRO (4)CUATRO (4)DJABÓN QUIRURGICO GALÓN / GALON POR 3.750 MLSUMIMAS S.A.S."},{"$f":"H839","v":319353.34999999998}]
[{"$f":"\"ate01-\"&B840&\" \"&C840&\" \"&D840&\" \"&E840","v":"ate01-C4S4-027 CUATRO (4) CUATRO (4) D"},"C4S4-027","CUATRO (4)","CUATRO (4)","D","JABÓN QUIRURGICO GALÓN / GALON POR 3.750 ML","UT SS 2021- CCENEG- 041-01-2021",100329.68,{"$f":"B840&G840","v":"C4S4-027UT SS 2021- CCENEG- 041-01-2021"},{"$f":"C840&D840&E840&F840","v":"CUATRO (4)CUATRO (4)DJABÓN QUIRURGICO GALÓN / GALON POR 3.750 ML"},{"$f":"H840","v":100329.68},{"$f":"C840&D840&E840&F840&G840","v":"CUATRO (4)CUATRO (4)DJABÓN QUIRURGICO GALÓN / GALON POR 3.750 MLUT SS 2021- CCENEG- 041-01-2021"},{"$f":"B840&H840","v":"C4S4-027100329.68"},{"$f":"G840","v":"UT SS 2021- CCENEG- 041-01-2021"},"Und",{"$f":"C840&D840&E840&F840&G840","v":"CUATRO (4)CUATRO (4)DJABÓN QUIRURGICO GALÓN / GALON POR 3.750 MLUT SS 2021- CCENEG- 041-01-2021"},{"$f":"H840","v":100329.68}]
[{"$f":"\"ate01-\"&B841&\" \"&C841&\" \"&D841&\" \"&E841","v":"ate01-C4S4-028 CUATRO (4) CUATRO (4) D"},"C4S4-028","CUATRO (4)","CUATRO (4)","D","LIMPIADOR MULTIUSOS 1 / RECIPIENTE PLÁSTICO DE 3.785 CC ","JM GRUPO",18163.21,{"$f":"B841&G841","v":"C4S4-028JM GRUPO"},{"$f":"C841&D841&E841&F841","v":"CUATRO (4)CUATRO (4)DLIMPIADOR MULTIUSOS 1 / RECIPIENTE PLÁSTICO DE 3.785 CC "},{"$f":"H841","v":18163.21},{"$f":"C841&D841&E841&F841&G841","v":"CUATRO (4)CUATRO (4)DLIMPIADOR MULTIUSOS 1 / RECIPIENTE PLÁSTICO DE 3.785 CC JM GRUPO"},{"$f":"B841&H841","v":"C4S4-02818163.21"},{"$f":"G841","v":"JM GRUPO"},"Und",{"$f":"C841&D841&E841&F841&G841","v":"CUATRO (4)CUATRO (4)DLIMPIADOR MULTIUSOS 1 / RECIPIENTE PLÁSTICO DE 3.785 CC JM GRUPO"},{"$f":"H841","v":18163.21}]
[{"$f":"\"ate01-\"&B842&\" \"&C842&\" \"&D842&\" \"&E842","v":"ate01-C4S4-028 CUATRO (4) CUATRO (4) D"},"C4S4-028","CUATRO (4)","CUATRO (4)","D","LIMPIADOR MULTIUSOS 1 / RECIPIENTE PLÁSTICO DE 3.785 CC ","SUMIMAS S.A.S.",17963.41,{"$f":"B842&G842","v":"C4S4-028SUMIMAS S.A.S."},{"$f":"C842&D842&E842&F842","v":"CUATRO (4)CUATRO (4)DLIMPIADOR MULTIUSOS 1 / RECIPIENTE PLÁSTICO DE 3.785 CC "},{"$f":"H842","v":17963.41},{"$f":"C842&D842&E842&F842&G842","v":"CUATRO (4)CUATRO (4)DLIMPIADOR MULTIUSOS 1 / RECIPIENTE PLÁSTICO DE 3.785 CC SUMIMAS S.A.S."},{"$f":"B842&H842","v":"C4S4-02817963.41"},{"$f":"G842","v":"SUMIMAS S.A.S."},"Und",{"$f":"C842&D842&E842&F842&G842","v":"CUATRO (4)CUATRO (4)DLIMPIADOR MULTIUSOS 1 / RECIPIENTE PLÁSTICO DE 3.785 CC SUMIMAS S.A.S."},{"$f":"H842","v":17963.41}]
[{"$f":"\"ate01-\"&B843&\" \"&C843&\" \"&D843&\" \"&E843","v":"ate01-C4S4-028 CUATRO (4) CUATRO (4) D"},"C4S4-028","CUATRO (4)","CUATRO (4)","D","LIMPIADOR MULTIUSOS 1 / RECIPIENTE PLÁSTICO DE 3.785 CC ","UT SS 2021- CCENEG- 041-01-2021",9081.61,{"$f":"B843&G843","v":"C4S4-028UT SS 2021- CCENEG- 041-01-2021"},{"$f":"C843&D843&E843&F843","v":"CUATRO (4)CUATRO (4)DLIMPIADOR MULTIUSOS 1 / RECIPIENTE PLÁSTICO DE 3.785 CC "},{"$f":"H843","v":9081.61},{"$f":"C843&D843&E843&F843&G843","v":"CUATRO (4)CUATRO (4)DLIMPIADOR MULTIUSOS 1 / RECIPIENTE PLÁSTICO DE 3.785 CC UT SS 2021- CCENEG- 041-01-2021"},{"$f":"B843&H843","v":"C4S4-0289081.61"},{"$f":"G843","v":"UT SS 2021- CCENEG- 041-01-2021"},"Und",{"$f":"C843&D843&E843&F843&G843","v":"CUATRO (4)CUATRO (4)DLIMPIADOR MULTIUSOS 1 / RECIPIENTE PLÁSTICO DE 3.785 CC UT SS 2021- CCENEG- 041-01-2021"},{"$f":"H843","v":9081.61}]
[{"$f":"\"ate01-\"&B844&\" \"&C844&\" \"&D844&\" \"&E844","v":"ate01-C4S4-029 CUATRO (4) CUATRO (4) D"},"C4S4-029","CUATRO (4)","CUATRO (4)","D","LIMPIADOR Y DESCONTAMINANTE ENZIMÀTICO / FRASCO POR 1 LITRO","JM GRUPO",75247.59,{"$f":"B844&G844","v":"C4S4-029JM GRUPO"},{"$f":"C844&D844&E844&F844","v":"CUATRO (4)CUATRO (4)DLIMPIADOR Y DESCONTAMINANTE ENZIMÀTICO / FRASCO POR 1 LITRO"},{"$f":"H844","v":75247.59},{"$f":"C844&D844&E844&F844&G844","v":"CUATRO (4)CUATRO (4)DLIMPIADOR Y DESCONTAMINANTE ENZIMÀTICO / FRASCO POR 1 LITROJM GRUPO"},{"$f":"B844&H844","v":"C4S4-02975247.59"},{"$f":"G844","v":"JM GRUPO"},"Und",{"$f":"C844&D844&E844&F844&G844","v":"CUATRO (4)CUATRO (4)DLIMPIADOR Y DESCONTAMINANTE ENZIMÀTICO / FRASCO POR 1 LITROJM GRUPO"},{"$f":"H844","v":75247.59}]
[{"$f":"\"ate01-\"&B845&\" \"&C845&\" \"&D845&\" \"&E845","v":"ate01-C4S4-029 CUATRO (4) CUATRO (4) D"},"C4S4-029","CUATRO (4)","CUATRO (4)","D","LIMPIADOR Y DESCONTAMINANTE ENZIMÀTICO / FRASCO POR 1 LITRO","SUMIMAS S.A.S.",75846.97,{"$f":"B845&G845","v":"C4S4-029SUMIMAS S.A.S."},{"$f":"C845&D845&E845&F845","v":"CUATRO (4)CUATRO (4)DLIMPIADOR Y DESCONTAMINANTE ENZIMÀTICO / FRASCO POR 1 LITRO"},{"$f":"H845","v":75846.97},{"$f":"C845&D845&E845&F845&G845","v":"CUATRO (4)CUATRO (4)DLIMPIADOR Y DESCONTAMINANTE ENZIMÀTICO / FRASCO POR 1 LITROSUMIMAS S.A.S."},{"$f":"B845&H845","v":"C4S4-02975846.97"},{"$f":"G845","v":"SUMIMAS S.A.S."},"Und",{"$f":"C845&D845&E845&F845&G845","v":"CUATRO (4)CUATRO (4)DLIMPIADOR Y DESCONTAMINANTE ENZIMÀTICO / FRASCO POR 1 LITROSUMIMAS S.A.S."},{"$f":"H845","v":75846.97}]
[{"$f":"\"ate01-\"&B846&\" \"&C846&\" \"&D846&\" \"&E846","v":"ate01-C4S4-029 CUATRO (4) CUATRO (4) D"},"C4S4-029","CUATRO (4)","CUATRO (4)","D","LIMPIADOR Y DESCONTAMINANTE ENZIMÀTICO / FRASCO POR 1 LITRO","UT SS 2021- CCENEG- 041-01-2021",44820.32,{"$f":"B846&G846","v":"C4S4-029UT SS 2021- CCENEG- 041-01-2021"},{"$f":"C846&D846&E846&F846","v":"CUATRO (4)CUATRO (4)DLIMPIADOR Y DESCONTAMINANTE ENZIMÀTICO / FRASCO POR 1 LITRO"},{"$f":"H846","v":44820.32},{"$f":"C846&D846&E846&F846&G846","v":"CUATRO (4)CUATRO (4)DLIMPIADOR Y DESCONTAMINANTE ENZIMÀTICO / FRASCO POR 1 LITROUT SS 2021- CCENEG- 041-01-2021"},{"$f":"B846&H846","v":"C4S4-02944820.32"},{"$f":"G846","v":"UT SS 2021- CCENEG- 041-01-2021"},"Und",{"$f":"C846&D846&E846&F846&G846","v":"CUATRO (4)CUATRO (4)DLIMPIADOR Y DESCONTAMINANTE ENZIMÀTICO / FRASCO POR 1 LITROUT SS 2021- CCENEG- 041-01-2021"},{"$f":"H846","v":44820.32}]
[{"$f":"\"ate01-\"&B847&\" \"&C847&\" \"&D847&\" \"&E847","v":"ate01-C4S4-030 CUATRO (4) CUATRO (4) D"},"C4S4-030","CUATRO (4)","CUATRO (4)","D","DESINFECTANTE GRANULADO  / FRASCO DE 1 KG","JM GRUPO",106384.52,{"$f":"B847&G847","v":"C4S4-030JM GRUPO"},{"$f":"C847&D847&E847&F847","v":"CUATRO (4)CUATRO (4)DDESINFECTANTE GRANULADO  / FRASCO DE 1 KG"},{"$f":"H847","v":106384.52},{"$f":"C847&D847&E847&F847&G847","v":"CUATRO (4)CUATRO (4)DDESINFECTANTE GRANULADO  / FRASCO DE 1 KGJM GRUPO"},{"$f":"B847&H847","v":"C4S4-030106384.52"},{"$f":"G847","v":"JM GRUPO"},"Und",{"$f":"C847&D847&E847&F847&G847","v":"CUATRO (4)CUATRO (4)DDESINFECTANTE GRANULADO  / FRASCO DE 1 KGJM GRUPO"},{"$f":"H847","v":106384.52}]
[{"$f":"\"ate01-\"&B848&\" \"&C848&\" \"&D848&\" \"&E848","v":"ate01-C4S4-030 CUATRO (4) CUATRO (4) D"},"C4S4-030","CUATRO (4)","CUATRO (4)","D","DESINFECTANTE GRANULADO  / FRASCO DE 1 KG","SUMIMAS S.A.S.",420947.97,{"$f":"B848&G848","v":"C4S4-030SUMIMAS S.A.S."},{"$f":"C848&D848&E848&F848","v":"CUATRO (4)CUATRO (4)DDESINFECTANTE GRANULADO  / FRASCO DE 1 KG"},{"$f":"H848","v":420947.97},{"$f":"C848&D848&E848&F848&G848","v":"CUATRO (4)CUATRO (4)DDESINFECTANTE GRANULADO  / FRASCO DE 1 KGSUMIMAS S.A.S."},{"$f":"B848&H848","v":"C4S4-030420947.97"},{"$f":"G848","v":"SUMIMAS S.A.S."},"Und",{"$f":"C848&D848&E848&F848&G848","v":"CUATRO (4)CUATRO (4)DDESINFECTANTE GRANULADO  / FRASCO DE 1 KGSUMIMAS S.A.S."},{"$f":"H848","v":420947.97}]
[{"$f":"\"ate01-\"&B849&\" \"&C849&\" \"&D849&\" \"&E849","v":"ate01-C4S4-030 CUATRO (4) CUATRO (4) D"},"C4S4-030","CUATRO (4)","CUATRO (4)","D","DESINFECTANTE GRANULADO  / FRASCO DE 1 KG","UT SS 2021- CCENEG- 041-01-2021",297530.25,{"$f":"B849&G849","v":"C4S4-030UT SS 2021- CCENEG- 041-01-2021"},{"$f":"C849&D849&E849&F849","v":"CUATRO (4)CUATRO (4)DDESINFECTANTE GRANULADO  / FRASCO DE 1 KG"},{"$f":"H849","v":297530.25},{"$f":"C849&D849&E849&F849&G849","v":"CUATRO (4)CUATRO (4)DDESINFECTANTE GRANULADO  / FRASCO DE 1 KGUT SS 2021- CCENEG- 041-01-2021"},{"$f":"B849&H849","v":"C4S4-030297530.25"},{"$f":"G849","v":"UT SS 2021- CCENEG- 041-01-2021"},"Und",{"$f":"C849&D849&E849&F849&G849","v":"CUATRO (4)CUATRO (4)DDESINFECTANTE GRANULADO  / FRASCO DE 1 KGUT SS 2021- CCENEG- 041-01-2021"},{"$f":"H849","v":297530.25}]
[{"$f":"\"ate01-\"&B850&\" \"&C850&\" \"&D850&\" \"&E850","v":"ate01-C4S4-031 CUATRO (4) CUATRO (4) D"},"C4S4-031","CUATRO (4)","CUATRO (4)","D","DETERGENTE / UNIDAD. BOLSA O RECIPIENTE PLÁSTICO POR 1.000 GR","JM GRUPO",4800.28,{"$f":"B850&G850","v":"C4S4-031JM GRUPO"},{"$f":"C850&D850&E850&F850","v":"CUATRO (4)CUATRO (4)DDETERGENTE / UNIDAD. BOLSA O RECIPIENTE PLÁSTICO POR 1.000 GR"},{"$f":"H850","v":4800.28},{"$f":"C850&D850&E850&F850&G850","v":"CUATRO (4)CUATRO (4)DDETERGENTE / UNIDAD. BOLSA O RECIPIENTE PLÁSTICO POR 1.000 GRJM GRUPO"},{"$f":"B850&H850","v":"C4S4-0314800.28"},{"$f":"G850","v":"JM GRUPO"},"Und",{"$f":"C850&D850&E850&F850&G850","v":"CUATRO (4)CUATRO (4)DDETERGENTE / UNIDAD. BOLSA O RECIPIENTE PLÁSTICO POR 1.000 GRJM GRUPO"},{"$f":"H850","v":4800.28}]
[{"$f":"\"ate01-\"&B851&\" \"&C851&\" \"&D851&\" \"&E851","v":"ate01-C4S4-031 CUATRO (4) CUATRO (4) D"},"C4S4-031","CUATRO (4)","CUATRO (4)","D","DETERGENTE / UNIDAD. BOLSA O RECIPIENTE PLÁSTICO POR 1.000 GR","SUMIMAS S.A.S.",4889.8,{"$f":"B851&G851","v":"C4S4-031SUMIMAS S.A.S."},{"$f":"C851&D851&E851&F851","v":"CUATRO (4)CUATRO (4)DDETERGENTE / UNIDAD. BOLSA O RECIPIENTE PLÁSTICO POR 1.000 GR"},{"$f":"H851","v":4889.8},{"$f":"C851&D851&E851&F851&G851","v":"CUATRO (4)CUATRO (4)DDETERGENTE / UNIDAD. BOLSA O RECIPIENTE PLÁSTICO POR 1.000 GRSUMIMAS S.A.S."},{"$f":"B851&H851","v":"C4S4-0314889.8"},{"$f":"G851","v":"SUMIMAS S.A.S."},"Und",{"$f":"C851&D851&E851&F851&G851","v":"CUATRO (4)CUATRO (4)DDETERGENTE / UNIDAD. BOLSA O RECIPIENTE PLÁSTICO POR 1.000 GRSUMIMAS S.A.S."},{"$f":"H851","v":4889.8}]
[{"$f":"\"ate01-\"&B852&\" \"&C852&\" \"&D852&\" \"&E852","v":"ate01-C4S4-031 CUATRO (4) CUATRO (4) D"},"C4S4-031","CUATRO (4)","CUATRO (4)","D","DETERGENTE / UNIDAD. BOLSA O RECIPIENTE PLÁSTICO POR 1.000 GR","UT SS 2021- CCENEG- 041-01-2021",5189.49,{"$f":"B852&G852","v":"C4S4-031UT SS 2021- CCENEG- 041-01-2021"},{"$f":"C852&D852&E852&F852","v":"CUATRO (4)CUATRO (4)DDETERGENTE / UNIDAD. BOLSA O RECIPIENTE PLÁSTICO POR 1.000 GR"},{"$f":"H852","v":5189.49},{"$f":"C852&D852&E852&F852&G852","v":"CUATRO (4)CUATRO (4)DDETERGENTE / UNIDAD. BOLSA O RECIPIENTE PLÁSTICO POR 1.000 GRUT SS 2021- CCENEG- 041-01-2021"},{"$f":"B852&H852","v":"C4S4-0315189.49"},{"$f":"G852","v":"UT SS 2021- CCENEG- 041-01-2021"},"Und",{"$f":"C852&D852&E852&F852&G852","v":"CUATRO (4)CUATRO (4)DDETERGENTE / UNIDAD. BOLSA O RECIPIENTE PLÁSTICO POR 1.000 GRUT SS 2021- CCENEG- 041-01-2021"},{"$f":"H852","v":5189.49}]
[{"$f":"\"ate01-\"&B853&\" \"&C853&\" \"&D853&\" \"&E853","v":"ate01-C4S4-032 CUATRO (4) CUATRO (4) D"},"C4S4-032","CUATRO (4)","CUATRO (4)","D","ESPONJA / UNIDAD","JM GRUPO",583.82000000000005,{"$f":"B853&G853","v":"C4S4-032JM GRUPO"},{"$f":"C853&D853&E853&F853","v":"CUATRO (4)CUATRO (4)DESPONJA / UNIDAD"},{"$f":"H853","v":583.82000000000005},{"$f":"C853&D853&E853&F853&G853","v":"CUATRO (4)CUATRO (4)DESPONJA / UNIDADJM GRUPO"},{"$f":"B853&H853","v":"C4S4-032583.82"},{"$f":"G853","v":"JM GRUPO"},"Und",{"$f":"C853&D853&E853&F853&G853","v":"CUATRO (4)CUATRO (4)DESPONJA / UNIDADJM GRUPO"},{"$f":"H853","v":583.82000000000005}]
[{"$f":"\"ate01-\"&B854&\" \"&C854&\" \"&D854&\" \"&E854","v":"ate01-C4S4-032 CUATRO (4) CUATRO (4) D"},"C4S4-032","CUATRO (4)","CUATRO (4)","D","ESPONJA / UNIDAD","SUMIMAS S.A.S.",1995.36,{"$f":"B854&G854","v":"C4S4-032SUMIMAS S.A.S."},{"$f":"C854&D854&E854&F854","v":"CUATRO (4)CUATRO (4)DESPONJA / UNIDAD"},{"$f":"H854","v":1995.36},{"$f":"C854&D854&E854&F854&G854","v":"CUATRO (4)CUATRO (4)DESPONJA / UNIDADSUMIMAS S.A.S."},{"$f":"B854&H854","v":"C4S4-0321995.36"},{"$f":"G854","v":"SUMIMAS S.A.S."},"Und",{"$f":"C854&D854&E854&F854&G854","v":"CUATRO (4)CUATRO (4)DESPONJA / UNIDADSUMIMAS S.A.S."},{"$f":"H854","v":1995.36}]
[{"$f":"\"ate01-\"&B855&\" \"&C855&\" \"&D855&\" \"&E855","v":"ate01-C4S4-032 CUATRO (4) CUATRO (4) D"},"C4S4-032","CUATRO (4)","CUATRO (4)","D","ESPONJA / UNIDAD","UT SS 2021- CCENEG- 041-01-2021",1863.03,{"$f":"B855&G855","v":"C4S4-032UT SS 2021- CCENEG- 041-01-2021"},{"$f":"C855&D855&E855&F855","v":"CUATRO (4)CUATRO (4)DESPONJA / UNIDAD"},{"$f":"H855","v":1863.03},{"$f":"C855&D855&E855&F855&G855","v":"CUATRO (4)CUATRO (4)DESPONJA / UNIDADUT SS 2021- CCENEG- 041-01-2021"},{"$f":"B855&H855","v":"C4S4-0321863.03"},{"$f":"G855","v":"UT SS 2021- CCENEG- 041-01-2021"},"Und",{"$f":"C855&D855&E855&F855&G855","v":"CUATRO (4)CUATRO (4)DESPONJA / UNIDADUT SS 2021- CCENEG- 041-01-2021"},{"$f":"H855","v":1863.03}]
[{"$f":"\"ate01-\"&B856&\" \"&C856&\" \"&D856&\" \"&E856","v":"ate01-C4S4-033 CUATRO (4) CUATRO (4) D"},"C4S4-033","CUATRO (4)","CUATRO (4)","D","PASTILLAS DESINFECTANTES / UNIDAD","JM GRUPO",12714.25,{"$f":"B856&G856","v":"C4S4-033JM GRUPO"},{"$f":"C856&D856&E856&F856","v":"CUATRO (4)CUATRO (4)DPASTILLAS DESINFECTANTES / UNIDAD"},{"$f":"H856","v":12714.25},{"$f":"C856&D856&E856&F856&G856","v":"CUATRO (4)CUATRO (4)DPASTILLAS DESINFECTANTES / UNIDADJM GRUPO"},{"$f":"B856&H856","v":"C4S4-03312714.25"},{"$f":"G856","v":"JM GRUPO"},"Und",{"$f":"C856&D856&E856&F856&G856","v":"CUATRO (4)CUATRO (4)DPASTILLAS DESINFECTANTES / UNIDADJM GRUPO"},{"$f":"H856","v":12714.25}]
[{"$f":"\"ate01-\"&B857&\" \"&C857&\" \"&D857&\" \"&E857","v":"ate01-C4S4-033 CUATRO (4) CUATRO (4) D"},"C4S4-033","CUATRO (4)","CUATRO (4)","D","PASTILLAS DESINFECTANTES / UNIDAD","SUMIMAS S.A.S.",5987.37,{"$f":"B857&G857","v":"C4S4-033SUMIMAS S.A.S."},{"$f":"C857&D857&E857&F857","v":"CUATRO (4)CUATRO (4)DPASTILLAS DESINFECTANTES / UNIDAD"},{"$f":"H857","v":5987.37},{"$f":"C857&D857&E857&F857&G857","v":"CUATRO (4)CUATRO (4)DPASTILLAS DESINFECTANTES / UNIDADSUMIMAS S.A.S."},{"$f":"B857&H857","v":"C4S4-0335987.37"},{"$f":"G857","v":"SUMIMAS S.A.S."},"Und",{"$f":"C857&D857&E857&F857&G857","v":"CUATRO (4)CUATRO (4)DPASTILLAS DESINFECTANTES / UNIDADSUMIMAS S.A.S."},{"$f":"H857","v":5987.37}]
[{"$f":"\"ate01-\"&B858&\" \"&C858&\" \"&D858&\" \"&E858","v":"ate01-C4S4-033 CUATRO (4) CUATRO (4) D"},"C4S4-033","CUATRO (4)","CUATRO (4)","D","PASTILLAS DESINFECTANTES / UNIDAD","UT SS 2021- CCENEG- 041-01-2021",1729.4,{"$f":"B858&G858","v":"C4S4-033UT SS 2021- CCENEG- 041-01-2021"},{"$f":"C858&D858&E858&F858","v":"CUATRO (4)CUATRO (4)DPASTILLAS DESINFECTANTES / UNIDAD"},{"$f":"H858","v":1729.4},{"$f":"C858&D858&E858&F858&G858","v":"CUATRO (4)CUATRO (4)DPASTILLAS DESINFECTANTES / UNIDADUT SS 2021- CCENEG- 041-01-2021"},{"$f":"B858&H858","v":"C4S4-0331729.4"},{"$f":"G858","v":"UT SS 2021- CCENEG- 041-01-2021"},"Und",{"$f":"C858&D858&E858&F858&G858","v":"CUATRO (4)CUATRO (4)DPASTILLAS DESINFECTANTES / UNIDADUT SS 2021- CCENEG- 041-01-2021"},{"$f":"H858","v":1729.4}]
[{"$f":"\"ate01-\"&B859&\" \"&C859&\" \"&D859&\" \"&E859","v":"ate01-C4S4-034 CUATRO (4) CUATRO (4) D"},"C4S4-034","CUATRO (4)","CUATRO (4)","D","VARSOL / UNIDAD POR 3.785 CC","JM GRUPO",44759.34,{"$f":"B859&G859","v":"C4S4-034JM GRUPO"},{"$f":"C859&D859&E859&F859","v":"CUATRO (4)CUATRO (4)DVARSOL / UNIDAD POR 3.785 CC"},{"$f":"H859","v":44759.34},{"$f":"C859&D859&E859&F859&G859","v":"CUATRO (4)CUATRO (4)DVARSOL / UNIDAD POR 3.785 CCJM GRUPO"},{"$f":"B859&H859","v":"C4S4-03444759.34"},{"$f":"G859","v":"JM GRUPO"},"Und",{"$f":"C859&D859&E859&F859&G859","v":"CUATRO (4)CUATRO (4)DVARSOL / UNIDAD POR 3.785 CCJM GRUPO"},{"$f":"H859","v":44759.34}]
[{"$f":"\"ate01-\"&B860&\" \"&C860&\" \"&D860&\" \"&E860","v":"ate01-C4S4-034 CUATRO (4) CUATRO (4) D"},"C4S4-034","CUATRO (4)","CUATRO (4)","D","VARSOL / UNIDAD POR 3.785 CC","SUMIMAS S.A.S.",31934.82,{"$f":"B860&G860","v":"C4S4-034SUMIMAS S.A.S."},{"$f":"C860&D860&E860&F860","v":"CUATRO (4)CUATRO (4)DVARSOL / UNIDAD POR 3.785 CC"},{"$f":"H860","v":31934.82},{"$f":"C860&D860&E860&F860&G860","v":"CUATRO (4)CUATRO (4)DVARSOL / UNIDAD POR 3.785 CCSUMIMAS S.A.S."},{"$f":"B860&H860","v":"C4S4-03431934.82"},{"$f":"G860","v":"SUMIMAS S.A.S."},"Und",{"$f":"C860&D860&E860&F860&G860","v":"CUATRO (4)CUATRO (4)DVARSOL / UNIDAD POR 3.785 CCSUMIMAS S.A.S."},{"$f":"H860","v":31934.82}]
[{"$f":"\"ate01-\"&B861&\" \"&C861&\" \"&D861&\" \"&E861","v":"ate01-C4S4-034 CUATRO (4) CUATRO (4) D"},"C4S4-034","CUATRO (4)","CUATRO (4)","D","VARSOL / UNIDAD POR 3.785 CC","UT SS 2021- CCENEG- 041-01-2021",31136.93,{"$f":"B861&G861","v":"C4S4-034UT SS 2021- CCENEG- 041-01-2021"},{"$f":"C861&D861&E861&F861","v":"CUATRO (4)CUATRO (4)DVARSOL / UNIDAD POR 3.785 CC"},{"$f":"H861","v":31136.93},{"$f":"C861&D861&E861&F861&G861","v":"CUATRO (4)CUATRO (4)DVARSOL / UNIDAD POR 3.785 CCUT SS 2021- CCENEG- 041-01-2021"},{"$f":"B861&H861","v":"C4S4-03431136.93"},{"$f":"G861","v":"UT SS 2021- CCENEG- 041-01-2021"},"Und",{"$f":"C861&D861&E861&F861&G861","v":"CUATRO (4)CUATRO (4)DVARSOL / UNIDAD POR 3.785 CCUT SS 2021- CCENEG- 041-01-2021"},{"$f":"H861","v":31136.93}]
[{"$f":"\"ate01-\"&B862&\" \"&C862&\" \"&D862&\" \"&E862","v":"ate01-C4S4-035 CUATRO (4) CUATRO (4) A"},"C4S4-035","CUATRO (4)","CUATRO (4)","A","ALCOHOL ANTISÉPTICO / BOTELLA X 700 ML","JM GRUPO",4540.8,{"$f":"B862&G862","v":"C4S4-035JM GRUPO"},{"$f":"C862&D862&E862&F862","v":"CUATRO (4)CUATRO (4)AALCOHOL ANTISÉPTICO / BOTELLA X 700 ML"},{"$f":"H862","v":4540.8},{"$f":"C862&D862&E862&F862&G862","v":"CUATRO (4)CUATRO (4)AALCOHOL ANTISÉPTICO / BOTELLA X 700 MLJM GRUPO"},{"$f":"B862&H862","v":"C4S4-0354540.8"},{"$f":"G862","v":"JM GRUPO"},"Und",{"$f":"C862&D862&E862&F862&G862","v":"CUATRO (4)CUATRO (4)AALCOHOL ANTISÉPTICO / BOTELLA X 700 MLJM GRUPO"},{"$f":"H862","v":4540.8}]
[{"$f":"\"ate01-\"&B863&\" \"&C863&\" \"&D863&\" \"&E863","v":"ate01-C4S4-035 CUATRO (4) CUATRO (4) A"},"C4S4-035","CUATRO (4)","CUATRO (4)","A","ALCOHOL ANTISÉPTICO / BOTELLA X 700 ML","SUMIMAS S.A.S.",11976.04,{"$f":"B863&G863","v":"C4S4-035SUMIMAS S.A.S."},{"$f":"C863&D863&E863&F863","v":"CUATRO (4)CUATRO (4)AALCOHOL ANTISÉPTICO / BOTELLA X 700 ML"},{"$f":"H863","v":11976.04},{"$f":"C863&D863&E863&F863&G863","v":"CUATRO (4)CUATRO (4)AALCOHOL ANTISÉPTICO / BOTELLA X 700 MLSUMIMAS S.A.S."},{"$f":"B863&H863","v":"C4S4-03511976.04"},{"$f":"G863","v":"SUMIMAS S.A.S."},"Und",{"$f":"C863&D863&E863&F863&G863","v":"CUATRO (4)CUATRO (4)AALCOHOL ANTISÉPTICO / BOTELLA X 700 MLSUMIMAS S.A.S."},{"$f":"H863","v":11976.04}]
[{"$f":"\"ate01-\"&B864&\" \"&C864&\" \"&D864&\" \"&E864","v":"ate01-C4S4-035 CUATRO (4) CUATRO (4) A"},"C4S4-035","CUATRO (4)","CUATRO (4)","A","ALCOHOL ANTISÉPTICO / BOTELLA X 700 ML","UNION TEMPORAL AYGEMA",10768.19,{"$f":"B864&G864","v":"C4S4-035UNION TEMPORAL AYGEMA"},{"$f":"C864&D864&E864&F864","v":"CUATRO (4)CUATRO (4)AALCOHOL ANTISÉPTICO / BOTELLA X 700 ML"},{"$f":"H864","v":10768.19},{"$f":"C864&D864&E864&F864&G864","v":"CUATRO (4)CUATRO (4)AALCOHOL ANTISÉPTICO / BOTELLA X 700 MLUNION TEMPORAL AYGEMA"},{"$f":"B864&H864","v":"C4S4-03510768.19"},{"$f":"G864","v":"UNION TEMPORAL AYGEMA"},"Und",{"$f":"C864&D864&E864&F864&G864","v":"CUATRO (4)CUATRO (4)AALCOHOL ANTISÉPTICO / BOTELLA X 700 MLUNION TEMPORAL AYGEMA"},{"$f":"H864","v":10768.19}]
[{"$f":"\"ate01-\"&B865&\" \"&C865&\" \"&D865&\" \"&E865","v":"ate01-C4S4-035 CUATRO (4) CUATRO (4) A"},"C4S4-035","CUATRO (4)","CUATRO (4)","A","ALCOHOL ANTISÉPTICO / BOTELLA X 700 ML","UT SS 2021- CCENEG- 041-01-2021",5215.4399999999996,{"$f":"B865&G865","v":"C4S4-035UT SS 2021- CCENEG- 041-01-2021"},{"$f":"C865&D865&E865&F865","v":"CUATRO (4)CUATRO (4)AALCOHOL ANTISÉPTICO / BOTELLA X 700 ML"},{"$f":"H865","v":5215.4399999999996},{"$f":"C865&D865&E865&F865&G865","v":"CUATRO (4)CUATRO (4)AALCOHOL ANTISÉPTICO / BOTELLA X 700 MLUT SS 2021- CCENEG- 041-01-2021"},{"$f":"B865&H865","v":"C4S4-0355215.44"},{"$f":"G865","v":"UT SS 2021- CCENEG- 041-01-2021"},"Und",{"$f":"C865&D865&E865&F865&G865","v":"CUATRO (4)CUATRO (4)AALCOHOL ANTISÉPTICO / BOTELLA X 700 MLUT SS 2021- CCENEG- 041-01-2021"},{"$f":"H865","v":5215.4399999999996}]
[{"$f":"\"ate01-\"&B866&\" \"&C866&\" \"&D866&\" \"&E866","v":"ate01-C4S4-035 CUATRO (4) CUATRO (4) A"},"C4S4-035","CUATRO (4)","CUATRO (4)","A","ALCOHOL ANTISÉPTICO / BOTELLA X 700 ML","COLOMBIANA DE TEXTILES POR MAYOR S.A.",29346.560000000001,{"$f":"B866&G866","v":"C4S4-035COLOMBIANA DE TEXTILES POR MAYOR S.A."},{"$f":"C866&D866&E866&F866","v":"CUATRO (4)CUATRO (4)AALCOHOL ANTISÉPTICO / BOTELLA X 700 ML"},{"$f":"H866","v":29346.560000000001},{"$f":"C866&D866&E866&F866&G866","v":"CUATRO (4)CUATRO (4)AALCOHOL ANTISÉPTICO / BOTELLA X 700 MLCOLOMBIANA DE TEXTILES POR MAYOR S.A."},{"$f":"B866&H866","v":"C4S4-03529346.56"},{"$f":"G866","v":"COLOMBIANA DE TEXTILES POR MAYOR S.A."},"Und",{"$f":"C866&D866&E866&F866&G866","v":"CUATRO (4)CUATRO (4)AALCOHOL ANTISÉPTICO / BOTELLA X 700 MLCOLOMBIANA DE TEXTILES POR MAYOR S.A."},{"$f":"H866","v":29346.560000000001}]
[{"$f":"\"ate01-\"&B867&\" \"&C867&\" \"&D867&\" \"&E867","v":"ate01-C4S4-036 CUATRO (4) CUATRO (4) A"},"C4S4-036","CUATRO (4)","CUATRO (4)","A","ALCOHOL INDUSTRIAL GALÓN X 3.750 ML","JM GRUPO",19460.580000000002,{"$f":"B867&G867","v":"C4S4-036JM GRUPO"},{"$f":"C867&D867&E867&F867","v":"CUATRO (4)CUATRO (4)AALCOHOL INDUSTRIAL GALÓN X 3.750 ML"},{"$f":"H867","v":19460.580000000002},{"$f":"C867&D867&E867&F867&G867","v":"CUATRO (4)CUATRO (4)AALCOHOL INDUSTRIAL GALÓN X 3.750 MLJM GRUPO"},{"$f":"B867&H867","v":"C4S4-03619460.58"},{"$f":"G867","v":"JM GRUPO"},"Und",{"$f":"C867&D867&E867&F867&G867","v":"CUATRO (4)CUATRO (4)AALCOHOL INDUSTRIAL GALÓN X 3.750 MLJM GRUPO"},{"$f":"H867","v":19460.580000000002}]
[{"$f":"\"ate01-\"&B868&\" \"&C868&\" \"&D868&\" \"&E868","v":"ate01-C4S4-036 CUATRO (4) CUATRO (4) A"},"C4S4-036","CUATRO (4)","CUATRO (4)","A","ALCOHOL INDUSTRIAL GALÓN X 3.750 ML","SUMIMAS S.A.S.",30937.14,{"$f":"B868&G868","v":"C4S4-036SUMIMAS S.A.S."},{"$f":"C868&D868&E868&F868","v":"CUATRO (4)CUATRO (4)AALCOHOL INDUSTRIAL GALÓN X 3.750 ML"},{"$f":"H868","v":30937.14},{"$f":"C868&D868&E868&F868&G868","v":"CUATRO (4)CUATRO (4)AALCOHOL INDUSTRIAL GALÓN X 3.750 MLSUMIMAS S.A.S."},{"$f":"B868&H868","v":"C4S4-03630937.14"},{"$f":"G868","v":"SUMIMAS S.A.S."},"Und",{"$f":"C868&D868&E868&F868&G868","v":"CUATRO (4)CUATRO (4)AALCOHOL INDUSTRIAL GALÓN X 3.750 MLSUMIMAS S.A.S."},{"$f":"H868","v":30937.14}]
[{"$f":"\"ate01-\"&B869&\" \"&C869&\" \"&D869&\" \"&E869","v":"ate01-C4S4-036 CUATRO (4) CUATRO (4) A"},"C4S4-036","CUATRO (4)","CUATRO (4)","A","ALCOHOL INDUSTRIAL GALÓN X 3.750 ML","UNION TEMPORAL AYGEMA",64998.35,{"$f":"B869&G869","v":"C4S4-036UNION TEMPORAL AYGEMA"},{"$f":"C869&D869&E869&F869","v":"CUATRO (4)CUATRO (4)AALCOHOL INDUSTRIAL GALÓN X 3.750 ML"},{"$f":"H869","v":64998.35},{"$f":"C869&D869&E869&F869&G869","v":"CUATRO (4)CUATRO (4)AALCOHOL INDUSTRIAL GALÓN X 3.750 MLUNION TEMPORAL AYGEMA"},{"$f":"B869&H869","v":"C4S4-03664998.35"},{"$f":"G869","v":"UNION TEMPORAL AYGEMA"},"Und",{"$f":"C869&D869&E869&F869&G869","v":"CUATRO (4)CUATRO (4)AALCOHOL INDUSTRIAL GALÓN X 3.750 MLUNION TEMPORAL AYGEMA"},{"$f":"H869","v":64998.35}]
[{"$f":"\"ate01-\"&B870&\" \"&C870&\" \"&D870&\" \"&E870","v":"ate01-C4S4-036 CUATRO (4) CUATRO (4) A"},"C4S4-036","CUATRO (4)","CUATRO (4)","A","ALCOHOL INDUSTRIAL GALÓN X 3.750 ML","UT SS 2021- CCENEG- 041-01-2021",32002.28,{"$f":"B870&G870","v":"C4S4-036UT SS 2021- CCENEG- 041-01-2021"},{"$f":"C870&D870&E870&F870","v":"CUATRO (4)CUATRO (4)AALCOHOL INDUSTRIAL GALÓN X 3.750 ML"},{"$f":"H870","v":32002.28},{"$f":"C870&D870&E870&F870&G870","v":"CUATRO (4)CUATRO (4)AALCOHOL INDUSTRIAL GALÓN X 3.750 MLUT SS 2021- CCENEG- 041-01-2021"},{"$f":"B870&H870","v":"C4S4-03632002.28"},{"$f":"G870","v":"UT SS 2021- CCENEG- 041-01-2021"},"Und",{"$f":"C870&D870&E870&F870&G870","v":"CUATRO (4)CUATRO (4)AALCOHOL INDUSTRIAL GALÓN X 3.750 MLUT SS 2021- CCENEG- 041-01-2021"},{"$f":"H870","v":32002.28}]
[{"$f":"\"ate01-\"&B871&\" \"&C871&\" \"&D871&\" \"&E871","v":"ate01-C4S4-036 CUATRO (4) CUATRO (4) A"},"C4S4-036","CUATRO (4)","CUATRO (4)","A","ALCOHOL INDUSTRIAL GALÓN X 3.750 ML","COLOMBIANA DE TEXTILES POR MAYOR S.A.",62053.31,{"$f":"B871&G871","v":"C4S4-036COLOMBIANA DE TEXTILES POR MAYOR S.A."},{"$f":"C871&D871&E871&F871","v":"CUATRO (4)CUATRO (4)AALCOHOL INDUSTRIAL GALÓN X 3.750 ML"},{"$f":"H871","v":62053.31},{"$f":"C871&D871&E871&F871&G871","v":"CUATRO (4)CUATRO (4)AALCOHOL INDUSTRIAL GALÓN X 3.750 MLCOLOMBIANA DE TEXTILES POR MAYOR S.A."},{"$f":"B871&H871","v":"C4S4-03662053.31"},{"$f":"G871","v":"COLOMBIANA DE TEXTILES POR MAYOR S.A."},"Und",{"$f":"C871&D871&E871&F871&G871","v":"CUATRO (4)CUATRO (4)AALCOHOL INDUSTRIAL GALÓN X 3.750 MLCOLOMBIANA DE TEXTILES POR MAYOR S.A."},{"$f":"H871","v":62053.31}]
[{"$f":"\"ate01-\"&B872&\" \"&C872&\" \"&D872&\" \"&E872","v":"ate01-C4S4-037 CUATRO (4) CUATRO (4) A"},"C4S4-037","CUATRO (4)","CUATRO (4)","A","ALGODÓN  PURIFICADO / BOLSA DE 100 GRAMOS","JM GRUPO",4411.07,{"$f":"B872&G872","v":"C4S4-037JM GRUPO"},{"$f":"C872&D872&E872&F872","v":"CUATRO (4)CUATRO (4)AALGODÓN  PURIFICADO / BOLSA DE 100 GRAMOS"},{"$f":"H872","v":4411.07},{"$f":"C872&D872&E872&F872&G872","v":"CUATRO (4)CUATRO (4)AALGODÓN  PURIFICADO / BOLSA DE 100 GRAMOSJM GRUPO"},{"$f":"B872&H872","v":"C4S4-0374411.07"},{"$f":"G872","v":"JM GRUPO"},"Und",{"$f":"C872&D872&E872&F872&G872","v":"CUATRO (4)CUATRO (4)AALGODÓN  PURIFICADO / BOLSA DE 100 GRAMOSJM GRUPO"},{"$f":"H872","v":4411.07}]
[{"$f":"\"ate01-\"&B873&\" \"&C873&\" \"&D873&\" \"&E873","v":"ate01-C4S4-037 CUATRO (4) CUATRO (4) A"},"C4S4-037","CUATRO (4)","CUATRO (4)","A","ALGODÓN  PURIFICADO / BOLSA DE 100 GRAMOS","SUMIMAS S.A.S.",8981.7099999999991,{"$f":"B873&G873","v":"C4S4-037SUMIMAS S.A.S."},{"$f":"C873&D873&E873&F873","v":"CUATRO (4)CUATRO (4)AALGODÓN  PURIFICADO / BOLSA DE 100 GRAMOS"},{"$f":"H873","v":8981.7099999999991},{"$f":"C873&D873&E873&F873&G873","v":"CUATRO (4)CUATRO (4)AALGODÓN  PURIFICADO / BOLSA DE 100 GRAMOSSUMIMAS S.A.S."},{"$f":"B873&H873","v":"C4S4-0378981.71"},{"$f":"G873","v":"SUMIMAS S.A.S."},"Und",{"$f":"C873&D873&E873&F873&G873","v":"CUATRO (4)CUATRO (4)AALGODÓN  PURIFICADO / BOLSA DE 100 GRAMOSSUMIMAS S.A.S."},{"$f":"H873","v":8981.7099999999991}]
[{"$f":"\"ate01-\"&B874&\" \"&C874&\" \"&D874&\" \"&E874","v":"ate01-C4S4-037 CUATRO (4) CUATRO (4) A"},"C4S4-037","CUATRO (4)","CUATRO (4)","A","ALGODÓN  PURIFICADO / BOLSA DE 100 GRAMOS","UNION TEMPORAL AYGEMA",10638.45,{"$f":"B874&G874","v":"C4S4-037UNION TEMPORAL AYGEMA"},{"$f":"C874&D874&E874&F874","v":"CUATRO (4)CUATRO (4)AALGODÓN  PURIFICADO / BOLSA DE 100 GRAMOS"},{"$f":"H874","v":10638.45},{"$f":"C874&D874&E874&F874&G874","v":"CUATRO (4)CUATRO (4)AALGODÓN  PURIFICADO / BOLSA DE 100 GRAMOSUNION TEMPORAL AYGEMA"},{"$f":"B874&H874","v":"C4S4-03710638.45"},{"$f":"G874","v":"UNION TEMPORAL AYGEMA"},"Und",{"$f":"C874&D874&E874&F874&G874","v":"CUATRO (4)CUATRO (4)AALGODÓN  PURIFICADO / BOLSA DE 100 GRAMOSUNION TEMPORAL AYGEMA"},{"$f":"H874","v":10638.45}]
[{"$f":"\"ate01-\"&B875&\" \"&C875&\" \"&D875&\" \"&E875","v":"ate01-C4S4-037 CUATRO (4) CUATRO (4) A"},"C4S4-037","CUATRO (4)","CUATRO (4)","A","ALGODÓN  PURIFICADO / BOLSA DE 100 GRAMOS","UT SS 2021- CCENEG- 041-01-2021",3805.19,{"$f":"B875&G875","v":"C4S4-037UT SS 2021- CCENEG- 041-01-2021"},{"$f":"C875&D875&E875&F875","v":"CUATRO (4)CUATRO (4)AALGODÓN  PURIFICADO / BOLSA DE 100 GRAMOS"},{"$f":"H875","v":3805.19},{"$f":"C875&D875&E875&F875&G875","v":"CUATRO (4)CUATRO (4)AALGODÓN  PURIFICADO / BOLSA DE 100 GRAMOSUT SS 2021- CCENEG- 041-01-2021"},{"$f":"B875&H875","v":"C4S4-0373805.19"},{"$f":"G875","v":"UT SS 2021- CCENEG- 041-01-2021"},"Und",{"$f":"C875&D875&E875&F875&G875","v":"CUATRO (4)CUATRO (4)AALGODÓN  PURIFICADO / BOLSA DE 100 GRAMOSUT SS 2021- CCENEG- 041-01-2021"},{"$f":"H875","v":3805.19}]
[{"$f":"\"ate01-\"&B876&\" \"&C876&\" \"&D876&\" \"&E876","v":"ate01-C4S4-037 CUATRO (4) CUATRO (4) A"},"C4S4-037","CUATRO (4)","CUATRO (4)","A","ALGODÓN  PURIFICADO / BOLSA DE 100 GRAMOS","COLOMBIANA DE TEXTILES POR MAYOR S.A.",11870.96,{"$f":"B876&G876","v":"C4S4-037COLOMBIANA DE TEXTILES POR MAYOR S.A."},{"$f":"C876&D876&E876&F876","v":"CUATRO (4)CUATRO (4)AALGODÓN  PURIFICADO / BOLSA DE 100 GRAMOS"},{"$f":"H876","v":11870.96},{"$f":"C876&D876&E876&F876&G876","v":"CUATRO (4)CUATRO (4)AALGODÓN  PURIFICADO / BOLSA DE 100 GRAMOSCOLOMBIANA DE TEXTILES POR MAYOR S.A."},{"$f":"B876&H876","v":"C4S4-03711870.96"},{"$f":"G876","v":"COLOMBIANA DE TEXTILES POR MAYOR S.A."},"Und",{"$f":"C876&D876&E876&F876&G876","v":"CUATRO (4)CUATRO (4)AALGODÓN  PURIFICADO / BOLSA DE 100 GRAMOSCOLOMBIANA DE TEXTILES POR MAYOR S.A."},{"$f":"H876","v":11870.96}]
[{"$f":"\"ate01-\"&B877&\" \"&C877&\" \"&D877&\" \"&E877","v":"ate01-C4S4-038 CUATRO (4) CUATRO (4) A"},"C4S4-038","CUATRO (4)","CUATRO (4)","A","ALGODÓN  PURIFICADO / BOLSA DE 250 GRAMOS","JM GRUPO",11676.35,{"$f":"B877&G877","v":"C4S4-038JM GRUPO"},{"$f":"C877&D877&E877&F877","v":"CUATRO (4)CUATRO (4)AALGODÓN  PURIFICADO / BOLSA DE 250 GRAMOS"},{"$f":"H877","v":11676.35},{"$f":"C877&D877&E877&F877&G877","v":"CUATRO (4)CUATRO (4)AALGODÓN  PURIFICADO / BOLSA DE 250 GRAMOSJM GRUPO"},{"$f":"B877&H877","v":"C4S4-03811676.35"},{"$f":"G877","v":"JM GRUPO"},"Und",{"$f":"C877&D877&E877&F877&G877","v":"CUATRO (4)CUATRO (4)AALGODÓN  PURIFICADO / BOLSA DE 250 GRAMOSJM GRUPO"},{"$f":"H877","v":11676.35}]
[{"$f":"\"ate01-\"&B878&\" \"&C878&\" \"&D878&\" \"&E878","v":"ate01-C4S4-038 CUATRO (4) CUATRO (4) A"},"C4S4-038","CUATRO (4)","CUATRO (4)","A","ALGODÓN  PURIFICADO / BOLSA DE 250 GRAMOS","SUMIMAS S.A.S.",11976.04,{"$f":"B878&G878","v":"C4S4-038SUMIMAS S.A.S."},{"$f":"C878&D878&E878&F878","v":"CUATRO (4)CUATRO (4)AALGODÓN  PURIFICADO / BOLSA DE 250 GRAMOS"},{"$f":"H878","v":11976.04},{"$f":"C878&D878&E878&F878&G878","v":"CUATRO (4)CUATRO (4)AALGODÓN  PURIFICADO / BOLSA DE 250 GRAMOSSUMIMAS S.A.S."},{"$f":"B878&H878","v":"C4S4-03811976.04"},{"$f":"G878","v":"SUMIMAS S.A.S."},"Und",{"$f":"C878&D878&E878&F878&G878","v":"CUATRO (4)CUATRO (4)AALGODÓN  PURIFICADO / BOLSA DE 250 GRAMOSSUMIMAS S.A.S."},{"$f":"H878","v":11976.04}]
[{"$f":"\"ate01-\"&B879&\" \"&C879&\" \"&D879&\" \"&E879","v":"ate01-C4S4-038 CUATRO (4) CUATRO (4) A"},"C4S4-038","CUATRO (4)","CUATRO (4)","A","ALGODÓN  PURIFICADO / BOLSA DE 250 GRAMOS","UNION TEMPORAL AYGEMA",23871.65,{"$f":"B879&G879","v":"C4S4-038UNION TEMPORAL AYGEMA"},{"$f":"C879&D879&E879&F879","v":"CUATRO (4)CUATRO (4)AALGODÓN  PURIFICADO / BOLSA DE 250 GRAMOS"},{"$f":"H879","v":23871.65},{"$f":"C879&D879&E879&F879&G879","v":"CUATRO (4)CUATRO (4)AALGODÓN  PURIFICADO / BOLSA DE 250 GRAMOSUNION TEMPORAL AYGEMA"},{"$f":"B879&H879","v":"C4S4-03823871.65"},{"$f":"G879","v":"UNION TEMPORAL AYGEMA"},"Und",{"$f":"C879&D879&E879&F879&G879","v":"CUATRO (4)CUATRO (4)AALGODÓN  PURIFICADO / BOLSA DE 250 GRAMOSUNION TEMPORAL AYGEMA"},{"$f":"H879","v":23871.65}]
[{"$f":"\"ate01-\"&B880&\" \"&C880&\" \"&D880&\" \"&E880","v":"ate01-C4S4-038 CUATRO (4) CUATRO (4) A"},"C4S4-038","CUATRO (4)","CUATRO (4)","A","ALGODÓN  PURIFICADO / BOLSA DE 250 GRAMOS","UT SS 2021- CCENEG- 041-01-2021",6918.89,{"$f":"B880&G880","v":"C4S4-038UT SS 2021- CCENEG- 041-01-2021"},{"$f":"C880&D880&E880&F880","v":"CUATRO (4)CUATRO (4)AALGODÓN  PURIFICADO / BOLSA DE 250 GRAMOS"},{"$f":"H880","v":6918.89},{"$f":"C880&D880&E880&F880&G880","v":"CUATRO (4)CUATRO (4)AALGODÓN  PURIFICADO / BOLSA DE 250 GRAMOSUT SS 2021- CCENEG- 041-01-2021"},{"$f":"B880&H880","v":"C4S4-0386918.89"},{"$f":"G880","v":"UT SS 2021- CCENEG- 041-01-2021"},"Und",{"$f":"C880&D880&E880&F880&G880","v":"CUATRO (4)CUATRO (4)AALGODÓN  PURIFICADO / BOLSA DE 250 GRAMOSUT SS 2021- CCENEG- 041-01-2021"},{"$f":"H880","v":6918.89}]
[{"$f":"\"ate01-\"&B881&\" \"&C881&\" \"&D881&\" \"&E881","v":"ate01-C4S4-038 CUATRO (4) CUATRO (4) A"},"C4S4-038","CUATRO (4)","CUATRO (4)","A","ALGODÓN  PURIFICADO / BOLSA DE 250 GRAMOS","COLOMBIANA DE TEXTILES POR MAYOR S.A.",24550.17,{"$f":"B881&G881","v":"C4S4-038COLOMBIANA DE TEXTILES POR MAYOR S.A."},{"$f":"C881&D881&E881&F881","v":"CUATRO (4)CUATRO (4)AALGODÓN  PURIFICADO / BOLSA DE 250 GRAMOS"},{"$f":"H881","v":24550.17},{"$f":"C881&D881&E881&F881&G881","v":"CUATRO (4)CUATRO (4)AALGODÓN  PURIFICADO / BOLSA DE 250 GRAMOSCOLOMBIANA DE TEXTILES POR MAYOR S.A."},{"$f":"B881&H881","v":"C4S4-03824550.17"},{"$f":"G881","v":"COLOMBIANA DE TEXTILES POR MAYOR S.A."},"Und",{"$f":"C881&D881&E881&F881&G881","v":"CUATRO (4)CUATRO (4)AALGODÓN  PURIFICADO / BOLSA DE 250 GRAMOSCOLOMBIANA DE TEXTILES POR MAYOR S.A."},{"$f":"H881","v":24550.17}]
[{"$f":"\"ate01-\"&B882&\" \"&C882&\" \"&D882&\" \"&E882","v":"ate01-C4S4-039 CUATRO (4) CUATRO (4) A"},"C4S4-039","CUATRO (4)","CUATRO (4)","A","ALGODÓN  PURIFICADO / BOLSA DE 500 GRAMOS","JM GRUPO",21925.59,{"$f":"B882&G882","v":"C4S4-039JM GRUPO"},{"$f":"C882&D882&E882&F882","v":"CUATRO (4)CUATRO (4)AALGODÓN  PURIFICADO / BOLSA DE 500 GRAMOS"},{"$f":"H882","v":21925.59},{"$f":"C882&D882&E882&F882&G882","v":"CUATRO (4)CUATRO (4)AALGODÓN  PURIFICADO / BOLSA DE 500 GRAMOSJM GRUPO"},{"$f":"B882&H882","v":"C4S4-03921925.59"},{"$f":"G882","v":"JM GRUPO"},"Und",{"$f":"C882&D882&E882&F882&G882","v":"CUATRO (4)CUATRO (4)AALGODÓN  PURIFICADO / BOLSA DE 500 GRAMOSJM GRUPO"},{"$f":"H882","v":21925.59}]
[{"$f":"\"ate01-\"&B883&\" \"&C883&\" \"&D883&\" \"&E883","v":"ate01-C4S4-039 CUATRO (4) CUATRO (4) A"},"C4S4-039","CUATRO (4)","CUATRO (4)","A","ALGODÓN  PURIFICADO / BOLSA DE 500 GRAMOS","SUMIMAS S.A.S.",35926.83,{"$f":"B883&G883","v":"C4S4-039SUMIMAS S.A.S."},{"$f":"C883&D883&E883&F883","v":"CUATRO (4)CUATRO (4)AALGODÓN  PURIFICADO / BOLSA DE 500 GRAMOS"},{"$f":"H883","v":35926.83},{"$f":"C883&D883&E883&F883&G883","v":"CUATRO (4)CUATRO (4)AALGODÓN  PURIFICADO / BOLSA DE 500 GRAMOSSUMIMAS S.A.S."},{"$f":"B883&H883","v":"C4S4-03935926.83"},{"$f":"G883","v":"SUMIMAS S.A.S."},"Und",{"$f":"C883&D883&E883&F883&G883","v":"CUATRO (4)CUATRO (4)AALGODÓN  PURIFICADO / BOLSA DE 500 GRAMOSSUMIMAS S.A.S."},{"$f":"H883","v":35926.83}]
[{"$f":"\"ate01-\"&B884&\" \"&C884&\" \"&D884&\" \"&E884","v":"ate01-C4S4-039 CUATRO (4) CUATRO (4) A"},"C4S4-039","CUATRO (4)","CUATRO (4)","A","ALGODÓN  PURIFICADO / BOLSA DE 500 GRAMOS","UNION TEMPORAL AYGEMA",26077.18,{"$f":"B884&G884","v":"C4S4-039UNION TEMPORAL AYGEMA"},{"$f":"C884&D884&E884&F884","v":"CUATRO (4)CUATRO (4)AALGODÓN  PURIFICADO / BOLSA DE 500 GRAMOS"},{"$f":"H884","v":26077.18},{"$f":"C884&D884&E884&F884&G884","v":"CUATRO (4)CUATRO (4)AALGODÓN  PURIFICADO / BOLSA DE 500 GRAMOSUNION TEMPORAL AYGEMA"},{"$f":"B884&H884","v":"C4S4-03926077.18"},{"$f":"G884","v":"UNION TEMPORAL AYGEMA"},"Und",{"$f":"C884&D884&E884&F884&G884","v":"CUATRO (4)CUATRO (4)AALGODÓN  PURIFICADO / BOLSA DE 500 GRAMOSUNION TEMPORAL AYGEMA"},{"$f":"H884","v":26077.18}]
[{"$f":"\"ate01-\"&B885&\" \"&C885&\" \"&D885&\" \"&E885","v":"ate01-C4S4-039 CUATRO (4) CUATRO (4) A"},"C4S4-039","CUATRO (4)","CUATRO (4)","A","ALGODÓN  PURIFICADO / BOLSA DE 500 GRAMOS","UT SS 2021- CCENEG- 041-01-2021",21449.45,{"$f":"B885&G885","v":"C4S4-039UT SS 2021- CCENEG- 041-01-2021"},{"$f":"C885&D885&E885&F885","v":"CUATRO (4)CUATRO (4)AALGODÓN  PURIFICADO / BOLSA DE 500 GRAMOS"},{"$f":"H885","v":21449.45},{"$f":"C885&D885&E885&F885&G885","v":"CUATRO (4)CUATRO (4)AALGODÓN  PURIFICADO / BOLSA DE 500 GRAMOSUT SS 2021- CCENEG- 041-01-2021"},{"$f":"B885&H885","v":"C4S4-03921449.45"},{"$f":"G885","v":"UT SS 2021- CCENEG- 041-01-2021"},"Und",{"$f":"C885&D885&E885&F885&G885","v":"CUATRO (4)CUATRO (4)AALGODÓN  PURIFICADO / BOLSA DE 500 GRAMOSUT SS 2021- CCENEG- 041-01-2021"},{"$f":"H885","v":21449.45}]
[{"$f":"\"ate01-\"&B886&\" \"&C886&\" \"&D886&\" \"&E886","v":"ate01-C4S4-039 CUATRO (4) CUATRO (4) A"},"C4S4-039","CUATRO (4)","CUATRO (4)","A","ALGODÓN  PURIFICADO / BOLSA DE 500 GRAMOS","COLOMBIANA DE TEXTILES POR MAYOR S.A.",32940.28,{"$f":"B886&G886","v":"C4S4-039COLOMBIANA DE TEXTILES POR MAYOR S.A."},{"$f":"C886&D886&E886&F886","v":"CUATRO (4)CUATRO (4)AALGODÓN  PURIFICADO / BOLSA DE 500 GRAMOS"},{"$f":"H886","v":32940.28},{"$f":"C886&D886&E886&F886&G886","v":"CUATRO (4)CUATRO (4)AALGODÓN  PURIFICADO / BOLSA DE 500 GRAMOSCOLOMBIANA DE TEXTILES POR MAYOR S.A."},{"$f":"B886&H886","v":"C4S4-03932940.28"},{"$f":"G886","v":"COLOMBIANA DE TEXTILES POR MAYOR S.A."},"Und",{"$f":"C886&D886&E886&F886&G886","v":"CUATRO (4)CUATRO (4)AALGODÓN  PURIFICADO / BOLSA DE 500 GRAMOSCOLOMBIANA DE TEXTILES POR MAYOR S.A."},{"$f":"H886","v":32940.28}]
[{"$f":"\"ate01-\"&B887&\" \"&C887&\" \"&D887&\" \"&E887","v":"ate01-C4S4-040 CUATRO (4) CUATRO (4) A"},"C4S4-040","CUATRO (4)","CUATRO (4)","A","ALGODÓN  PURIFICADO / BOLSA DE 500 GRAMOS","JM GRUPO",24520.33,{"$f":"B887&G887","v":"C4S4-040JM GRUPO"},{"$f":"C887&D887&E887&F887","v":"CUATRO (4)CUATRO (4)AALGODÓN  PURIFICADO / BOLSA DE 500 GRAMOS"},{"$f":"H887","v":24520.33},{"$f":"C887&D887&E887&F887&G887","v":"CUATRO (4)CUATRO (4)AALGODÓN  PURIFICADO / BOLSA DE 500 GRAMOSJM GRUPO"},{"$f":"B887&H887","v":"C4S4-04024520.33"},{"$f":"G887","v":"JM GRUPO"},"Und",{"$f":"C887&D887&E887&F887&G887","v":"CUATRO (4)CUATRO (4)AALGODÓN  PURIFICADO / BOLSA DE 500 GRAMOSJM GRUPO"},{"$f":"H887","v":24520.33}]
[{"$f":"\"ate01-\"&B888&\" \"&C888&\" \"&D888&\" \"&E888","v":"ate01-C4S4-040 CUATRO (4) CUATRO (4) A"},"C4S4-040","CUATRO (4)","CUATRO (4)","A","ALGODÓN  PURIFICADO / BOLSA DE 500 GRAMOS","SUMIMAS S.A.S.",19960.07,{"$f":"B888&G888","v":"C4S4-040SUMIMAS S.A.S."},{"$f":"C888&D888&E888&F888","v":"CUATRO (4)CUATRO (4)AALGODÓN  PURIFICADO / BOLSA DE 500 GRAMOS"},{"$f":"H888","v":19960.07},{"$f":"C888&D888&E888&F888&G888","v":"CUATRO (4)CUATRO (4)AALGODÓN  PURIFICADO / BOLSA DE 500 GRAMOSSUMIMAS S.A.S."},{"$f":"B888&H888","v":"C4S4-04019960.07"},{"$f":"G888","v":"SUMIMAS S.A.S."},"Und",{"$f":"C888&D888&E888&F888&G888","v":"CUATRO (4)CUATRO (4)AALGODÓN  PURIFICADO / BOLSA DE 500 GRAMOSSUMIMAS S.A.S."},{"$f":"H888","v":19960.07}]
[{"$f":"\"ate01-\"&B889&\" \"&C889&\" \"&D889&\" \"&E889","v":"ate01-C4S4-040 CUATRO (4) CUATRO (4) A"},"C4S4-040","CUATRO (4)","CUATRO (4)","A","ALGODÓN  PURIFICADO / BOLSA DE 500 GRAMOS","UNION TEMPORAL AYGEMA",26206.92,{"$f":"B889&G889","v":"C4S4-040UNION TEMPORAL AYGEMA"},{"$f":"C889&D889&E889&F889","v":"CUATRO (4)CUATRO (4)AALGODÓN  PURIFICADO / BOLSA DE 500 GRAMOS"},{"$f":"H889","v":26206.92},{"$f":"C889&D889&E889&F889&G889","v":"CUATRO (4)CUATRO (4)AALGODÓN  PURIFICADO / BOLSA DE 500 GRAMOSUNION TEMPORAL AYGEMA"},{"$f":"B889&H889","v":"C4S4-04026206.92"},{"$f":"G889","v":"UNION TEMPORAL AYGEMA"},"Und",{"$f":"C889&D889&E889&F889&G889","v":"CUATRO (4)CUATRO (4)AALGODÓN  PURIFICADO / BOLSA DE 500 GRAMOSUNION TEMPORAL AYGEMA"},{"$f":"H889","v":26206.92}]
[{"$f":"\"ate01-\"&B890&\" \"&C890&\" \"&D890&\" \"&E890","v":"ate01-C4S4-040 CUATRO (4) CUATRO (4) A"},"C4S4-040","CUATRO (4)","CUATRO (4)","A","ALGODÓN  PURIFICADO / BOLSA DE 500 GRAMOS","UT SS 2021- CCENEG- 041-01-2021",24218.05,{"$f":"B890&G890","v":"C4S4-040UT SS 2021- CCENEG- 041-01-2021"},{"$f":"C890&D890&E890&F890","v":"CUATRO (4)CUATRO (4)AALGODÓN  PURIFICADO / BOLSA DE 500 GRAMOS"},{"$f":"H890","v":24218.05},{"$f":"C890&D890&E890&F890&G890","v":"CUATRO (4)CUATRO (4)AALGODÓN  PURIFICADO / BOLSA DE 500 GRAMOSUT SS 2021- CCENEG- 041-01-2021"},{"$f":"B890&H890","v":"C4S4-04024218.05"},{"$f":"G890","v":"UT SS 2021- CCENEG- 041-01-2021"},"Und",{"$f":"C890&D890&E890&F890&G890","v":"CUATRO (4)CUATRO (4)AALGODÓN  PURIFICADO / BOLSA DE 500 GRAMOSUT SS 2021- CCENEG- 041-01-2021"},{"$f":"H890","v":24218.05}]
[{"$f":"\"ate01-\"&B891&\" \"&C891&\" \"&D891&\" \"&E891","v":"ate01-C4S4-040 CUATRO (4) CUATRO (4) A"},"C4S4-040","CUATRO (4)","CUATRO (4)","A","ALGODÓN  PURIFICADO / BOLSA DE 500 GRAMOS","COLOMBIANA DE TEXTILES POR MAYOR S.A.",29541.16,{"$f":"B891&G891","v":"C4S4-040COLOMBIANA DE TEXTILES POR MAYOR S.A."},{"$f":"C891&D891&E891&F891","v":"CUATRO (4)CUATRO (4)AALGODÓN  PURIFICADO / BOLSA DE 500 GRAMOS"},{"$f":"H891","v":29541.16},{"$f":"C891&D891&E891&F891&G891","v":"CUATRO (4)CUATRO (4)AALGODÓN  PURIFICADO / BOLSA DE 500 GRAMOSCOLOMBIANA DE TEXTILES POR MAYOR S.A."},{"$f":"B891&H891","v":"C4S4-04029541.16"},{"$f":"G891","v":"COLOMBIANA DE TEXTILES POR MAYOR S.A."},"Und",{"$f":"C891&D891&E891&F891&G891","v":"CUATRO (4)CUATRO (4)AALGODÓN  PURIFICADO / BOLSA DE 500 GRAMOSCOLOMBIANA DE TEXTILES POR MAYOR S.A."},{"$f":"H891","v":29541.16}]
[{"$f":"\"ate01-\"&B892&\" \"&C892&\" \"&D892&\" \"&E892","v":"ate01-C4S4-041 CUATRO (4) CUATRO (4) A"},"C4S4-041","CUATRO (4)","CUATRO (4)","A","GEL ANTIBACTERIAL A BASE DE ALCOÓL ETÍLICO / GALON POR 3.750 ML","JM GRUPO",17514.52,{"$f":"B892&G892","v":"C4S4-041JM GRUPO"},{"$f":"C892&D892&E892&F892","v":"CUATRO (4)CUATRO (4)AGEL ANTIBACTERIAL A BASE DE ALCOÓL ETÍLICO / GALON POR 3.750 ML"},{"$f":"H892","v":17514.52},{"$f":"C892&D892&E892&F892&G892","v":"CUATRO (4)CUATRO (4)AGEL ANTIBACTERIAL A BASE DE ALCOÓL ETÍLICO / GALON POR 3.750 MLJM GRUPO"},{"$f":"B892&H892","v":"C4S4-04117514.52"},{"$f":"G892","v":"JM GRUPO"},"Und",{"$f":"C892&D892&E892&F892&G892","v":"CUATRO (4)CUATRO (4)AGEL ANTIBACTERIAL A BASE DE ALCOÓL ETÍLICO / GALON POR 3.750 MLJM GRUPO"},{"$f":"H892","v":17514.52}]
[{"$f":"\"ate01-\"&B893&\" \"&C893&\" \"&D893&\" \"&E893","v":"ate01-C4S4-041 CUATRO (4) CUATRO (4) A"},"C4S4-041","CUATRO (4)","CUATRO (4)","A","GEL ANTIBACTERIAL A BASE DE ALCOÓL ETÍLICO / GALON POR 3.750 ML","SUMIMAS S.A.S.",35926.83,{"$f":"B893&G893","v":"C4S4-041SUMIMAS S.A.S."},{"$f":"C893&D893&E893&F893","v":"CUATRO (4)CUATRO (4)AGEL ANTIBACTERIAL A BASE DE ALCOÓL ETÍLICO / GALON POR 3.750 ML"},{"$f":"H893","v":35926.83},{"$f":"C893&D893&E893&F893&G893","v":"CUATRO (4)CUATRO (4)AGEL ANTIBACTERIAL A BASE DE ALCOÓL ETÍLICO / GALON POR 3.750 MLSUMIMAS S.A.S."},{"$f":"B893&H893","v":"C4S4-04135926.83"},{"$f":"G893","v":"SUMIMAS S.A.S."},"Und",{"$f":"C893&D893&E893&F893&G893","v":"CUATRO (4)CUATRO (4)AGEL ANTIBACTERIAL A BASE DE ALCOÓL ETÍLICO / GALON POR 3.750 MLSUMIMAS S.A.S."},{"$f":"H893","v":35926.83}]
[{"$f":"\"ate01-\"&B894&\" \"&C894&\" \"&D894&\" \"&E894","v":"ate01-C4S4-041 CUATRO (4) CUATRO (4) A"},"C4S4-041","CUATRO (4)","CUATRO (4)","A","GEL ANTIBACTERIAL A BASE DE ALCOÓL ETÍLICO / GALON POR 3.750 ML","UNION TEMPORAL AYGEMA",62338.73,{"$f":"B894&G894","v":"C4S4-041UNION TEMPORAL AYGEMA"},{"$f":"C894&D894&E894&F894","v":"CUATRO (4)CUATRO (4)AGEL ANTIBACTERIAL A BASE DE ALCOÓL ETÍLICO / GALON POR 3.750 ML"},{"$f":"H894","v":62338.73},{"$f":"C894&D894&E894&F894&G894","v":"CUATRO (4)CUATRO (4)AGEL ANTIBACTERIAL A BASE DE ALCOÓL ETÍLICO / GALON POR 3.750 MLUNION TEMPORAL AYGEMA"},{"$f":"B894&H894","v":"C4S4-04162338.73"},{"$f":"G894","v":"UNION TEMPORAL AYGEMA"},"Und",{"$f":"C894&D894&E894&F894&G894","v":"CUATRO (4)CUATRO (4)AGEL ANTIBACTERIAL A BASE DE ALCOÓL ETÍLICO / GALON POR 3.750 MLUNION TEMPORAL AYGEMA"},{"$f":"H894","v":62338.73}]
[{"$f":"\"ate01-\"&B895&\" \"&C895&\" \"&D895&\" \"&E895","v":"ate01-C4S4-041 CUATRO (4) CUATRO (4) A"},"C4S4-041","CUATRO (4)","CUATRO (4)","A","GEL ANTIBACTERIAL A BASE DE ALCOÓL ETÍLICO / GALON POR 3.750 ML","UT SS 2021- CCENEG- 041-01-2021",37831.370000000003,{"$f":"B895&G895","v":"C4S4-041UT SS 2021- CCENEG- 041-01-2021"},{"$f":"C895&D895&E895&F895","v":"CUATRO (4)CUATRO (4)AGEL ANTIBACTERIAL A BASE DE ALCOÓL ETÍLICO / GALON POR 3.750 ML"},{"$f":"H895","v":37831.370000000003},{"$f":"C895&D895&E895&F895&G895","v":"CUATRO (4)CUATRO (4)AGEL ANTIBACTERIAL A BASE DE ALCOÓL ETÍLICO / GALON POR 3.750 MLUT SS 2021- CCENEG- 041-01-2021"},{"$f":"B895&H895","v":"C4S4-04137831.37"},{"$f":"G895","v":"UT SS 2021- CCENEG- 041-01-2021"},"Und",{"$f":"C895&D895&E895&F895&G895","v":"CUATRO (4)CUATRO (4)AGEL ANTIBACTERIAL A BASE DE ALCOÓL ETÍLICO / GALON POR 3.750 MLUT SS 2021- CCENEG- 041-01-2021"},{"$f":"H895","v":37831.370000000003}]
[{"$f":"\"ate01-\"&B896&\" \"&C896&\" \"&D896&\" \"&E896","v":"ate01-C4S4-041 CUATRO (4) CUATRO (4) A"},"C4S4-041","CUATRO (4)","CUATRO (4)","A","GEL ANTIBACTERIAL A BASE DE ALCOÓL ETÍLICO / GALON POR 3.750 ML","COLOMBIANA DE TEXTILES POR MAYOR S.A.",92243.16,{"$f":"B896&G896","v":"C4S4-041COLOMBIANA DE TEXTILES POR MAYOR S.A."},{"$f":"C896&D896&E896&F896","v":"CUATRO (4)CUATRO (4)AGEL ANTIBACTERIAL A BASE DE ALCOÓL ETÍLICO / GALON POR 3.750 ML"},{"$f":"H896","v":92243.16},{"$f":"C896&D896&E896&F896&G896","v":"CUATRO (4)CUATRO (4)AGEL ANTIBACTERIAL A BASE DE ALCOÓL ETÍLICO / GALON POR 3.750 MLCOLOMBIANA DE TEXTILES POR MAYOR S.A."},{"$f":"B896&H896","v":"C4S4-04192243.16"},{"$f":"G896","v":"COLOMBIANA DE TEXTILES POR MAYOR S.A."},"Und",{"$f":"C896&D896&E896&F896&G896","v":"CUATRO (4)CUATRO (4)AGEL ANTIBACTERIAL A BASE DE ALCOÓL ETÍLICO / GALON POR 3.750 MLCOLOMBIANA DE TEXTILES POR MAYOR S.A."},{"$f":"H896","v":92243.16}]
[{"$f":"\"ate01-\"&B897&\" \"&C897&\" \"&D897&\" \"&E897","v":"ate01-C4S4-042 CUATRO (4) CUATRO (4) A"},"C4S4-042","CUATRO (4)","CUATRO (4)","A","GEL ANTIBACTERIAL FRASCO X 500 ML","JM GRUPO",7135.55,{"$f":"B897&G897","v":"C4S4-042JM GRUPO"},{"$f":"C897&D897&E897&F897","v":"CUATRO (4)CUATRO (4)AGEL ANTIBACTERIAL FRASCO X 500 ML"},{"$f":"H897","v":7135.55},{"$f":"C897&D897&E897&F897&G897","v":"CUATRO (4)CUATRO (4)AGEL ANTIBACTERIAL FRASCO X 500 MLJM GRUPO"},{"$f":"B897&H897","v":"C4S4-0427135.55"},{"$f":"G897","v":"JM GRUPO"},"Und",{"$f":"C897&D897&E897&F897&G897","v":"CUATRO (4)CUATRO (4)AGEL ANTIBACTERIAL FRASCO X 500 MLJM GRUPO"},{"$f":"H897","v":7135.55}]
[{"$f":"\"ate01-\"&B898&\" \"&C898&\" \"&D898&\" \"&E898","v":"ate01-C4S4-042 CUATRO (4) CUATRO (4) A"},"C4S4-042","CUATRO (4)","CUATRO (4)","A","GEL ANTIBACTERIAL FRASCO X 500 ML","SUMIMAS S.A.S.",11976.04,{"$f":"B898&G898","v":"C4S4-042SUMIMAS S.A.S."},{"$f":"C898&D898&E898&F898","v":"CUATRO (4)CUATRO (4)AGEL ANTIBACTERIAL FRASCO X 500 ML"},{"$f":"H898","v":11976.04},{"$f":"C898&D898&E898&F898&G898","v":"CUATRO (4)CUATRO (4)AGEL ANTIBACTERIAL FRASCO X 500 MLSUMIMAS S.A.S."},{"$f":"B898&H898","v":"C4S4-04211976.04"},{"$f":"G898","v":"SUMIMAS S.A.S."},"Und",{"$f":"C898&D898&E898&F898&G898","v":"CUATRO (4)CUATRO (4)AGEL ANTIBACTERIAL FRASCO X 500 MLSUMIMAS S.A.S."},{"$f":"H898","v":11976.04}]
[{"$f":"\"ate01-\"&B899&\" \"&C899&\" \"&D899&\" \"&E899","v":"ate01-C4S4-042 CUATRO (4) CUATRO (4) A"},"C4S4-042","CUATRO (4)","CUATRO (4)","A","GEL ANTIBACTERIAL FRASCO X 500 ML","UNION TEMPORAL AYGEMA",16736.099999999999,{"$f":"B899&G899","v":"C4S4-042UNION TEMPORAL AYGEMA"},{"$f":"C899&D899&E899&F899","v":"CUATRO (4)CUATRO (4)AGEL ANTIBACTERIAL FRASCO X 500 ML"},{"$f":"H899","v":16736.099999999999},{"$f":"C899&D899&E899&F899&G899","v":"CUATRO (4)CUATRO (4)AGEL ANTIBACTERIAL FRASCO X 500 MLUNION TEMPORAL AYGEMA"},{"$f":"B899&H899","v":"C4S4-04216736.1"},{"$f":"G899","v":"UNION TEMPORAL AYGEMA"},"Und",{"$f":"C899&D899&E899&F899&G899","v":"CUATRO (4)CUATRO (4)AGEL ANTIBACTERIAL FRASCO X 500 MLUNION TEMPORAL AYGEMA"},{"$f":"H899","v":16736.099999999999}]
[{"$f":"\"ate01-\"&B900&\" \"&C900&\" \"&D900&\" \"&E900","v":"ate01-C4S4-042 CUATRO (4) CUATRO (4) A"},"C4S4-042","CUATRO (4)","CUATRO (4)","A","GEL ANTIBACTERIAL FRASCO X 500 ML","UT SS 2021- CCENEG- 041-01-2021",7504,{"$f":"B900&G900","v":"C4S4-042UT SS 2021- CCENEG- 041-01-2021"},{"$f":"C900&D900&E900&F900","v":"CUATRO (4)CUATRO (4)AGEL ANTIBACTERIAL FRASCO X 500 ML"},{"$f":"H900","v":7504},{"$f":"C900&D900&E900&F900&G900","v":"CUATRO (4)CUATRO (4)AGEL ANTIBACTERIAL FRASCO X 500 MLUT SS 2021- CCENEG- 041-01-2021"},{"$f":"B900&H900","v":"C4S4-0427504"},{"$f":"G900","v":"UT SS 2021- CCENEG- 041-01-2021"},"Und",{"$f":"C900&D900&E900&F900&G900","v":"CUATRO (4)CUATRO (4)AGEL ANTIBACTERIAL FRASCO X 500 MLUT SS 2021- CCENEG- 041-01-2021"},{"$f":"H900","v":7504}]
[{"$f":"\"ate01-\"&B901&\" \"&C901&\" \"&D901&\" \"&E901","v":"ate01-C4S4-042 CUATRO (4) CUATRO (4) A"},"C4S4-042","CUATRO (4)","CUATRO (4)","A","GEL ANTIBACTERIAL FRASCO X 500 ML","COLOMBIANA DE TEXTILES POR MAYOR S.A.",20952.560000000001,{"$f":"B901&G901","v":"C4S4-042COLOMBIANA DE TEXTILES POR MAYOR S.A."},{"$f":"C901&D901&E901&F901","v":"CUATRO (4)CUATRO (4)AGEL ANTIBACTERIAL FRASCO X 500 ML"},{"$f":"H901","v":20952.560000000001},{"$f":"C901&D901&E901&F901&G901","v":"CUATRO (4)CUATRO (4)AGEL ANTIBACTERIAL FRASCO X 500 MLCOLOMBIANA DE TEXTILES POR MAYOR S.A."},{"$f":"B901&H901","v":"C4S4-04220952.56"},{"$f":"G901","v":"COLOMBIANA DE TEXTILES POR MAYOR S.A."},"Und",{"$f":"C901&D901&E901&F901&G901","v":"CUATRO (4)CUATRO (4)AGEL ANTIBACTERIAL FRASCO X 500 MLCOLOMBIANA DE TEXTILES POR MAYOR S.A."},{"$f":"H901","v":20952.560000000001}]
[{"$f":"\"ate01-\"&B902&\" \"&C902&\" \"&D902&\" \"&E902","v":"ate01-C4S4-043 CUATRO (4) CUATRO (4) A"},"C4S4-043","CUATRO (4)","CUATRO (4)","A","GEL ANTIBACTERIAL FRASCO X 1LT","JM GRUPO",11027.66,{"$f":"B902&G902","v":"C4S4-043JM GRUPO"},{"$f":"C902&D902&E902&F902","v":"CUATRO (4)CUATRO (4)AGEL ANTIBACTERIAL FRASCO X 1LT"},{"$f":"H902","v":11027.66},{"$f":"C902&D902&E902&F902&G902","v":"CUATRO (4)CUATRO (4)AGEL ANTIBACTERIAL FRASCO X 1LTJM GRUPO"},{"$f":"B902&H902","v":"C4S4-04311027.66"},{"$f":"G902","v":"JM GRUPO"},"Und",{"$f":"C902&D902&E902&F902&G902","v":"CUATRO (4)CUATRO (4)AGEL ANTIBACTERIAL FRASCO X 1LTJM GRUPO"},{"$f":"H902","v":11027.66}]
[{"$f":"\"ate01-\"&B903&\" \"&C903&\" \"&D903&\" \"&E903","v":"ate01-C4S4-043 CUATRO (4) CUATRO (4) A"},"C4S4-043","CUATRO (4)","CUATRO (4)","A","GEL ANTIBACTERIAL FRASCO X 1LT","SUMIMAS S.A.S.",16965.740000000002,{"$f":"B903&G903","v":"C4S4-043SUMIMAS S.A.S."},{"$f":"C903&D903&E903&F903","v":"CUATRO (4)CUATRO (4)AGEL ANTIBACTERIAL FRASCO X 1LT"},{"$f":"H903","v":16965.740000000002},{"$f":"C903&D903&E903&F903&G903","v":"CUATRO (4)CUATRO (4)AGEL ANTIBACTERIAL FRASCO X 1LTSUMIMAS S.A.S."},{"$f":"B903&H903","v":"C4S4-04316965.74"},{"$f":"G903","v":"SUMIMAS S.A.S."},"Und",{"$f":"C903&D903&E903&F903&G903","v":"CUATRO (4)CUATRO (4)AGEL ANTIBACTERIAL FRASCO X 1LTSUMIMAS S.A.S."},{"$f":"H903","v":16965.740000000002}]
[{"$f":"\"ate01-\"&B904&\" \"&C904&\" \"&D904&\" \"&E904","v":"ate01-C4S4-043 CUATRO (4) CUATRO (4) A"},"C4S4-043","CUATRO (4)","CUATRO (4)","A","GEL ANTIBACTERIAL FRASCO X 1LT","UNION TEMPORAL AYGEMA",32953.25,{"$f":"B904&G904","v":"C4S4-043UNION TEMPORAL AYGEMA"},{"$f":"C904&D904&E904&F904","v":"CUATRO (4)CUATRO (4)AGEL ANTIBACTERIAL FRASCO X 1LT"},{"$f":"H904","v":32953.25},{"$f":"C904&D904&E904&F904&G904","v":"CUATRO (4)CUATRO (4)AGEL ANTIBACTERIAL FRASCO X 1LTUNION TEMPORAL AYGEMA"},{"$f":"B904&H904","v":"C4S4-04332953.25"},{"$f":"G904","v":"UNION TEMPORAL AYGEMA"},"Und",{"$f":"C904&D904&E904&F904&G904","v":"CUATRO (4)CUATRO (4)AGEL ANTIBACTERIAL FRASCO X 1LTUNION TEMPORAL AYGEMA"},{"$f":"H904","v":32953.25}]
[{"$f":"\"ate01-\"&B905&\" \"&C905&\" \"&D905&\" \"&E905","v":"ate01-C4S4-043 CUATRO (4) CUATRO (4) A"},"C4S4-043","CUATRO (4)","CUATRO (4)","A","GEL ANTIBACTERIAL FRASCO X 1LT","UT SS 2021- CCENEG- 041-01-2021",11918.96,{"$f":"B905&G905","v":"C4S4-043UT SS 2021- CCENEG- 041-01-2021"},{"$f":"C905&D905&E905&F905","v":"CUATRO (4)CUATRO (4)AGEL ANTIBACTERIAL FRASCO X 1LT"},{"$f":"H905","v":11918.96},{"$f":"C905&D905&E905&F905&G905","v":"CUATRO (4)CUATRO (4)AGEL ANTIBACTERIAL FRASCO X 1LTUT SS 2021- CCENEG- 041-01-2021"},{"$f":"B905&H905","v":"C4S4-04311918.96"},{"$f":"G905","v":"UT SS 2021- CCENEG- 041-01-2021"},"Und",{"$f":"C905&D905&E905&F905&G905","v":"CUATRO (4)CUATRO (4)AGEL ANTIBACTERIAL FRASCO X 1LTUT SS 2021- CCENEG- 041-01-2021"},{"$f":"H905","v":11918.96}]
[{"$f":"\"ate01-\"&B906&\" \"&C906&\" \"&D906&\" \"&E906","v":"ate01-C4S4-043 CUATRO (4) CUATRO (4) A"},"C4S4-043","CUATRO (4)","CUATRO (4)","A","GEL ANTIBACTERIAL FRASCO X 1LT","COLOMBIANA DE TEXTILES POR MAYOR S.A.",36923.21,{"$f":"B906&G906","v":"C4S4-043COLOMBIANA DE TEXTILES POR MAYOR S.A."},{"$f":"C906&D906&E906&F906","v":"CUATRO (4)CUATRO (4)AGEL ANTIBACTERIAL FRASCO X 1LT"},{"$f":"H906","v":36923.21},{"$f":"C906&D906&E906&F906&G906","v":"CUATRO (4)CUATRO (4)AGEL ANTIBACTERIAL FRASCO X 1LTCOLOMBIANA DE TEXTILES POR MAYOR S.A."},{"$f":"B906&H906","v":"C4S4-04336923.21"},{"$f":"G906","v":"COLOMBIANA DE TEXTILES POR MAYOR S.A."},"Und",{"$f":"C906&D906&E906&F906&G906","v":"CUATRO (4)CUATRO (4)AGEL ANTIBACTERIAL FRASCO X 1LTCOLOMBIANA DE TEXTILES POR MAYOR S.A."},{"$f":"H906","v":36923.21}]
[{"$f":"\"ate01-\"&B907&\" \"&C907&\" \"&D907&\" \"&E907","v":"ate01-C4S4-044 CUATRO (4) CUATRO (4) A"},"C4S4-044","CUATRO (4)","CUATRO (4)","A","GEL ANTIBACTERIAL GALON POR 3.750 ML","JM GRUPO",33731.68,{"$f":"B907&G907","v":"C4S4-044JM GRUPO"},{"$f":"C907&D907&E907&F907","v":"CUATRO (4)CUATRO (4)AGEL ANTIBACTERIAL GALON POR 3.750 ML"},{"$f":"H907","v":33731.68},{"$f":"C907&D907&E907&F907&G907","v":"CUATRO (4)CUATRO (4)AGEL ANTIBACTERIAL GALON POR 3.750 MLJM GRUPO"},{"$f":"B907&H907","v":"C4S4-04433731.68"},{"$f":"G907","v":"JM GRUPO"},"Und",{"$f":"C907&D907&E907&F907&G907","v":"CUATRO (4)CUATRO (4)AGEL ANTIBACTERIAL GALON POR 3.750 MLJM GRUPO"},{"$f":"H907","v":33731.68}]
[{"$f":"\"ate01-\"&B908&\" \"&C908&\" \"&D908&\" \"&E908","v":"ate01-C4S4-044 CUATRO (4) CUATRO (4) A"},"C4S4-044","CUATRO (4)","CUATRO (4)","A","GEL ANTIBACTERIAL GALON POR 3.750 ML","SUMIMAS S.A.S.",35926.83,{"$f":"B908&G908","v":"C4S4-044SUMIMAS S.A.S."},{"$f":"C908&D908&E908&F908","v":"CUATRO (4)CUATRO (4)AGEL ANTIBACTERIAL GALON POR 3.750 ML"},{"$f":"H908","v":35926.83},{"$f":"C908&D908&E908&F908&G908","v":"CUATRO (4)CUATRO (4)AGEL ANTIBACTERIAL GALON POR 3.750 MLSUMIMAS S.A.S."},{"$f":"B908&H908","v":"C4S4-04435926.83"},{"$f":"G908","v":"SUMIMAS S.A.S."},"Und",{"$f":"C908&D908&E908&F908&G908","v":"CUATRO (4)CUATRO (4)AGEL ANTIBACTERIAL GALON POR 3.750 MLSUMIMAS S.A.S."},{"$f":"H908","v":35926.83}]
[{"$f":"\"ate01-\"&B909&\" \"&C909&\" \"&D909&\" \"&E909","v":"ate01-C4S4-044 CUATRO (4) CUATRO (4) A"},"C4S4-044","CUATRO (4)","CUATRO (4)","A","GEL ANTIBACTERIAL GALON POR 3.750 ML","UNION TEMPORAL AYGEMA",62533.34,{"$f":"B909&G909","v":"C4S4-044UNION TEMPORAL AYGEMA"},{"$f":"C909&D909&E909&F909","v":"CUATRO (4)CUATRO (4)AGEL ANTIBACTERIAL GALON POR 3.750 ML"},{"$f":"H909","v":62533.34},{"$f":"C909&D909&E909&F909&G909","v":"CUATRO (4)CUATRO (4)AGEL ANTIBACTERIAL GALON POR 3.750 MLUNION TEMPORAL AYGEMA"},{"$f":"B909&H909","v":"C4S4-04462533.34"},{"$f":"G909","v":"UNION TEMPORAL AYGEMA"},"Und",{"$f":"C909&D909&E909&F909&G909","v":"CUATRO (4)CUATRO (4)AGEL ANTIBACTERIAL GALON POR 3.750 MLUNION TEMPORAL AYGEMA"},{"$f":"H909","v":62533.34}]
[{"$f":"\"ate01-\"&B910&\" \"&C910&\" \"&D910&\" \"&E910","v":"ate01-C4S4-044 CUATRO (4) CUATRO (4) A"},"C4S4-044","CUATRO (4)","CUATRO (4)","A","GEL ANTIBACTERIAL GALON POR 3.750 ML","UT SS 2021- CCENEG- 041-01-2021",37831.370000000003,{"$f":"B910&G910","v":"C4S4-044UT SS 2021- CCENEG- 041-01-2021"},{"$f":"C910&D910&E910&F910","v":"CUATRO (4)CUATRO (4)AGEL ANTIBACTERIAL GALON POR 3.750 ML"},{"$f":"H910","v":37831.370000000003},{"$f":"C910&D910&E910&F910&G910","v":"CUATRO (4)CUATRO (4)AGEL ANTIBACTERIAL GALON POR 3.750 MLUT SS 2021- CCENEG- 041-01-2021"},{"$f":"B910&H910","v":"C4S4-04437831.37"},{"$f":"G910","v":"UT SS 2021- CCENEG- 041-01-2021"},"Und",{"$f":"C910&D910&E910&F910&G910","v":"CUATRO (4)CUATRO (4)AGEL ANTIBACTERIAL GALON POR 3.750 MLUT SS 2021- CCENEG- 041-01-2021"},{"$f":"H910","v":37831.370000000003}]
[{"$f":"\"ate01-\"&B911&\" \"&C911&\" \"&D911&\" \"&E911","v":"ate01-C4S4-044 CUATRO (4) CUATRO (4) A"},"C4S4-044","CUATRO (4)","CUATRO (4)","A","GEL ANTIBACTERIAL GALON POR 3.750 ML","COLOMBIANA DE TEXTILES POR MAYOR S.A.",92243.16,{"$f":"B911&G911","v":"C4S4-044COLOMBIANA DE TEXTILES POR MAYOR S.A."},{"$f":"C911&D911&E911&F911","v":"CUATRO (4)CUATRO (4)AGEL ANTIBACTERIAL GALON POR 3.750 ML"},{"$f":"H911","v":92243.16},{"$f":"C911&D911&E911&F911&G911","v":"CUATRO (4)CUATRO (4)AGEL ANTIBACTERIAL GALON POR 3.750 MLCOLOMBIANA DE TEXTILES POR MAYOR S.A."},{"$f":"B911&H911","v":"C4S4-04492243.16"},{"$f":"G911","v":"COLOMBIANA DE TEXTILES POR MAYOR S.A."},"Und",{"$f":"C911&D911&E911&F911&G911","v":"CUATRO (4)CUATRO (4)AGEL ANTIBACTERIAL GALON POR 3.750 MLCOLOMBIANA DE TEXTILES POR MAYOR S.A."},{"$f":"H911","v":92243.16}]
[{"$f":"\"ate01-\"&B912&\" \"&C912&\" \"&D912&\" \"&E912","v":"ate01-C4S4-045 CUATRO (4) CUATRO (4) A"},"C4S4-045","CUATRO (4)","CUATRO (4)","A","HISOPOS DE ALGODÓN ESTERILES / CAJA POR 500 UNIDADES ","JM GRUPO",233526.99,{"$f":"B912&G912","v":"C4S4-045JM GRUPO"},{"$f":"C912&D912&E912&F912","v":"CUATRO (4)CUATRO (4)AHISOPOS DE ALGODÓN ESTERILES / CAJA POR 500 UNIDADES "},{"$f":"H912","v":233526.99},{"$f":"C912&D912&E912&F912&G912","v":"CUATRO (4)CUATRO (4)AHISOPOS DE ALGODÓN ESTERILES / CAJA POR 500 UNIDADES JM GRUPO"},{"$f":"B912&H912","v":"C4S4-045233526.99"},{"$f":"G912","v":"JM GRUPO"},"Und",{"$f":"C912&D912&E912&F912&G912","v":"CUATRO (4)CUATRO (4)AHISOPOS DE ALGODÓN ESTERILES / CAJA POR 500 UNIDADES JM GRUPO"},{"$f":"H912","v":233526.99}]
[{"$f":"\"ate01-\"&B913&\" \"&C913&\" \"&D913&\" \"&E913","v":"ate01-C4S4-045 CUATRO (4) CUATRO (4) A"},"C4S4-045","CUATRO (4)","CUATRO (4)","A","HISOPOS DE ALGODÓN ESTERILES / CAJA POR 500 UNIDADES ","SUMIMAS S.A.S.",898181.13,{"$f":"B913&G913","v":"C4S4-045SUMIMAS S.A.S."},{"$f":"C913&D913&E913&F913","v":"CUATRO (4)CUATRO (4)AHISOPOS DE ALGODÓN ESTERILES / CAJA POR 500 UNIDADES "},{"$f":"H913","v":898181.13},{"$f":"C913&D913&E913&F913&G913","v":"CUATRO (4)CUATRO (4)AHISOPOS DE ALGODÓN ESTERILES / CAJA POR 500 UNIDADES SUMIMAS S.A.S."},{"$f":"B913&H913","v":"C4S4-045898181.13"},{"$f":"G913","v":"SUMIMAS S.A.S."},"Und",{"$f":"C913&D913&E913&F913&G913","v":"CUATRO (4)CUATRO (4)AHISOPOS DE ALGODÓN ESTERILES / CAJA POR 500 UNIDADES SUMIMAS S.A.S."},{"$f":"H913","v":898181.13}]
[{"$f":"\"ate01-\"&B914&\" \"&C914&\" \"&D914&\" \"&E914","v":"ate01-C4S4-045 CUATRO (4) CUATRO (4) A"},"C4S4-045","CUATRO (4)","CUATRO (4)","A","HISOPOS DE ALGODÓN ESTERILES / CAJA POR 500 UNIDADES ","UNION TEMPORAL AYGEMA",195903.2,{"$f":"B914&G914","v":"C4S4-045UNION TEMPORAL AYGEMA"},{"$f":"C914&D914&E914&F914","v":"CUATRO (4)CUATRO (4)AHISOPOS DE ALGODÓN ESTERILES / CAJA POR 500 UNIDADES "},{"$f":"H914","v":195903.2},{"$f":"C914&D914&E914&F914&G914","v":"CUATRO (4)CUATRO (4)AHISOPOS DE ALGODÓN ESTERILES / CAJA POR 500 UNIDADES UNION TEMPORAL AYGEMA"},{"$f":"B914&H914","v":"C4S4-045195903.2"},{"$f":"G914","v":"UNION TEMPORAL AYGEMA"},"Und",{"$f":"C914&D914&E914&F914&G914","v":"CUATRO (4)CUATRO (4)AHISOPOS DE ALGODÓN ESTERILES / CAJA POR 500 UNIDADES UNION TEMPORAL AYGEMA"},{"$f":"H914","v":195903.2}]
[{"$f":"\"ate01-\"&B915&\" \"&C915&\" \"&D915&\" \"&E915","v":"ate01-C4S4-045 CUATRO (4) CUATRO (4) A"},"C4S4-045","CUATRO (4)","CUATRO (4)","A","HISOPOS DE ALGODÓN ESTERILES / CAJA POR 500 UNIDADES ","UT SS 2021- CCENEG- 041-01-2021",518948.86,{"$f":"B915&G915","v":"C4S4-045UT SS 2021- CCENEG- 041-01-2021"},{"$f":"C915&D915&E915&F915","v":"CUATRO (4)CUATRO (4)AHISOPOS DE ALGODÓN ESTERILES / CAJA POR 500 UNIDADES "},{"$f":"H915","v":518948.86},{"$f":"C915&D915&E915&F915&G915","v":"CUATRO (4)CUATRO (4)AHISOPOS DE ALGODÓN ESTERILES / CAJA POR 500 UNIDADES UT SS 2021- CCENEG- 041-01-2021"},{"$f":"B915&H915","v":"C4S4-045518948.86"},{"$f":"G915","v":"UT SS 2021- CCENEG- 041-01-2021"},"Und",{"$f":"C915&D915&E915&F915&G915","v":"CUATRO (4)CUATRO (4)AHISOPOS DE ALGODÓN ESTERILES / CAJA POR 500 UNIDADES UT SS 2021- CCENEG- 041-01-2021"},{"$f":"H915","v":518948.86}]
[{"$f":"\"ate01-\"&B916&\" \"&C916&\" \"&D916&\" \"&E916","v":"ate01-C4S4-045 CUATRO (4) CUATRO (4) A"},"C4S4-045","CUATRO (4)","CUATRO (4)","A","HISOPOS DE ALGODÓN ESTERILES / CAJA POR 500 UNIDADES ","COLOMBIANA DE TEXTILES POR MAYOR S.A.",231529.04,{"$f":"B916&G916","v":"C4S4-045COLOMBIANA DE TEXTILES POR MAYOR S.A."},{"$f":"C916&D916&E916&F916","v":"CUATRO (4)CUATRO (4)AHISOPOS DE ALGODÓN ESTERILES / CAJA POR 500 UNIDADES "},{"$f":"H916","v":231529.04},{"$f":"C916&D916&E916&F916&G916","v":"CUATRO (4)CUATRO (4)AHISOPOS DE ALGODÓN ESTERILES / CAJA POR 500 UNIDADES COLOMBIANA DE TEXTILES POR MAYOR S.A."},{"$f":"B916&H916","v":"C4S4-045231529.04"},{"$f":"G916","v":"COLOMBIANA DE TEXTILES POR MAYOR S.A."},"Und",{"$f":"C916&D916&E916&F916&G916","v":"CUATRO (4)CUATRO (4)AHISOPOS DE ALGODÓN ESTERILES / CAJA POR 500 UNIDADES COLOMBIANA DE TEXTILES POR MAYOR S.A."},{"$f":"H916","v":231529.04}]
[{"$f":"\"ate01-\"&B917&\" \"&C917&\" \"&D917&\" \"&E917","v":"ate01-C4S4-046 CUATRO (4) CUATRO (4) B"},"C4S4-046","CUATRO (4)","CUATRO (4)","B","BOLSA BIO-PELIGROSA  / PAQUETE POR 50 UNIDADES ","JM GRUPO",13622.41,{"$f":"B917&G917","v":"C4S4-046JM GRUPO"},{"$f":"C917&D917&E917&F917","v":"CUATRO (4)CUATRO (4)BBOLSA BIO-PELIGROSA  / PAQUETE POR 50 UNIDADES "},{"$f":"H917","v":13622.41},{"$f":"C917&D917&E917&F917&G917","v":"CUATRO (4)CUATRO (4)BBOLSA BIO-PELIGROSA  / PAQUETE POR 50 UNIDADES JM GRUPO"},{"$f":"B917&H917","v":"C4S4-04613622.41"},{"$f":"G917","v":"JM GRUPO"},"Und",{"$f":"C917&D917&E917&F917&G917","v":"CUATRO (4)CUATRO (4)BBOLSA BIO-PELIGROSA  / PAQUETE POR 50 UNIDADES JM GRUPO"},{"$f":"H917","v":13622.41}]
[{"$f":"\"ate01-\"&B918&\" \"&C918&\" \"&D918&\" \"&E918","v":"ate01-C4S4-046 CUATRO (4) CUATRO (4) B"},"C4S4-046","CUATRO (4)","CUATRO (4)","B","BOLSA BIO-PELIGROSA  / PAQUETE POR 50 UNIDADES ","SUMIMAS S.A.S.",23752.29,{"$f":"B918&G918","v":"C4S4-046SUMIMAS S.A.S."},{"$f":"C918&D918&E918&F918","v":"CUATRO (4)CUATRO (4)BBOLSA BIO-PELIGROSA  / PAQUETE POR 50 UNIDADES "},{"$f":"H918","v":23752.29},{"$f":"C918&D918&E918&F918&G918","v":"CUATRO (4)CUATRO (4)BBOLSA BIO-PELIGROSA  / PAQUETE POR 50 UNIDADES SUMIMAS S.A.S."},{"$f":"B918&H918","v":"C4S4-04623752.29"},{"$f":"G918","v":"SUMIMAS S.A.S."},"Und",{"$f":"C918&D918&E918&F918&G918","v":"CUATRO (4)CUATRO (4)BBOLSA BIO-PELIGROSA  / PAQUETE POR 50 UNIDADES SUMIMAS S.A.S."},{"$f":"H918","v":23752.29}]
[{"$f":"\"ate01-\"&B919&\" \"&C919&\" \"&D919&\" \"&E919","v":"ate01-C4S4-046 CUATRO (4) CUATRO (4) B"},"C4S4-046","CUATRO (4)","CUATRO (4)","B","BOLSA BIO-PELIGROSA  / PAQUETE POR 50 UNIDADES ","UNION TEMPORAL AYGEMA",20498.48,{"$f":"B919&G919","v":"C4S4-046UNION TEMPORAL AYGEMA"},{"$f":"C919&D919&E919&F919","v":"CUATRO (4)CUATRO (4)BBOLSA BIO-PELIGROSA  / PAQUETE POR 50 UNIDADES "},{"$f":"H919","v":20498.48},{"$f":"C919&D919&E919&F919&G919","v":"CUATRO (4)CUATRO (4)BBOLSA BIO-PELIGROSA  / PAQUETE POR 50 UNIDADES UNION TEMPORAL AYGEMA"},{"$f":"B919&H919","v":"C4S4-04620498.48"},{"$f":"G919","v":"UNION TEMPORAL AYGEMA"},"Und",{"$f":"C919&D919&E919&F919&G919","v":"CUATRO (4)CUATRO (4)BBOLSA BIO-PELIGROSA  / PAQUETE POR 50 UNIDADES UNION TEMPORAL AYGEMA"},{"$f":"H919","v":20498.48}]
[{"$f":"\"ate01-\"&B920&\" \"&C920&\" \"&D920&\" \"&E920","v":"ate01-C4S4-046 CUATRO (4) CUATRO (4) B"},"C4S4-046","CUATRO (4)","CUATRO (4)","B","BOLSA BIO-PELIGROSA  / PAQUETE POR 50 UNIDADES ","PLASTICOS MQ S.A.S.",21406.639999999999,{"$f":"B920&G920","v":"C4S4-046PLASTICOS MQ S.A.S."},{"$f":"C920&D920&E920&F920","v":"CUATRO (4)CUATRO (4)BBOLSA BIO-PELIGROSA  / PAQUETE POR 50 UNIDADES "},{"$f":"H920","v":21406.639999999999},{"$f":"C920&D920&E920&F920&G920","v":"CUATRO (4)CUATRO (4)BBOLSA BIO-PELIGROSA  / PAQUETE POR 50 UNIDADES PLASTICOS MQ S.A.S."},{"$f":"B920&H920","v":"C4S4-04621406.64"},{"$f":"G920","v":"PLASTICOS MQ S.A.S."},"Und",{"$f":"C920&D920&E920&F920&G920","v":"CUATRO (4)CUATRO (4)BBOLSA BIO-PELIGROSA  / PAQUETE POR 50 UNIDADES PLASTICOS MQ S.A.S."},{"$f":"H920","v":21406.639999999999}]
[{"$f":"\"ate01-\"&B921&\" \"&C921&\" \"&D921&\" \"&E921","v":"ate01-C4S4-046 CUATRO (4) CUATRO (4) B"},"C4S4-046","CUATRO (4)","CUATRO (4)","B","BOLSA BIO-PELIGROSA  / PAQUETE POR 50 UNIDADES ","SUPRISA S.A.S.",42456.5,{"$f":"B921&G921","v":"C4S4-046SUPRISA S.A.S."},{"$f":"C921&D921&E921&F921","v":"CUATRO (4)CUATRO (4)BBOLSA BIO-PELIGROSA  / PAQUETE POR 50 UNIDADES "},{"$f":"H921","v":42456.5},{"$f":"C921&D921&E921&F921&G921","v":"CUATRO (4)CUATRO (4)BBOLSA BIO-PELIGROSA  / PAQUETE POR 50 UNIDADES SUPRISA S.A.S."},{"$f":"B921&H921","v":"C4S4-04642456.5"},{"$f":"G921","v":"SUPRISA S.A.S."},"Und",{"$f":"C921&D921&E921&F921&G921","v":"CUATRO (4)CUATRO (4)BBOLSA BIO-PELIGROSA  / PAQUETE POR 50 UNIDADES SUPRISA S.A.S."},{"$f":"H921","v":42456.5}]
[{"$f":"\"ate01-\"&B922&\" \"&C922&\" \"&D922&\" \"&E922","v":"ate01-C4S4-046 CUATRO (4) CUATRO (4) B"},"C4S4-046","CUATRO (4)","CUATRO (4)","B","BOLSA BIO-PELIGROSA  / PAQUETE POR 50 UNIDADES ","MIGUEL ANGEL VALLEJO BURGOS",10244.049999999999,{"$f":"B922&G922","v":"C4S4-046MIGUEL ANGEL VALLEJO BURGOS"},{"$f":"C922&D922&E922&F922","v":"CUATRO (4)CUATRO (4)BBOLSA BIO-PELIGROSA  / PAQUETE POR 50 UNIDADES "},{"$f":"H922","v":10244.049999999999},{"$f":"C922&D922&E922&F922&G922","v":"CUATRO (4)CUATRO (4)BBOLSA BIO-PELIGROSA  / PAQUETE POR 50 UNIDADES MIGUEL ANGEL VALLEJO BURGOS"},{"$f":"B922&H922","v":"C4S4-04610244.05"},{"$f":"G922","v":"MIGUEL ANGEL VALLEJO BURGOS"},"Und",{"$f":"C922&D922&E922&F922&G922","v":"CUATRO (4)CUATRO (4)BBOLSA BIO-PELIGROSA  / PAQUETE POR 50 UNIDADES MIGUEL ANGEL VALLEJO BURGOS"},{"$f":"H922","v":10244.049999999999}]
[{"$f":"\"ate01-\"&B923&\" \"&C923&\" \"&D923&\" \"&E923","v":"ate01-C4S4-047 CUATRO (4) CUATRO (4) B"},"C4S4-047","CUATRO (4)","CUATRO (4)","B","BOLSA POLIETILENO  / PAQUETE POR 50 UNIDADES ","JM GRUPO",13622.41,{"$f":"B923&G923","v":"C4S4-047JM GRUPO"},{"$f":"C923&D923&E923&F923","v":"CUATRO (4)CUATRO (4)BBOLSA POLIETILENO  / PAQUETE POR 50 UNIDADES "},{"$f":"H923","v":13622.41},{"$f":"C923&D923&E923&F923&G923","v":"CUATRO (4)CUATRO (4)BBOLSA POLIETILENO  / PAQUETE POR 50 UNIDADES JM GRUPO"},{"$f":"B923&H923","v":"C4S4-04713622.41"},{"$f":"G923","v":"JM GRUPO"},"Und",{"$f":"C923&D923&E923&F923&G923","v":"CUATRO (4)CUATRO (4)BBOLSA POLIETILENO  / PAQUETE POR 50 UNIDADES JM GRUPO"},{"$f":"H923","v":13622.41}]
[{"$f":"\"ate01-\"&B924&\" \"&C924&\" \"&D924&\" \"&E924","v":"ate01-C4S4-047 CUATRO (4) CUATRO (4) B"},"C4S4-047","CUATRO (4)","CUATRO (4)","B","BOLSA POLIETILENO  / PAQUETE POR 50 UNIDADES ","SUMIMAS S.A.S.",47503.28,{"$f":"B924&G924","v":"C4S4-047SUMIMAS S.A.S."},{"$f":"C924&D924&E924&F924","v":"CUATRO (4)CUATRO (4)BBOLSA POLIETILENO  / PAQUETE POR 50 UNIDADES "},{"$f":"H924","v":47503.28},{"$f":"C924&D924&E924&F924&G924","v":"CUATRO (4)CUATRO (4)BBOLSA POLIETILENO  / PAQUETE POR 50 UNIDADES SUMIMAS S.A.S."},{"$f":"B924&H924","v":"C4S4-04747503.28"},{"$f":"G924","v":"SUMIMAS S.A.S."},"Und",{"$f":"C924&D924&E924&F924&G924","v":"CUATRO (4)CUATRO (4)BBOLSA POLIETILENO  / PAQUETE POR 50 UNIDADES SUMIMAS S.A.S."},{"$f":"H924","v":47503.28}]
[{"$f":"\"ate01-\"&B925&\" \"&C925&\" \"&D925&\" \"&E925","v":"ate01-C4S4-047 CUATRO (4) CUATRO (4) B"},"C4S4-047","CUATRO (4)","CUATRO (4)","B","BOLSA POLIETILENO  / PAQUETE POR 50 UNIDADES ","UNION TEMPORAL AYGEMA",16930.71,{"$f":"B925&G925","v":"C4S4-047UNION TEMPORAL AYGEMA"},{"$f":"C925&D925&E925&F925","v":"CUATRO (4)CUATRO (4)BBOLSA POLIETILENO  / PAQUETE POR 50 UNIDADES "},{"$f":"H925","v":16930.71},{"$f":"C925&D925&E925&F925&G925","v":"CUATRO (4)CUATRO (4)BBOLSA POLIETILENO  / PAQUETE POR 50 UNIDADES UNION TEMPORAL AYGEMA"},{"$f":"B925&H925","v":"C4S4-04716930.71"},{"$f":"G925","v":"UNION TEMPORAL AYGEMA"},"Und",{"$f":"C925&D925&E925&F925&G925","v":"CUATRO (4)CUATRO (4)BBOLSA POLIETILENO  / PAQUETE POR 50 UNIDADES UNION TEMPORAL AYGEMA"},{"$f":"H925","v":16930.71}]
[{"$f":"\"ate01-\"&B926&\" \"&C926&\" \"&D926&\" \"&E926","v":"ate01-C4S4-047 CUATRO (4) CUATRO (4) B"},"C4S4-047","CUATRO (4)","CUATRO (4)","B","BOLSA POLIETILENO  / PAQUETE POR 50 UNIDADES ","PLASTICOS MQ S.A.S.",17514.52,{"$f":"B926&G926","v":"C4S4-047PLASTICOS MQ S.A.S."},{"$f":"C926&D926&E926&F926","v":"CUATRO (4)CUATRO (4)BBOLSA POLIETILENO  / PAQUETE POR 50 UNIDADES "},{"$f":"H926","v":17514.52},{"$f":"C926&D926&E926&F926&G926","v":"CUATRO (4)CUATRO (4)BBOLSA POLIETILENO  / PAQUETE POR 50 UNIDADES PLASTICOS MQ S.A.S."},{"$f":"B926&H926","v":"C4S4-04717514.52"},{"$f":"G926","v":"PLASTICOS MQ S.A.S."},"Und",{"$f":"C926&D926&E926&F926&G926","v":"CUATRO (4)CUATRO (4)BBOLSA POLIETILENO  / PAQUETE POR 50 UNIDADES PLASTICOS MQ S.A.S."},{"$f":"H926","v":17514.52}]
[{"$f":"\"ate01-\"&B927&\" \"&C927&\" \"&D927&\" \"&E927","v":"ate01-C4S4-047 CUATRO (4) CUATRO (4) B"},"C4S4-047","CUATRO (4)","CUATRO (4)","B","BOLSA POLIETILENO  / PAQUETE POR 50 UNIDADES ","SUPRISA S.A.S.",42456.5,{"$f":"B927&G927","v":"C4S4-047SUPRISA S.A.S."},{"$f":"C927&D927&E927&F927","v":"CUATRO (4)CUATRO (4)BBOLSA POLIETILENO  / PAQUETE POR 50 UNIDADES "},{"$f":"H927","v":42456.5},{"$f":"C927&D927&E927&F927&G927","v":"CUATRO (4)CUATRO (4)BBOLSA POLIETILENO  / PAQUETE POR 50 UNIDADES SUPRISA S.A.S."},{"$f":"B927&H927","v":"C4S4-04742456.5"},{"$f":"G927","v":"SUPRISA S.A.S."},"Und",{"$f":"C927&D927&E927&F927&G927","v":"CUATRO (4)CUATRO (4)BBOLSA POLIETILENO  / PAQUETE POR 50 UNIDADES SUPRISA S.A.S."},{"$f":"H927","v":42456.5}]
[{"$f":"\"ate01-\"&B928&\" \"&C928&\" \"&D928&\" \"&E928","v":"ate01-C4S4-047 CUATRO (4) CUATRO (4) B"},"C4S4-047","CUATRO (4)","CUATRO (4)","B","BOLSA POLIETILENO  / PAQUETE POR 50 UNIDADES ","MIGUEL ANGEL VALLEJO BURGOS",4839.2,{"$f":"B928&G928","v":"C4S4-047MIGUEL ANGEL VALLEJO BURGOS"},{"$f":"C928&D928&E928&F928","v":"CUATRO (4)CUATRO (4)BBOLSA POLIETILENO  / PAQUETE POR 50 UNIDADES "},{"$f":"H928","v":4839.2},{"$f":"C928&D928&E928&F928&G928","v":"CUATRO (4)CUATRO (4)BBOLSA POLIETILENO  / PAQUETE POR 50 UNIDADES MIGUEL ANGEL VALLEJO BURGOS"},{"$f":"B928&H928","v":"C4S4-0474839.2"},{"$f":"G928","v":"MIGUEL ANGEL VALLEJO BURGOS"},"Und",{"$f":"C928&D928&E928&F928&G928","v":"CUATRO (4)CUATRO (4)BBOLSA POLIETILENO  / PAQUETE POR 50 UNIDADES MIGUEL ANGEL VALLEJO BURGOS"},{"$f":"H928","v":4839.2}]
[{"$f":"\"ate01-\"&B929&\" \"&C929&\" \"&D929&\" \"&E929","v":"ate01-C4S4-048 CUATRO (4) CUATRO (4) B"},"C4S4-048","CUATRO (4)","CUATRO (4)","B","GUANTES AMARILLOS CALIBRE MÍNIMO DE 18 / UNIDAD DE PAR","JM GRUPO",5059.75,{"$f":"B929&G929","v":"C4S4-048JM GRUPO"},{"$f":"C929&D929&E929&F929","v":"CUATRO (4)CUATRO (4)BGUANTES AMARILLOS CALIBRE MÍNIMO DE 18 / UNIDAD DE PAR"},{"$f":"H929","v":5059.75},{"$f":"C929&D929&E929&F929&G929","v":"CUATRO (4)CUATRO (4)BGUANTES AMARILLOS CALIBRE MÍNIMO DE 18 / UNIDAD DE PARJM GRUPO"},{"$f":"B929&H929","v":"C4S4-0485059.75"},{"$f":"G929","v":"JM GRUPO"},"Und",{"$f":"C929&D929&E929&F929&G929","v":"CUATRO (4)CUATRO (4)BGUANTES AMARILLOS CALIBRE MÍNIMO DE 18 / UNIDAD DE PARJM GRUPO"},{"$f":"H929","v":5059.75}]
[{"$f":"\"ate01-\"&B930&\" \"&C930&\" \"&D930&\" \"&E930","v":"ate01-C4S4-048 CUATRO (4) CUATRO (4) B"},"C4S4-048","CUATRO (4)","CUATRO (4)","B","GUANTES AMARILLOS CALIBRE MÍNIMO DE 18 / UNIDAD DE PAR","SUMIMAS S.A.S.",5189.49,{"$f":"B930&G930","v":"C4S4-048SUMIMAS S.A.S."},{"$f":"C930&D930&E930&F930","v":"CUATRO (4)CUATRO (4)BGUANTES AMARILLOS CALIBRE MÍNIMO DE 18 / UNIDAD DE PAR"},{"$f":"H930","v":5189.49},{"$f":"C930&D930&E930&F930&G930","v":"CUATRO (4)CUATRO (4)BGUANTES AMARILLOS CALIBRE MÍNIMO DE 18 / UNIDAD DE PARSUMIMAS S.A.S."},{"$f":"B930&H930","v":"C4S4-0485189.49"},{"$f":"G930","v":"SUMIMAS S.A.S."},"Und",{"$f":"C930&D930&E930&F930&G930","v":"CUATRO (4)CUATRO (4)BGUANTES AMARILLOS CALIBRE MÍNIMO DE 18 / UNIDAD DE PARSUMIMAS S.A.S."},{"$f":"H930","v":5189.49}]
[{"$f":"\"ate01-\"&B931&\" \"&C931&\" \"&D931&\" \"&E931","v":"ate01-C4S4-048 CUATRO (4) CUATRO (4) B"},"C4S4-048","CUATRO (4)","CUATRO (4)","B","GUANTES AMARILLOS CALIBRE MÍNIMO DE 18 / UNIDAD DE PAR","UNION TEMPORAL AYGEMA",8497.7900000000009,{"$f":"B931&G931","v":"C4S4-048UNION TEMPORAL AYGEMA"},{"$f":"C931&D931&E931&F931","v":"CUATRO (4)CUATRO (4)BGUANTES AMARILLOS CALIBRE MÍNIMO DE 18 / UNIDAD DE PAR"},{"$f":"H931","v":8497.7900000000009},{"$f":"C931&D931&E931&F931&G931","v":"CUATRO (4)CUATRO (4)BGUANTES AMARILLOS CALIBRE MÍNIMO DE 18 / UNIDAD DE PARUNION TEMPORAL AYGEMA"},{"$f":"B931&H931","v":"C4S4-0488497.79"},{"$f":"G931","v":"UNION TEMPORAL AYGEMA"},"Und",{"$f":"C931&D931&E931&F931&G931","v":"CUATRO (4)CUATRO (4)BGUANTES AMARILLOS CALIBRE MÍNIMO DE 18 / UNIDAD DE PARUNION TEMPORAL AYGEMA"},{"$f":"H931","v":8497.7900000000009}]
[{"$f":"\"ate01-\"&B932&\" \"&C932&\" \"&D932&\" \"&E932","v":"ate01-C4S4-048 CUATRO (4) CUATRO (4) B"},"C4S4-048","CUATRO (4)","CUATRO (4)","B","GUANTES AMARILLOS CALIBRE MÍNIMO DE 18 / UNIDAD DE PAR","PLASTICOS MQ S.A.S.",8822.1299999999992,{"$f":"B932&G932","v":"C4S4-048PLASTICOS MQ S.A.S."},{"$f":"C932&D932&E932&F932","v":"CUATRO (4)CUATRO (4)BGUANTES AMARILLOS CALIBRE MÍNIMO DE 18 / UNIDAD DE PAR"},{"$f":"H932","v":8822.1299999999992},{"$f":"C932&D932&E932&F932&G932","v":"CUATRO (4)CUATRO (4)BGUANTES AMARILLOS CALIBRE MÍNIMO DE 18 / UNIDAD DE PARPLASTICOS MQ S.A.S."},{"$f":"B932&H932","v":"C4S4-0488822.13"},{"$f":"G932","v":"PLASTICOS MQ S.A.S."},"Und",{"$f":"C932&D932&E932&F932&G932","v":"CUATRO (4)CUATRO (4)BGUANTES AMARILLOS CALIBRE MÍNIMO DE 18 / UNIDAD DE PARPLASTICOS MQ S.A.S."},{"$f":"H932","v":8822.1299999999992}]
[{"$f":"\"ate01-\"&B933&\" \"&C933&\" \"&D933&\" \"&E933","v":"ate01-C4S4-048 CUATRO (4) CUATRO (4) B"},"C4S4-048","CUATRO (4)","CUATRO (4)","B","GUANTES AMARILLOS CALIBRE MÍNIMO DE 18 / UNIDAD DE PAR","SUPRISA S.A.S.",4631.62,{"$f":"B933&G933","v":"C4S4-048SUPRISA S.A.S."},{"$f":"C933&D933&E933&F933","v":"CUATRO (4)CUATRO (4)BGUANTES AMARILLOS CALIBRE MÍNIMO DE 18 / UNIDAD DE PAR"},{"$f":"H933","v":4631.62},{"$f":"C933&D933&E933&F933&G933","v":"CUATRO (4)CUATRO (4)BGUANTES AMARILLOS CALIBRE MÍNIMO DE 18 / UNIDAD DE PARSUPRISA S.A.S."},{"$f":"B933&H933","v":"C4S4-0484631.62"},{"$f":"G933","v":"SUPRISA S.A.S."},"Und",{"$f":"C933&D933&E933&F933&G933","v":"CUATRO (4)CUATRO (4)BGUANTES AMARILLOS CALIBRE MÍNIMO DE 18 / UNIDAD DE PARSUPRISA S.A.S."},{"$f":"H933","v":4631.62}]
[{"$f":"\"ate01-\"&B934&\" \"&C934&\" \"&D934&\" \"&E934","v":"ate01-C4S4-048 CUATRO (4) CUATRO (4) B"},"C4S4-048","CUATRO (4)","CUATRO (4)","B","GUANTES AMARILLOS CALIBRE MÍNIMO DE 18 / UNIDAD DE PAR","MIGUEL ANGEL VALLEJO BURGOS",2952.82,{"$f":"B934&G934","v":"C4S4-048MIGUEL ANGEL VALLEJO BURGOS"},{"$f":"C934&D934&E934&F934","v":"CUATRO (4)CUATRO (4)BGUANTES AMARILLOS CALIBRE MÍNIMO DE 18 / UNIDAD DE PAR"},{"$f":"H934","v":2952.82},{"$f":"C934&D934&E934&F934&G934","v":"CUATRO (4)CUATRO (4)BGUANTES AMARILLOS CALIBRE MÍNIMO DE 18 / UNIDAD DE PARMIGUEL ANGEL VALLEJO BURGOS"},{"$f":"B934&H934","v":"C4S4-0482952.82"},{"$f":"G934","v":"MIGUEL ANGEL VALLEJO BURGOS"},"Und",{"$f":"C934&D934&E934&F934&G934","v":"CUATRO (4)CUATRO (4)BGUANTES AMARILLOS CALIBRE MÍNIMO DE 18 / UNIDAD DE PARMIGUEL ANGEL VALLEJO BURGOS"},{"$f":"H934","v":2952.82}]
[{"$f":"\"ate01-\"&B935&\" \"&C935&\" \"&D935&\" \"&E935","v":"ate01-C4S4-049 CUATRO (4) CUATRO (4) B"},"C4S4-049","CUATRO (4)","CUATRO (4)","B","GUANTES NEGROS CALIBRE MÍNIMO DE 18 / UNIDAD DE PAR","JM GRUPO",5059.75,{"$f":"B935&G935","v":"C4S4-049JM GRUPO"},{"$f":"C935&D935&E935&F935","v":"CUATRO (4)CUATRO (4)BGUANTES NEGROS CALIBRE MÍNIMO DE 18 / UNIDAD DE PAR"},{"$f":"H935","v":5059.75},{"$f":"C935&D935&E935&F935&G935","v":"CUATRO (4)CUATRO (4)BGUANTES NEGROS CALIBRE MÍNIMO DE 18 / UNIDAD DE PARJM GRUPO"},{"$f":"B935&H935","v":"C4S4-0495059.75"},{"$f":"G935","v":"JM GRUPO"},"Und",{"$f":"C935&D935&E935&F935&G935","v":"CUATRO (4)CUATRO (4)BGUANTES NEGROS CALIBRE MÍNIMO DE 18 / UNIDAD DE PARJM GRUPO"},{"$f":"H935","v":5059.75}]
[{"$f":"\"ate01-\"&B936&\" \"&C936&\" \"&D936&\" \"&E936","v":"ate01-C4S4-049 CUATRO (4) CUATRO (4) B"},"C4S4-049","CUATRO (4)","CUATRO (4)","B","GUANTES NEGROS CALIBRE MÍNIMO DE 18 / UNIDAD DE PAR","SUMIMAS S.A.S.",9181.5,{"$f":"B936&G936","v":"C4S4-049SUMIMAS S.A.S."},{"$f":"C936&D936&E936&F936","v":"CUATRO (4)CUATRO (4)BGUANTES NEGROS CALIBRE MÍNIMO DE 18 / UNIDAD DE PAR"},{"$f":"H936","v":9181.5},{"$f":"C936&D936&E936&F936&G936","v":"CUATRO (4)CUATRO (4)BGUANTES NEGROS CALIBRE MÍNIMO DE 18 / UNIDAD DE PARSUMIMAS S.A.S."},{"$f":"B936&H936","v":"C4S4-0499181.5"},{"$f":"G936","v":"SUMIMAS S.A.S."},"Und",{"$f":"C936&D936&E936&F936&G936","v":"CUATRO (4)CUATRO (4)BGUANTES NEGROS CALIBRE MÍNIMO DE 18 / UNIDAD DE PARSUMIMAS S.A.S."},{"$f":"H936","v":9181.5}]
[{"$f":"\"ate01-\"&B937&\" \"&C937&\" \"&D937&\" \"&E937","v":"ate01-C4S4-049 CUATRO (4) CUATRO (4) B"},"C4S4-049","CUATRO (4)","CUATRO (4)","B","GUANTES NEGROS CALIBRE MÍNIMO DE 18 / UNIDAD DE PAR","UNION TEMPORAL AYGEMA",8303.18,{"$f":"B937&G937","v":"C4S4-049UNION TEMPORAL AYGEMA"},{"$f":"C937&D937&E937&F937","v":"CUATRO (4)CUATRO (4)BGUANTES NEGROS CALIBRE MÍNIMO DE 18 / UNIDAD DE PAR"},{"$f":"H937","v":8303.18},{"$f":"C937&D937&E937&F937&G937","v":"CUATRO (4)CUATRO (4)BGUANTES NEGROS CALIBRE MÍNIMO DE 18 / UNIDAD DE PARUNION TEMPORAL AYGEMA"},{"$f":"B937&H937","v":"C4S4-0498303.18"},{"$f":"G937","v":"UNION TEMPORAL AYGEMA"},"Und",{"$f":"C937&D937&E937&F937&G937","v":"CUATRO (4)CUATRO (4)BGUANTES NEGROS CALIBRE MÍNIMO DE 18 / UNIDAD DE PARUNION TEMPORAL AYGEMA"},{"$f":"H937","v":8303.18}]
[{"$f":"\"ate01-\"&B938&\" \"&C938&\" \"&D938&\" \"&E938","v":"ate01-C4S4-049 CUATRO (4) CUATRO (4) B"},"C4S4-049","CUATRO (4)","CUATRO (4)","B","GUANTES NEGROS CALIBRE MÍNIMO DE 18 / UNIDAD DE PAR","PLASTICOS MQ S.A.S.",8822.1299999999992,{"$f":"B938&G938","v":"C4S4-049PLASTICOS MQ S.A.S."},{"$f":"C938&D938&E938&F938","v":"CUATRO (4)CUATRO (4)BGUANTES NEGROS CALIBRE MÍNIMO DE 18 / UNIDAD DE PAR"},{"$f":"H938","v":8822.1299999999992},{"$f":"C938&D938&E938&F938&G938","v":"CUATRO (4)CUATRO (4)BGUANTES NEGROS CALIBRE MÍNIMO DE 18 / UNIDAD DE PARPLASTICOS MQ S.A.S."},{"$f":"B938&H938","v":"C4S4-0498822.13"},{"$f":"G938","v":"PLASTICOS MQ S.A.S."},"Und",{"$f":"C938&D938&E938&F938&G938","v":"CUATRO (4)CUATRO (4)BGUANTES NEGROS CALIBRE MÍNIMO DE 18 / UNIDAD DE PARPLASTICOS MQ S.A.S."},{"$f":"H938","v":8822.1299999999992}]
[{"$f":"\"ate01-\"&B939&\" \"&C939&\" \"&D939&\" \"&E939","v":"ate01-C4S4-049 CUATRO (4) CUATRO (4) B"},"C4S4-049","CUATRO (4)","CUATRO (4)","B","GUANTES NEGROS CALIBRE MÍNIMO DE 18 / UNIDAD DE PAR","SUPRISA S.A.S.",4631.62,{"$f":"B939&G939","v":"C4S4-049SUPRISA S.A.S."},{"$f":"C939&D939&E939&F939","v":"CUATRO (4)CUATRO (4)BGUANTES NEGROS CALIBRE MÍNIMO DE 18 / UNIDAD DE PAR"},{"$f":"H939","v":4631.62},{"$f":"C939&D939&E939&F939&G939","v":"CUATRO (4)CUATRO (4)BGUANTES NEGROS CALIBRE MÍNIMO DE 18 / UNIDAD DE PARSUPRISA S.A.S."},{"$f":"B939&H939","v":"C4S4-0494631.62"},{"$f":"G939","v":"SUPRISA S.A.S."},"Und",{"$f":"C939&D939&E939&F939&G939","v":"CUATRO (4)CUATRO (4)BGUANTES NEGROS CALIBRE MÍNIMO DE 18 / UNIDAD DE PARSUPRISA S.A.S."},{"$f":"H939","v":4631.62}]
[{"$f":"\"ate01-\"&B940&\" \"&C940&\" \"&D940&\" \"&E940","v":"ate01-C4S4-049 CUATRO (4) CUATRO (4) B"},"C4S4-049","CUATRO (4)","CUATRO (4)","B","GUANTES NEGROS CALIBRE MÍNIMO DE 18 / UNIDAD DE PAR","MIGUEL ANGEL VALLEJO BURGOS",3135.75,{"$f":"B940&G940","v":"C4S4-049MIGUEL ANGEL VALLEJO BURGOS"},{"$f":"C940&D940&E940&F940","v":"CUATRO (4)CUATRO (4)BGUANTES NEGROS CALIBRE MÍNIMO DE 18 / UNIDAD DE PAR"},{"$f":"H940","v":3135.75},{"$f":"C940&D940&E940&F940&G940","v":"CUATRO (4)CUATRO (4)BGUANTES NEGROS CALIBRE MÍNIMO DE 18 / UNIDAD DE PARMIGUEL ANGEL VALLEJO BURGOS"},{"$f":"B940&H940","v":"C4S4-0493135.75"},{"$f":"G940","v":"MIGUEL ANGEL VALLEJO BURGOS"},"Und",{"$f":"C940&D940&E940&F940&G940","v":"CUATRO (4)CUATRO (4)BGUANTES NEGROS CALIBRE MÍNIMO DE 18 / UNIDAD DE PARMIGUEL ANGEL VALLEJO BURGOS"},{"$f":"H940","v":3135.75}]
[{"$f":"\"ate01-\"&B941&\" \"&C941&\" \"&D941&\" \"&E941","v":"ate01-C4S4-050 CUATRO (4) CUATRO (4) B"},"C4S4-050","CUATRO (4)","CUATRO (4)","B","GUANTES NEGROS CALIBRE MÍNIMO DE 25 / UNIDAD DE PAR","JM GRUPO",5059.75,{"$f":"B941&G941","v":"C4S4-050JM GRUPO"},{"$f":"C941&D941&E941&F941","v":"CUATRO (4)CUATRO (4)BGUANTES NEGROS CALIBRE MÍNIMO DE 25 / UNIDAD DE PAR"},{"$f":"H941","v":5059.75},{"$f":"C941&D941&E941&F941&G941","v":"CUATRO (4)CUATRO (4)BGUANTES NEGROS CALIBRE MÍNIMO DE 25 / UNIDAD DE PARJM GRUPO"},{"$f":"B941&H941","v":"C4S4-0505059.75"},{"$f":"G941","v":"JM GRUPO"},"Und",{"$f":"C941&D941&E941&F941&G941","v":"CUATRO (4)CUATRO (4)BGUANTES NEGROS CALIBRE MÍNIMO DE 25 / UNIDAD DE PARJM GRUPO"},{"$f":"H941","v":5059.75}]
[{"$f":"\"ate01-\"&B942&\" \"&C942&\" \"&D942&\" \"&E942","v":"ate01-C4S4-050 CUATRO (4) CUATRO (4) B"},"C4S4-050","CUATRO (4)","CUATRO (4)","B","GUANTES NEGROS CALIBRE MÍNIMO DE 25 / UNIDAD DE PAR","SUMIMAS S.A.S.",4789.8999999999996,{"$f":"B942&G942","v":"C4S4-050SUMIMAS S.A.S."},{"$f":"C942&D942&E942&F942","v":"CUATRO (4)CUATRO (4)BGUANTES NEGROS CALIBRE MÍNIMO DE 25 / UNIDAD DE PAR"},{"$f":"H942","v":4789.8999999999996},{"$f":"C942&D942&E942&F942&G942","v":"CUATRO (4)CUATRO (4)BGUANTES NEGROS CALIBRE MÍNIMO DE 25 / UNIDAD DE PARSUMIMAS S.A.S."},{"$f":"B942&H942","v":"C4S4-0504789.9"},{"$f":"G942","v":"SUMIMAS S.A.S."},"Und",{"$f":"C942&D942&E942&F942&G942","v":"CUATRO (4)CUATRO (4)BGUANTES NEGROS CALIBRE MÍNIMO DE 25 / UNIDAD DE PARSUMIMAS S.A.S."},{"$f":"H942","v":4789.8999999999996}]
[{"$f":"\"ate01-\"&B943&\" \"&C943&\" \"&D943&\" \"&E943","v":"ate01-C4S4-050 CUATRO (4) CUATRO (4) B"},"C4S4-050","CUATRO (4)","CUATRO (4)","B","GUANTES NEGROS CALIBRE MÍNIMO DE 25 / UNIDAD DE PAR","UNION TEMPORAL AYGEMA",9341.08,{"$f":"B943&G943","v":"C4S4-050UNION TEMPORAL AYGEMA"},{"$f":"C943&D943&E943&F943","v":"CUATRO (4)CUATRO (4)BGUANTES NEGROS CALIBRE MÍNIMO DE 25 / UNIDAD DE PAR"},{"$f":"H943","v":9341.08},{"$f":"C943&D943&E943&F943&G943","v":"CUATRO (4)CUATRO (4)BGUANTES NEGROS CALIBRE MÍNIMO DE 25 / UNIDAD DE PARUNION TEMPORAL AYGEMA"},{"$f":"B943&H943","v":"C4S4-0509341.08"},{"$f":"G943","v":"UNION TEMPORAL AYGEMA"},"Und",{"$f":"C943&D943&E943&F943&G943","v":"CUATRO (4)CUATRO (4)BGUANTES NEGROS CALIBRE MÍNIMO DE 25 / UNIDAD DE PARUNION TEMPORAL AYGEMA"},{"$f":"H943","v":9341.08}]
[{"$f":"\"ate01-\"&B944&\" \"&C944&\" \"&D944&\" \"&E944","v":"ate01-C4S4-050 CUATRO (4) CUATRO (4) B"},"C4S4-050","CUATRO (4)","CUATRO (4)","B","GUANTES NEGROS CALIBRE MÍNIMO DE 25 / UNIDAD DE PAR","PLASTICOS MQ S.A.S.",9860.0300000000007,{"$f":"B944&G944","v":"C4S4-050PLASTICOS MQ S.A.S."},{"$f":"C944&D944&E944&F944","v":"CUATRO (4)CUATRO (4)BGUANTES NEGROS CALIBRE MÍNIMO DE 25 / UNIDAD DE PAR"},{"$f":"H944","v":9860.0300000000007},{"$f":"C944&D944&E944&F944&G944","v":"CUATRO (4)CUATRO (4)BGUANTES NEGROS CALIBRE MÍNIMO DE 25 / UNIDAD DE PARPLASTICOS MQ S.A.S."},{"$f":"B944&H944","v":"C4S4-0509860.03"},{"$f":"G944","v":"PLASTICOS MQ S.A.S."},"Und",{"$f":"C944&D944&E944&F944&G944","v":"CUATRO (4)CUATRO (4)BGUANTES NEGROS CALIBRE MÍNIMO DE 25 / UNIDAD DE PARPLASTICOS MQ S.A.S."},{"$f":"H944","v":9860.0300000000007}]
[{"$f":"\"ate01-\"&B945&\" \"&C945&\" \"&D945&\" \"&E945","v":"ate01-C4S4-050 CUATRO (4) CUATRO (4) B"},"C4S4-050","CUATRO (4)","CUATRO (4)","B","GUANTES NEGROS CALIBRE MÍNIMO DE 25 / UNIDAD DE PAR","SUPRISA S.A.S.",4940.3900000000003,{"$f":"B945&G945","v":"C4S4-050SUPRISA S.A.S."},{"$f":"C945&D945&E945&F945","v":"CUATRO (4)CUATRO (4)BGUANTES NEGROS CALIBRE MÍNIMO DE 25 / UNIDAD DE PAR"},{"$f":"H945","v":4940.3900000000003},{"$f":"C945&D945&E945&F945&G945","v":"CUATRO (4)CUATRO (4)BGUANTES NEGROS CALIBRE MÍNIMO DE 25 / UNIDAD DE PARSUPRISA S.A.S."},{"$f":"B945&H945","v":"C4S4-0504940.39"},{"$f":"G945","v":"SUPRISA S.A.S."},"Und",{"$f":"C945&D945&E945&F945&G945","v":"CUATRO (4)CUATRO (4)BGUANTES NEGROS CALIBRE MÍNIMO DE 25 / UNIDAD DE PARSUPRISA S.A.S."},{"$f":"H945","v":4940.3900000000003}]
[{"$f":"\"ate01-\"&B946&\" \"&C946&\" \"&D946&\" \"&E946","v":"ate01-C4S4-050 CUATRO (4) CUATRO (4) B"},"C4S4-050","CUATRO (4)","CUATRO (4)","B","GUANTES NEGROS CALIBRE MÍNIMO DE 25 / UNIDAD DE PAR","MIGUEL ANGEL VALLEJO BURGOS",3566.48,{"$f":"B946&G946","v":"C4S4-050MIGUEL ANGEL VALLEJO BURGOS"},{"$f":"C946&D946&E946&F946","v":"CUATRO (4)CUATRO (4)BGUANTES NEGROS CALIBRE MÍNIMO DE 25 / UNIDAD DE PAR"},{"$f":"H946","v":3566.48},{"$f":"C946&D946&E946&F946&G946","v":"CUATRO (4)CUATRO (4)BGUANTES NEGROS CALIBRE MÍNIMO DE 25 / UNIDAD DE PARMIGUEL ANGEL VALLEJO BURGOS"},{"$f":"B946&H946","v":"C4S4-0503566.48"},{"$f":"G946","v":"MIGUEL ANGEL VALLEJO BURGOS"},"Und",{"$f":"C946&D946&E946&F946&G946","v":"CUATRO (4)CUATRO (4)BGUANTES NEGROS CALIBRE MÍNIMO DE 25 / UNIDAD DE PARMIGUEL ANGEL VALLEJO BURGOS"},{"$f":"H946","v":3566.48}]
[{"$f":"\"ate01-\"&B947&\" \"&C947&\" \"&D947&\" \"&E947","v":"ate01-C4S4-051 CUATRO (4) CUATRO (4) B"},"C4S4-051","CUATRO (4)","CUATRO (4)","B","GUANTES ROJOS CALIBRE MÍNIMO DE 25 / UNIDAD DE PAR","JM GRUPO",6486.86,{"$f":"B947&G947","v":"C4S4-051JM GRUPO"},{"$f":"C947&D947&E947&F947","v":"CUATRO (4)CUATRO (4)BGUANTES ROJOS CALIBRE MÍNIMO DE 25 / UNIDAD DE PAR"},{"$f":"H947","v":6486.86},{"$f":"C947&D947&E947&F947&G947","v":"CUATRO (4)CUATRO (4)BGUANTES ROJOS CALIBRE MÍNIMO DE 25 / UNIDAD DE PARJM GRUPO"},{"$f":"B947&H947","v":"C4S4-0516486.86"},{"$f":"G947","v":"JM GRUPO"},"Und",{"$f":"C947&D947&E947&F947&G947","v":"CUATRO (4)CUATRO (4)BGUANTES ROJOS CALIBRE MÍNIMO DE 25 / UNIDAD DE PARJM GRUPO"},{"$f":"H947","v":6486.86}]
[{"$f":"\"ate01-\"&B948&\" \"&C948&\" \"&D948&\" \"&E948","v":"ate01-C4S4-051 CUATRO (4) CUATRO (4) B"},"C4S4-051","CUATRO (4)","CUATRO (4)","B","GUANTES ROJOS CALIBRE MÍNIMO DE 25 / UNIDAD DE PAR","SUMIMAS S.A.S.",4789.8999999999996,{"$f":"B948&G948","v":"C4S4-051SUMIMAS S.A.S."},{"$f":"C948&D948&E948&F948","v":"CUATRO (4)CUATRO (4)BGUANTES ROJOS CALIBRE MÍNIMO DE 25 / UNIDAD DE PAR"},{"$f":"H948","v":4789.8999999999996},{"$f":"C948&D948&E948&F948&G948","v":"CUATRO (4)CUATRO (4)BGUANTES ROJOS CALIBRE MÍNIMO DE 25 / UNIDAD DE PARSUMIMAS S.A.S."},{"$f":"B948&H948","v":"C4S4-0514789.9"},{"$f":"G948","v":"SUMIMAS S.A.S."},"Und",{"$f":"C948&D948&E948&F948&G948","v":"CUATRO (4)CUATRO (4)BGUANTES ROJOS CALIBRE MÍNIMO DE 25 / UNIDAD DE PARSUMIMAS S.A.S."},{"$f":"H948","v":4789.8999999999996}]
[{"$f":"\"ate01-\"&B949&\" \"&C949&\" \"&D949&\" \"&E949","v":"ate01-C4S4-051 CUATRO (4) CUATRO (4) B"},"C4S4-051","CUATRO (4)","CUATRO (4)","B","GUANTES ROJOS CALIBRE MÍNIMO DE 25 / UNIDAD DE PAR","UNION TEMPORAL AYGEMA",9470.82,{"$f":"B949&G949","v":"C4S4-051UNION TEMPORAL AYGEMA"},{"$f":"C949&D949&E949&F949","v":"CUATRO (4)CUATRO (4)BGUANTES ROJOS CALIBRE MÍNIMO DE 25 / UNIDAD DE PAR"},{"$f":"H949","v":9470.82},{"$f":"C949&D949&E949&F949&G949","v":"CUATRO (4)CUATRO (4)BGUANTES ROJOS CALIBRE MÍNIMO DE 25 / UNIDAD DE PARUNION TEMPORAL AYGEMA"},{"$f":"B949&H949","v":"C4S4-0519470.82"},{"$f":"G949","v":"UNION TEMPORAL AYGEMA"},"Und",{"$f":"C949&D949&E949&F949&G949","v":"CUATRO (4)CUATRO (4)BGUANTES ROJOS CALIBRE MÍNIMO DE 25 / UNIDAD DE PARUNION TEMPORAL AYGEMA"},{"$f":"H949","v":9470.82}]
[{"$f":"\"ate01-\"&B950&\" \"&C950&\" \"&D950&\" \"&E950","v":"ate01-C4S4-051 CUATRO (4) CUATRO (4) B"},"C4S4-051","CUATRO (4)","CUATRO (4)","B","GUANTES ROJOS CALIBRE MÍNIMO DE 25 / UNIDAD DE PAR","PLASTICOS MQ S.A.S.",9860.0300000000007,{"$f":"B950&G950","v":"C4S4-051PLASTICOS MQ S.A.S."},{"$f":"C950&D950&E950&F950","v":"CUATRO (4)CUATRO (4)BGUANTES ROJOS CALIBRE MÍNIMO DE 25 / UNIDAD DE PAR"},{"$f":"H950","v":9860.0300000000007},{"$f":"C950&D950&E950&F950&G950","v":"CUATRO (4)CUATRO (4)BGUANTES ROJOS CALIBRE MÍNIMO DE 25 / UNIDAD DE PARPLASTICOS MQ S.A.S."},{"$f":"B950&H950","v":"C4S4-0519860.03"},{"$f":"G950","v":"PLASTICOS MQ S.A.S."},"Und",{"$f":"C950&D950&E950&F950&G950","v":"CUATRO (4)CUATRO (4)BGUANTES ROJOS CALIBRE MÍNIMO DE 25 / UNIDAD DE PARPLASTICOS MQ S.A.S."},{"$f":"H950","v":9860.0300000000007}]
[{"$f":"\"ate01-\"&B951&\" \"&C951&\" \"&D951&\" \"&E951","v":"ate01-C4S4-051 CUATRO (4) CUATRO (4) B"},"C4S4-051","CUATRO (4)","CUATRO (4)","B","GUANTES ROJOS CALIBRE MÍNIMO DE 25 / UNIDAD DE PAR","SUPRISA S.A.S.",5407.45,{"$f":"B951&G951","v":"C4S4-051SUPRISA S.A.S."},{"$f":"C951&D951&E951&F951","v":"CUATRO (4)CUATRO (4)BGUANTES ROJOS CALIBRE MÍNIMO DE 25 / UNIDAD DE PAR"},{"$f":"H951","v":5407.45},{"$f":"C951&D951&E951&F951&G951","v":"CUATRO (4)CUATRO (4)BGUANTES ROJOS CALIBRE MÍNIMO DE 25 / UNIDAD DE PARSUPRISA S.A.S."},{"$f":"B951&H951","v":"C4S4-0515407.45"},{"$f":"G951","v":"SUPRISA S.A.S."},"Und",{"$f":"C951&D951&E951&F951&G951","v":"CUATRO (4)CUATRO (4)BGUANTES ROJOS CALIBRE MÍNIMO DE 25 / UNIDAD DE PARSUPRISA S.A.S."},{"$f":"H951","v":5407.45}]
[{"$f":"\"ate01-\"&B952&\" \"&C952&\" \"&D952&\" \"&E952","v":"ate01-C4S4-051 CUATRO (4) CUATRO (4) B"},"C4S4-051","CUATRO (4)","CUATRO (4)","B","GUANTES ROJOS CALIBRE MÍNIMO DE 25 / UNIDAD DE PAR","MIGUEL ANGEL VALLEJO BURGOS",3924.55,{"$f":"B952&G952","v":"C4S4-051MIGUEL ANGEL VALLEJO BURGOS"},{"$f":"C952&D952&E952&F952","v":"CUATRO (4)CUATRO (4)BGUANTES ROJOS CALIBRE MÍNIMO DE 25 / UNIDAD DE PAR"},{"$f":"H952","v":3924.55},{"$f":"C952&D952&E952&F952&G952","v":"CUATRO (4)CUATRO (4)BGUANTES ROJOS CALIBRE MÍNIMO DE 25 / UNIDAD DE PARMIGUEL ANGEL VALLEJO BURGOS"},{"$f":"B952&H952","v":"C4S4-0513924.55"},{"$f":"G952","v":"MIGUEL ANGEL VALLEJO BURGOS"},"Und",{"$f":"C952&D952&E952&F952&G952","v":"CUATRO (4)CUATRO (4)BGUANTES ROJOS CALIBRE MÍNIMO DE 25 / UNIDAD DE PARMIGUEL ANGEL VALLEJO BURGOS"},{"$f":"H952","v":3924.55}]
[{"$f":"\"ate01-\"&B953&\" \"&C953&\" \"&D953&\" \"&E953","v":"ate01-C4S4-052 CUATRO (4) CUATRO (4) B"},"C4S4-052","CUATRO (4)","CUATRO (4)","B","GUANTES NEGROS CALIBRE MÍNIMO DE 35 / UNIDAD DE PAR","JM GRUPO",6486.86,{"$f":"B953&G953","v":"C4S4-052JM GRUPO"},{"$f":"C953&D953&E953&F953","v":"CUATRO (4)CUATRO (4)BGUANTES NEGROS CALIBRE MÍNIMO DE 35 / UNIDAD DE PAR"},{"$f":"H953","v":6486.86},{"$f":"C953&D953&E953&F953&G953","v":"CUATRO (4)CUATRO (4)BGUANTES NEGROS CALIBRE MÍNIMO DE 35 / UNIDAD DE PARJM GRUPO"},{"$f":"B953&H953","v":"C4S4-0526486.86"},{"$f":"G953","v":"JM GRUPO"},"Und",{"$f":"C953&D953&E953&F953&G953","v":"CUATRO (4)CUATRO (4)BGUANTES NEGROS CALIBRE MÍNIMO DE 35 / UNIDAD DE PARJM GRUPO"},{"$f":"H953","v":6486.86}]
[{"$f":"\"ate01-\"&B954&\" \"&C954&\" \"&D954&\" \"&E954","v":"ate01-C4S4-052 CUATRO (4) CUATRO (4) B"},"C4S4-052","CUATRO (4)","CUATRO (4)","B","GUANTES NEGROS CALIBRE MÍNIMO DE 35 / UNIDAD DE PAR","SUMIMAS S.A.S.",6187.17,{"$f":"B954&G954","v":"C4S4-052SUMIMAS S.A.S."},{"$f":"C954&D954&E954&F954","v":"CUATRO (4)CUATRO (4)BGUANTES NEGROS CALIBRE MÍNIMO DE 35 / UNIDAD DE PAR"},{"$f":"H954","v":6187.17},{"$f":"C954&D954&E954&F954&G954","v":"CUATRO (4)CUATRO (4)BGUANTES NEGROS CALIBRE MÍNIMO DE 35 / UNIDAD DE PARSUMIMAS S.A.S."},{"$f":"B954&H954","v":"C4S4-0526187.17"},{"$f":"G954","v":"SUMIMAS S.A.S."},"Und",{"$f":"C954&D954&E954&F954&G954","v":"CUATRO (4)CUATRO (4)BGUANTES NEGROS CALIBRE MÍNIMO DE 35 / UNIDAD DE PARSUMIMAS S.A.S."},{"$f":"H954","v":6187.17}]
[{"$f":"\"ate01-\"&B955&\" \"&C955&\" \"&D955&\" \"&E955","v":"ate01-C4S4-052 CUATRO (4) CUATRO (4) B"},"C4S4-052","CUATRO (4)","CUATRO (4)","B","GUANTES NEGROS CALIBRE MÍNIMO DE 35 / UNIDAD DE PAR","UNION TEMPORAL AYGEMA",10833.06,{"$f":"B955&G955","v":"C4S4-052UNION TEMPORAL AYGEMA"},{"$f":"C955&D955&E955&F955","v":"CUATRO (4)CUATRO (4)BGUANTES NEGROS CALIBRE MÍNIMO DE 35 / UNIDAD DE PAR"},{"$f":"H955","v":10833.06},{"$f":"C955&D955&E955&F955&G955","v":"CUATRO (4)CUATRO (4)BGUANTES NEGROS CALIBRE MÍNIMO DE 35 / UNIDAD DE PARUNION TEMPORAL AYGEMA"},{"$f":"B955&H955","v":"C4S4-05210833.06"},{"$f":"G955","v":"UNION TEMPORAL AYGEMA"},"Und",{"$f":"C955&D955&E955&F955&G955","v":"CUATRO (4)CUATRO (4)BGUANTES NEGROS CALIBRE MÍNIMO DE 35 / UNIDAD DE PARUNION TEMPORAL AYGEMA"},{"$f":"H955","v":10833.06}]
[{"$f":"\"ate01-\"&B956&\" \"&C956&\" \"&D956&\" \"&E956","v":"ate01-C4S4-052 CUATRO (4) CUATRO (4) B"},"C4S4-052","CUATRO (4)","CUATRO (4)","B","GUANTES NEGROS CALIBRE MÍNIMO DE 35 / UNIDAD DE PAR","PLASTICOS MQ S.A.S.",11416.88,{"$f":"B956&G956","v":"C4S4-052PLASTICOS MQ S.A.S."},{"$f":"C956&D956&E956&F956","v":"CUATRO (4)CUATRO (4)BGUANTES NEGROS CALIBRE MÍNIMO DE 35 / UNIDAD DE PAR"},{"$f":"H956","v":11416.88},{"$f":"C956&D956&E956&F956&G956","v":"CUATRO (4)CUATRO (4)BGUANTES NEGROS CALIBRE MÍNIMO DE 35 / UNIDAD DE PARPLASTICOS MQ S.A.S."},{"$f":"B956&H956","v":"C4S4-05211416.88"},{"$f":"G956","v":"PLASTICOS MQ S.A.S."},"Und",{"$f":"C956&D956&E956&F956&G956","v":"CUATRO (4)CUATRO (4)BGUANTES NEGROS CALIBRE MÍNIMO DE 35 / UNIDAD DE PARPLASTICOS MQ S.A.S."},{"$f":"H956","v":11416.88}]
[{"$f":"\"ate01-\"&B957&\" \"&C957&\" \"&D957&\" \"&E957","v":"ate01-C4S4-052 CUATRO (4) CUATRO (4) B"},"C4S4-052","CUATRO (4)","CUATRO (4)","B","GUANTES NEGROS CALIBRE MÍNIMO DE 35 / UNIDAD DE PAR","SUPRISA S.A.S.",5249.17,{"$f":"B957&G957","v":"C4S4-052SUPRISA S.A.S."},{"$f":"C957&D957&E957&F957","v":"CUATRO (4)CUATRO (4)BGUANTES NEGROS CALIBRE MÍNIMO DE 35 / UNIDAD DE PAR"},{"$f":"H957","v":5249.17},{"$f":"C957&D957&E957&F957&G957","v":"CUATRO (4)CUATRO (4)BGUANTES NEGROS CALIBRE MÍNIMO DE 35 / UNIDAD DE PARSUPRISA S.A.S."},{"$f":"B957&H957","v":"C4S4-0525249.17"},{"$f":"G957","v":"SUPRISA S.A.S."},"Und",{"$f":"C957&D957&E957&F957&G957","v":"CUATRO (4)CUATRO (4)BGUANTES NEGROS CALIBRE MÍNIMO DE 35 / UNIDAD DE PARSUPRISA S.A.S."},{"$f":"H957","v":5249.17}]
[{"$f":"\"ate01-\"&B958&\" \"&C958&\" \"&D958&\" \"&E958","v":"ate01-C4S4-052 CUATRO (4) CUATRO (4) B"},"C4S4-052","CUATRO (4)","CUATRO (4)","B","GUANTES NEGROS CALIBRE MÍNIMO DE 35 / UNIDAD DE PAR","MIGUEL ANGEL VALLEJO BURGOS",3977.74,{"$f":"B958&G958","v":"C4S4-052MIGUEL ANGEL VALLEJO BURGOS"},{"$f":"C958&D958&E958&F958","v":"CUATRO (4)CUATRO (4)BGUANTES NEGROS CALIBRE MÍNIMO DE 35 / UNIDAD DE PAR"},{"$f":"H958","v":3977.74},{"$f":"C958&D958&E958&F958&G958","v":"CUATRO (4)CUATRO (4)BGUANTES NEGROS CALIBRE MÍNIMO DE 35 / UNIDAD DE PARMIGUEL ANGEL VALLEJO BURGOS"},{"$f":"B958&H958","v":"C4S4-0523977.74"},{"$f":"G958","v":"MIGUEL ANGEL VALLEJO BURGOS"},"Und",{"$f":"C958&D958&E958&F958&G958","v":"CUATRO (4)CUATRO (4)BGUANTES NEGROS CALIBRE MÍNIMO DE 35 / UNIDAD DE PARMIGUEL ANGEL VALLEJO BURGOS"},{"$f":"H958","v":3977.74}]
[{"$f":"\"ate01-\"&B959&\" \"&C959&\" \"&D959&\" \"&E959","v":"ate01-C4S4-053 CUATRO (4) CUATRO (4) B"},"C4S4-053","CUATRO (4)","CUATRO (4)","B","GUANTES EN LATEX DESECHABLE / CAJA DE 100 UNIDADES","JM GRUPO",76544.960000000006,{"$f":"B959&G959","v":"C4S4-053JM GRUPO"},{"$f":"C959&D959&E959&F959","v":"CUATRO (4)CUATRO (4)BGUANTES EN LATEX DESECHABLE / CAJA DE 100 UNIDADES"},{"$f":"H959","v":76544.960000000006},{"$f":"C959&D959&E959&F959&G959","v":"CUATRO (4)CUATRO (4)BGUANTES EN LATEX DESECHABLE / CAJA DE 100 UNIDADESJM GRUPO"},{"$f":"B959&H959","v":"C4S4-05376544.96"},{"$f":"G959","v":"JM GRUPO"},"Und",{"$f":"C959&D959&E959&F959&G959","v":"CUATRO (4)CUATRO (4)BGUANTES EN LATEX DESECHABLE / CAJA DE 100 UNIDADESJM GRUPO"},{"$f":"H959","v":76544.960000000006}]
[{"$f":"\"ate01-\"&B960&\" \"&C960&\" \"&D960&\" \"&E960","v":"ate01-C4S4-053 CUATRO (4) CUATRO (4) B"},"C4S4-053","CUATRO (4)","CUATRO (4)","B","GUANTES EN LATEX DESECHABLE / CAJA DE 100 UNIDADES","SUMIMAS S.A.S.",83829.7,{"$f":"B960&G960","v":"C4S4-053SUMIMAS S.A.S."},{"$f":"C960&D960&E960&F960","v":"CUATRO (4)CUATRO (4)BGUANTES EN LATEX DESECHABLE / CAJA DE 100 UNIDADES"},{"$f":"H960","v":83829.7},{"$f":"C960&D960&E960&F960&G960","v":"CUATRO (4)CUATRO (4)BGUANTES EN LATEX DESECHABLE / CAJA DE 100 UNIDADESSUMIMAS S.A.S."},{"$f":"B960&H960","v":"C4S4-05383829.7"},{"$f":"G960","v":"SUMIMAS S.A.S."},"Und",{"$f":"C960&D960&E960&F960&G960","v":"CUATRO (4)CUATRO (4)BGUANTES EN LATEX DESECHABLE / CAJA DE 100 UNIDADESSUMIMAS S.A.S."},{"$f":"H960","v":83829.7}]
[{"$f":"\"ate01-\"&B961&\" \"&C961&\" \"&D961&\" \"&E961","v":"ate01-C4S4-053 CUATRO (4) CUATRO (4) B"},"C4S4-053","CUATRO (4)","CUATRO (4)","B","GUANTES EN LATEX DESECHABLE / CAJA DE 100 UNIDADES","UNION TEMPORAL AYGEMA",72782.58,{"$f":"B961&G961","v":"C4S4-053UNION TEMPORAL AYGEMA"},{"$f":"C961&D961&E961&F961","v":"CUATRO (4)CUATRO (4)BGUANTES EN LATEX DESECHABLE / CAJA DE 100 UNIDADES"},{"$f":"H961","v":72782.58},{"$f":"C961&D961&E961&F961&G961","v":"CUATRO (4)CUATRO (4)BGUANTES EN LATEX DESECHABLE / CAJA DE 100 UNIDADESUNION TEMPORAL AYGEMA"},{"$f":"B961&H961","v":"C4S4-05372782.58"},{"$f":"G961","v":"UNION TEMPORAL AYGEMA"},"Und",{"$f":"C961&D961&E961&F961&G961","v":"CUATRO (4)CUATRO (4)BGUANTES EN LATEX DESECHABLE / CAJA DE 100 UNIDADESUNION TEMPORAL AYGEMA"},{"$f":"H961","v":72782.58}]
[{"$f":"\"ate01-\"&B962&\" \"&C962&\" \"&D962&\" \"&E962","v":"ate01-C4S4-053 CUATRO (4) CUATRO (4) B"},"C4S4-053","CUATRO (4)","CUATRO (4)","B","GUANTES EN LATEX DESECHABLE / CAJA DE 100 UNIDADES","PLASTICOS MQ S.A.S.",73950.210000000006,{"$f":"B962&G962","v":"C4S4-053PLASTICOS MQ S.A.S."},{"$f":"C962&D962&E962&F962","v":"CUATRO (4)CUATRO (4)BGUANTES EN LATEX DESECHABLE / CAJA DE 100 UNIDADES"},{"$f":"H962","v":73950.210000000006},{"$f":"C962&D962&E962&F962&G962","v":"CUATRO (4)CUATRO (4)BGUANTES EN LATEX DESECHABLE / CAJA DE 100 UNIDADESPLASTICOS MQ S.A.S."},{"$f":"B962&H962","v":"C4S4-05373950.21"},{"$f":"G962","v":"PLASTICOS MQ S.A.S."},"Und",{"$f":"C962&D962&E962&F962&G962","v":"CUATRO (4)CUATRO (4)BGUANTES EN LATEX DESECHABLE / CAJA DE 100 UNIDADESPLASTICOS MQ S.A.S."},{"$f":"H962","v":73950.210000000006}]
[{"$f":"\"ate01-\"&B963&\" \"&C963&\" \"&D963&\" \"&E963","v":"ate01-C4S4-053 CUATRO (4) CUATRO (4) B"},"C4S4-053","CUATRO (4)","CUATRO (4)","B","GUANTES EN LATEX DESECHABLE / CAJA DE 100 UNIDADES","SUPRISA S.A.S.",58381.75,{"$f":"B963&G963","v":"C4S4-053SUPRISA S.A.S."},{"$f":"C963&D963&E963&F963","v":"CUATRO (4)CUATRO (4)BGUANTES EN LATEX DESECHABLE / CAJA DE 100 UNIDADES"},{"$f":"H963","v":58381.75},{"$f":"C963&D963&E963&F963&G963","v":"CUATRO (4)CUATRO (4)BGUANTES EN LATEX DESECHABLE / CAJA DE 100 UNIDADESSUPRISA S.A.S."},{"$f":"B963&H963","v":"C4S4-05358381.75"},{"$f":"G963","v":"SUPRISA S.A.S."},"Und",{"$f":"C963&D963&E963&F963&G963","v":"CUATRO (4)CUATRO (4)BGUANTES EN LATEX DESECHABLE / CAJA DE 100 UNIDADESSUPRISA S.A.S."},{"$f":"H963","v":58381.75}]
[{"$f":"\"ate01-\"&B964&\" \"&C964&\" \"&D964&\" \"&E964","v":"ate01-C4S4-053 CUATRO (4) CUATRO (4) B"},"C4S4-053","CUATRO (4)","CUATRO (4)","B","GUANTES EN LATEX DESECHABLE / CAJA DE 100 UNIDADES","MIGUEL ANGEL VALLEJO BURGOS",67463.350000000006,{"$f":"B964&G964","v":"C4S4-053MIGUEL ANGEL VALLEJO BURGOS"},{"$f":"C964&D964&E964&F964","v":"CUATRO (4)CUATRO (4)BGUANTES EN LATEX DESECHABLE / CAJA DE 100 UNIDADES"},{"$f":"H964","v":67463.350000000006},{"$f":"C964&D964&E964&F964&G964","v":"CUATRO (4)CUATRO (4)BGUANTES EN LATEX DESECHABLE / CAJA DE 100 UNIDADESMIGUEL ANGEL VALLEJO BURGOS"},{"$f":"B964&H964","v":"C4S4-05367463.35"},{"$f":"G964","v":"MIGUEL ANGEL VALLEJO BURGOS"},"Und",{"$f":"C964&D964&E964&F964&G964","v":"CUATRO (4)CUATRO (4)BGUANTES EN LATEX DESECHABLE / CAJA DE 100 UNIDADESMIGUEL ANGEL VALLEJO BURGOS"},{"$f":"H964","v":67463.350000000006}]
[{"$f":"\"ate01-\"&B965&\" \"&C965&\" \"&D965&\" \"&E965","v":"ate01-C4S4-054 CUATRO (4) CUATRO (4) B"},"C4S4-054","CUATRO (4)","CUATRO (4)","B","GUANTES EN HILAZA  / UNIDAD DE PAR","JM GRUPO",10378.98,{"$f":"B965&G965","v":"C4S4-054JM GRUPO"},{"$f":"C965&D965&E965&F965","v":"CUATRO (4)CUATRO (4)BGUANTES EN HILAZA  / UNIDAD DE PAR"},{"$f":"H965","v":10378.98},{"$f":"C965&D965&E965&F965&G965","v":"CUATRO (4)CUATRO (4)BGUANTES EN HILAZA  / UNIDAD DE PARJM GRUPO"},{"$f":"B965&H965","v":"C4S4-05410378.98"},{"$f":"G965","v":"JM GRUPO"},"Und",{"$f":"C965&D965&E965&F965&G965","v":"CUATRO (4)CUATRO (4)BGUANTES EN HILAZA  / UNIDAD DE PARJM GRUPO"},{"$f":"H965","v":10378.98}]
[{"$f":"\"ate01-\"&B966&\" \"&C966&\" \"&D966&\" \"&E966","v":"ate01-C4S4-054 CUATRO (4) CUATRO (4) B"},"C4S4-054","CUATRO (4)","CUATRO (4)","B","GUANTES EN HILAZA  / UNIDAD DE PAR","SUMIMAS S.A.S.",15968.06,{"$f":"B966&G966","v":"C4S4-054SUMIMAS S.A.S."},{"$f":"C966&D966&E966&F966","v":"CUATRO (4)CUATRO (4)BGUANTES EN HILAZA  / UNIDAD DE PAR"},{"$f":"H966","v":15968.06},{"$f":"C966&D966&E966&F966&G966","v":"CUATRO (4)CUATRO (4)BGUANTES EN HILAZA  / UNIDAD DE PARSUMIMAS S.A.S."},{"$f":"B966&H966","v":"C4S4-05415968.06"},{"$f":"G966","v":"SUMIMAS S.A.S."},"Und",{"$f":"C966&D966&E966&F966&G966","v":"CUATRO (4)CUATRO (4)BGUANTES EN HILAZA  / UNIDAD DE PARSUMIMAS S.A.S."},{"$f":"H966","v":15968.06}]
[{"$f":"\"ate01-\"&B967&\" \"&C967&\" \"&D967&\" \"&E967","v":"ate01-C4S4-054 CUATRO (4) CUATRO (4) B"},"C4S4-054","CUATRO (4)","CUATRO (4)","B","GUANTES EN HILAZA  / UNIDAD DE PAR","UNION TEMPORAL AYGEMA",11546.61,{"$f":"B967&G967","v":"C4S4-054UNION TEMPORAL AYGEMA"},{"$f":"C967&D967&E967&F967","v":"CUATRO (4)CUATRO (4)BGUANTES EN HILAZA  / UNIDAD DE PAR"},{"$f":"H967","v":11546.61},{"$f":"C967&D967&E967&F967&G967","v":"CUATRO (4)CUATRO (4)BGUANTES EN HILAZA  / UNIDAD DE PARUNION TEMPORAL AYGEMA"},{"$f":"B967&H967","v":"C4S4-05411546.61"},{"$f":"G967","v":"UNION TEMPORAL AYGEMA"},"Und",{"$f":"C967&D967&E967&F967&G967","v":"CUATRO (4)CUATRO (4)BGUANTES EN HILAZA  / UNIDAD DE PARUNION TEMPORAL AYGEMA"},{"$f":"H967","v":11546.61}]
[{"$f":"\"ate01-\"&B968&\" \"&C968&\" \"&D968&\" \"&E968","v":"ate01-C4S4-054 CUATRO (4) CUATRO (4) B"},"C4S4-054","CUATRO (4)","CUATRO (4)","B","GUANTES EN HILAZA  / UNIDAD DE PAR","PLASTICOS MQ S.A.S.",11935.82,{"$f":"B968&G968","v":"C4S4-054PLASTICOS MQ S.A.S."},{"$f":"C968&D968&E968&F968","v":"CUATRO (4)CUATRO (4)BGUANTES EN HILAZA  / UNIDAD DE PAR"},{"$f":"H968","v":11935.82},{"$f":"C968&D968&E968&F968&G968","v":"CUATRO (4)CUATRO (4)BGUANTES EN HILAZA  / UNIDAD DE PARPLASTICOS MQ S.A.S."},{"$f":"B968&H968","v":"C4S4-05411935.82"},{"$f":"G968","v":"PLASTICOS MQ S.A.S."},"Und",{"$f":"C968&D968&E968&F968&G968","v":"CUATRO (4)CUATRO (4)BGUANTES EN HILAZA  / UNIDAD DE PARPLASTICOS MQ S.A.S."},{"$f":"H968","v":11935.82}]
[{"$f":"\"ate01-\"&B969&\" \"&C969&\" \"&D969&\" \"&E969","v":"ate01-C4S4-054 CUATRO (4) CUATRO (4) B"},"C4S4-054","CUATRO (4)","CUATRO (4)","B","GUANTES EN HILAZA  / UNIDAD DE PAR","SUPRISA S.A.S.",10035.17,{"$f":"B969&G969","v":"C4S4-054SUPRISA S.A.S."},{"$f":"C969&D969&E969&F969","v":"CUATRO (4)CUATRO (4)BGUANTES EN HILAZA  / UNIDAD DE PAR"},{"$f":"H969","v":10035.17},{"$f":"C969&D969&E969&F969&G969","v":"CUATRO (4)CUATRO (4)BGUANTES EN HILAZA  / UNIDAD DE PARSUPRISA S.A.S."},{"$f":"B969&H969","v":"C4S4-05410035.17"},{"$f":"G969","v":"SUPRISA S.A.S."},"Und",{"$f":"C969&D969&E969&F969&G969","v":"CUATRO (4)CUATRO (4)BGUANTES EN HILAZA  / UNIDAD DE PARSUPRISA S.A.S."},{"$f":"H969","v":10035.17}]
[{"$f":"\"ate01-\"&B970&\" \"&C970&\" \"&D970&\" \"&E970","v":"ate01-C4S4-054 CUATRO (4) CUATRO (4) B"},"C4S4-054","CUATRO (4)","CUATRO (4)","B","GUANTES EN HILAZA  / UNIDAD DE PAR","MIGUEL ANGEL VALLEJO BURGOS",4312.47,{"$f":"B970&G970","v":"C4S4-054MIGUEL ANGEL VALLEJO BURGOS"},{"$f":"C970&D970&E970&F970","v":"CUATRO (4)CUATRO (4)BGUANTES EN HILAZA  / UNIDAD DE PAR"},{"$f":"H970","v":4312.47},{"$f":"C970&D970&E970&F970&G970","v":"CUATRO (4)CUATRO (4)BGUANTES EN HILAZA  / UNIDAD DE PARMIGUEL ANGEL VALLEJO BURGOS"},{"$f":"B970&H970","v":"C4S4-0544312.47"},{"$f":"G970","v":"MIGUEL ANGEL VALLEJO BURGOS"},"Und",{"$f":"C970&D970&E970&F970&G970","v":"CUATRO (4)CUATRO (4)BGUANTES EN HILAZA  / UNIDAD DE PARMIGUEL ANGEL VALLEJO BURGOS"},{"$f":"H970","v":4312.47}]
[{"$f":"\"ate01-\"&B971&\" \"&C971&\" \"&D971&\" \"&E971","v":"ate01-C4S4-055 CUATRO (4) CUATRO (4) B"},"C4S4-055","CUATRO (4)","CUATRO (4)","B","GUANTES DE LIMPIEZA.  / UNIDAD DE PAR","JM GRUPO",25817.71,{"$f":"B971&G971","v":"C4S4-055JM GRUPO"},{"$f":"C971&D971&E971&F971","v":"CUATRO (4)CUATRO (4)BGUANTES DE LIMPIEZA.  / UNIDAD DE PAR"},{"$f":"H971","v":25817.71},{"$f":"C971&D971&E971&F971&G971","v":"CUATRO (4)CUATRO (4)BGUANTES DE LIMPIEZA.  / UNIDAD DE PARJM GRUPO"},{"$f":"B971&H971","v":"C4S4-05525817.71"},{"$f":"G971","v":"JM GRUPO"},"Und",{"$f":"C971&D971&E971&F971&G971","v":"CUATRO (4)CUATRO (4)BGUANTES DE LIMPIEZA.  / UNIDAD DE PARJM GRUPO"},{"$f":"H971","v":25817.71}]
[{"$f":"\"ate01-\"&B972&\" \"&C972&\" \"&D972&\" \"&E972","v":"ate01-C4S4-055 CUATRO (4) CUATRO (4) B"},"C4S4-055","CUATRO (4)","CUATRO (4)","B","GUANTES DE LIMPIEZA.  / UNIDAD DE PAR","SUMIMAS S.A.S.",39120.959999999999,{"$f":"B972&G972","v":"C4S4-055SUMIMAS S.A.S."},{"$f":"C972&D972&E972&F972","v":"CUATRO (4)CUATRO (4)BGUANTES DE LIMPIEZA.  / UNIDAD DE PAR"},{"$f":"H972","v":39120.959999999999},{"$f":"C972&D972&E972&F972&G972","v":"CUATRO (4)CUATRO (4)BGUANTES DE LIMPIEZA.  / UNIDAD DE PARSUMIMAS S.A.S."},{"$f":"B972&H972","v":"C4S4-05539120.96"},{"$f":"G972","v":"SUMIMAS S.A.S."},"Und",{"$f":"C972&D972&E972&F972&G972","v":"CUATRO (4)CUATRO (4)BGUANTES DE LIMPIEZA.  / UNIDAD DE PARSUMIMAS S.A.S."},{"$f":"H972","v":39120.959999999999}]
[{"$f":"\"ate01-\"&B973&\" \"&C973&\" \"&D973&\" \"&E973","v":"ate01-C4S4-055 CUATRO (4) CUATRO (4) B"},"C4S4-055","CUATRO (4)","CUATRO (4)","B","GUANTES DE LIMPIEZA.  / UNIDAD DE PAR","UNION TEMPORAL AYGEMA",24974.41,{"$f":"B973&G973","v":"C4S4-055UNION TEMPORAL AYGEMA"},{"$f":"C973&D973&E973&F973","v":"CUATRO (4)CUATRO (4)BGUANTES DE LIMPIEZA.  / UNIDAD DE PAR"},{"$f":"H973","v":24974.41},{"$f":"C973&D973&E973&F973&G973","v":"CUATRO (4)CUATRO (4)BGUANTES DE LIMPIEZA.  / UNIDAD DE PARUNION TEMPORAL AYGEMA"},{"$f":"B973&H973","v":"C4S4-05524974.41"},{"$f":"G973","v":"UNION TEMPORAL AYGEMA"},"Und",{"$f":"C973&D973&E973&F973&G973","v":"CUATRO (4)CUATRO (4)BGUANTES DE LIMPIEZA.  / UNIDAD DE PARUNION TEMPORAL AYGEMA"},{"$f":"H973","v":24974.41}]
[{"$f":"\"ate01-\"&B974&\" \"&C974&\" \"&D974&\" \"&E974","v":"ate01-C4S4-055 CUATRO (4) CUATRO (4) B"},"C4S4-055","CUATRO (4)","CUATRO (4)","B","GUANTES DE LIMPIEZA.  / UNIDAD DE PAR","PLASTICOS MQ S.A.S.",25298.76,{"$f":"B974&G974","v":"C4S4-055PLASTICOS MQ S.A.S."},{"$f":"C974&D974&E974&F974","v":"CUATRO (4)CUATRO (4)BGUANTES DE LIMPIEZA.  / UNIDAD DE PAR"},{"$f":"H974","v":25298.76},{"$f":"C974&D974&E974&F974&G974","v":"CUATRO (4)CUATRO (4)BGUANTES DE LIMPIEZA.  / UNIDAD DE PARPLASTICOS MQ S.A.S."},{"$f":"B974&H974","v":"C4S4-05525298.76"},{"$f":"G974","v":"PLASTICOS MQ S.A.S."},"Und",{"$f":"C974&D974&E974&F974&G974","v":"CUATRO (4)CUATRO (4)BGUANTES DE LIMPIEZA.  / UNIDAD DE PARPLASTICOS MQ S.A.S."},{"$f":"H974","v":25298.76}]
[{"$f":"\"ate01-\"&B975&\" \"&C975&\" \"&D975&\" \"&E975","v":"ate01-C4S4-055 CUATRO (4) CUATRO (4) B"},"C4S4-055","CUATRO (4)","CUATRO (4)","B","GUANTES DE LIMPIEZA.  / UNIDAD DE PAR","SUPRISA S.A.S.",37052.949999999997,{"$f":"B975&G975","v":"C4S4-055SUPRISA S.A.S."},{"$f":"C975&D975&E975&F975","v":"CUATRO (4)CUATRO (4)BGUANTES DE LIMPIEZA.  / UNIDAD DE PAR"},{"$f":"H975","v":37052.949999999997},{"$f":"C975&D975&E975&F975&G975","v":"CUATRO (4)CUATRO (4)BGUANTES DE LIMPIEZA.  / UNIDAD DE PARSUPRISA S.A.S."},{"$f":"B975&H975","v":"C4S4-05537052.95"},{"$f":"G975","v":"SUPRISA S.A.S."},"Und",{"$f":"C975&D975&E975&F975&G975","v":"CUATRO (4)CUATRO (4)BGUANTES DE LIMPIEZA.  / UNIDAD DE PARSUPRISA S.A.S."},{"$f":"H975","v":37052.949999999997}]
[{"$f":"\"ate01-\"&B976&\" \"&C976&\" \"&D976&\" \"&E976","v":"ate01-C4S4-055 CUATRO (4) CUATRO (4) B"},"C4S4-055","CUATRO (4)","CUATRO (4)","B","GUANTES DE LIMPIEZA.  / UNIDAD DE PAR","MIGUEL ANGEL VALLEJO BURGOS",3697.51,{"$f":"B976&G976","v":"C4S4-055MIGUEL ANGEL VALLEJO BURGOS"},{"$f":"C976&D976&E976&F976","v":"CUATRO (4)CUATRO (4)BGUANTES DE LIMPIEZA.  / UNIDAD DE PAR"},{"$f":"H976","v":3697.51},{"$f":"C976&D976&E976&F976&G976","v":"CUATRO (4)CUATRO (4)BGUANTES DE LIMPIEZA.  / UNIDAD DE PARMIGUEL ANGEL VALLEJO BURGOS"},{"$f":"B976&H976","v":"C4S4-0553697.51"},{"$f":"G976","v":"MIGUEL ANGEL VALLEJO BURGOS"},"Und",{"$f":"C976&D976&E976&F976&G976","v":"CUATRO (4)CUATRO (4)BGUANTES DE LIMPIEZA.  / UNIDAD DE PARMIGUEL ANGEL VALLEJO BURGOS"},{"$f":"H976","v":3697.51}]
[{"$f":"\"ate01-\"&B977&\" \"&C977&\" \"&D977&\" \"&E977","v":"ate01-C4S4-056 CUATRO (4) CUATRO (4) E"},"C4S4-056","CUATRO (4)","CUATRO (4)","E","LAVAMANOS PORTÁTIL AUTÓNOMO CON SALPICADERO / UNIDAD","C I WARRIORS COMPANY S.A.S.",672038.78,{"$f":"B977&G977","v":"C4S4-056C I WARRIORS COMPANY S.A.S."},{"$f":"C977&D977&E977&F977","v":"CUATRO (4)CUATRO (4)ELAVAMANOS PORTÁTIL AUTÓNOMO CON SALPICADERO / UNIDAD"},{"$f":"H977","v":672038.78},{"$f":"C977&D977&E977&F977&G977","v":"CUATRO (4)CUATRO (4)ELAVAMANOS PORTÁTIL AUTÓNOMO CON SALPICADERO / UNIDADC I WARRIORS COMPANY S.A.S."},{"$f":"B977&H977","v":"C4S4-056672038.78"},{"$f":"G977","v":"C I WARRIORS COMPANY S.A.S."},"Und",{"$f":"C977&D977&E977&F977&G977","v":"CUATRO (4)CUATRO (4)ELAVAMANOS PORTÁTIL AUTÓNOMO CON SALPICADERO / UNIDADC I WARRIORS COMPANY S.A.S."},{"$f":"H977","v":672038.78}]
[{"$f":"\"ate01-\"&B978&\" \"&C978&\" \"&D978&\" \"&E978","v":"ate01-C4S4-056 CUATRO (4) CUATRO (4) E"},"C4S4-056","CUATRO (4)","CUATRO (4)","E","LAVAMANOS PORTÁTIL AUTÓNOMO CON SALPICADERO / UNIDAD","SUMIMAS S.A.S.",997978.88,{"$f":"B978&G978","v":"C4S4-056SUMIMAS S.A.S."},{"$f":"C978&D978&E978&F978","v":"CUATRO (4)CUATRO (4)ELAVAMANOS PORTÁTIL AUTÓNOMO CON SALPICADERO / UNIDAD"},{"$f":"H978","v":997978.88},{"$f":"C978&D978&E978&F978&G978","v":"CUATRO (4)CUATRO (4)ELAVAMANOS PORTÁTIL AUTÓNOMO CON SALPICADERO / UNIDADSUMIMAS S.A.S."},{"$f":"B978&H978","v":"C4S4-056997978.88"},{"$f":"G978","v":"SUMIMAS S.A.S."},"Und",{"$f":"C978&D978&E978&F978&G978","v":"CUATRO (4)CUATRO (4)ELAVAMANOS PORTÁTIL AUTÓNOMO CON SALPICADERO / UNIDADSUMIMAS S.A.S."},{"$f":"H978","v":997978.88}]
[{"$f":"\"ate01-\"&B979&\" \"&C979&\" \"&D979&\" \"&E979","v":"ate01-C4S4-056 CUATRO (4) CUATRO (4) E"},"C4S4-056","CUATRO (4)","CUATRO (4)","E","LAVAMANOS PORTÁTIL AUTÓNOMO CON SALPICADERO / UNIDAD","UT EMERGENCIAS 2021",1427109.38,{"$f":"B979&G979","v":"C4S4-056UT EMERGENCIAS 2021"},{"$f":"C979&D979&E979&F979","v":"CUATRO (4)CUATRO (4)ELAVAMANOS PORTÁTIL AUTÓNOMO CON SALPICADERO / UNIDAD"},{"$f":"H979","v":1427109.38},{"$f":"C979&D979&E979&F979&G979","v":"CUATRO (4)CUATRO (4)ELAVAMANOS PORTÁTIL AUTÓNOMO CON SALPICADERO / UNIDADUT EMERGENCIAS 2021"},{"$f":"B979&H979","v":"C4S4-0561427109.38"},{"$f":"G979","v":"UT EMERGENCIAS 2021"},"Und",{"$f":"C979&D979&E979&F979&G979","v":"CUATRO (4)CUATRO (4)ELAVAMANOS PORTÁTIL AUTÓNOMO CON SALPICADERO / UNIDADUT EMERGENCIAS 2021"},{"$f":"H979","v":1427109.38}]
[{"$f":"\"ate01-\"&B980&\" \"&C980&\" \"&D980&\" \"&E980","v":"ate01-C4S4-056 CUATRO (4) CUATRO (4) E"},"C4S4-056","CUATRO (4)","CUATRO (4)","E","LAVAMANOS PORTÁTIL AUTÓNOMO CON SALPICADERO / UNIDAD","UNION TEMPORAL AYGEMA",1362240.77,{"$f":"B980&G980","v":"C4S4-056UNION TEMPORAL AYGEMA"},{"$f":"C980&D980&E980&F980","v":"CUATRO (4)CUATRO (4)ELAVAMANOS PORTÁTIL AUTÓNOMO CON SALPICADERO / UNIDAD"},{"$f":"H980","v":1362240.77},{"$f":"C980&D980&E980&F980&G980","v":"CUATRO (4)CUATRO (4)ELAVAMANOS PORTÁTIL AUTÓNOMO CON SALPICADERO / UNIDADUNION TEMPORAL AYGEMA"},{"$f":"B980&H980","v":"C4S4-0561362240.77"},{"$f":"G980","v":"UNION TEMPORAL AYGEMA"},"Und",{"$f":"C980&D980&E980&F980&G980","v":"CUATRO (4)CUATRO (4)ELAVAMANOS PORTÁTIL AUTÓNOMO CON SALPICADERO / UNIDADUNION TEMPORAL AYGEMA"},{"$f":"H980","v":1362240.77}]
[{"$f":"\"ate01-\"&B981&\" \"&C981&\" \"&D981&\" \"&E981","v":"ate01-C4S4-056 CUATRO (4) CUATRO (4) E"},"C4S4-056","CUATRO (4)","CUATRO (4)","E","LAVAMANOS PORTÁTIL AUTÓNOMO CON SALPICADERO / UNIDAD","UT OFICON",1722160.97,{"$f":"B981&G981","v":"C4S4-056UT OFICON"},{"$f":"C981&D981&E981&F981","v":"CUATRO (4)CUATRO (4)ELAVAMANOS PORTÁTIL AUTÓNOMO CON SALPICADERO / UNIDAD"},{"$f":"H981","v":1722160.97},{"$f":"C981&D981&E981&F981&G981","v":"CUATRO (4)CUATRO (4)ELAVAMANOS PORTÁTIL AUTÓNOMO CON SALPICADERO / UNIDADUT OFICON"},{"$f":"B981&H981","v":"C4S4-0561722160.97"},{"$f":"G981","v":"UT OFICON"},"Und",{"$f":"C981&D981&E981&F981&G981","v":"CUATRO (4)CUATRO (4)ELAVAMANOS PORTÁTIL AUTÓNOMO CON SALPICADERO / UNIDADUT OFICON"},{"$f":"H981","v":1722160.97}]
[{"$f":"\"ate01-\"&B982&\" \"&C982&\" \"&D982&\" \"&E982","v":"ate01-C4S4-056 CUATRO (4) CUATRO (4) E"},"C4S4-056","CUATRO (4)","CUATRO (4)","E","LAVAMANOS PORTÁTIL AUTÓNOMO CON SALPICADERO / UNIDAD","MIGUEL ANGEL VALLEJO BURGOS",901673.65,{"$f":"B982&G982","v":"C4S4-056MIGUEL ANGEL VALLEJO BURGOS"},{"$f":"C982&D982&E982&F982","v":"CUATRO (4)CUATRO (4)ELAVAMANOS PORTÁTIL AUTÓNOMO CON SALPICADERO / UNIDAD"},{"$f":"H982","v":901673.65},{"$f":"C982&D982&E982&F982&G982","v":"CUATRO (4)CUATRO (4)ELAVAMANOS PORTÁTIL AUTÓNOMO CON SALPICADERO / UNIDADMIGUEL ANGEL VALLEJO BURGOS"},{"$f":"B982&H982","v":"C4S4-056901673.65"},{"$f":"G982","v":"MIGUEL ANGEL VALLEJO BURGOS"},"Und",{"$f":"C982&D982&E982&F982&G982","v":"CUATRO (4)CUATRO (4)ELAVAMANOS PORTÁTIL AUTÓNOMO CON SALPICADERO / UNIDADMIGUEL ANGEL VALLEJO BURGOS"},{"$f":"H982","v":901673.65}]
[{"$f":"\"ate01-\"&B983&\" \"&C983&\" \"&D983&\" \"&E983","v":"ate01-C4S4-056 CUATRO (4) CUATRO (4) E"},"C4S4-056","CUATRO (4)","CUATRO (4)","E","LAVAMANOS PORTÁTIL AUTÓNOMO CON SALPICADERO / UNIDAD","INVALCA",752475.85,{"$f":"B983&G983","v":"C4S4-056INVALCA"},{"$f":"C983&D983&E983&F983","v":"CUATRO (4)CUATRO (4)ELAVAMANOS PORTÁTIL AUTÓNOMO CON SALPICADERO / UNIDAD"},{"$f":"H983","v":752475.85},{"$f":"C983&D983&E983&F983&G983","v":"CUATRO (4)CUATRO (4)ELAVAMANOS PORTÁTIL AUTÓNOMO CON SALPICADERO / UNIDADINVALCA"},{"$f":"B983&H983","v":"C4S4-056752475.85"},{"$f":"G983","v":"INVALCA"},"Und",{"$f":"C983&D983&E983&F983&G983","v":"CUATRO (4)CUATRO (4)ELAVAMANOS PORTÁTIL AUTÓNOMO CON SALPICADERO / UNIDADINVALCA"},{"$f":"H983","v":752475.85}]
[{"$f":"\"ate01-\"&B984&\" \"&C984&\" \"&D984&\" \"&E984","v":"ate01-C4S4-057 CUATRO (4) CUATRO (4) E"},"C4S4-057","CUATRO (4)","CUATRO (4)","E","DISPENSADOR TOALLA DE MANOS / UNIDAD","C I WARRIORS COMPANY S.A.S.",93410.8,{"$f":"B984&G984","v":"C4S4-057C I WARRIORS COMPANY S.A.S."},{"$f":"C984&D984&E984&F984","v":"CUATRO (4)CUATRO (4)EDISPENSADOR TOALLA DE MANOS / UNIDAD"},{"$f":"H984","v":93410.8},{"$f":"C984&D984&E984&F984&G984","v":"CUATRO (4)CUATRO (4)EDISPENSADOR TOALLA DE MANOS / UNIDADC I WARRIORS COMPANY S.A.S."},{"$f":"B984&H984","v":"C4S4-05793410.8"},{"$f":"G984","v":"C I WARRIORS COMPANY S.A.S."},"Und",{"$f":"C984&D984&E984&F984&G984","v":"CUATRO (4)CUATRO (4)EDISPENSADOR TOALLA DE MANOS / UNIDADC I WARRIORS COMPANY S.A.S."},{"$f":"H984","v":93410.8}]
[{"$f":"\"ate01-\"&B985&\" \"&C985&\" \"&D985&\" \"&E985","v":"ate01-C4S4-057 CUATRO (4) CUATRO (4) E"},"C4S4-057","CUATRO (4)","CUATRO (4)","E","DISPENSADOR TOALLA DE MANOS / UNIDAD","SUMIMAS S.A.S.",233526.99,{"$f":"B985&G985","v":"C4S4-057SUMIMAS S.A.S."},{"$f":"C985&D985&E985&F985","v":"CUATRO (4)CUATRO (4)EDISPENSADOR TOALLA DE MANOS / UNIDAD"},{"$f":"H985","v":233526.99},{"$f":"C985&D985&E985&F985&G985","v":"CUATRO (4)CUATRO (4)EDISPENSADOR TOALLA DE MANOS / UNIDADSUMIMAS S.A.S."},{"$f":"B985&H985","v":"C4S4-057233526.99"},{"$f":"G985","v":"SUMIMAS S.A.S."},"Und",{"$f":"C985&D985&E985&F985&G985","v":"CUATRO (4)CUATRO (4)EDISPENSADOR TOALLA DE MANOS / UNIDADSUMIMAS S.A.S."},{"$f":"H985","v":233526.99}]
[{"$f":"\"ate01-\"&B986&\" \"&C986&\" \"&D986&\" \"&E986","v":"ate01-C4S4-057 CUATRO (4) CUATRO (4) E"},"C4S4-057","CUATRO (4)","CUATRO (4)","E","DISPENSADOR TOALLA DE MANOS / UNIDAD","UT EMERGENCIAS 2021",155684.66,{"$f":"B986&G986","v":"C4S4-057UT EMERGENCIAS 2021"},{"$f":"C986&D986&E986&F986","v":"CUATRO (4)CUATRO (4)EDISPENSADOR TOALLA DE MANOS / UNIDAD"},{"$f":"H986","v":155684.66},{"$f":"C986&D986&E986&F986&G986","v":"CUATRO (4)CUATRO (4)EDISPENSADOR TOALLA DE MANOS / UNIDADUT EMERGENCIAS 2021"},{"$f":"B986&H986","v":"C4S4-057155684.66"},{"$f":"G986","v":"UT EMERGENCIAS 2021"},"Und",{"$f":"C986&D986&E986&F986&G986","v":"CUATRO (4)CUATRO (4)EDISPENSADOR TOALLA DE MANOS / UNIDADUT EMERGENCIAS 2021"},{"$f":"H986","v":155684.66}]
[{"$f":"\"ate01-\"&B987&\" \"&C987&\" \"&D987&\" \"&E987","v":"ate01-C4S4-057 CUATRO (4) CUATRO (4) E"},"C4S4-057","CUATRO (4)","CUATRO (4)","E","DISPENSADOR TOALLA DE MANOS / UNIDAD","UNION TEMPORAL AYGEMA",153089.91,{"$f":"B987&G987","v":"C4S4-057UNION TEMPORAL AYGEMA"},{"$f":"C987&D987&E987&F987","v":"CUATRO (4)CUATRO (4)EDISPENSADOR TOALLA DE MANOS / UNIDAD"},{"$f":"H987","v":153089.91},{"$f":"C987&D987&E987&F987&G987","v":"CUATRO (4)CUATRO (4)EDISPENSADOR TOALLA DE MANOS / UNIDADUNION TEMPORAL AYGEMA"},{"$f":"B987&H987","v":"C4S4-057153089.91"},{"$f":"G987","v":"UNION TEMPORAL AYGEMA"},"Und",{"$f":"C987&D987&E987&F987&G987","v":"CUATRO (4)CUATRO (4)EDISPENSADOR TOALLA DE MANOS / UNIDADUNION TEMPORAL AYGEMA"},{"$f":"H987","v":153089.91}]
[{"$f":"\"ate01-\"&B988&\" \"&C988&\" \"&D988&\" \"&E988","v":"ate01-C4S4-057 CUATRO (4) CUATRO (4) E"},"C4S4-057","CUATRO (4)","CUATRO (4)","E","DISPENSADOR TOALLA DE MANOS / UNIDAD","UT OFICON",81576.05,{"$f":"B988&G988","v":"C4S4-057UT OFICON"},{"$f":"C988&D988&E988&F988","v":"CUATRO (4)CUATRO (4)EDISPENSADOR TOALLA DE MANOS / UNIDAD"},{"$f":"H988","v":81576.05},{"$f":"C988&D988&E988&F988&G988","v":"CUATRO (4)CUATRO (4)EDISPENSADOR TOALLA DE MANOS / UNIDADUT OFICON"},{"$f":"B988&H988","v":"C4S4-05781576.05"},{"$f":"G988","v":"UT OFICON"},"Und",{"$f":"C988&D988&E988&F988&G988","v":"CUATRO (4)CUATRO (4)EDISPENSADOR TOALLA DE MANOS / UNIDADUT OFICON"},{"$f":"H988","v":81576.05}]
[{"$f":"\"ate01-\"&B989&\" \"&C989&\" \"&D989&\" \"&E989","v":"ate01-C4S4-057 CUATRO (4) CUATRO (4) E"},"C4S4-057","CUATRO (4)","CUATRO (4)","E","DISPENSADOR TOALLA DE MANOS / UNIDAD","MIGUEL ANGEL VALLEJO BURGOS",87546.67,{"$f":"B989&G989","v":"C4S4-057MIGUEL ANGEL VALLEJO BURGOS"},{"$f":"C989&D989&E989&F989","v":"CUATRO (4)CUATRO (4)EDISPENSADOR TOALLA DE MANOS / UNIDAD"},{"$f":"H989","v":87546.67},{"$f":"C989&D989&E989&F989&G989","v":"CUATRO (4)CUATRO (4)EDISPENSADOR TOALLA DE MANOS / UNIDADMIGUEL ANGEL VALLEJO BURGOS"},{"$f":"B989&H989","v":"C4S4-05787546.67"},{"$f":"G989","v":"MIGUEL ANGEL VALLEJO BURGOS"},"Und",{"$f":"C989&D989&E989&F989&G989","v":"CUATRO (4)CUATRO (4)EDISPENSADOR TOALLA DE MANOS / UNIDADMIGUEL ANGEL VALLEJO BURGOS"},{"$f":"H989","v":87546.67}]
[{"$f":"\"ate01-\"&B990&\" \"&C990&\" \"&D990&\" \"&E990","v":"ate01-C4S4-057 CUATRO (4) CUATRO (4) E"},"C4S4-057","CUATRO (4)","CUATRO (4)","E","DISPENSADOR TOALLA DE MANOS / UNIDAD","INVALCA",128439.84,{"$f":"B990&G990","v":"C4S4-057INVALCA"},{"$f":"C990&D990&E990&F990","v":"CUATRO (4)CUATRO (4)EDISPENSADOR TOALLA DE MANOS / UNIDAD"},{"$f":"H990","v":128439.84},{"$f":"C990&D990&E990&F990&G990","v":"CUATRO (4)CUATRO (4)EDISPENSADOR TOALLA DE MANOS / UNIDADINVALCA"},{"$f":"B990&H990","v":"C4S4-057128439.84"},{"$f":"G990","v":"INVALCA"},"Und",{"$f":"C990&D990&E990&F990&G990","v":"CUATRO (4)CUATRO (4)EDISPENSADOR TOALLA DE MANOS / UNIDADINVALCA"},{"$f":"H990","v":128439.84}]
[{"$f":"\"ate01-\"&B991&\" \"&C991&\" \"&D991&\" \"&E991","v":"ate01-C4S4-058 CUATRO (4) CUATRO (4) E"},"C4S4-058","CUATRO (4)","CUATRO (4)","E","DISPENSADOR AUTOMATICO DE JABÓN LÍQUIDO PARA MANOS / UNIDAD","C I WARRIORS COMPANY S.A.S.",121952.98,{"$f":"B991&G991","v":"C4S4-058C I WARRIORS COMPANY S.A.S."},{"$f":"C991&D991&E991&F991","v":"CUATRO (4)CUATRO (4)EDISPENSADOR AUTOMATICO DE JABÓN LÍQUIDO PARA MANOS / UNIDAD"},{"$f":"H991","v":121952.98},{"$f":"C991&D991&E991&F991&G991","v":"CUATRO (4)CUATRO (4)EDISPENSADOR AUTOMATICO DE JABÓN LÍQUIDO PARA MANOS / UNIDADC I WARRIORS COMPANY S.A.S."},{"$f":"B991&H991","v":"C4S4-058121952.98"},{"$f":"G991","v":"C I WARRIORS COMPANY S.A.S."},"Und",{"$f":"C991&D991&E991&F991&G991","v":"CUATRO (4)CUATRO (4)EDISPENSADOR AUTOMATICO DE JABÓN LÍQUIDO PARA MANOS / UNIDADC I WARRIORS COMPANY S.A.S."},{"$f":"H991","v":121952.98}]
[{"$f":"\"ate01-\"&B992&\" \"&C992&\" \"&D992&\" \"&E992","v":"ate01-C4S4-058 CUATRO (4) CUATRO (4) E"},"C4S4-058","CUATRO (4)","CUATRO (4)","E","DISPENSADOR AUTOMATICO DE JABÓN LÍQUIDO PARA MANOS / UNIDAD","SUMIMAS S.A.S.",297397.92,{"$f":"B992&G992","v":"C4S4-058SUMIMAS S.A.S."},{"$f":"C992&D992&E992&F992","v":"CUATRO (4)CUATRO (4)EDISPENSADOR AUTOMATICO DE JABÓN LÍQUIDO PARA MANOS / UNIDAD"},{"$f":"H992","v":297397.92},{"$f":"C992&D992&E992&F992&G992","v":"CUATRO (4)CUATRO (4)EDISPENSADOR AUTOMATICO DE JABÓN LÍQUIDO PARA MANOS / UNIDADSUMIMAS S.A.S."},{"$f":"B992&H992","v":"C4S4-058297397.92"},{"$f":"G992","v":"SUMIMAS S.A.S."},"Und",{"$f":"C992&D992&E992&F992&G992","v":"CUATRO (4)CUATRO (4)EDISPENSADOR AUTOMATICO DE JABÓN LÍQUIDO PARA MANOS / UNIDADSUMIMAS S.A.S."},{"$f":"H992","v":297397.92}]
[{"$f":"\"ate01-\"&B993&\" \"&C993&\" \"&D993&\" \"&E993","v":"ate01-C4S4-058 CUATRO (4) CUATRO (4) E"},"C4S4-058","CUATRO (4)","CUATRO (4)","E","DISPENSADOR AUTOMATICO DE JABÓN LÍQUIDO PARA MANOS / UNIDAD","UT EMERGENCIAS 2021",64868.61,{"$f":"B993&G993","v":"C4S4-058UT EMERGENCIAS 2021"},{"$f":"C993&D993&E993&F993","v":"CUATRO (4)CUATRO (4)EDISPENSADOR AUTOMATICO DE JABÓN LÍQUIDO PARA MANOS / UNIDAD"},{"$f":"H993","v":64868.61},{"$f":"C993&D993&E993&F993&G993","v":"CUATRO (4)CUATRO (4)EDISPENSADOR AUTOMATICO DE JABÓN LÍQUIDO PARA MANOS / UNIDADUT EMERGENCIAS 2021"},{"$f":"B993&H993","v":"C4S4-05864868.61"},{"$f":"G993","v":"UT EMERGENCIAS 2021"},"Und",{"$f":"C993&D993&E993&F993&G993","v":"CUATRO (4)CUATRO (4)EDISPENSADOR AUTOMATICO DE JABÓN LÍQUIDO PARA MANOS / UNIDADUT EMERGENCIAS 2021"},{"$f":"H993","v":64868.61}]
[{"$f":"\"ate01-\"&B994&\" \"&C994&\" \"&D994&\" \"&E994","v":"ate01-C4S4-058 CUATRO (4) CUATRO (4) E"},"C4S4-058","CUATRO (4)","CUATRO (4)","E","DISPENSADOR AUTOMATICO DE JABÓN LÍQUIDO PARA MANOS / UNIDAD","UNION TEMPORAL AYGEMA",63571.24,{"$f":"B994&G994","v":"C4S4-058UNION TEMPORAL AYGEMA"},{"$f":"C994&D994&E994&F994","v":"CUATRO (4)CUATRO (4)EDISPENSADOR AUTOMATICO DE JABÓN LÍQUIDO PARA MANOS / UNIDAD"},{"$f":"H994","v":63571.24},{"$f":"C994&D994&E994&F994&G994","v":"CUATRO (4)CUATRO (4)EDISPENSADOR AUTOMATICO DE JABÓN LÍQUIDO PARA MANOS / UNIDADUNION TEMPORAL AYGEMA"},{"$f":"B994&H994","v":"C4S4-05863571.24"},{"$f":"G994","v":"UNION TEMPORAL AYGEMA"},"Und",{"$f":"C994&D994&E994&F994&G994","v":"CUATRO (4)CUATRO (4)EDISPENSADOR AUTOMATICO DE JABÓN LÍQUIDO PARA MANOS / UNIDADUNION TEMPORAL AYGEMA"},{"$f":"H994","v":63571.24}]
[{"$f":"\"ate01-\"&B995&\" \"&C995&\" \"&D995&\" \"&E995","v":"ate01-C4S4-058 CUATRO (4) CUATRO (4) E"},"C4S4-058","CUATRO (4)","CUATRO (4)","E","DISPENSADOR AUTOMATICO DE JABÓN LÍQUIDO PARA MANOS / UNIDAD","UT OFICON",362560.2,{"$f":"B995&G995","v":"C4S4-058UT OFICON"},{"$f":"C995&D995&E995&F995","v":"CUATRO (4)CUATRO (4)EDISPENSADOR AUTOMATICO DE JABÓN LÍQUIDO PARA MANOS / UNIDAD"},{"$f":"H995","v":362560.2},{"$f":"C995&D995&E995&F995&G995","v":"CUATRO (4)CUATRO (4)EDISPENSADOR AUTOMATICO DE JABÓN LÍQUIDO PARA MANOS / UNIDADUT OFICON"},{"$f":"B995&H995","v":"C4S4-058362560.2"},{"$f":"G995","v":"UT OFICON"},"Und",{"$f":"C995&D995&E995&F995&G995","v":"CUATRO (4)CUATRO (4)EDISPENSADOR AUTOMATICO DE JABÓN LÍQUIDO PARA MANOS / UNIDADUT OFICON"},{"$f":"H995","v":362560.2}]
[{"$f":"\"ate01-\"&B996&\" \"&C996&\" \"&D996&\" \"&E996","v":"ate01-C4S4-058 CUATRO (4) CUATRO (4) E"},"C4S4-058","CUATRO (4)","CUATRO (4)","E","DISPENSADOR AUTOMATICO DE JABÓN LÍQUIDO PARA MANOS / UNIDAD","MIGUEL ANGEL VALLEJO BURGOS",128939.33,{"$f":"B996&G996","v":"C4S4-058MIGUEL ANGEL VALLEJO BURGOS"},{"$f":"C996&D996&E996&F996","v":"CUATRO (4)CUATRO (4)EDISPENSADOR AUTOMATICO DE JABÓN LÍQUIDO PARA MANOS / UNIDAD"},{"$f":"H996","v":128939.33},{"$f":"C996&D996&E996&F996&G996","v":"CUATRO (4)CUATRO (4)EDISPENSADOR AUTOMATICO DE JABÓN LÍQUIDO PARA MANOS / UNIDADMIGUEL ANGEL VALLEJO BURGOS"},{"$f":"B996&H996","v":"C4S4-058128939.33"},{"$f":"G996","v":"MIGUEL ANGEL VALLEJO BURGOS"},"Und",{"$f":"C996&D996&E996&F996&G996","v":"CUATRO (4)CUATRO (4)EDISPENSADOR AUTOMATICO DE JABÓN LÍQUIDO PARA MANOS / UNIDADMIGUEL ANGEL VALLEJO BURGOS"},{"$f":"H996","v":128939.33}]
[{"$f":"\"ate01-\"&B997&\" \"&C997&\" \"&D997&\" \"&E997","v":"ate01-C4S4-058 CUATRO (4) CUATRO (4) E"},"C4S4-058","CUATRO (4)","CUATRO (4)","E","DISPENSADOR AUTOMATICO DE JABÓN LÍQUIDO PARA MANOS / UNIDAD","INVALCA",162171.51999999999,{"$f":"B997&G997","v":"C4S4-058INVALCA"},{"$f":"C997&D997&E997&F997","v":"CUATRO (4)CUATRO (4)EDISPENSADOR AUTOMATICO DE JABÓN LÍQUIDO PARA MANOS / UNIDAD"},{"$f":"H997","v":162171.51999999999},{"$f":"C997&D997&E997&F997&G997","v":"CUATRO (4)CUATRO (4)EDISPENSADOR AUTOMATICO DE JABÓN LÍQUIDO PARA MANOS / UNIDADINVALCA"},{"$f":"B997&H997","v":"C4S4-058162171.52"},{"$f":"G997","v":"INVALCA"},"Und",{"$f":"C997&D997&E997&F997&G997","v":"CUATRO (4)CUATRO (4)EDISPENSADOR AUTOMATICO DE JABÓN LÍQUIDO PARA MANOS / UNIDADINVALCA"},{"$f":"H997","v":162171.51999999999}]
[{"$f":"\"ate01-\"&B998&\" \"&C998&\" \"&D998&\" \"&E998","v":"ate01-C4S4-059 CUATRO (4) CUATRO (4) E"},"C4S4-059","CUATRO (4)","CUATRO (4)","E","LAVAMANOS PORTÁTIL AUTÓNOMO CON DISPENSADORES INCLUIDOS / UNIDAD","C I WARRIORS COMPANY S.A.S.",917242.12,{"$f":"B998&G998","v":"C4S4-059C I WARRIORS COMPANY S.A.S."},{"$f":"C998&D998&E998&F998","v":"CUATRO (4)CUATRO (4)ELAVAMANOS PORTÁTIL AUTÓNOMO CON DISPENSADORES INCLUIDOS / UNIDAD"},{"$f":"H998","v":917242.12},{"$f":"C998&D998&E998&F998&G998","v":"CUATRO (4)CUATRO (4)ELAVAMANOS PORTÁTIL AUTÓNOMO CON DISPENSADORES INCLUIDOS / UNIDADC I WARRIORS COMPANY S.A.S."},{"$f":"B998&H998","v":"C4S4-059917242.12"},{"$f":"G998","v":"C I WARRIORS COMPANY S.A.S."},"Und",{"$f":"C998&D998&E998&F998&G998","v":"CUATRO (4)CUATRO (4)ELAVAMANOS PORTÁTIL AUTÓNOMO CON DISPENSADORES INCLUIDOS / UNIDADC I WARRIORS COMPANY S.A.S."},{"$f":"H998","v":917242.12}]
[{"$f":"\"ate01-\"&B999&\" \"&C999&\" \"&D999&\" \"&E999","v":"ate01-C4S4-059 CUATRO (4) CUATRO (4) E"},"C4S4-059","CUATRO (4)","CUATRO (4)","E","LAVAMANOS PORTÁTIL AUTÓNOMO CON DISPENSADORES INCLUIDOS / UNIDAD","SUMIMAS S.A.S.",1027918.34,{"$f":"B999&G999","v":"C4S4-059SUMIMAS S.A.S."},{"$f":"C999&D999&E999&F999","v":"CUATRO (4)CUATRO (4)ELAVAMANOS PORTÁTIL AUTÓNOMO CON DISPENSADORES INCLUIDOS / UNIDAD"},{"$f":"H999","v":1027918.34},{"$f":"C999&D999&E999&F999&G999","v":"CUATRO (4)CUATRO (4)ELAVAMANOS PORTÁTIL AUTÓNOMO CON DISPENSADORES INCLUIDOS / UNIDADSUMIMAS S.A.S."},{"$f":"B999&H999","v":"C4S4-0591027918.34"},{"$f":"G999","v":"SUMIMAS S.A.S."},"Und",{"$f":"C999&D999&E999&F999&G999","v":"CUATRO (4)CUATRO (4)ELAVAMANOS PORTÁTIL AUTÓNOMO CON DISPENSADORES INCLUIDOS / UNIDADSUMIMAS S.A.S."},{"$f":"H999","v":1027918.34}]
[{"$f":"\"ate01-\"&B1000&\" \"&C1000&\" \"&D1000&\" \"&E1000","v":"ate01-C4S4-059 CUATRO (4) CUATRO (4) E"},"C4S4-059","CUATRO (4)","CUATRO (4)","E","LAVAMANOS PORTÁTIL AUTÓNOMO CON DISPENSADORES INCLUIDOS / UNIDAD","UT EMERGENCIAS 2021",1427109.38,{"$f":"B1000&G1000","v":"C4S4-059UT EMERGENCIAS 2021"},{"$f":"C1000&D1000&E1000&F1000","v":"CUATRO (4)CUATRO (4)ELAVAMANOS PORTÁTIL AUTÓNOMO CON DISPENSADORES INCLUIDOS / UNIDAD"},{"$f":"H1000","v":1427109.38},{"$f":"C1000&D1000&E1000&F1000&G1000","v":"CUATRO (4)CUATRO (4)ELAVAMANOS PORTÁTIL AUTÓNOMO CON DISPENSADORES INCLUIDOS / UNIDADUT EMERGENCIAS 2021"},{"$f":"B1000&H1000","v":"C4S4-0591427109.38"},{"$f":"G1000","v":"UT EMERGENCIAS 2021"},"Und",{"$f":"C1000&D1000&E1000&F1000&G1000","v":"CUATRO (4)CUATRO (4)ELAVAMANOS PORTÁTIL AUTÓNOMO CON DISPENSADORES INCLUIDOS / UNIDADUT EMERGENCIAS 2021"},{"$f":"H1000","v":1427109.38}]
[{"$f":"\"ate01-\"&B1001&\" \"&C1001&\" \"&D1001&\" \"&E1001","v":"ate01-C4S4-059 CUATRO (4) CUATRO (4) E"},"C4S4-059","CUATRO (4)","CUATRO (4)","E","LAVAMANOS PORTÁTIL AUTÓNOMO CON DISPENSADORES INCLUIDOS / UNIDAD","UNION TEMPORAL AYGEMA",1362240.77,{"$f":"B1001&G1001","v":"C4S4-059UNION TEMPORAL AYGEMA"},{"$f":"C1001&D1001&E1001&F1001","v":"CUATRO (4)CUATRO (4)ELAVAMANOS PORTÁTIL AUTÓNOMO CON DISPENSADORES INCLUIDOS / UNIDAD"},{"$f":"H1001","v":1362240.77},{"$f":"C1001&D1001&E1001&F1001&G1001","v":"CUATRO (4)CUATRO (4)ELAVAMANOS PORTÁTIL AUTÓNOMO CON DISPENSADORES INCLUIDOS / UNIDADUNION TEMPORAL AYGEMA"},{"$f":"B1001&H1001","v":"C4S4-0591362240.77"},{"$f":"G1001","v":"UNION TEMPORAL AYGEMA"},"Und",{"$f":"C1001&D1001&E1001&F1001&G1001","v":"CUATRO (4)CUATRO (4)ELAVAMANOS PORTÁTIL AUTÓNOMO CON DISPENSADORES INCLUIDOS / UNIDADUNION TEMPORAL AYGEMA"},{"$f":"H1001","v":1362240.77}]
[{"$f":"\"ate01-\"&B1002&\" \"&C1002&\" \"&D1002&\" \"&E1002","v":"ate01-C4S4-059 CUATRO (4) CUATRO (4) E"},"C4S4-059","CUATRO (4)","CUATRO (4)","E","LAVAMANOS PORTÁTIL AUTÓNOMO CON DISPENSADORES INCLUIDOS / UNIDAD","UT OFICON",2266001.2799999998,{"$f":"B1002&G1002","v":"C4S4-059UT OFICON"},{"$f":"C1002&D1002&E1002&F1002","v":"CUATRO (4)CUATRO (4)ELAVAMANOS PORTÁTIL AUTÓNOMO CON DISPENSADORES INCLUIDOS / UNIDAD"},{"$f":"H1002","v":2266001.2799999998},{"$f":"C1002&D1002&E1002&F1002&G1002","v":"CUATRO (4)CUATRO (4)ELAVAMANOS PORTÁTIL AUTÓNOMO CON DISPENSADORES INCLUIDOS / UNIDADUT OFICON"},{"$f":"B1002&H1002","v":"C4S4-0592266001.28"},{"$f":"G1002","v":"UT OFICON"},"Und",{"$f":"C1002&D1002&E1002&F1002&G1002","v":"CUATRO (4)CUATRO (4)ELAVAMANOS PORTÁTIL AUTÓNOMO CON DISPENSADORES INCLUIDOS / UNIDADUT OFICON"},{"$f":"H1002","v":2266001.2799999998}]
[{"$f":"\"ate01-\"&B1003&\" \"&C1003&\" \"&D1003&\" \"&E1003","v":"ate01-C4S4-059 CUATRO (4) CUATRO (4) E"},"C4S4-059","CUATRO (4)","CUATRO (4)","E","LAVAMANOS PORTÁTIL AUTÓNOMO CON DISPENSADORES INCLUIDOS / UNIDAD","MIGUEL ANGEL VALLEJO BURGOS",1412058.56,{"$f":"B1003&G1003","v":"C4S4-059MIGUEL ANGEL VALLEJO BURGOS"},{"$f":"C1003&D1003&E1003&F1003","v":"CUATRO (4)CUATRO (4)ELAVAMANOS PORTÁTIL AUTÓNOMO CON DISPENSADORES INCLUIDOS / UNIDAD"},{"$f":"H1003","v":1412058.56},{"$f":"C1003&D1003&E1003&F1003&G1003","v":"CUATRO (4)CUATRO (4)ELAVAMANOS PORTÁTIL AUTÓNOMO CON DISPENSADORES INCLUIDOS / UNIDADMIGUEL ANGEL VALLEJO BURGOS"},{"$f":"B1003&H1003","v":"C4S4-0591412058.56"},{"$f":"G1003","v":"MIGUEL ANGEL VALLEJO BURGOS"},"Und",{"$f":"C1003&D1003&E1003&F1003&G1003","v":"CUATRO (4)CUATRO (4)ELAVAMANOS PORTÁTIL AUTÓNOMO CON DISPENSADORES INCLUIDOS / UNIDADMIGUEL ANGEL VALLEJO BURGOS"},{"$f":"H1003","v":1412058.56}]
[{"$f":"\"ate01-\"&B1004&\" \"&C1004&\" \"&D1004&\" \"&E1004","v":"ate01-C4S4-059 CUATRO (4) CUATRO (4) E"},"C4S4-059","CUATRO (4)","CUATRO (4)","E","LAVAMANOS PORTÁTIL AUTÓNOMO CON DISPENSADORES INCLUIDOS / UNIDAD","INVALCA",973029.12,{"$f":"B1004&G1004","v":"C4S4-059INVALCA"},{"$f":"C1004&D1004&E1004&F1004","v":"CUATRO (4)CUATRO (4)ELAVAMANOS PORTÁTIL AUTÓNOMO CON DISPENSADORES INCLUIDOS / UNIDAD"},{"$f":"H1004","v":973029.12},{"$f":"C1004&D1004&E1004&F1004&G1004","v":"CUATRO (4)CUATRO (4)ELAVAMANOS PORTÁTIL AUTÓNOMO CON DISPENSADORES INCLUIDOS / UNIDADINVALCA"},{"$f":"B1004&H1004","v":"C4S4-059973029.12"},{"$f":"G1004","v":"INVALCA"},"Und",{"$f":"C1004&D1004&E1004&F1004&G1004","v":"CUATRO (4)CUATRO (4)ELAVAMANOS PORTÁTIL AUTÓNOMO CON DISPENSADORES INCLUIDOS / UNIDADINVALCA"},{"$f":"H1004","v":973029.12}]
[{"$f":"\"ate01-\"&B1005&\" \"&C1005&\" \"&D1005&\" \"&E1005","v":"ate01-C4S4-060 CUATRO (4) CUATRO (4) B"},"C4S4-060","CUATRO (4)","CUATRO (4)","B","BOLSA AMARILLAS / PAQUETE POR 50 UNIDADES ","JM GRUPO",11676.35,{"$f":"B1005&G1005","v":"C4S4-060JM GRUPO"},{"$f":"C1005&D1005&E1005&F1005","v":"CUATRO (4)CUATRO (4)BBOLSA AMARILLAS / PAQUETE POR 50 UNIDADES "},{"$f":"H1005","v":11676.35},{"$f":"C1005&D1005&E1005&F1005&G1005","v":"CUATRO (4)CUATRO (4)BBOLSA AMARILLAS / PAQUETE POR 50 UNIDADES JM GRUPO"},{"$f":"B1005&H1005","v":"C4S4-06011676.35"},{"$f":"G1005","v":"JM GRUPO"},"Und",{"$f":"C1005&D1005&E1005&F1005&G1005","v":"CUATRO (4)CUATRO (4)BBOLSA AMARILLAS / PAQUETE POR 50 UNIDADES JM GRUPO"},{"$f":"H1005","v":11676.35}]
[{"$f":"\"ate01-\"&B1006&\" \"&C1006&\" \"&D1006&\" \"&E1006","v":"ate01-C4S4-060 CUATRO (4) CUATRO (4) B"},"C4S4-060","CUATRO (4)","CUATRO (4)","B","BOLSA AMARILLAS / PAQUETE POR 50 UNIDADES ","SUMIMAS S.A.S.",47503.28,{"$f":"B1006&G1006","v":"C4S4-060SUMIMAS S.A.S."},{"$f":"C1006&D1006&E1006&F1006","v":"CUATRO (4)CUATRO (4)BBOLSA AMARILLAS / PAQUETE POR 50 UNIDADES "},{"$f":"H1006","v":47503.28},{"$f":"C1006&D1006&E1006&F1006&G1006","v":"CUATRO (4)CUATRO (4)BBOLSA AMARILLAS / PAQUETE POR 50 UNIDADES SUMIMAS S.A.S."},{"$f":"B1006&H1006","v":"C4S4-06047503.28"},{"$f":"G1006","v":"SUMIMAS S.A.S."},"Und",{"$f":"C1006&D1006&E1006&F1006&G1006","v":"CUATRO (4)CUATRO (4)BBOLSA AMARILLAS / PAQUETE POR 50 UNIDADES SUMIMAS S.A.S."},{"$f":"H1006","v":47503.28}]
[{"$f":"\"ate01-\"&B1007&\" \"&C1007&\" \"&D1007&\" \"&E1007","v":"ate01-C4S4-060 CUATRO (4) CUATRO (4) B"},"C4S4-060","CUATRO (4)","CUATRO (4)","B","BOLSA AMARILLAS / PAQUETE POR 50 UNIDADES ","UNION TEMPORAL AYGEMA",25947.439999999999,{"$f":"B1007&G1007","v":"C4S4-060UNION TEMPORAL AYGEMA"},{"$f":"C1007&D1007&E1007&F1007","v":"CUATRO (4)CUATRO (4)BBOLSA AMARILLAS / PAQUETE POR 50 UNIDADES "},{"$f":"H1007","v":25947.439999999999},{"$f":"C1007&D1007&E1007&F1007&G1007","v":"CUATRO (4)CUATRO (4)BBOLSA AMARILLAS / PAQUETE POR 50 UNIDADES UNION TEMPORAL AYGEMA"},{"$f":"B1007&H1007","v":"C4S4-06025947.44"},{"$f":"G1007","v":"UNION TEMPORAL AYGEMA"},"Und",{"$f":"C1007&D1007&E1007&F1007&G1007","v":"CUATRO (4)CUATRO (4)BBOLSA AMARILLAS / PAQUETE POR 50 UNIDADES UNION TEMPORAL AYGEMA"},{"$f":"H1007","v":25947.439999999999}]
[{"$f":"\"ate01-\"&B1008&\" \"&C1008&\" \"&D1008&\" \"&E1008","v":"ate01-C4S4-060 CUATRO (4) CUATRO (4) B"},"C4S4-060","CUATRO (4)","CUATRO (4)","B","BOLSA AMARILLAS / PAQUETE POR 50 UNIDADES ","PLASTICOS MQ S.A.S.",17644.259999999998,{"$f":"B1008&G1008","v":"C4S4-060PLASTICOS MQ S.A.S."},{"$f":"C1008&D1008&E1008&F1008","v":"CUATRO (4)CUATRO (4)BBOLSA AMARILLAS / PAQUETE POR 50 UNIDADES "},{"$f":"H1008","v":17644.259999999998},{"$f":"C1008&D1008&E1008&F1008&G1008","v":"CUATRO (4)CUATRO (4)BBOLSA AMARILLAS / PAQUETE POR 50 UNIDADES PLASTICOS MQ S.A.S."},{"$f":"B1008&H1008","v":"C4S4-06017644.26"},{"$f":"G1008","v":"PLASTICOS MQ S.A.S."},"Und",{"$f":"C1008&D1008&E1008&F1008&G1008","v":"CUATRO (4)CUATRO (4)BBOLSA AMARILLAS / PAQUETE POR 50 UNIDADES PLASTICOS MQ S.A.S."},{"$f":"H1008","v":17644.259999999998}]
[{"$f":"\"ate01-\"&B1009&\" \"&C1009&\" \"&D1009&\" \"&E1009","v":"ate01-C4S4-060 CUATRO (4) CUATRO (4) B"},"C4S4-060","CUATRO (4)","CUATRO (4)","B","BOLSA AMARILLAS / PAQUETE POR 50 UNIDADES ","SUPRISA S.A.S.",18526.47,{"$f":"B1009&G1009","v":"C4S4-060SUPRISA S.A.S."},{"$f":"C1009&D1009&E1009&F1009","v":"CUATRO (4)CUATRO (4)BBOLSA AMARILLAS / PAQUETE POR 50 UNIDADES "},{"$f":"H1009","v":18526.47},{"$f":"C1009&D1009&E1009&F1009&G1009","v":"CUATRO (4)CUATRO (4)BBOLSA AMARILLAS / PAQUETE POR 50 UNIDADES SUPRISA S.A.S."},{"$f":"B1009&H1009","v":"C4S4-06018526.47"},{"$f":"G1009","v":"SUPRISA S.A.S."},"Und",{"$f":"C1009&D1009&E1009&F1009&G1009","v":"CUATRO (4)CUATRO (4)BBOLSA AMARILLAS / PAQUETE POR 50 UNIDADES SUPRISA S.A.S."},{"$f":"H1009","v":18526.47}]
[{"$f":"\"ate01-\"&B1010&\" \"&C1010&\" \"&D1010&\" \"&E1010","v":"ate01-C4S4-060 CUATRO (4) CUATRO (4) B"},"C4S4-060","CUATRO (4)","CUATRO (4)","B","BOLSA AMARILLAS / PAQUETE POR 50 UNIDADES ","MIGUEL ANGEL VALLEJO BURGOS",12496.29,{"$f":"B1010&G1010","v":"C4S4-060MIGUEL ANGEL VALLEJO BURGOS"},{"$f":"C1010&D1010&E1010&F1010","v":"CUATRO (4)CUATRO (4)BBOLSA AMARILLAS / PAQUETE POR 50 UNIDADES "},{"$f":"H1010","v":12496.29},{"$f":"C1010&D1010&E1010&F1010&G1010","v":"CUATRO (4)CUATRO (4)BBOLSA AMARILLAS / PAQUETE POR 50 UNIDADES MIGUEL ANGEL VALLEJO BURGOS"},{"$f":"B1010&H1010","v":"C4S4-06012496.29"},{"$f":"G1010","v":"MIGUEL ANGEL VALLEJO BURGOS"},"Und",{"$f":"C1010&D1010&E1010&F1010&G1010","v":"CUATRO (4)CUATRO (4)BBOLSA AMARILLAS / PAQUETE POR 50 UNIDADES MIGUEL ANGEL VALLEJO BURGOS"},{"$f":"H1010","v":12496.29}]
[{"$f":"\"ate01-\"&B1011&\" \"&C1011&\" \"&D1011&\" \"&E1011","v":"ate01-C4S4-061 CUATRO (4) CUATRO (4) B"},"C4S4-061","CUATRO (4)","CUATRO (4)","B","BOLSA ROJAS / PAQUETE POR 50 UNIDADES ","JM GRUPO",11676.35,{"$f":"B1011&G1011","v":"C4S4-061JM GRUPO"},{"$f":"C1011&D1011&E1011&F1011","v":"CUATRO (4)CUATRO (4)BBOLSA ROJAS / PAQUETE POR 50 UNIDADES "},{"$f":"H1011","v":11676.35},{"$f":"C1011&D1011&E1011&F1011&G1011","v":"CUATRO (4)CUATRO (4)BBOLSA ROJAS / PAQUETE POR 50 UNIDADES JM GRUPO"},{"$f":"B1011&H1011","v":"C4S4-06111676.35"},{"$f":"G1011","v":"JM GRUPO"},"Und",{"$f":"C1011&D1011&E1011&F1011&G1011","v":"CUATRO (4)CUATRO (4)BBOLSA ROJAS / PAQUETE POR 50 UNIDADES JM GRUPO"},{"$f":"H1011","v":11676.35}]
[{"$f":"\"ate01-\"&B1012&\" \"&C1012&\" \"&D1012&\" \"&E1012","v":"ate01-C4S4-061 CUATRO (4) CUATRO (4) B"},"C4S4-061","CUATRO (4)","CUATRO (4)","B","BOLSA ROJAS / PAQUETE POR 50 UNIDADES ","SUMIMAS S.A.S.",19960.07,{"$f":"B1012&G1012","v":"C4S4-061SUMIMAS S.A.S."},{"$f":"C1012&D1012&E1012&F1012","v":"CUATRO (4)CUATRO (4)BBOLSA ROJAS / PAQUETE POR 50 UNIDADES "},{"$f":"H1012","v":19960.07},{"$f":"C1012&D1012&E1012&F1012&G1012","v":"CUATRO (4)CUATRO (4)BBOLSA ROJAS / PAQUETE POR 50 UNIDADES SUMIMAS S.A.S."},{"$f":"B1012&H1012","v":"C4S4-06119960.07"},{"$f":"G1012","v":"SUMIMAS S.A.S."},"Und",{"$f":"C1012&D1012&E1012&F1012&G1012","v":"CUATRO (4)CUATRO (4)BBOLSA ROJAS / PAQUETE POR 50 UNIDADES SUMIMAS S.A.S."},{"$f":"H1012","v":19960.07}]
[{"$f":"\"ate01-\"&B1013&\" \"&C1013&\" \"&D1013&\" \"&E1013","v":"ate01-C4S4-061 CUATRO (4) CUATRO (4) B"},"C4S4-061","CUATRO (4)","CUATRO (4)","B","BOLSA ROJAS / PAQUETE POR 50 UNIDADES ","UNION TEMPORAL AYGEMA",19330.849999999999,{"$f":"B1013&G1013","v":"C4S4-061UNION TEMPORAL AYGEMA"},{"$f":"C1013&D1013&E1013&F1013","v":"CUATRO (4)CUATRO (4)BBOLSA ROJAS / PAQUETE POR 50 UNIDADES "},{"$f":"H1013","v":19330.849999999999},{"$f":"C1013&D1013&E1013&F1013&G1013","v":"CUATRO (4)CUATRO (4)BBOLSA ROJAS / PAQUETE POR 50 UNIDADES UNION TEMPORAL AYGEMA"},{"$f":"B1013&H1013","v":"C4S4-06119330.85"},{"$f":"G1013","v":"UNION TEMPORAL AYGEMA"},"Und",{"$f":"C1013&D1013&E1013&F1013&G1013","v":"CUATRO (4)CUATRO (4)BBOLSA ROJAS / PAQUETE POR 50 UNIDADES UNION TEMPORAL AYGEMA"},{"$f":"H1013","v":19330.849999999999}]
[{"$f":"\"ate01-\"&B1014&\" \"&C1014&\" \"&D1014&\" \"&E1014","v":"ate01-C4S4-061 CUATRO (4) CUATRO (4) B"},"C4S4-061","CUATRO (4)","CUATRO (4)","B","BOLSA ROJAS / PAQUETE POR 50 UNIDADES ","PLASTICOS MQ S.A.S.",21276.9,{"$f":"B1014&G1014","v":"C4S4-061PLASTICOS MQ S.A.S."},{"$f":"C1014&D1014&E1014&F1014","v":"CUATRO (4)CUATRO (4)BBOLSA ROJAS / PAQUETE POR 50 UNIDADES "},{"$f":"H1014","v":21276.9},{"$f":"C1014&D1014&E1014&F1014&G1014","v":"CUATRO (4)CUATRO (4)BBOLSA ROJAS / PAQUETE POR 50 UNIDADES PLASTICOS MQ S.A.S."},{"$f":"B1014&H1014","v":"C4S4-06121276.9"},{"$f":"G1014","v":"PLASTICOS MQ S.A.S."},"Und",{"$f":"C1014&D1014&E1014&F1014&G1014","v":"CUATRO (4)CUATRO (4)BBOLSA ROJAS / PAQUETE POR 50 UNIDADES PLASTICOS MQ S.A.S."},{"$f":"H1014","v":21276.9}]
[{"$f":"\"ate01-\"&B1015&\" \"&C1015&\" \"&D1015&\" \"&E1015","v":"ate01-C4S4-061 CUATRO (4) CUATRO (4) B"},"C4S4-061","CUATRO (4)","CUATRO (4)","B","BOLSA ROJAS / PAQUETE POR 50 UNIDADES ","SUPRISA S.A.S.",10652.72,{"$f":"B1015&G1015","v":"C4S4-061SUPRISA S.A.S."},{"$f":"C1015&D1015&E1015&F1015","v":"CUATRO (4)CUATRO (4)BBOLSA ROJAS / PAQUETE POR 50 UNIDADES "},{"$f":"H1015","v":10652.72},{"$f":"C1015&D1015&E1015&F1015&G1015","v":"CUATRO (4)CUATRO (4)BBOLSA ROJAS / PAQUETE POR 50 UNIDADES SUPRISA S.A.S."},{"$f":"B1015&H1015","v":"C4S4-06110652.72"},{"$f":"G1015","v":"SUPRISA S.A.S."},"Und",{"$f":"C1015&D1015&E1015&F1015&G1015","v":"CUATRO (4)CUATRO (4)BBOLSA ROJAS / PAQUETE POR 50 UNIDADES SUPRISA S.A.S."},{"$f":"H1015","v":10652.72}]
[{"$f":"\"ate01-\"&B1016&\" \"&C1016&\" \"&D1016&\" \"&E1016","v":"ate01-C4S4-061 CUATRO (4) CUATRO (4) B"},"C4S4-061","CUATRO (4)","CUATRO (4)","B","BOLSA ROJAS / PAQUETE POR 50 UNIDADES ","MIGUEL ANGEL VALLEJO BURGOS",15799.4,{"$f":"B1016&G1016","v":"C4S4-061MIGUEL ANGEL VALLEJO BURGOS"},{"$f":"C1016&D1016&E1016&F1016","v":"CUATRO (4)CUATRO (4)BBOLSA ROJAS / PAQUETE POR 50 UNIDADES "},{"$f":"H1016","v":15799.4},{"$f":"C1016&D1016&E1016&F1016&G1016","v":"CUATRO (4)CUATRO (4)BBOLSA ROJAS / PAQUETE POR 50 UNIDADES MIGUEL ANGEL VALLEJO BURGOS"},{"$f":"B1016&H1016","v":"C4S4-06115799.4"},{"$f":"G1016","v":"MIGUEL ANGEL VALLEJO BURGOS"},"Und",{"$f":"C1016&D1016&E1016&F1016&G1016","v":"CUATRO (4)CUATRO (4)BBOLSA ROJAS / PAQUETE POR 50 UNIDADES MIGUEL ANGEL VALLEJO BURGOS"},{"$f":"H1016","v":15799.4}]
[{"$f":"\"ate01-\"&B1017&\" \"&C1017&\" \"&D1017&\" \"&E1017","v":"ate01-C4S4-062 CUATRO (4) CUATRO (4) E"},"C4S4-062","CUATRO (4)","CUATRO (4)","E","LAVAMANOS PORTÁTIL AUTONOMO Y MOVIL, DUAL PARA POBLACIÓN OBJETIVO NIÑOS Y NIÑAS PREESCOLAR  / UNIDAD","C I WARRIORS COMPANY S.A.S.",804370.74,{"$f":"B1017&G1017","v":"C4S4-062C I WARRIORS COMPANY S.A.S."},{"$f":"C1017&D1017&E1017&F1017","v":"CUATRO (4)CUATRO (4)ELAVAMANOS PORTÁTIL AUTONOMO Y MOVIL, DUAL PARA POBLACIÓN OBJETIVO NIÑOS Y NIÑAS PREESCOLAR  / UNIDAD"},{"$f":"H1017","v":804370.74},{"$f":"C1017&D1017&E1017&F1017&G1017","v":"CUATRO (4)CUATRO (4)ELAVAMANOS PORTÁTIL AUTONOMO Y MOVIL, DUAL PARA POBLACIÓN OBJETIVO NIÑOS Y NIÑAS PREESCOLAR  / UNIDADC I WARRIORS COMPANY S.A.S."},{"$f":"B1017&H1017","v":"C4S4-062804370.74"},{"$f":"G1017","v":"C I WARRIORS COMPANY S.A.S."},"Und",{"$f":"C1017&D1017&E1017&F1017&G1017","v":"CUATRO (4)CUATRO (4)ELAVAMANOS PORTÁTIL AUTONOMO Y MOVIL, DUAL PARA POBLACIÓN OBJETIVO NIÑOS Y NIÑAS PREESCOLAR  / UNIDADC I WARRIORS COMPANY S.A.S."},{"$f":"H1017","v":804370.74}]
[{"$f":"\"ate01-\"&B1018&\" \"&C1018&\" \"&D1018&\" \"&E1018","v":"ate01-C4S4-062 CUATRO (4) CUATRO (4) E"},"C4S4-062","CUATRO (4)","CUATRO (4)","E","LAVAMANOS PORTÁTIL AUTONOMO Y MOVIL, DUAL PARA POBLACIÓN OBJETIVO NIÑOS Y NIÑAS PREESCOLAR  / UNIDAD","SUMIMAS S.A.S.",997978.88,{"$f":"B1018&G1018","v":"C4S4-062SUMIMAS S.A.S."},{"$f":"C1018&D1018&E1018&F1018","v":"CUATRO (4)CUATRO (4)ELAVAMANOS PORTÁTIL AUTONOMO Y MOVIL, DUAL PARA POBLACIÓN OBJETIVO NIÑOS Y NIÑAS PREESCOLAR  / UNIDAD"},{"$f":"H1018","v":997978.88},{"$f":"C1018&D1018&E1018&F1018&G1018","v":"CUATRO (4)CUATRO (4)ELAVAMANOS PORTÁTIL AUTONOMO Y MOVIL, DUAL PARA POBLACIÓN OBJETIVO NIÑOS Y NIÑAS PREESCOLAR  / UNIDADSUMIMAS S.A.S."},{"$f":"B1018&H1018","v":"C4S4-062997978.88"},{"$f":"G1018","v":"SUMIMAS S.A.S."},"Und",{"$f":"C1018&D1018&E1018&F1018&G1018","v":"CUATRO (4)CUATRO (4)ELAVAMANOS PORTÁTIL AUTONOMO Y MOVIL, DUAL PARA POBLACIÓN OBJETIVO NIÑOS Y NIÑAS PREESCOLAR  / UNIDADSUMIMAS S.A.S."},{"$f":"H1018","v":997978.88}]
[{"$f":"\"ate01-\"&B1019&\" \"&C1019&\" \"&D1019&\" \"&E1019","v":"ate01-C4S4-062 CUATRO (4) CUATRO (4) E"},"C4S4-062","CUATRO (4)","CUATRO (4)","E","LAVAMANOS PORTÁTIL AUTONOMO Y MOVIL, DUAL PARA POBLACIÓN OBJETIVO NIÑOS Y NIÑAS PREESCOLAR  / UNIDAD","UT EMERGENCIAS 2021",1427109.38,{"$f":"B1019&G1019","v":"C4S4-062UT EMERGENCIAS 2021"},{"$f":"C1019&D1019&E1019&F1019","v":"CUATRO (4)CUATRO (4)ELAVAMANOS PORTÁTIL AUTONOMO Y MOVIL, DUAL PARA POBLACIÓN OBJETIVO NIÑOS Y NIÑAS PREESCOLAR  / UNIDAD"},{"$f":"H1019","v":1427109.38},{"$f":"C1019&D1019&E1019&F1019&G1019","v":"CUATRO (4)CUATRO (4)ELAVAMANOS PORTÁTIL AUTONOMO Y MOVIL, DUAL PARA POBLACIÓN OBJETIVO NIÑOS Y NIÑAS PREESCOLAR  / UNIDADUT EMERGENCIAS 2021"},{"$f":"B1019&H1019","v":"C4S4-0621427109.38"},{"$f":"G1019","v":"UT EMERGENCIAS 2021"},"Und",{"$f":"C1019&D1019&E1019&F1019&G1019","v":"CUATRO (4)CUATRO (4)ELAVAMANOS PORTÁTIL AUTONOMO Y MOVIL, DUAL PARA POBLACIÓN OBJETIVO NIÑOS Y NIÑAS PREESCOLAR  / UNIDADUT EMERGENCIAS 2021"},{"$f":"H1019","v":1427109.38}]
[{"$f":"\"ate01-\"&B1020&\" \"&C1020&\" \"&D1020&\" \"&E1020","v":"ate01-C4S4-062 CUATRO (4) CUATRO (4) E"},"C4S4-062","CUATRO (4)","CUATRO (4)","E","LAVAMANOS PORTÁTIL AUTONOMO Y MOVIL, DUAL PARA POBLACIÓN OBJETIVO NIÑOS Y NIÑAS PREESCOLAR  / UNIDAD","UNION TEMPORAL AYGEMA",1362240.77,{"$f":"B1020&G1020","v":"C4S4-062UNION TEMPORAL AYGEMA"},{"$f":"C1020&D1020&E1020&F1020","v":"CUATRO (4)CUATRO (4)ELAVAMANOS PORTÁTIL AUTONOMO Y MOVIL, DUAL PARA POBLACIÓN OBJETIVO NIÑOS Y NIÑAS PREESCOLAR  / UNIDAD"},{"$f":"H1020","v":1362240.77},{"$f":"C1020&D1020&E1020&F1020&G1020","v":"CUATRO (4)CUATRO (4)ELAVAMANOS PORTÁTIL AUTONOMO Y MOVIL, DUAL PARA POBLACIÓN OBJETIVO NIÑOS Y NIÑAS PREESCOLAR  / UNIDADUNION TEMPORAL AYGEMA"},{"$f":"B1020&H1020","v":"C4S4-0621362240.77"},{"$f":"G1020","v":"UNION TEMPORAL AYGEMA"},"Und",{"$f":"C1020&D1020&E1020&F1020&G1020","v":"CUATRO (4)CUATRO (4)ELAVAMANOS PORTÁTIL AUTONOMO Y MOVIL, DUAL PARA POBLACIÓN OBJETIVO NIÑOS Y NIÑAS PREESCOLAR  / UNIDADUNION TEMPORAL AYGEMA"},{"$f":"H1020","v":1362240.77}]
[{"$f":"\"ate01-\"&B1021&\" \"&C1021&\" \"&D1021&\" \"&E1021","v":"ate01-C4S4-062 CUATRO (4) CUATRO (4) E"},"C4S4-062","CUATRO (4)","CUATRO (4)","E","LAVAMANOS PORTÁTIL AUTONOMO Y MOVIL, DUAL PARA POBLACIÓN OBJETIVO NIÑOS Y NIÑAS PREESCOLAR  / UNIDAD","UT OFICON",1903441.07,{"$f":"B1021&G1021","v":"C4S4-062UT OFICON"},{"$f":"C1021&D1021&E1021&F1021","v":"CUATRO (4)CUATRO (4)ELAVAMANOS PORTÁTIL AUTONOMO Y MOVIL, DUAL PARA POBLACIÓN OBJETIVO NIÑOS Y NIÑAS PREESCOLAR  / UNIDAD"},{"$f":"H1021","v":1903441.07},{"$f":"C1021&D1021&E1021&F1021&G1021","v":"CUATRO (4)CUATRO (4)ELAVAMANOS PORTÁTIL AUTONOMO Y MOVIL, DUAL PARA POBLACIÓN OBJETIVO NIÑOS Y NIÑAS PREESCOLAR  / UNIDADUT OFICON"},{"$f":"B1021&H1021","v":"C4S4-0621903441.07"},{"$f":"G1021","v":"UT OFICON"},"Und",{"$f":"C1021&D1021&E1021&F1021&G1021","v":"CUATRO (4)CUATRO (4)ELAVAMANOS PORTÁTIL AUTONOMO Y MOVIL, DUAL PARA POBLACIÓN OBJETIVO NIÑOS Y NIÑAS PREESCOLAR  / UNIDADUT OFICON"},{"$f":"H1021","v":1903441.07}]
[{"$f":"\"ate01-\"&B1022&\" \"&C1022&\" \"&D1022&\" \"&E1022","v":"ate01-C4S4-062 CUATRO (4) CUATRO (4) E"},"C4S4-062","CUATRO (4)","CUATRO (4)","E","LAVAMANOS PORTÁTIL AUTONOMO Y MOVIL, DUAL PARA POBLACIÓN OBJETIVO NIÑOS Y NIÑAS PREESCOLAR  / UNIDAD","MIGUEL ANGEL VALLEJO BURGOS",844115.74,{"$f":"B1022&G1022","v":"C4S4-062MIGUEL ANGEL VALLEJO BURGOS"},{"$f":"C1022&D1022&E1022&F1022","v":"CUATRO (4)CUATRO (4)ELAVAMANOS PORTÁTIL AUTONOMO Y MOVIL, DUAL PARA POBLACIÓN OBJETIVO NIÑOS Y NIÑAS PREESCOLAR  / UNIDAD"},{"$f":"H1022","v":844115.74},{"$f":"C1022&D1022&E1022&F1022&G1022","v":"CUATRO (4)CUATRO (4)ELAVAMANOS PORTÁTIL AUTONOMO Y MOVIL, DUAL PARA POBLACIÓN OBJETIVO NIÑOS Y NIÑAS PREESCOLAR  / UNIDADMIGUEL ANGEL VALLEJO BURGOS"},{"$f":"B1022&H1022","v":"C4S4-062844115.74"},{"$f":"G1022","v":"MIGUEL ANGEL VALLEJO BURGOS"},"Und",{"$f":"C1022&D1022&E1022&F1022&G1022","v":"CUATRO (4)CUATRO (4)ELAVAMANOS PORTÁTIL AUTONOMO Y MOVIL, DUAL PARA POBLACIÓN OBJETIVO NIÑOS Y NIÑAS PREESCOLAR  / UNIDADMIGUEL ANGEL VALLEJO BURGOS"},{"$f":"H1022","v":844115.74}]
[{"$f":"\"ate01-\"&B1023&\" \"&C1023&\" \"&D1023&\" \"&E1023","v":"ate01-C4S4-062 CUATRO (4) CUATRO (4) E"},"C4S4-062","CUATRO (4)","CUATRO (4)","E","LAVAMANOS PORTÁTIL AUTONOMO Y MOVIL, DUAL PARA POBLACIÓN OBJETIVO NIÑOS Y NIÑAS PREESCOLAR  / UNIDAD","INVALCA",934107.96,{"$f":"B1023&G1023","v":"C4S4-062INVALCA"},{"$f":"C1023&D1023&E1023&F1023","v":"CUATRO (4)CUATRO (4)ELAVAMANOS PORTÁTIL AUTONOMO Y MOVIL, DUAL PARA POBLACIÓN OBJETIVO NIÑOS Y NIÑAS PREESCOLAR  / UNIDAD"},{"$f":"H1023","v":934107.96},{"$f":"C1023&D1023&E1023&F1023&G1023","v":"CUATRO (4)CUATRO (4)ELAVAMANOS PORTÁTIL AUTONOMO Y MOVIL, DUAL PARA POBLACIÓN OBJETIVO NIÑOS Y NIÑAS PREESCOLAR  / UNIDADINVALCA"},{"$f":"B1023&H1023","v":"C4S4-062934107.96"},{"$f":"G1023","v":"INVALCA"},"Und",{"$f":"C1023&D1023&E1023&F1023&G1023","v":"CUATRO (4)CUATRO (4)ELAVAMANOS PORTÁTIL AUTONOMO Y MOVIL, DUAL PARA POBLACIÓN OBJETIVO NIÑOS Y NIÑAS PREESCOLAR  / UNIDADINVALCA"},{"$f":"H1023","v":934107.96}]
[{"$f":"\"ate01-\"&B1024&\" \"&C1024&\" \"&D1024&\" \"&E1024","v":"ate01-C4S4-063 CUATRO (4) CUATRO (4) E"},"C4S4-063","CUATRO (4)","CUATRO (4)","E","LAVAMANOS PORTÁTIL AUTONOMO Y MOVIL, DUAL PARA POBLACIÓN OBJETIVO NINOS Y NIÑAS DE PRIMARIA / UNIDAD","C I WARRIORS COMPANY S.A.S.",988597.59,{"$f":"B1024&G1024","v":"C4S4-063C I WARRIORS COMPANY S.A.S."},{"$f":"C1024&D1024&E1024&F1024","v":"CUATRO (4)CUATRO (4)ELAVAMANOS PORTÁTIL AUTONOMO Y MOVIL, DUAL PARA POBLACIÓN OBJETIVO NINOS Y NIÑAS DE PRIMARIA / UNIDAD"},{"$f":"H1024","v":988597.59},{"$f":"C1024&D1024&E1024&F1024&G1024","v":"CUATRO (4)CUATRO (4)ELAVAMANOS PORTÁTIL AUTONOMO Y MOVIL, DUAL PARA POBLACIÓN OBJETIVO NINOS Y NIÑAS DE PRIMARIA / UNIDADC I WARRIORS COMPANY S.A.S."},{"$f":"B1024&H1024","v":"C4S4-063988597.59"},{"$f":"G1024","v":"C I WARRIORS COMPANY S.A.S."},"Und",{"$f":"C1024&D1024&E1024&F1024&G1024","v":"CUATRO (4)CUATRO (4)ELAVAMANOS PORTÁTIL AUTONOMO Y MOVIL, DUAL PARA POBLACIÓN OBJETIVO NINOS Y NIÑAS DE PRIMARIA / UNIDADC I WARRIORS COMPANY S.A.S."},{"$f":"H1024","v":988597.59}]
[{"$f":"\"ate01-\"&B1025&\" \"&C1025&\" \"&D1025&\" \"&E1025","v":"ate01-C4S4-063 CUATRO (4) CUATRO (4) E"},"C4S4-063","CUATRO (4)","CUATRO (4)","E","LAVAMANOS PORTÁTIL AUTONOMO Y MOVIL, DUAL PARA POBLACIÓN OBJETIVO NINOS Y NIÑAS DE PRIMARIA / UNIDAD","SUMIMAS S.A.S.",997978.88,{"$f":"B1025&G1025","v":"C4S4-063SUMIMAS S.A.S."},{"$f":"C1025&D1025&E1025&F1025","v":"CUATRO (4)CUATRO (4)ELAVAMANOS PORTÁTIL AUTONOMO Y MOVIL, DUAL PARA POBLACIÓN OBJETIVO NINOS Y NIÑAS DE PRIMARIA / UNIDAD"},{"$f":"H1025","v":997978.88},{"$f":"C1025&D1025&E1025&F1025&G1025","v":"CUATRO (4)CUATRO (4)ELAVAMANOS PORTÁTIL AUTONOMO Y MOVIL, DUAL PARA POBLACIÓN OBJETIVO NINOS Y NIÑAS DE PRIMARIA / UNIDADSUMIMAS S.A.S."},{"$f":"B1025&H1025","v":"C4S4-063997978.88"},{"$f":"G1025","v":"SUMIMAS S.A.S."},"Und",{"$f":"C1025&D1025&E1025&F1025&G1025","v":"CUATRO (4)CUATRO (4)ELAVAMANOS PORTÁTIL AUTONOMO Y MOVIL, DUAL PARA POBLACIÓN OBJETIVO NINOS Y NIÑAS DE PRIMARIA / UNIDADSUMIMAS S.A.S."},{"$f":"H1025","v":997978.88}]
[{"$f":"\"ate01-\"&B1026&\" \"&C1026&\" \"&D1026&\" \"&E1026","v":"ate01-C4S4-063 CUATRO (4) CUATRO (4) E"},"C4S4-063","CUATRO (4)","CUATRO (4)","E","LAVAMANOS PORTÁTIL AUTONOMO Y MOVIL, DUAL PARA POBLACIÓN OBJETIVO NINOS Y NIÑAS DE PRIMARIA / UNIDAD","UT EMERGENCIAS 2021",1427109.38,{"$f":"B1026&G1026","v":"C4S4-063UT EMERGENCIAS 2021"},{"$f":"C1026&D1026&E1026&F1026","v":"CUATRO (4)CUATRO (4)ELAVAMANOS PORTÁTIL AUTONOMO Y MOVIL, DUAL PARA POBLACIÓN OBJETIVO NINOS Y NIÑAS DE PRIMARIA / UNIDAD"},{"$f":"H1026","v":1427109.38},{"$f":"C1026&D1026&E1026&F1026&G1026","v":"CUATRO (4)CUATRO (4)ELAVAMANOS PORTÁTIL AUTONOMO Y MOVIL, DUAL PARA POBLACIÓN OBJETIVO NINOS Y NIÑAS DE PRIMARIA / UNIDADUT EMERGENCIAS 2021"},{"$f":"B1026&H1026","v":"C4S4-0631427109.38"},{"$f":"G1026","v":"UT EMERGENCIAS 2021"},"Und",{"$f":"C1026&D1026&E1026&F1026&G1026","v":"CUATRO (4)CUATRO (4)ELAVAMANOS PORTÁTIL AUTONOMO Y MOVIL, DUAL PARA POBLACIÓN OBJETIVO NINOS Y NIÑAS DE PRIMARIA / UNIDADUT EMERGENCIAS 2021"},{"$f":"H1026","v":1427109.38}]
[{"$f":"\"ate01-\"&B1027&\" \"&C1027&\" \"&D1027&\" \"&E1027","v":"ate01-C4S4-063 CUATRO (4) CUATRO (4) E"},"C4S4-063","CUATRO (4)","CUATRO (4)","E","LAVAMANOS PORTÁTIL AUTONOMO Y MOVIL, DUAL PARA POBLACIÓN OBJETIVO NINOS Y NIÑAS DE PRIMARIA / UNIDAD","UNION TEMPORAL AYGEMA",1362240.77,{"$f":"B1027&G1027","v":"C4S4-063UNION TEMPORAL AYGEMA"},{"$f":"C1027&D1027&E1027&F1027","v":"CUATRO (4)CUATRO (4)ELAVAMANOS PORTÁTIL AUTONOMO Y MOVIL, DUAL PARA POBLACIÓN OBJETIVO NINOS Y NIÑAS DE PRIMARIA / UNIDAD"},{"$f":"H1027","v":1362240.77},{"$f":"C1027&D1027&E1027&F1027&G1027","v":"CUATRO (4)CUATRO (4)ELAVAMANOS PORTÁTIL AUTONOMO Y MOVIL, DUAL PARA POBLACIÓN OBJETIVO NINOS Y NIÑAS DE PRIMARIA / UNIDADUNION TEMPORAL AYGEMA"},{"$f":"B1027&H1027","v":"C4S4-0631362240.77"},{"$f":"G1027","v":"UNION TEMPORAL AYGEMA"},"Und",{"$f":"C1027&D1027&E1027&F1027&G1027","v":"CUATRO (4)CUATRO (4)ELAVAMANOS PORTÁTIL AUTONOMO Y MOVIL, DUAL PARA POBLACIÓN OBJETIVO NINOS Y NIÑAS DE PRIMARIA / UNIDADUNION TEMPORAL AYGEMA"},{"$f":"H1027","v":1362240.77}]
[{"$f":"\"ate01-\"&B1028&\" \"&C1028&\" \"&D1028&\" \"&E1028","v":"ate01-C4S4-063 CUATRO (4) CUATRO (4) E"},"C4S4-063","CUATRO (4)","CUATRO (4)","E","LAVAMANOS PORTÁTIL AUTONOMO Y MOVIL, DUAL PARA POBLACIÓN OBJETIVO NINOS Y NIÑAS DE PRIMARIA / UNIDAD","UT OFICON",2139105.21,{"$f":"B1028&G1028","v":"C4S4-063UT OFICON"},{"$f":"C1028&D1028&E1028&F1028","v":"CUATRO (4)CUATRO (4)ELAVAMANOS PORTÁTIL AUTONOMO Y MOVIL, DUAL PARA POBLACIÓN OBJETIVO NINOS Y NIÑAS DE PRIMARIA / UNIDAD"},{"$f":"H1028","v":2139105.21},{"$f":"C1028&D1028&E1028&F1028&G1028","v":"CUATRO (4)CUATRO (4)ELAVAMANOS PORTÁTIL AUTONOMO Y MOVIL, DUAL PARA POBLACIÓN OBJETIVO NINOS Y NIÑAS DE PRIMARIA / UNIDADUT OFICON"},{"$f":"B1028&H1028","v":"C4S4-0632139105.21"},{"$f":"G1028","v":"UT OFICON"},"Und",{"$f":"C1028&D1028&E1028&F1028&G1028","v":"CUATRO (4)CUATRO (4)ELAVAMANOS PORTÁTIL AUTONOMO Y MOVIL, DUAL PARA POBLACIÓN OBJETIVO NINOS Y NIÑAS DE PRIMARIA / UNIDADUT OFICON"},{"$f":"H1028","v":2139105.21}]
[{"$f":"\"ate01-\"&B1029&\" \"&C1029&\" \"&D1029&\" \"&E1029","v":"ate01-C4S4-063 CUATRO (4) CUATRO (4) E"},"C4S4-063","CUATRO (4)","CUATRO (4)","E","LAVAMANOS PORTÁTIL AUTONOMO Y MOVIL, DUAL PARA POBLACIÓN OBJETIVO NINOS Y NIÑAS DE PRIMARIA / UNIDAD","MIGUEL ANGEL VALLEJO BURGOS",853197.34,{"$f":"B1029&G1029","v":"C4S4-063MIGUEL ANGEL VALLEJO BURGOS"},{"$f":"C1029&D1029&E1029&F1029","v":"CUATRO (4)CUATRO (4)ELAVAMANOS PORTÁTIL AUTONOMO Y MOVIL, DUAL PARA POBLACIÓN OBJETIVO NINOS Y NIÑAS DE PRIMARIA / UNIDAD"},{"$f":"H1029","v":853197.34},{"$f":"C1029&D1029&E1029&F1029&G1029","v":"CUATRO (4)CUATRO (4)ELAVAMANOS PORTÁTIL AUTONOMO Y MOVIL, DUAL PARA POBLACIÓN OBJETIVO NINOS Y NIÑAS DE PRIMARIA / UNIDADMIGUEL ANGEL VALLEJO BURGOS"},{"$f":"B1029&H1029","v":"C4S4-063853197.34"},{"$f":"G1029","v":"MIGUEL ANGEL VALLEJO BURGOS"},"Und",{"$f":"C1029&D1029&E1029&F1029&G1029","v":"CUATRO (4)CUATRO (4)ELAVAMANOS PORTÁTIL AUTONOMO Y MOVIL, DUAL PARA POBLACIÓN OBJETIVO NINOS Y NIÑAS DE PRIMARIA / UNIDADMIGUEL ANGEL VALLEJO BURGOS"},{"$f":"H1029","v":853197.34}]
[{"$f":"\"ate01-\"&B1030&\" \"&C1030&\" \"&D1030&\" \"&E1030","v":"ate01-C4S4-063 CUATRO (4) CUATRO (4) E"},"C4S4-063","CUATRO (4)","CUATRO (4)","E","LAVAMANOS PORTÁTIL AUTONOMO Y MOVIL, DUAL PARA POBLACIÓN OBJETIVO NINOS Y NIÑAS DE PRIMARIA / UNIDAD","INVALCA",934107.96,{"$f":"B1030&G1030","v":"C4S4-063INVALCA"},{"$f":"C1030&D1030&E1030&F1030","v":"CUATRO (4)CUATRO (4)ELAVAMANOS PORTÁTIL AUTONOMO Y MOVIL, DUAL PARA POBLACIÓN OBJETIVO NINOS Y NIÑAS DE PRIMARIA / UNIDAD"},{"$f":"H1030","v":934107.96},{"$f":"C1030&D1030&E1030&F1030&G1030","v":"CUATRO (4)CUATRO (4)ELAVAMANOS PORTÁTIL AUTONOMO Y MOVIL, DUAL PARA POBLACIÓN OBJETIVO NINOS Y NIÑAS DE PRIMARIA / UNIDADINVALCA"},{"$f":"B1030&H1030","v":"C4S4-063934107.96"},{"$f":"G1030","v":"INVALCA"},"Und",{"$f":"C1030&D1030&E1030&F1030&G1030","v":"CUATRO (4)CUATRO (4)ELAVAMANOS PORTÁTIL AUTONOMO Y MOVIL, DUAL PARA POBLACIÓN OBJETIVO NINOS Y NIÑAS DE PRIMARIA / UNIDADINVALCA"},{"$f":"H1030","v":934107.96}]
[{"$f":"\"ate01-\"&B1031&\" \"&C1031&\" \"&D1031&\" \"&E1031","v":"ate01-C4S4-064 CUATRO (4) CUATRO (4) C"},"C4S4-064","CUATRO (4)","CUATRO (4)","C","KIT DE ASEO FAMILIAR / UNIDAD","SUMIMAS S.A.S.",80237.279999999999,{"$f":"B1031&G1031","v":"C4S4-064SUMIMAS S.A.S."},{"$f":"C1031&D1031&E1031&F1031","v":"CUATRO (4)CUATRO (4)CKIT DE ASEO FAMILIAR / UNIDAD"},{"$f":"H1031","v":80237.279999999999},{"$f":"C1031&D1031&E1031&F1031&G1031","v":"CUATRO (4)CUATRO (4)CKIT DE ASEO FAMILIAR / UNIDADSUMIMAS S.A.S."},{"$f":"B1031&H1031","v":"C4S4-06480237.28"},{"$f":"G1031","v":"SUMIMAS S.A.S."},"Und",{"$f":"C1031&D1031&E1031&F1031&G1031","v":"CUATRO (4)CUATRO (4)CKIT DE ASEO FAMILIAR / UNIDADSUMIMAS S.A.S."},{"$f":"H1031","v":80237.279999999999}]
[{"$f":"\"ate01-\"&B1032&\" \"&C1032&\" \"&D1032&\" \"&E1032","v":"ate01-C4S4-064 CUATRO (4) CUATRO (4) C"},"C4S4-064","CUATRO (4)","CUATRO (4)","C","KIT DE ASEO FAMILIAR / UNIDAD","UNION TEMPORAL AYGEMA",52543.57,{"$f":"B1032&G1032","v":"C4S4-064UNION TEMPORAL AYGEMA"},{"$f":"C1032&D1032&E1032&F1032","v":"CUATRO (4)CUATRO (4)CKIT DE ASEO FAMILIAR / UNIDAD"},{"$f":"H1032","v":52543.57},{"$f":"C1032&D1032&E1032&F1032&G1032","v":"CUATRO (4)CUATRO (4)CKIT DE ASEO FAMILIAR / UNIDADUNION TEMPORAL AYGEMA"},{"$f":"B1032&H1032","v":"C4S4-06452543.57"},{"$f":"G1032","v":"UNION TEMPORAL AYGEMA"},"Und",{"$f":"C1032&D1032&E1032&F1032&G1032","v":"CUATRO (4)CUATRO (4)CKIT DE ASEO FAMILIAR / UNIDADUNION TEMPORAL AYGEMA"},{"$f":"H1032","v":52543.57}]
[{"$f":"\"ate01-\"&B1033&\" \"&C1033&\" \"&D1033&\" \"&E1033","v":"ate01-C4S4-064 CUATRO (4) CUATRO (4) C"},"C4S4-064","CUATRO (4)","CUATRO (4)","C","KIT DE ASEO FAMILIAR / UNIDAD","UT SS 2021- CCENEG- 041-01-2021",44048.38,{"$f":"B1033&G1033","v":"C4S4-064UT SS 2021- CCENEG- 041-01-2021"},{"$f":"C1033&D1033&E1033&F1033","v":"CUATRO (4)CUATRO (4)CKIT DE ASEO FAMILIAR / UNIDAD"},{"$f":"H1033","v":44048.38},{"$f":"C1033&D1033&E1033&F1033&G1033","v":"CUATRO (4)CUATRO (4)CKIT DE ASEO FAMILIAR / UNIDADUT SS 2021- CCENEG- 041-01-2021"},{"$f":"B1033&H1033","v":"C4S4-06444048.38"},{"$f":"G1033","v":"UT SS 2021- CCENEG- 041-01-2021"},"Und",{"$f":"C1033&D1033&E1033&F1033&G1033","v":"CUATRO (4)CUATRO (4)CKIT DE ASEO FAMILIAR / UNIDADUT SS 2021- CCENEG- 041-01-2021"},{"$f":"H1033","v":44048.38}]
[{"$f":"\"ate01-\"&B1034&\" \"&C1034&\" \"&D1034&\" \"&E1034","v":"ate01-C4S4-064 CUATRO (4) CUATRO (4) C"},"C4S4-064","CUATRO (4)","CUATRO (4)","C","KIT DE ASEO FAMILIAR / UNIDAD","SUPRISA S.A.S.",51246.2,{"$f":"B1034&G1034","v":"C4S4-064SUPRISA S.A.S."},{"$f":"C1034&D1034&E1034&F1034","v":"CUATRO (4)CUATRO (4)CKIT DE ASEO FAMILIAR / UNIDAD"},{"$f":"H1034","v":51246.2},{"$f":"C1034&D1034&E1034&F1034&G1034","v":"CUATRO (4)CUATRO (4)CKIT DE ASEO FAMILIAR / UNIDADSUPRISA S.A.S."},{"$f":"B1034&H1034","v":"C4S4-06451246.2"},{"$f":"G1034","v":"SUPRISA S.A.S."},"Und",{"$f":"C1034&D1034&E1034&F1034&G1034","v":"CUATRO (4)CUATRO (4)CKIT DE ASEO FAMILIAR / UNIDADSUPRISA S.A.S."},{"$f":"H1034","v":51246.2}]
[{"$f":"\"ate01-\"&B1035&\" \"&C1035&\" \"&D1035&\" \"&E1035","v":"ate01-C4S4-064 CUATRO (4) CUATRO (4) C"},"C4S4-064","CUATRO (4)","CUATRO (4)","C","KIT DE ASEO FAMILIAR / UNIDAD","COMERCIALIZADORA DINPRO S.A.S.",75507.06,{"$f":"B1035&G1035","v":"C4S4-064COMERCIALIZADORA DINPRO S.A.S."},{"$f":"C1035&D1035&E1035&F1035","v":"CUATRO (4)CUATRO (4)CKIT DE ASEO FAMILIAR / UNIDAD"},{"$f":"H1035","v":75507.06},{"$f":"C1035&D1035&E1035&F1035&G1035","v":"CUATRO (4)CUATRO (4)CKIT DE ASEO FAMILIAR / UNIDADCOMERCIALIZADORA DINPRO S.A.S."},{"$f":"B1035&H1035","v":"C4S4-06475507.06"},{"$f":"G1035","v":"COMERCIALIZADORA DINPRO S.A.S."},"Und",{"$f":"C1035&D1035&E1035&F1035&G1035","v":"CUATRO (4)CUATRO (4)CKIT DE ASEO FAMILIAR / UNIDADCOMERCIALIZADORA DINPRO S.A.S."},{"$f":"H1035","v":75507.06}]
[{"$f":"\"ate01-\"&B1036&\" \"&C1036&\" \"&D1036&\" \"&E1036","v":"ate01-C4S4-064 CUATRO (4) CUATRO (4) C"},"C4S4-064","CUATRO (4)","CUATRO (4)","C","KIT DE ASEO FAMILIAR / UNIDAD","MIGUEL ANGEL VALLEJO BURGOS",45408.03,{"$f":"B1036&G1036","v":"C4S4-064MIGUEL ANGEL VALLEJO BURGOS"},{"$f":"C1036&D1036&E1036&F1036","v":"CUATRO (4)CUATRO (4)CKIT DE ASEO FAMILIAR / UNIDAD"},{"$f":"H1036","v":45408.03},{"$f":"C1036&D1036&E1036&F1036&G1036","v":"CUATRO (4)CUATRO (4)CKIT DE ASEO FAMILIAR / UNIDADMIGUEL ANGEL VALLEJO BURGOS"},{"$f":"B1036&H1036","v":"C4S4-06445408.03"},{"$f":"G1036","v":"MIGUEL ANGEL VALLEJO BURGOS"},"Und",{"$f":"C1036&D1036&E1036&F1036&G1036","v":"CUATRO (4)CUATRO (4)CKIT DE ASEO FAMILIAR / UNIDADMIGUEL ANGEL VALLEJO BURGOS"},{"$f":"H1036","v":45408.03}]
[{"$f":"\"ate01-\"&B1037&\" \"&C1037&\" \"&D1037&\" \"&E1037","v":"ate01-C4S4-065 CUATRO (4) CUATRO (4) E"},"C4S4-065","CUATRO (4)","CUATRO (4)","E","OVEROL FONTANERO INDUSTRIA","INVERSIONES SARHEM DE COLOMBIA S.A.S.",280000,{"$f":"B1037&G1037","v":"C4S4-065INVERSIONES SARHEM DE COLOMBIA S.A.S."},{"$f":"C1037&D1037&E1037&F1037","v":"CUATRO (4)CUATRO (4)EOVEROL FONTANERO INDUSTRIA"},{"$f":"H1037","v":280000},{"$f":"C1037&D1037&E1037&F1037&G1037","v":"CUATRO (4)CUATRO (4)EOVEROL FONTANERO INDUSTRIAINVERSIONES SARHEM DE COLOMBIA S.A.S."},{"$f":"B1037&H1037","v":"C4S4-065280000"},{"$f":"G1037","v":"INVERSIONES SARHEM DE COLOMBIA S.A.S."},"Und",{"$f":"C1037&D1037&E1037&F1037&G1037","v":"CUATRO (4)CUATRO (4)EOVEROL FONTANERO INDUSTRIAINVERSIONES SARHEM DE COLOMBIA S.A.S."},{"$f":"H1037","v":280000}]
[{"$f":"\"ate01-\"&B1038&\" \"&C1038&\" \"&D1038&\" \"&E1038","v":"ate01-C4S4-065 CUATRO (4) CUATRO (4) E"},"C4S4-065","CUATRO (4)","CUATRO (4)","E","OVEROL FONTANERO INDUSTRIA","UNION TEMPORAL AYGEMA",200000,{"$f":"B1038&G1038","v":"C4S4-065UNION TEMPORAL AYGEMA"},{"$f":"C1038&D1038&E1038&F1038","v":"CUATRO (4)CUATRO (4)EOVEROL FONTANERO INDUSTRIA"},{"$f":"H1038","v":200000},{"$f":"C1038&D1038&E1038&F1038&G1038","v":"CUATRO (4)CUATRO (4)EOVEROL FONTANERO INDUSTRIAUNION TEMPORAL AYGEMA"},{"$f":"B1038&H1038","v":"C4S4-065200000"},{"$f":"G1038","v":"UNION TEMPORAL AYGEMA"},"Und",{"$f":"C1038&D1038&E1038&F1038&G1038","v":"CUATRO (4)CUATRO (4)EOVEROL FONTANERO INDUSTRIAUNION TEMPORAL AYGEMA"},{"$f":"H1038","v":200000}]
[{"$f":"\"ate01-\"&B1039&\" \"&C1039&\" \"&D1039&\" \"&E1039","v":"ate01-C4S4-065 CUATRO (4) CUATRO (4) E"},"C4S4-065","CUATRO (4)","CUATRO (4)","E","OVEROL FONTANERO INDUSTRIA","UT SS 2021- CCENEG- 041-01-2021",342000,{"$f":"B1039&G1039","v":"C4S4-065UT SS 2021- CCENEG- 041-01-2021"},{"$f":"C1039&D1039&E1039&F1039","v":"CUATRO (4)CUATRO (4)EOVEROL FONTANERO INDUSTRIA"},{"$f":"H1039","v":342000},{"$f":"C1039&D1039&E1039&F1039&G1039","v":"CUATRO (4)CUATRO (4)EOVEROL FONTANERO INDUSTRIAUT SS 2021- CCENEG- 041-01-2021"},{"$f":"B1039&H1039","v":"C4S4-065342000"},{"$f":"G1039","v":"UT SS 2021- CCENEG- 041-01-2021"},"Und",{"$f":"C1039&D1039&E1039&F1039&G1039","v":"CUATRO (4)CUATRO (4)EOVEROL FONTANERO INDUSTRIAUT SS 2021- CCENEG- 041-01-2021"},{"$f":"H1039","v":342000}]
[{"$f":"\"ate01-\"&B1040&\" \"&C1040&\" \"&D1040&\" \"&E1040","v":"ate01-C4S4-065 CUATRO (4) CUATRO (4) E"},"C4S4-065","CUATRO (4)","CUATRO (4)","E","OVEROL FONTANERO INDUSTRIA","RES-Q SOLUTIONS",325000,{"$f":"B1040&G1040","v":"C4S4-065RES-Q SOLUTIONS"},{"$f":"C1040&D1040&E1040&F1040","v":"CUATRO (4)CUATRO (4)EOVEROL FONTANERO INDUSTRIA"},{"$f":"H1040","v":325000},{"$f":"C1040&D1040&E1040&F1040&G1040","v":"CUATRO (4)CUATRO (4)EOVEROL FONTANERO INDUSTRIARES-Q SOLUTIONS"},{"$f":"B1040&H1040","v":"C4S4-065325000"},{"$f":"G1040","v":"RES-Q SOLUTIONS"},"Und",{"$f":"C1040&D1040&E1040&F1040&G1040","v":"CUATRO (4)CUATRO (4)EOVEROL FONTANERO INDUSTRIARES-Q SOLUTIONS"},{"$f":"H1040","v":325000}]
[{"$f":"\"ate01-\"&B1041&\" \"&C1041&\" \"&D1041&\" \"&E1041","v":"ate01-C4S4-065 CUATRO (4) CUATRO (4) E"},"C4S4-065","CUATRO (4)","CUATRO (4)","E","OVEROL FONTANERO INDUSTRIA","YUBARTA S.A.S.",250197.5,{"$f":"B1041&G1041","v":"C4S4-065YUBARTA S.A.S."},{"$f":"C1041&D1041&E1041&F1041","v":"CUATRO (4)CUATRO (4)EOVEROL FONTANERO INDUSTRIA"},{"$f":"H1041","v":250197.5},{"$f":"C1041&D1041&E1041&F1041&G1041","v":"CUATRO (4)CUATRO (4)EOVEROL FONTANERO INDUSTRIAYUBARTA S.A.S."},{"$f":"B1041&H1041","v":"C4S4-065250197.5"},{"$f":"G1041","v":"YUBARTA S.A.S."},"Und",{"$f":"C1041&D1041&E1041&F1041&G1041","v":"CUATRO (4)CUATRO (4)EOVEROL FONTANERO INDUSTRIAYUBARTA S.A.S."},{"$f":"H1041","v":250197.5}]
[{"$f":"\"ate01-\"&B1042&\" \"&C1042&\" \"&D1042&\" \"&E1042","v":"ate01-C4S4-065 CUATRO (4) CUATRO (4) E"},"C4S4-065","CUATRO (4)","CUATRO (4)","E","OVEROL FONTANERO INDUSTRIA","COLOMBIANA DE TEXTILES POR MAYOR S.A.",195200,{"$f":"B1042&G1042","v":"C4S4-065COLOMBIANA DE TEXTILES POR MAYOR S.A."},{"$f":"C1042&D1042&E1042&F1042","v":"CUATRO (4)CUATRO (4)EOVEROL FONTANERO INDUSTRIA"},{"$f":"H1042","v":195200},{"$f":"C1042&D1042&E1042&F1042&G1042","v":"CUATRO (4)CUATRO (4)EOVEROL FONTANERO INDUSTRIACOLOMBIANA DE TEXTILES POR MAYOR S.A."},{"$f":"B1042&H1042","v":"C4S4-065195200"},{"$f":"G1042","v":"COLOMBIANA DE TEXTILES POR MAYOR S.A."},"Und",{"$f":"C1042&D1042&E1042&F1042&G1042","v":"CUATRO (4)CUATRO (4)EOVEROL FONTANERO INDUSTRIACOLOMBIANA DE TEXTILES POR MAYOR S.A."},{"$f":"H1042","v":195200}]
[{"$f":"\"ate01-\"&B1043&\" \"&C1043&\" \"&D1043&\" \"&E1043","v":"ate01-C4S4-065 CUATRO (4) CUATRO (4) E"},"C4S4-065","CUATRO (4)","CUATRO (4)","E","OVEROL FONTANERO INDUSTRIA","INVALCA",180000,{"$f":"B1043&G1043","v":"C4S4-065INVALCA"},{"$f":"C1043&D1043&E1043&F1043","v":"CUATRO (4)CUATRO (4)EOVEROL FONTANERO INDUSTRIA"},{"$f":"H1043","v":180000},{"$f":"C1043&D1043&E1043&F1043&G1043","v":"CUATRO (4)CUATRO (4)EOVEROL FONTANERO INDUSTRIAINVALCA"},{"$f":"B1043&H1043","v":"C4S4-065180000"},{"$f":"G1043","v":"INVALCA"},"Und",{"$f":"C1043&D1043&E1043&F1043&G1043","v":"CUATRO (4)CUATRO (4)EOVEROL FONTANERO INDUSTRIAINVALCA"},{"$f":"H1043","v":180000}]
[{"$f":"\"ate01-\"&B1044&\" \"&C1044&\" \"&D1044&\" \"&E1044","v":"ate01-C4S4-066 CUATRO (4) CUATRO (4) E"},"C4S4-066","CUATRO (4)","CUATRO (4)","E","OVEROL","INVERSIONES SARHEM DE COLOMBIA S.A.S.",240000,{"$f":"B1044&G1044","v":"C4S4-066INVERSIONES SARHEM DE COLOMBIA S.A.S."},{"$f":"C1044&D1044&E1044&F1044","v":"CUATRO (4)CUATRO (4)EOVEROL"},{"$f":"H1044","v":240000},{"$f":"C1044&D1044&E1044&F1044&G1044","v":"CUATRO (4)CUATRO (4)EOVEROLINVERSIONES SARHEM DE COLOMBIA S.A.S."},{"$f":"B1044&H1044","v":"C4S4-066240000"},{"$f":"G1044","v":"INVERSIONES SARHEM DE COLOMBIA S.A.S."},"Und",{"$f":"C1044&D1044&E1044&F1044&G1044","v":"CUATRO (4)CUATRO (4)EOVEROLINVERSIONES SARHEM DE COLOMBIA S.A.S."},{"$f":"H1044","v":240000}]
[{"$f":"\"ate01-\"&B1045&\" \"&C1045&\" \"&D1045&\" \"&E1045","v":"ate01-C4S4-066 CUATRO (4) CUATRO (4) E"},"C4S4-066","CUATRO (4)","CUATRO (4)","E","OVEROL","UNION TEMPORAL AYGEMA",120000,{"$f":"B1045&G1045","v":"C4S4-066UNION TEMPORAL AYGEMA"},{"$f":"C1045&D1045&E1045&F1045","v":"CUATRO (4)CUATRO (4)EOVEROL"},{"$f":"H1045","v":120000},{"$f":"C1045&D1045&E1045&F1045&G1045","v":"CUATRO (4)CUATRO (4)EOVEROLUNION TEMPORAL AYGEMA"},{"$f":"B1045&H1045","v":"C4S4-066120000"},{"$f":"G1045","v":"UNION TEMPORAL AYGEMA"},"Und",{"$f":"C1045&D1045&E1045&F1045&G1045","v":"CUATRO (4)CUATRO (4)EOVEROLUNION TEMPORAL AYGEMA"},{"$f":"H1045","v":120000}]
[{"$f":"\"ate01-\"&B1046&\" \"&C1046&\" \"&D1046&\" \"&E1046","v":"ate01-C4S4-066 CUATRO (4) CUATRO (4) E"},"C4S4-066","CUATRO (4)","CUATRO (4)","E","OVEROL","UT SS 2021- CCENEG- 041-01-2021",198000,{"$f":"B1046&G1046","v":"C4S4-066UT SS 2021- CCENEG- 041-01-2021"},{"$f":"C1046&D1046&E1046&F1046","v":"CUATRO (4)CUATRO (4)EOVEROL"},{"$f":"H1046","v":198000},{"$f":"C1046&D1046&E1046&F1046&G1046","v":"CUATRO (4)CUATRO (4)EOVEROLUT SS 2021- CCENEG- 041-01-2021"},{"$f":"B1046&H1046","v":"C4S4-066198000"},{"$f":"G1046","v":"UT SS 2021- CCENEG- 041-01-2021"},"Und",{"$f":"C1046&D1046&E1046&F1046&G1046","v":"CUATRO (4)CUATRO (4)EOVEROLUT SS 2021- CCENEG- 041-01-2021"},{"$f":"H1046","v":198000}]
[{"$f":"\"ate01-\"&B1047&\" \"&C1047&\" \"&D1047&\" \"&E1047","v":"ate01-C4S4-066 CUATRO (4) CUATRO (4) E"},"C4S4-066","CUATRO (4)","CUATRO (4)","E","OVEROL","RES-Q SOLUTIONS",220000,{"$f":"B1047&G1047","v":"C4S4-066RES-Q SOLUTIONS"},{"$f":"C1047&D1047&E1047&F1047","v":"CUATRO (4)CUATRO (4)EOVEROL"},{"$f":"H1047","v":220000},{"$f":"C1047&D1047&E1047&F1047&G1047","v":"CUATRO (4)CUATRO (4)EOVEROLRES-Q SOLUTIONS"},{"$f":"B1047&H1047","v":"C4S4-066220000"},{"$f":"G1047","v":"RES-Q SOLUTIONS"},"Und",{"$f":"C1047&D1047&E1047&F1047&G1047","v":"CUATRO (4)CUATRO (4)EOVEROLRES-Q SOLUTIONS"},{"$f":"H1047","v":220000}]
[{"$f":"\"ate01-\"&B1048&\" \"&C1048&\" \"&D1048&\" \"&E1048","v":"ate01-C4S4-066 CUATRO (4) CUATRO (4) E"},"C4S4-066","CUATRO (4)","CUATRO (4)","E","OVEROL","YUBARTA S.A.S.",715820.22,{"$f":"B1048&G1048","v":"C4S4-066YUBARTA S.A.S."},{"$f":"C1048&D1048&E1048&F1048","v":"CUATRO (4)CUATRO (4)EOVEROL"},{"$f":"H1048","v":715820.22},{"$f":"C1048&D1048&E1048&F1048&G1048","v":"CUATRO (4)CUATRO (4)EOVEROLYUBARTA S.A.S."},{"$f":"B1048&H1048","v":"C4S4-066715820.22"},{"$f":"G1048","v":"YUBARTA S.A.S."},"Und",{"$f":"C1048&D1048&E1048&F1048&G1048","v":"CUATRO (4)CUATRO (4)EOVEROLYUBARTA S.A.S."},{"$f":"H1048","v":715820.22}]
[{"$f":"\"ate01-\"&B1049&\" \"&C1049&\" \"&D1049&\" \"&E1049","v":"ate01-C4S4-066 CUATRO (4) CUATRO (4) E"},"C4S4-066","CUATRO (4)","CUATRO (4)","E","OVEROL","COLOMBIANA DE TEXTILES POR MAYOR S.A.",155000,{"$f":"B1049&G1049","v":"C4S4-066COLOMBIANA DE TEXTILES POR MAYOR S.A."},{"$f":"C1049&D1049&E1049&F1049","v":"CUATRO (4)CUATRO (4)EOVEROL"},{"$f":"H1049","v":155000},{"$f":"C1049&D1049&E1049&F1049&G1049","v":"CUATRO (4)CUATRO (4)EOVEROLCOLOMBIANA DE TEXTILES POR MAYOR S.A."},{"$f":"B1049&H1049","v":"C4S4-066155000"},{"$f":"G1049","v":"COLOMBIANA DE TEXTILES POR MAYOR S.A."},"Und",{"$f":"C1049&D1049&E1049&F1049&G1049","v":"CUATRO (4)CUATRO (4)EOVEROLCOLOMBIANA DE TEXTILES POR MAYOR S.A."},{"$f":"H1049","v":155000}]
[{"$f":"\"ate01-\"&B1050&\" \"&C1050&\" \"&D1050&\" \"&E1050","v":"ate01-C4S4-066 CUATRO (4) CUATRO (4) E"},"C4S4-066","CUATRO (4)","CUATRO (4)","E","OVEROL","INVALCA",210000,{"$f":"B1050&G1050","v":"C4S4-066INVALCA"},{"$f":"C1050&D1050&E1050&F1050","v":"CUATRO (4)CUATRO (4)EOVEROL"},{"$f":"H1050","v":210000},{"$f":"C1050&D1050&E1050&F1050&G1050","v":"CUATRO (4)CUATRO (4)EOVEROLINVALCA"},{"$f":"B1050&H1050","v":"C4S4-066210000"},{"$f":"G1050","v":"INVALCA"},"Und",{"$f":"C1050&D1050&E1050&F1050&G1050","v":"CUATRO (4)CUATRO (4)EOVEROLINVALCA"},{"$f":"H1050","v":210000}]
[{"$f":"\"ate01-\"&B1051&\" \"&C1051&\" \"&D1051&\" \"&E1051","v":"ate01-C4S4-067 CUATRO (4) CUATRO (4) E"},"C4S4-067","CUATRO (4)","CUATRO (4)","E","CAPA IMPERMEABLE ","INVERSIONES SARHEM DE COLOMBIA S.A.S.",220000,{"$f":"B1051&G1051","v":"C4S4-067INVERSIONES SARHEM DE COLOMBIA S.A.S."},{"$f":"C1051&D1051&E1051&F1051","v":"CUATRO (4)CUATRO (4)ECAPA IMPERMEABLE "},{"$f":"H1051","v":220000},{"$f":"C1051&D1051&E1051&F1051&G1051","v":"CUATRO (4)CUATRO (4)ECAPA IMPERMEABLE INVERSIONES SARHEM DE COLOMBIA S.A.S."},{"$f":"B1051&H1051","v":"C4S4-067220000"},{"$f":"G1051","v":"INVERSIONES SARHEM DE COLOMBIA S.A.S."},"Und",{"$f":"C1051&D1051&E1051&F1051&G1051","v":"CUATRO (4)CUATRO (4)ECAPA IMPERMEABLE INVERSIONES SARHEM DE COLOMBIA S.A.S."},{"$f":"H1051","v":220000}]
[{"$f":"\"ate01-\"&B1052&\" \"&C1052&\" \"&D1052&\" \"&E1052","v":"ate01-C4S4-067 CUATRO (4) CUATRO (4) E"},"C4S4-067","CUATRO (4)","CUATRO (4)","E","CAPA IMPERMEABLE ","UNION TEMPORAL AYGEMA",45000,{"$f":"B1052&G1052","v":"C4S4-067UNION TEMPORAL AYGEMA"},{"$f":"C1052&D1052&E1052&F1052","v":"CUATRO (4)CUATRO (4)ECAPA IMPERMEABLE "},{"$f":"H1052","v":45000},{"$f":"C1052&D1052&E1052&F1052&G1052","v":"CUATRO (4)CUATRO (4)ECAPA IMPERMEABLE UNION TEMPORAL AYGEMA"},{"$f":"B1052&H1052","v":"C4S4-06745000"},{"$f":"G1052","v":"UNION TEMPORAL AYGEMA"},"Und",{"$f":"C1052&D1052&E1052&F1052&G1052","v":"CUATRO (4)CUATRO (4)ECAPA IMPERMEABLE UNION TEMPORAL AYGEMA"},{"$f":"H1052","v":45000}]
[{"$f":"\"ate01-\"&B1053&\" \"&C1053&\" \"&D1053&\" \"&E1053","v":"ate01-C4S4-067 CUATRO (4) CUATRO (4) E"},"C4S4-067","CUATRO (4)","CUATRO (4)","E","CAPA IMPERMEABLE ","UT SS 2021- CCENEG- 041-01-2021",68400,{"$f":"B1053&G1053","v":"C4S4-067UT SS 2021- CCENEG- 041-01-2021"},{"$f":"C1053&D1053&E1053&F1053","v":"CUATRO (4)CUATRO (4)ECAPA IMPERMEABLE "},{"$f":"H1053","v":68400},{"$f":"C1053&D1053&E1053&F1053&G1053","v":"CUATRO (4)CUATRO (4)ECAPA IMPERMEABLE UT SS 2021- CCENEG- 041-01-2021"},{"$f":"B1053&H1053","v":"C4S4-06768400"},{"$f":"G1053","v":"UT SS 2021- CCENEG- 041-01-2021"},"Und",{"$f":"C1053&D1053&E1053&F1053&G1053","v":"CUATRO (4)CUATRO (4)ECAPA IMPERMEABLE UT SS 2021- CCENEG- 041-01-2021"},{"$f":"H1053","v":68400}]
[{"$f":"\"ate01-\"&B1054&\" \"&C1054&\" \"&D1054&\" \"&E1054","v":"ate01-C4S4-067 CUATRO (4) CUATRO (4) E"},"C4S4-067","CUATRO (4)","CUATRO (4)","E","CAPA IMPERMEABLE ","RES-Q SOLUTIONS",80000,{"$f":"B1054&G1054","v":"C4S4-067RES-Q SOLUTIONS"},{"$f":"C1054&D1054&E1054&F1054","v":"CUATRO (4)CUATRO (4)ECAPA IMPERMEABLE "},{"$f":"H1054","v":80000},{"$f":"C1054&D1054&E1054&F1054&G1054","v":"CUATRO (4)CUATRO (4)ECAPA IMPERMEABLE RES-Q SOLUTIONS"},{"$f":"B1054&H1054","v":"C4S4-06780000"},{"$f":"G1054","v":"RES-Q SOLUTIONS"},"Und",{"$f":"C1054&D1054&E1054&F1054&G1054","v":"CUATRO (4)CUATRO (4)ECAPA IMPERMEABLE RES-Q SOLUTIONS"},{"$f":"H1054","v":80000}]
[{"$f":"\"ate01-\"&B1055&\" \"&C1055&\" \"&D1055&\" \"&E1055","v":"ate01-C4S4-067 CUATRO (4) CUATRO (4) E"},"C4S4-067","CUATRO (4)","CUATRO (4)","E","CAPA IMPERMEABLE ","YUBARTA S.A.S.",70070,{"$f":"B1055&G1055","v":"C4S4-067YUBARTA S.A.S."},{"$f":"C1055&D1055&E1055&F1055","v":"CUATRO (4)CUATRO (4)ECAPA IMPERMEABLE "},{"$f":"H1055","v":70070},{"$f":"C1055&D1055&E1055&F1055&G1055","v":"CUATRO (4)CUATRO (4)ECAPA IMPERMEABLE YUBARTA S.A.S."},{"$f":"B1055&H1055","v":"C4S4-06770070"},{"$f":"G1055","v":"YUBARTA S.A.S."},"Und",{"$f":"C1055&D1055&E1055&F1055&G1055","v":"CUATRO (4)CUATRO (4)ECAPA IMPERMEABLE YUBARTA S.A.S."},{"$f":"H1055","v":70070}]
[{"$f":"\"ate01-\"&B1056&\" \"&C1056&\" \"&D1056&\" \"&E1056","v":"ate01-C4S4-067 CUATRO (4) CUATRO (4) E"},"C4S4-067","CUATRO (4)","CUATRO (4)","E","CAPA IMPERMEABLE ","COLOMBIANA DE TEXTILES POR MAYOR S.A.",115000,{"$f":"B1056&G1056","v":"C4S4-067COLOMBIANA DE TEXTILES POR MAYOR S.A."},{"$f":"C1056&D1056&E1056&F1056","v":"CUATRO (4)CUATRO (4)ECAPA IMPERMEABLE "},{"$f":"H1056","v":115000},{"$f":"C1056&D1056&E1056&F1056&G1056","v":"CUATRO (4)CUATRO (4)ECAPA IMPERMEABLE COLOMBIANA DE TEXTILES POR MAYOR S.A."},{"$f":"B1056&H1056","v":"C4S4-067115000"},{"$f":"G1056","v":"COLOMBIANA DE TEXTILES POR MAYOR S.A."},"Und",{"$f":"C1056&D1056&E1056&F1056&G1056","v":"CUATRO (4)CUATRO (4)ECAPA IMPERMEABLE COLOMBIANA DE TEXTILES POR MAYOR S.A."},{"$f":"H1056","v":115000}]
[{"$f":"\"ate01-\"&B1057&\" \"&C1057&\" \"&D1057&\" \"&E1057","v":"ate01-C4S4-067 CUATRO (4) CUATRO (4) E"},"C4S4-067","CUATRO (4)","CUATRO (4)","E","CAPA IMPERMEABLE ","INVALCA",160000,{"$f":"B1057&G1057","v":"C4S4-067INVALCA"},{"$f":"C1057&D1057&E1057&F1057","v":"CUATRO (4)CUATRO (4)ECAPA IMPERMEABLE "},{"$f":"H1057","v":160000},{"$f":"C1057&D1057&E1057&F1057&G1057","v":"CUATRO (4)CUATRO (4)ECAPA IMPERMEABLE INVALCA"},{"$f":"B1057&H1057","v":"C4S4-067160000"},{"$f":"G1057","v":"INVALCA"},"Und",{"$f":"C1057&D1057&E1057&F1057&G1057","v":"CUATRO (4)CUATRO (4)ECAPA IMPERMEABLE INVALCA"},{"$f":"H1057","v":160000}]
[{"$f":"\"ate01-\"&B1058&\" \"&C1058&\" \"&D1058&\" \"&E1058","v":"ate01-C4S4-068 CUATRO (4) CUATRO (4) E"},"C4S4-068","CUATRO (4)","CUATRO (4)","E","IMPERMEABLE DOS PIEZAS EN PVC","INVERSIONES SARHEM DE COLOMBIA S.A.S.",210000,{"$f":"B1058&G1058","v":"C4S4-068INVERSIONES SARHEM DE COLOMBIA S.A.S."},{"$f":"C1058&D1058&E1058&F1058","v":"CUATRO (4)CUATRO (4)EIMPERMEABLE DOS PIEZAS EN PVC"},{"$f":"H1058","v":210000},{"$f":"C1058&D1058&E1058&F1058&G1058","v":"CUATRO (4)CUATRO (4)EIMPERMEABLE DOS PIEZAS EN PVCINVERSIONES SARHEM DE COLOMBIA S.A.S."},{"$f":"B1058&H1058","v":"C4S4-068210000"},{"$f":"G1058","v":"INVERSIONES SARHEM DE COLOMBIA S.A.S."},"Und",{"$f":"C1058&D1058&E1058&F1058&G1058","v":"CUATRO (4)CUATRO (4)EIMPERMEABLE DOS PIEZAS EN PVCINVERSIONES SARHEM DE COLOMBIA S.A.S."},{"$f":"H1058","v":210000}]
[{"$f":"\"ate01-\"&B1059&\" \"&C1059&\" \"&D1059&\" \"&E1059","v":"ate01-C4S4-068 CUATRO (4) CUATRO (4) E"},"C4S4-068","CUATRO (4)","CUATRO (4)","E","IMPERMEABLE DOS PIEZAS EN PVC","UNION TEMPORAL AYGEMA",60000,{"$f":"B1059&G1059","v":"C4S4-068UNION TEMPORAL AYGEMA"},{"$f":"C1059&D1059&E1059&F1059","v":"CUATRO (4)CUATRO (4)EIMPERMEABLE DOS PIEZAS EN PVC"},{"$f":"H1059","v":60000},{"$f":"C1059&D1059&E1059&F1059&G1059","v":"CUATRO (4)CUATRO (4)EIMPERMEABLE DOS PIEZAS EN PVCUNION TEMPORAL AYGEMA"},{"$f":"B1059&H1059","v":"C4S4-06860000"},{"$f":"G1059","v":"UNION TEMPORAL AYGEMA"},"Und",{"$f":"C1059&D1059&E1059&F1059&G1059","v":"CUATRO (4)CUATRO (4)EIMPERMEABLE DOS PIEZAS EN PVCUNION TEMPORAL AYGEMA"},{"$f":"H1059","v":60000}]
[{"$f":"\"ate01-\"&B1060&\" \"&C1060&\" \"&D1060&\" \"&E1060","v":"ate01-C4S4-068 CUATRO (4) CUATRO (4) E"},"C4S4-068","CUATRO (4)","CUATRO (4)","E","IMPERMEABLE DOS PIEZAS EN PVC","UT SS 2021- CCENEG- 041-01-2021",108000,{"$f":"B1060&G1060","v":"C4S4-068UT SS 2021- CCENEG- 041-01-2021"},{"$f":"C1060&D1060&E1060&F1060","v":"CUATRO (4)CUATRO (4)EIMPERMEABLE DOS PIEZAS EN PVC"},{"$f":"H1060","v":108000},{"$f":"C1060&D1060&E1060&F1060&G1060","v":"CUATRO (4)CUATRO (4)EIMPERMEABLE DOS PIEZAS EN PVCUT SS 2021- CCENEG- 041-01-2021"},{"$f":"B1060&H1060","v":"C4S4-068108000"},{"$f":"G1060","v":"UT SS 2021- CCENEG- 041-01-2021"},"Und",{"$f":"C1060&D1060&E1060&F1060&G1060","v":"CUATRO (4)CUATRO (4)EIMPERMEABLE DOS PIEZAS EN PVCUT SS 2021- CCENEG- 041-01-2021"},{"$f":"H1060","v":108000}]
[{"$f":"\"ate01-\"&B1061&\" \"&C1061&\" \"&D1061&\" \"&E1061","v":"ate01-C4S4-068 CUATRO (4) CUATRO (4) E"},"C4S4-068","CUATRO (4)","CUATRO (4)","E","IMPERMEABLE DOS PIEZAS EN PVC","RES-Q SOLUTIONS",130000,{"$f":"B1061&G1061","v":"C4S4-068RES-Q SOLUTIONS"},{"$f":"C1061&D1061&E1061&F1061","v":"CUATRO (4)CUATRO (4)EIMPERMEABLE DOS PIEZAS EN PVC"},{"$f":"H1061","v":130000},{"$f":"C1061&D1061&E1061&F1061&G1061","v":"CUATRO (4)CUATRO (4)EIMPERMEABLE DOS PIEZAS EN PVCRES-Q SOLUTIONS"},{"$f":"B1061&H1061","v":"C4S4-068130000"},{"$f":"G1061","v":"RES-Q SOLUTIONS"},"Und",{"$f":"C1061&D1061&E1061&F1061&G1061","v":"CUATRO (4)CUATRO (4)EIMPERMEABLE DOS PIEZAS EN PVCRES-Q SOLUTIONS"},{"$f":"H1061","v":130000}]
[{"$f":"\"ate01-\"&B1062&\" \"&C1062&\" \"&D1062&\" \"&E1062","v":"ate01-C4S4-068 CUATRO (4) CUATRO (4) E"},"C4S4-068","CUATRO (4)","CUATRO (4)","E","IMPERMEABLE DOS PIEZAS EN PVC","YUBARTA S.A.S.",105169.99,{"$f":"B1062&G1062","v":"C4S4-068YUBARTA S.A.S."},{"$f":"C1062&D1062&E1062&F1062","v":"CUATRO (4)CUATRO (4)EIMPERMEABLE DOS PIEZAS EN PVC"},{"$f":"H1062","v":105169.99},{"$f":"C1062&D1062&E1062&F1062&G1062","v":"CUATRO (4)CUATRO (4)EIMPERMEABLE DOS PIEZAS EN PVCYUBARTA S.A.S."},{"$f":"B1062&H1062","v":"C4S4-068105169.99"},{"$f":"G1062","v":"YUBARTA S.A.S."},"Und",{"$f":"C1062&D1062&E1062&F1062&G1062","v":"CUATRO (4)CUATRO (4)EIMPERMEABLE DOS PIEZAS EN PVCYUBARTA S.A.S."},{"$f":"H1062","v":105169.99}]
[{"$f":"\"ate01-\"&B1063&\" \"&C1063&\" \"&D1063&\" \"&E1063","v":"ate01-C4S4-068 CUATRO (4) CUATRO (4) E"},"C4S4-068","CUATRO (4)","CUATRO (4)","E","IMPERMEABLE DOS PIEZAS EN PVC","COLOMBIANA DE TEXTILES POR MAYOR S.A.",153000,{"$f":"B1063&G1063","v":"C4S4-068COLOMBIANA DE TEXTILES POR MAYOR S.A."},{"$f":"C1063&D1063&E1063&F1063","v":"CUATRO (4)CUATRO (4)EIMPERMEABLE DOS PIEZAS EN PVC"},{"$f":"H1063","v":153000},{"$f":"C1063&D1063&E1063&F1063&G1063","v":"CUATRO (4)CUATRO (4)EIMPERMEABLE DOS PIEZAS EN PVCCOLOMBIANA DE TEXTILES POR MAYOR S.A."},{"$f":"B1063&H1063","v":"C4S4-068153000"},{"$f":"G1063","v":"COLOMBIANA DE TEXTILES POR MAYOR S.A."},"Und",{"$f":"C1063&D1063&E1063&F1063&G1063","v":"CUATRO (4)CUATRO (4)EIMPERMEABLE DOS PIEZAS EN PVCCOLOMBIANA DE TEXTILES POR MAYOR S.A."},{"$f":"H1063","v":153000}]
[{"$f":"\"ate01-\"&B1064&\" \"&C1064&\" \"&D1064&\" \"&E1064","v":"ate01-C4S4-068 CUATRO (4) CUATRO (4) E"},"C4S4-068","CUATRO (4)","CUATRO (4)","E","IMPERMEABLE DOS PIEZAS EN PVC","INVALCA",152000,{"$f":"B1064&G1064","v":"C4S4-068INVALCA"},{"$f":"C1064&D1064&E1064&F1064","v":"CUATRO (4)CUATRO (4)EIMPERMEABLE DOS PIEZAS EN PVC"},{"$f":"H1064","v":152000},{"$f":"C1064&D1064&E1064&F1064&G1064","v":"CUATRO (4)CUATRO (4)EIMPERMEABLE DOS PIEZAS EN PVCINVALCA"},{"$f":"B1064&H1064","v":"C4S4-068152000"},{"$f":"G1064","v":"INVALCA"},"Und",{"$f":"C1064&D1064&E1064&F1064&G1064","v":"CUATRO (4)CUATRO (4)EIMPERMEABLE DOS PIEZAS EN PVCINVALCA"},{"$f":"H1064","v":152000}]
[{"$f":"\"ate01-\"&B1065&\" \"&C1065&\" \"&D1065&\" \"&E1065","v":"ate01-C4S4-069 CUATRO (4) CUATRO (4) E"},"C4S4-069","CUATRO (4)","CUATRO (4)","E","DELANTAL IMPERMEABLE EN PVC","INVERSIONES SARHEM DE COLOMBIA S.A.S.",186000,{"$f":"B1065&G1065","v":"C4S4-069INVERSIONES SARHEM DE COLOMBIA S.A.S."},{"$f":"C1065&D1065&E1065&F1065","v":"CUATRO (4)CUATRO (4)EDELANTAL IMPERMEABLE EN PVC"},{"$f":"H1065","v":186000},{"$f":"C1065&D1065&E1065&F1065&G1065","v":"CUATRO (4)CUATRO (4)EDELANTAL IMPERMEABLE EN PVCINVERSIONES SARHEM DE COLOMBIA S.A.S."},{"$f":"B1065&H1065","v":"C4S4-069186000"},{"$f":"G1065","v":"INVERSIONES SARHEM DE COLOMBIA S.A.S."},"Und",{"$f":"C1065&D1065&E1065&F1065&G1065","v":"CUATRO (4)CUATRO (4)EDELANTAL IMPERMEABLE EN PVCINVERSIONES SARHEM DE COLOMBIA S.A.S."},{"$f":"H1065","v":186000}]
[{"$f":"\"ate01-\"&B1066&\" \"&C1066&\" \"&D1066&\" \"&E1066","v":"ate01-C4S4-069 CUATRO (4) CUATRO (4) E"},"C4S4-069","CUATRO (4)","CUATRO (4)","E","DELANTAL IMPERMEABLE EN PVC","UNION TEMPORAL AYGEMA",35000,{"$f":"B1066&G1066","v":"C4S4-069UNION TEMPORAL AYGEMA"},{"$f":"C1066&D1066&E1066&F1066","v":"CUATRO (4)CUATRO (4)EDELANTAL IMPERMEABLE EN PVC"},{"$f":"H1066","v":35000},{"$f":"C1066&D1066&E1066&F1066&G1066","v":"CUATRO (4)CUATRO (4)EDELANTAL IMPERMEABLE EN PVCUNION TEMPORAL AYGEMA"},{"$f":"B1066&H1066","v":"C4S4-06935000"},{"$f":"G1066","v":"UNION TEMPORAL AYGEMA"},"Und",{"$f":"C1066&D1066&E1066&F1066&G1066","v":"CUATRO (4)CUATRO (4)EDELANTAL IMPERMEABLE EN PVCUNION TEMPORAL AYGEMA"},{"$f":"H1066","v":35000}]
[{"$f":"\"ate01-\"&B1067&\" \"&C1067&\" \"&D1067&\" \"&E1067","v":"ate01-C4S4-069 CUATRO (4) CUATRO (4) E"},"C4S4-069","CUATRO (4)","CUATRO (4)","E","DELANTAL IMPERMEABLE EN PVC","UT SS 2021- CCENEG- 041-01-2021",54000,{"$f":"B1067&G1067","v":"C4S4-069UT SS 2021- CCENEG- 041-01-2021"},{"$f":"C1067&D1067&E1067&F1067","v":"CUATRO (4)CUATRO (4)EDELANTAL IMPERMEABLE EN PVC"},{"$f":"H1067","v":54000},{"$f":"C1067&D1067&E1067&F1067&G1067","v":"CUATRO (4)CUATRO (4)EDELANTAL IMPERMEABLE EN PVCUT SS 2021- CCENEG- 041-01-2021"},{"$f":"B1067&H1067","v":"C4S4-06954000"},{"$f":"G1067","v":"UT SS 2021- CCENEG- 041-01-2021"},"Und",{"$f":"C1067&D1067&E1067&F1067&G1067","v":"CUATRO (4)CUATRO (4)EDELANTAL IMPERMEABLE EN PVCUT SS 2021- CCENEG- 041-01-2021"},{"$f":"H1067","v":54000}]
[{"$f":"\"ate01-\"&B1068&\" \"&C1068&\" \"&D1068&\" \"&E1068","v":"ate01-C4S4-069 CUATRO (4) CUATRO (4) E"},"C4S4-069","CUATRO (4)","CUATRO (4)","E","DELANTAL IMPERMEABLE EN PVC","RES-Q SOLUTIONS",60000,{"$f":"B1068&G1068","v":"C4S4-069RES-Q SOLUTIONS"},{"$f":"C1068&D1068&E1068&F1068","v":"CUATRO (4)CUATRO (4)EDELANTAL IMPERMEABLE EN PVC"},{"$f":"H1068","v":60000},{"$f":"C1068&D1068&E1068&F1068&G1068","v":"CUATRO (4)CUATRO (4)EDELANTAL IMPERMEABLE EN PVCRES-Q SOLUTIONS"},{"$f":"B1068&H1068","v":"C4S4-06960000"},{"$f":"G1068","v":"RES-Q SOLUTIONS"},"Und",{"$f":"C1068&D1068&E1068&F1068&G1068","v":"CUATRO (4)CUATRO (4)EDELANTAL IMPERMEABLE EN PVCRES-Q SOLUTIONS"},{"$f":"H1068","v":60000}]
[{"$f":"\"ate01-\"&B1069&\" \"&C1069&\" \"&D1069&\" \"&E1069","v":"ate01-C4S4-069 CUATRO (4) CUATRO (4) E"},"C4S4-069","CUATRO (4)","CUATRO (4)","E","DELANTAL IMPERMEABLE EN PVC","YUBARTA S.A.S.",67470.009999999995,{"$f":"B1069&G1069","v":"C4S4-069YUBARTA S.A.S."},{"$f":"C1069&D1069&E1069&F1069","v":"CUATRO (4)CUATRO (4)EDELANTAL IMPERMEABLE EN PVC"},{"$f":"H1069","v":67470.009999999995},{"$f":"C1069&D1069&E1069&F1069&G1069","v":"CUATRO (4)CUATRO (4)EDELANTAL IMPERMEABLE EN PVCYUBARTA S.A.S."},{"$f":"B1069&H1069","v":"C4S4-06967470.01"},{"$f":"G1069","v":"YUBARTA S.A.S."},"Und",{"$f":"C1069&D1069&E1069&F1069&G1069","v":"CUATRO (4)CUATRO (4)EDELANTAL IMPERMEABLE EN PVCYUBARTA S.A.S."},{"$f":"H1069","v":67470.009999999995}]
[{"$f":"\"ate01-\"&B1070&\" \"&C1070&\" \"&D1070&\" \"&E1070","v":"ate01-C4S4-069 CUATRO (4) CUATRO (4) E"},"C4S4-069","CUATRO (4)","CUATRO (4)","E","DELANTAL IMPERMEABLE EN PVC","COLOMBIANA DE TEXTILES POR MAYOR S.A.",62000,{"$f":"B1070&G1070","v":"C4S4-069COLOMBIANA DE TEXTILES POR MAYOR S.A."},{"$f":"C1070&D1070&E1070&F1070","v":"CUATRO (4)CUATRO (4)EDELANTAL IMPERMEABLE EN PVC"},{"$f":"H1070","v":62000},{"$f":"C1070&D1070&E1070&F1070&G1070","v":"CUATRO (4)CUATRO (4)EDELANTAL IMPERMEABLE EN PVCCOLOMBIANA DE TEXTILES POR MAYOR S.A."},{"$f":"B1070&H1070","v":"C4S4-06962000"},{"$f":"G1070","v":"COLOMBIANA DE TEXTILES POR MAYOR S.A."},"Und",{"$f":"C1070&D1070&E1070&F1070&G1070","v":"CUATRO (4)CUATRO (4)EDELANTAL IMPERMEABLE EN PVCCOLOMBIANA DE TEXTILES POR MAYOR S.A."},{"$f":"H1070","v":62000}]
[{"$f":"\"ate01-\"&B1071&\" \"&C1071&\" \"&D1071&\" \"&E1071","v":"ate01-C4S4-069 CUATRO (4) CUATRO (4) E"},"C4S4-069","CUATRO (4)","CUATRO (4)","E","DELANTAL IMPERMEABLE EN PVC","INVALCA",95000,{"$f":"B1071&G1071","v":"C4S4-069INVALCA"},{"$f":"C1071&D1071&E1071&F1071","v":"CUATRO (4)CUATRO (4)EDELANTAL IMPERMEABLE EN PVC"},{"$f":"H1071","v":95000},{"$f":"C1071&D1071&E1071&F1071&G1071","v":"CUATRO (4)CUATRO (4)EDELANTAL IMPERMEABLE EN PVCINVALCA"},{"$f":"B1071&H1071","v":"C4S4-06995000"},{"$f":"G1071","v":"INVALCA"},"Und",{"$f":"C1071&D1071&E1071&F1071&G1071","v":"CUATRO (4)CUATRO (4)EDELANTAL IMPERMEABLE EN PVCINVALCA"},{"$f":"H1071","v":95000}]
[{"$f":"\"ate01-\"&B1072&\" \"&C1072&\" \"&D1072&\" \"&E1072","v":"ate01-C4S4-070 CUATRO (4) CUATRO (4) E"},"C4S4-070","CUATRO (4)","CUATRO (4)","E","GAFAS DE SEGURIDAD","INVERSIONES SARHEM DE COLOMBIA S.A.S.",120000,{"$f":"B1072&G1072","v":"C4S4-070INVERSIONES SARHEM DE COLOMBIA S.A.S."},{"$f":"C1072&D1072&E1072&F1072","v":"CUATRO (4)CUATRO (4)EGAFAS DE SEGURIDAD"},{"$f":"H1072","v":120000},{"$f":"C1072&D1072&E1072&F1072&G1072","v":"CUATRO (4)CUATRO (4)EGAFAS DE SEGURIDADINVERSIONES SARHEM DE COLOMBIA S.A.S."},{"$f":"B1072&H1072","v":"C4S4-070120000"},{"$f":"G1072","v":"INVERSIONES SARHEM DE COLOMBIA S.A.S."},"Und",{"$f":"C1072&D1072&E1072&F1072&G1072","v":"CUATRO (4)CUATRO (4)EGAFAS DE SEGURIDADINVERSIONES SARHEM DE COLOMBIA S.A.S."},{"$f":"H1072","v":120000}]
[{"$f":"\"ate01-\"&B1073&\" \"&C1073&\" \"&D1073&\" \"&E1073","v":"ate01-C4S4-070 CUATRO (4) CUATRO (4) E"},"C4S4-070","CUATRO (4)","CUATRO (4)","E","GAFAS DE SEGURIDAD","UNION TEMPORAL AYGEMA",15000,{"$f":"B1073&G1073","v":"C4S4-070UNION TEMPORAL AYGEMA"},{"$f":"C1073&D1073&E1073&F1073","v":"CUATRO (4)CUATRO (4)EGAFAS DE SEGURIDAD"},{"$f":"H1073","v":15000},{"$f":"C1073&D1073&E1073&F1073&G1073","v":"CUATRO (4)CUATRO (4)EGAFAS DE SEGURIDADUNION TEMPORAL AYGEMA"},{"$f":"B1073&H1073","v":"C4S4-07015000"},{"$f":"G1073","v":"UNION TEMPORAL AYGEMA"},"Und",{"$f":"C1073&D1073&E1073&F1073&G1073","v":"CUATRO (4)CUATRO (4)EGAFAS DE SEGURIDADUNION TEMPORAL AYGEMA"},{"$f":"H1073","v":15000}]
[{"$f":"\"ate01-\"&B1074&\" \"&C1074&\" \"&D1074&\" \"&E1074","v":"ate01-C4S4-070 CUATRO (4) CUATRO (4) E"},"C4S4-070","CUATRO (4)","CUATRO (4)","E","GAFAS DE SEGURIDAD","UT SS 2021- CCENEG- 041-01-2021",24600,{"$f":"B1074&G1074","v":"C4S4-070UT SS 2021- CCENEG- 041-01-2021"},{"$f":"C1074&D1074&E1074&F1074","v":"CUATRO (4)CUATRO (4)EGAFAS DE SEGURIDAD"},{"$f":"H1074","v":24600},{"$f":"C1074&D1074&E1074&F1074&G1074","v":"CUATRO (4)CUATRO (4)EGAFAS DE SEGURIDADUT SS 2021- CCENEG- 041-01-2021"},{"$f":"B1074&H1074","v":"C4S4-07024600"},{"$f":"G1074","v":"UT SS 2021- CCENEG- 041-01-2021"},"Und",{"$f":"C1074&D1074&E1074&F1074&G1074","v":"CUATRO (4)CUATRO (4)EGAFAS DE SEGURIDADUT SS 2021- CCENEG- 041-01-2021"},{"$f":"H1074","v":24600}]
[{"$f":"\"ate01-\"&B1075&\" \"&C1075&\" \"&D1075&\" \"&E1075","v":"ate01-C4S4-070 CUATRO (4) CUATRO (4) E"},"C4S4-070","CUATRO (4)","CUATRO (4)","E","GAFAS DE SEGURIDAD","RES-Q SOLUTIONS",35000,{"$f":"B1075&G1075","v":"C4S4-070RES-Q SOLUTIONS"},{"$f":"C1075&D1075&E1075&F1075","v":"CUATRO (4)CUATRO (4)EGAFAS DE SEGURIDAD"},{"$f":"H1075","v":35000},{"$f":"C1075&D1075&E1075&F1075&G1075","v":"CUATRO (4)CUATRO (4)EGAFAS DE SEGURIDADRES-Q SOLUTIONS"},{"$f":"B1075&H1075","v":"C4S4-07035000"},{"$f":"G1075","v":"RES-Q SOLUTIONS"},"Und",{"$f":"C1075&D1075&E1075&F1075&G1075","v":"CUATRO (4)CUATRO (4)EGAFAS DE SEGURIDADRES-Q SOLUTIONS"},{"$f":"H1075","v":35000}]
[{"$f":"\"ate01-\"&B1076&\" \"&C1076&\" \"&D1076&\" \"&E1076","v":"ate01-C4S4-070 CUATRO (4) CUATRO (4) E"},"C4S4-070","CUATRO (4)","CUATRO (4)","E","GAFAS DE SEGURIDAD","YUBARTA S.A.S.",14169.99,{"$f":"B1076&G1076","v":"C4S4-070YUBARTA S.A.S."},{"$f":"C1076&D1076&E1076&F1076","v":"CUATRO (4)CUATRO (4)EGAFAS DE SEGURIDAD"},{"$f":"H1076","v":14169.99},{"$f":"C1076&D1076&E1076&F1076&G1076","v":"CUATRO (4)CUATRO (4)EGAFAS DE SEGURIDADYUBARTA S.A.S."},{"$f":"B1076&H1076","v":"C4S4-07014169.99"},{"$f":"G1076","v":"YUBARTA S.A.S."},"Und",{"$f":"C1076&D1076&E1076&F1076&G1076","v":"CUATRO (4)CUATRO (4)EGAFAS DE SEGURIDADYUBARTA S.A.S."},{"$f":"H1076","v":14169.99}]
[{"$f":"\"ate01-\"&B1077&\" \"&C1077&\" \"&D1077&\" \"&E1077","v":"ate01-C4S4-070 CUATRO (4) CUATRO (4) E"},"C4S4-070","CUATRO (4)","CUATRO (4)","E","GAFAS DE SEGURIDAD","COLOMBIANA DE TEXTILES POR MAYOR S.A.",25000,{"$f":"B1077&G1077","v":"C4S4-070COLOMBIANA DE TEXTILES POR MAYOR S.A."},{"$f":"C1077&D1077&E1077&F1077","v":"CUATRO (4)CUATRO (4)EGAFAS DE SEGURIDAD"},{"$f":"H1077","v":25000},{"$f":"C1077&D1077&E1077&F1077&G1077","v":"CUATRO (4)CUATRO (4)EGAFAS DE SEGURIDADCOLOMBIANA DE TEXTILES POR MAYOR S.A."},{"$f":"B1077&H1077","v":"C4S4-07025000"},{"$f":"G1077","v":"COLOMBIANA DE TEXTILES POR MAYOR S.A."},"Und",{"$f":"C1077&D1077&E1077&F1077&G1077","v":"CUATRO (4)CUATRO (4)EGAFAS DE SEGURIDADCOLOMBIANA DE TEXTILES POR MAYOR S.A."},{"$f":"H1077","v":25000}]
[{"$f":"\"ate01-\"&B1078&\" \"&C1078&\" \"&D1078&\" \"&E1078","v":"ate01-C4S4-070 CUATRO (4) CUATRO (4) E"},"C4S4-070","CUATRO (4)","CUATRO (4)","E","GAFAS DE SEGURIDAD","INVALCA",45000,{"$f":"B1078&G1078","v":"C4S4-070INVALCA"},{"$f":"C1078&D1078&E1078&F1078","v":"CUATRO (4)CUATRO (4)EGAFAS DE SEGURIDAD"},{"$f":"H1078","v":45000},{"$f":"C1078&D1078&E1078&F1078&G1078","v":"CUATRO (4)CUATRO (4)EGAFAS DE SEGURIDADINVALCA"},{"$f":"B1078&H1078","v":"C4S4-07045000"},{"$f":"G1078","v":"INVALCA"},"Und",{"$f":"C1078&D1078&E1078&F1078&G1078","v":"CUATRO (4)CUATRO (4)EGAFAS DE SEGURIDADINVALCA"},{"$f":"H1078","v":45000}]
[{"$f":"\"ate01-\"&B1079&\" \"&C1079&\" \"&D1079&\" \"&E1079","v":"ate01-C4S4-071 CUATRO (4) CUATRO (4) E"},"C4S4-071","CUATRO (4)","CUATRO (4)","E","TAPAOIDOS DE COPA","INVERSIONES SARHEM DE COLOMBIA S.A.S.",168000,{"$f":"B1079&G1079","v":"C4S4-071INVERSIONES SARHEM DE COLOMBIA S.A.S."},{"$f":"C1079&D1079&E1079&F1079","v":"CUATRO (4)CUATRO (4)ETAPAOIDOS DE COPA"},{"$f":"H1079","v":168000},{"$f":"C1079&D1079&E1079&F1079&G1079","v":"CUATRO (4)CUATRO (4)ETAPAOIDOS DE COPAINVERSIONES SARHEM DE COLOMBIA S.A.S."},{"$f":"B1079&H1079","v":"C4S4-071168000"},{"$f":"G1079","v":"INVERSIONES SARHEM DE COLOMBIA S.A.S."},"Und",{"$f":"C1079&D1079&E1079&F1079&G1079","v":"CUATRO (4)CUATRO (4)ETAPAOIDOS DE COPAINVERSIONES SARHEM DE COLOMBIA S.A.S."},{"$f":"H1079","v":168000}]
[{"$f":"\"ate01-\"&B1080&\" \"&C1080&\" \"&D1080&\" \"&E1080","v":"ate01-C4S4-071 CUATRO (4) CUATRO (4) E"},"C4S4-071","CUATRO (4)","CUATRO (4)","E","TAPAOIDOS DE COPA","UNION TEMPORAL AYGEMA",45000,{"$f":"B1080&G1080","v":"C4S4-071UNION TEMPORAL AYGEMA"},{"$f":"C1080&D1080&E1080&F1080","v":"CUATRO (4)CUATRO (4)ETAPAOIDOS DE COPA"},{"$f":"H1080","v":45000},{"$f":"C1080&D1080&E1080&F1080&G1080","v":"CUATRO (4)CUATRO (4)ETAPAOIDOS DE COPAUNION TEMPORAL AYGEMA"},{"$f":"B1080&H1080","v":"C4S4-07145000"},{"$f":"G1080","v":"UNION TEMPORAL AYGEMA"},"Und",{"$f":"C1080&D1080&E1080&F1080&G1080","v":"CUATRO (4)CUATRO (4)ETAPAOIDOS DE COPAUNION TEMPORAL AYGEMA"},{"$f":"H1080","v":45000}]
[{"$f":"\"ate01-\"&B1081&\" \"&C1081&\" \"&D1081&\" \"&E1081","v":"ate01-C4S4-071 CUATRO (4) CUATRO (4) E"},"C4S4-071","CUATRO (4)","CUATRO (4)","E","TAPAOIDOS DE COPA","UT SS 2021- CCENEG- 041-01-2021",81000,{"$f":"B1081&G1081","v":"C4S4-071UT SS 2021- CCENEG- 041-01-2021"},{"$f":"C1081&D1081&E1081&F1081","v":"CUATRO (4)CUATRO (4)ETAPAOIDOS DE COPA"},{"$f":"H1081","v":81000},{"$f":"C1081&D1081&E1081&F1081&G1081","v":"CUATRO (4)CUATRO (4)ETAPAOIDOS DE COPAUT SS 2021- CCENEG- 041-01-2021"},{"$f":"B1081&H1081","v":"C4S4-07181000"},{"$f":"G1081","v":"UT SS 2021- CCENEG- 041-01-2021"},"Und",{"$f":"C1081&D1081&E1081&F1081&G1081","v":"CUATRO (4)CUATRO (4)ETAPAOIDOS DE COPAUT SS 2021- CCENEG- 041-01-2021"},{"$f":"H1081","v":81000}]
[{"$f":"\"ate01-\"&B1082&\" \"&C1082&\" \"&D1082&\" \"&E1082","v":"ate01-C4S4-071 CUATRO (4) CUATRO (4) E"},"C4S4-071","CUATRO (4)","CUATRO (4)","E","TAPAOIDOS DE COPA","RES-Q SOLUTIONS",60000,{"$f":"B1082&G1082","v":"C4S4-071RES-Q SOLUTIONS"},{"$f":"C1082&D1082&E1082&F1082","v":"CUATRO (4)CUATRO (4)ETAPAOIDOS DE COPA"},{"$f":"H1082","v":60000},{"$f":"C1082&D1082&E1082&F1082&G1082","v":"CUATRO (4)CUATRO (4)ETAPAOIDOS DE COPARES-Q SOLUTIONS"},{"$f":"B1082&H1082","v":"C4S4-07160000"},{"$f":"G1082","v":"RES-Q SOLUTIONS"},"Und",{"$f":"C1082&D1082&E1082&F1082&G1082","v":"CUATRO (4)CUATRO (4)ETAPAOIDOS DE COPARES-Q SOLUTIONS"},{"$f":"H1082","v":60000}]
[{"$f":"\"ate01-\"&B1083&\" \"&C1083&\" \"&D1083&\" \"&E1083","v":"ate01-C4S4-071 CUATRO (4) CUATRO (4) E"},"C4S4-071","CUATRO (4)","CUATRO (4)","E","TAPAOIDOS DE COPA","YUBARTA S.A.S.",148499.51,{"$f":"B1083&G1083","v":"C4S4-071YUBARTA S.A.S."},{"$f":"C1083&D1083&E1083&F1083","v":"CUATRO (4)CUATRO (4)ETAPAOIDOS DE COPA"},{"$f":"H1083","v":148499.51},{"$f":"C1083&D1083&E1083&F1083&G1083","v":"CUATRO (4)CUATRO (4)ETAPAOIDOS DE COPAYUBARTA S.A.S."},{"$f":"B1083&H1083","v":"C4S4-071148499.51"},{"$f":"G1083","v":"YUBARTA S.A.S."},"Und",{"$f":"C1083&D1083&E1083&F1083&G1083","v":"CUATRO (4)CUATRO (4)ETAPAOIDOS DE COPAYUBARTA S.A.S."},{"$f":"H1083","v":148499.51}]
[{"$f":"\"ate01-\"&B1084&\" \"&C1084&\" \"&D1084&\" \"&E1084","v":"ate01-C4S4-071 CUATRO (4) CUATRO (4) E"},"C4S4-071","CUATRO (4)","CUATRO (4)","E","TAPAOIDOS DE COPA","COLOMBIANA DE TEXTILES POR MAYOR S.A.",57900,{"$f":"B1084&G1084","v":"C4S4-071COLOMBIANA DE TEXTILES POR MAYOR S.A."},{"$f":"C1084&D1084&E1084&F1084","v":"CUATRO (4)CUATRO (4)ETAPAOIDOS DE COPA"},{"$f":"H1084","v":57900},{"$f":"C1084&D1084&E1084&F1084&G1084","v":"CUATRO (4)CUATRO (4)ETAPAOIDOS DE COPACOLOMBIANA DE TEXTILES POR MAYOR S.A."},{"$f":"B1084&H1084","v":"C4S4-07157900"},{"$f":"G1084","v":"COLOMBIANA DE TEXTILES POR MAYOR S.A."},"Und",{"$f":"C1084&D1084&E1084&F1084&G1084","v":"CUATRO (4)CUATRO (4)ETAPAOIDOS DE COPACOLOMBIANA DE TEXTILES POR MAYOR S.A."},{"$f":"H1084","v":57900}]
[{"$f":"\"ate01-\"&B1085&\" \"&C1085&\" \"&D1085&\" \"&E1085","v":"ate01-C4S4-071 CUATRO (4) CUATRO (4) E"},"C4S4-071","CUATRO (4)","CUATRO (4)","E","TAPAOIDOS DE COPA","INVALCA",15000,{"$f":"B1085&G1085","v":"C4S4-071INVALCA"},{"$f":"C1085&D1085&E1085&F1085","v":"CUATRO (4)CUATRO (4)ETAPAOIDOS DE COPA"},{"$f":"H1085","v":15000},{"$f":"C1085&D1085&E1085&F1085&G1085","v":"CUATRO (4)CUATRO (4)ETAPAOIDOS DE COPAINVALCA"},{"$f":"B1085&H1085","v":"C4S4-07115000"},{"$f":"G1085","v":"INVALCA"},"Und",{"$f":"C1085&D1085&E1085&F1085&G1085","v":"CUATRO (4)CUATRO (4)ETAPAOIDOS DE COPAINVALCA"},{"$f":"H1085","v":15000}]
[{"$f":"\"ate01-\"&B1086&\" \"&C1086&\" \"&D1086&\" \"&E1086","v":"ate01-C4S4-072 CUATRO (4) CUATRO (4) E"},"C4S4-072","CUATRO (4)","CUATRO (4)","E","TAPA OÍDOS DE INSERCIÓN","INVERSIONES SARHEM DE COLOMBIA S.A.S.",86000,{"$f":"B1086&G1086","v":"C4S4-072INVERSIONES SARHEM DE COLOMBIA S.A.S."},{"$f":"C1086&D1086&E1086&F1086","v":"CUATRO (4)CUATRO (4)ETAPA OÍDOS DE INSERCIÓN"},{"$f":"H1086","v":86000},{"$f":"C1086&D1086&E1086&F1086&G1086","v":"CUATRO (4)CUATRO (4)ETAPA OÍDOS DE INSERCIÓNINVERSIONES SARHEM DE COLOMBIA S.A.S."},{"$f":"B1086&H1086","v":"C4S4-07286000"},{"$f":"G1086","v":"INVERSIONES SARHEM DE COLOMBIA S.A.S."},"Und",{"$f":"C1086&D1086&E1086&F1086&G1086","v":"CUATRO (4)CUATRO (4)ETAPA OÍDOS DE INSERCIÓNINVERSIONES SARHEM DE COLOMBIA S.A.S."},{"$f":"H1086","v":86000}]
[{"$f":"\"ate01-\"&B1087&\" \"&C1087&\" \"&D1087&\" \"&E1087","v":"ate01-C4S4-072 CUATRO (4) CUATRO (4) E"},"C4S4-072","CUATRO (4)","CUATRO (4)","E","TAPA OÍDOS DE INSERCIÓN","UNION TEMPORAL AYGEMA",220000,{"$f":"B1087&G1087","v":"C4S4-072UNION TEMPORAL AYGEMA"},{"$f":"C1087&D1087&E1087&F1087","v":"CUATRO (4)CUATRO (4)ETAPA OÍDOS DE INSERCIÓN"},{"$f":"H1087","v":220000},{"$f":"C1087&D1087&E1087&F1087&G1087","v":"CUATRO (4)CUATRO (4)ETAPA OÍDOS DE INSERCIÓNUNION TEMPORAL AYGEMA"},{"$f":"B1087&H1087","v":"C4S4-072220000"},{"$f":"G1087","v":"UNION TEMPORAL AYGEMA"},"Und",{"$f":"C1087&D1087&E1087&F1087&G1087","v":"CUATRO (4)CUATRO (4)ETAPA OÍDOS DE INSERCIÓNUNION TEMPORAL AYGEMA"},{"$f":"H1087","v":220000}]
[{"$f":"\"ate01-\"&B1088&\" \"&C1088&\" \"&D1088&\" \"&E1088","v":"ate01-C4S4-072 CUATRO (4) CUATRO (4) E"},"C4S4-072","CUATRO (4)","CUATRO (4)","E","TAPA OÍDOS DE INSERCIÓN","UT SS 2021- CCENEG- 041-01-2021",360000,{"$f":"B1088&G1088","v":"C4S4-072UT SS 2021- CCENEG- 041-01-2021"},{"$f":"C1088&D1088&E1088&F1088","v":"CUATRO (4)CUATRO (4)ETAPA OÍDOS DE INSERCIÓN"},{"$f":"H1088","v":360000},{"$f":"C1088&D1088&E1088&F1088&G1088","v":"CUATRO (4)CUATRO (4)ETAPA OÍDOS DE INSERCIÓNUT SS 2021- CCENEG- 041-01-2021"},{"$f":"B1088&H1088","v":"C4S4-072360000"},{"$f":"G1088","v":"UT SS 2021- CCENEG- 041-01-2021"},"Und",{"$f":"C1088&D1088&E1088&F1088&G1088","v":"CUATRO (4)CUATRO (4)ETAPA OÍDOS DE INSERCIÓNUT SS 2021- CCENEG- 041-01-2021"},{"$f":"H1088","v":360000}]
[{"$f":"\"ate01-\"&B1089&\" \"&C1089&\" \"&D1089&\" \"&E1089","v":"ate01-C4S4-072 CUATRO (4) CUATRO (4) E"},"C4S4-072","CUATRO (4)","CUATRO (4)","E","TAPA OÍDOS DE INSERCIÓN","RES-Q SOLUTIONS",2000000,{"$f":"B1089&G1089","v":"C4S4-072RES-Q SOLUTIONS"},{"$f":"C1089&D1089&E1089&F1089","v":"CUATRO (4)CUATRO (4)ETAPA OÍDOS DE INSERCIÓN"},{"$f":"H1089","v":2000000},{"$f":"C1089&D1089&E1089&F1089&G1089","v":"CUATRO (4)CUATRO (4)ETAPA OÍDOS DE INSERCIÓNRES-Q SOLUTIONS"},{"$f":"B1089&H1089","v":"C4S4-0722000000"},{"$f":"G1089","v":"RES-Q SOLUTIONS"},"Und",{"$f":"C1089&D1089&E1089&F1089&G1089","v":"CUATRO (4)CUATRO (4)ETAPA OÍDOS DE INSERCIÓNRES-Q SOLUTIONS"},{"$f":"H1089","v":2000000}]
[{"$f":"\"ate01-\"&B1090&\" \"&C1090&\" \"&D1090&\" \"&E1090","v":"ate01-C4S4-072 CUATRO (4) CUATRO (4) E"},"C4S4-072","CUATRO (4)","CUATRO (4)","E","TAPA OÍDOS DE INSERCIÓN","YUBARTA S.A.S.",34799.93,{"$f":"B1090&G1090","v":"C4S4-072YUBARTA S.A.S."},{"$f":"C1090&D1090&E1090&F1090","v":"CUATRO (4)CUATRO (4)ETAPA OÍDOS DE INSERCIÓN"},{"$f":"H1090","v":34799.93},{"$f":"C1090&D1090&E1090&F1090&G1090","v":"CUATRO (4)CUATRO (4)ETAPA OÍDOS DE INSERCIÓNYUBARTA S.A.S."},{"$f":"B1090&H1090","v":"C4S4-07234799.93"},{"$f":"G1090","v":"YUBARTA S.A.S."},"Und",{"$f":"C1090&D1090&E1090&F1090&G1090","v":"CUATRO (4)CUATRO (4)ETAPA OÍDOS DE INSERCIÓNYUBARTA S.A.S."},{"$f":"H1090","v":34799.93}]
[{"$f":"\"ate01-\"&B1091&\" \"&C1091&\" \"&D1091&\" \"&E1091","v":"ate01-C4S4-072 CUATRO (4) CUATRO (4) E"},"C4S4-072","CUATRO (4)","CUATRO (4)","E","TAPA OÍDOS DE INSERCIÓN","COLOMBIANA DE TEXTILES POR MAYOR S.A.",14800,{"$f":"B1091&G1091","v":"C4S4-072COLOMBIANA DE TEXTILES POR MAYOR S.A."},{"$f":"C1091&D1091&E1091&F1091","v":"CUATRO (4)CUATRO (4)ETAPA OÍDOS DE INSERCIÓN"},{"$f":"H1091","v":14800},{"$f":"C1091&D1091&E1091&F1091&G1091","v":"CUATRO (4)CUATRO (4)ETAPA OÍDOS DE INSERCIÓNCOLOMBIANA DE TEXTILES POR MAYOR S.A."},{"$f":"B1091&H1091","v":"C4S4-07214800"},{"$f":"G1091","v":"COLOMBIANA DE TEXTILES POR MAYOR S.A."},"Und",{"$f":"C1091&D1091&E1091&F1091&G1091","v":"CUATRO (4)CUATRO (4)ETAPA OÍDOS DE INSERCIÓNCOLOMBIANA DE TEXTILES POR MAYOR S.A."},{"$f":"H1091","v":14800}]
[{"$f":"\"ate01-\"&B1092&\" \"&C1092&\" \"&D1092&\" \"&E1092","v":"ate01-C4S4-072 CUATRO (4) CUATRO (4) E"},"C4S4-072","CUATRO (4)","CUATRO (4)","E","TAPA OÍDOS DE INSERCIÓN","INVALCA",25000,{"$f":"B1092&G1092","v":"C4S4-072INVALCA"},{"$f":"C1092&D1092&E1092&F1092","v":"CUATRO (4)CUATRO (4)ETAPA OÍDOS DE INSERCIÓN"},{"$f":"H1092","v":25000},{"$f":"C1092&D1092&E1092&F1092&G1092","v":"CUATRO (4)CUATRO (4)ETAPA OÍDOS DE INSERCIÓNINVALCA"},{"$f":"B1092&H1092","v":"C4S4-07225000"},{"$f":"G1092","v":"INVALCA"},"Und",{"$f":"C1092&D1092&E1092&F1092&G1092","v":"CUATRO (4)CUATRO (4)ETAPA OÍDOS DE INSERCIÓNINVALCA"},{"$f":"H1092","v":25000}]
[{"$f":"\"ate01-\"&B1093&\" \"&C1093&\" \"&D1093&\" \"&E1093","v":"ate01-C4S4-073 CUATRO (4) CUATRO (4) E"},"C4S4-073","CUATRO (4)","CUATRO (4)","E","BOTAS DE SEGURIDAD ","INVERSIONES SARHEM DE COLOMBIA S.A.S.",360000,{"$f":"B1093&G1093","v":"C4S4-073INVERSIONES SARHEM DE COLOMBIA S.A.S."},{"$f":"C1093&D1093&E1093&F1093","v":"CUATRO (4)CUATRO (4)EBOTAS DE SEGURIDAD "},{"$f":"H1093","v":360000},{"$f":"C1093&D1093&E1093&F1093&G1093","v":"CUATRO (4)CUATRO (4)EBOTAS DE SEGURIDAD INVERSIONES SARHEM DE COLOMBIA S.A.S."},{"$f":"B1093&H1093","v":"C4S4-073360000"},{"$f":"G1093","v":"INVERSIONES SARHEM DE COLOMBIA S.A.S."},"Und",{"$f":"C1093&D1093&E1093&F1093&G1093","v":"CUATRO (4)CUATRO (4)EBOTAS DE SEGURIDAD INVERSIONES SARHEM DE COLOMBIA S.A.S."},{"$f":"H1093","v":360000}]
[{"$f":"\"ate01-\"&B1094&\" \"&C1094&\" \"&D1094&\" \"&E1094","v":"ate01-C4S4-073 CUATRO (4) CUATRO (4) E"},"C4S4-073","CUATRO (4)","CUATRO (4)","E","BOTAS DE SEGURIDAD ","UNION TEMPORAL AYGEMA",184000,{"$f":"B1094&G1094","v":"C4S4-073UNION TEMPORAL AYGEMA"},{"$f":"C1094&D1094&E1094&F1094","v":"CUATRO (4)CUATRO (4)EBOTAS DE SEGURIDAD "},{"$f":"H1094","v":184000},{"$f":"C1094&D1094&E1094&F1094&G1094","v":"CUATRO (4)CUATRO (4)EBOTAS DE SEGURIDAD UNION TEMPORAL AYGEMA"},{"$f":"B1094&H1094","v":"C4S4-073184000"},{"$f":"G1094","v":"UNION TEMPORAL AYGEMA"},"Und",{"$f":"C1094&D1094&E1094&F1094&G1094","v":"CUATRO (4)CUATRO (4)EBOTAS DE SEGURIDAD UNION TEMPORAL AYGEMA"},{"$f":"H1094","v":184000}]
[{"$f":"\"ate01-\"&B1095&\" \"&C1095&\" \"&D1095&\" \"&E1095","v":"ate01-C4S4-073 CUATRO (4) CUATRO (4) E"},"C4S4-073","CUATRO (4)","CUATRO (4)","E","BOTAS DE SEGURIDAD ","UT SS 2021- CCENEG- 041-01-2021",333000,{"$f":"B1095&G1095","v":"C4S4-073UT SS 2021- CCENEG- 041-01-2021"},{"$f":"C1095&D1095&E1095&F1095","v":"CUATRO (4)CUATRO (4)EBOTAS DE SEGURIDAD "},{"$f":"H1095","v":333000},{"$f":"C1095&D1095&E1095&F1095&G1095","v":"CUATRO (4)CUATRO (4)EBOTAS DE SEGURIDAD UT SS 2021- CCENEG- 041-01-2021"},{"$f":"B1095&H1095","v":"C4S4-073333000"},{"$f":"G1095","v":"UT SS 2021- CCENEG- 041-01-2021"},"Und",{"$f":"C1095&D1095&E1095&F1095&G1095","v":"CUATRO (4)CUATRO (4)EBOTAS DE SEGURIDAD UT SS 2021- CCENEG- 041-01-2021"},{"$f":"H1095","v":333000}]
[{"$f":"\"ate01-\"&B1096&\" \"&C1096&\" \"&D1096&\" \"&E1096","v":"ate01-C4S4-073 CUATRO (4) CUATRO (4) E"},"C4S4-073","CUATRO (4)","CUATRO (4)","E","BOTAS DE SEGURIDAD ","RES-Q SOLUTIONS",280000,{"$f":"B1096&G1096","v":"C4S4-073RES-Q SOLUTIONS"},{"$f":"C1096&D1096&E1096&F1096","v":"CUATRO (4)CUATRO (4)EBOTAS DE SEGURIDAD "},{"$f":"H1096","v":280000},{"$f":"C1096&D1096&E1096&F1096&G1096","v":"CUATRO (4)CUATRO (4)EBOTAS DE SEGURIDAD RES-Q SOLUTIONS"},{"$f":"B1096&H1096","v":"C4S4-073280000"},{"$f":"G1096","v":"RES-Q SOLUTIONS"},"Und",{"$f":"C1096&D1096&E1096&F1096&G1096","v":"CUATRO (4)CUATRO (4)EBOTAS DE SEGURIDAD RES-Q SOLUTIONS"},{"$f":"H1096","v":280000}]
[{"$f":"\"ate01-\"&B1097&\" \"&C1097&\" \"&D1097&\" \"&E1097","v":"ate01-C4S4-073 CUATRO (4) CUATRO (4) E"},"C4S4-073","CUATRO (4)","CUATRO (4)","E","BOTAS DE SEGURIDAD ","YUBARTA S.A.S.",372708,{"$f":"B1097&G1097","v":"C4S4-073YUBARTA S.A.S."},{"$f":"C1097&D1097&E1097&F1097","v":"CUATRO (4)CUATRO (4)EBOTAS DE SEGURIDAD "},{"$f":"H1097","v":372708},{"$f":"C1097&D1097&E1097&F1097&G1097","v":"CUATRO (4)CUATRO (4)EBOTAS DE SEGURIDAD YUBARTA S.A.S."},{"$f":"B1097&H1097","v":"C4S4-073372708"},{"$f":"G1097","v":"YUBARTA S.A.S."},"Und",{"$f":"C1097&D1097&E1097&F1097&G1097","v":"CUATRO (4)CUATRO (4)EBOTAS DE SEGURIDAD YUBARTA S.A.S."},{"$f":"H1097","v":372708}]
[{"$f":"\"ate01-\"&B1098&\" \"&C1098&\" \"&D1098&\" \"&E1098","v":"ate01-C4S4-073 CUATRO (4) CUATRO (4) E"},"C4S4-073","CUATRO (4)","CUATRO (4)","E","BOTAS DE SEGURIDAD ","COLOMBIANA DE TEXTILES POR MAYOR S.A.",178900,{"$f":"B1098&G1098","v":"C4S4-073COLOMBIANA DE TEXTILES POR MAYOR S.A."},{"$f":"C1098&D1098&E1098&F1098","v":"CUATRO (4)CUATRO (4)EBOTAS DE SEGURIDAD "},{"$f":"H1098","v":178900},{"$f":"C1098&D1098&E1098&F1098&G1098","v":"CUATRO (4)CUATRO (4)EBOTAS DE SEGURIDAD COLOMBIANA DE TEXTILES POR MAYOR S.A."},{"$f":"B1098&H1098","v":"C4S4-073178900"},{"$f":"G1098","v":"COLOMBIANA DE TEXTILES POR MAYOR S.A."},"Und",{"$f":"C1098&D1098&E1098&F1098&G1098","v":"CUATRO (4)CUATRO (4)EBOTAS DE SEGURIDAD COLOMBIANA DE TEXTILES POR MAYOR S.A."},{"$f":"H1098","v":178900}]
[{"$f":"\"ate01-\"&B1099&\" \"&C1099&\" \"&D1099&\" \"&E1099","v":"ate01-C4S4-073 CUATRO (4) CUATRO (4) E"},"C4S4-073","CUATRO (4)","CUATRO (4)","E","BOTAS DE SEGURIDAD ","INVALCA",185000,{"$f":"B1099&G1099","v":"C4S4-073INVALCA"},{"$f":"C1099&D1099&E1099&F1099","v":"CUATRO (4)CUATRO (4)EBOTAS DE SEGURIDAD "},{"$f":"H1099","v":185000},{"$f":"C1099&D1099&E1099&F1099&G1099","v":"CUATRO (4)CUATRO (4)EBOTAS DE SEGURIDAD INVALCA"},{"$f":"B1099&H1099","v":"C4S4-073185000"},{"$f":"G1099","v":"INVALCA"},"Und",{"$f":"C1099&D1099&E1099&F1099&G1099","v":"CUATRO (4)CUATRO (4)EBOTAS DE SEGURIDAD INVALCA"},{"$f":"H1099","v":185000}]
[{"$f":"\"ate01-\"&B1100&\" \"&C1100&\" \"&D1100&\" \"&E1100","v":"ate01-C4S4-074 CUATRO (4) CUATRO (4) E"},"C4S4-074","CUATRO (4)","CUATRO (4)","E","BOTAS CAUCHO PUNTA DE ACERO","INVERSIONES SARHEM DE COLOMBIA S.A.S.",190000,{"$f":"B1100&G1100","v":"C4S4-074INVERSIONES SARHEM DE COLOMBIA S.A.S."},{"$f":"C1100&D1100&E1100&F1100","v":"CUATRO (4)CUATRO (4)EBOTAS CAUCHO PUNTA DE ACERO"},{"$f":"H1100","v":190000},{"$f":"C1100&D1100&E1100&F1100&G1100","v":"CUATRO (4)CUATRO (4)EBOTAS CAUCHO PUNTA DE ACEROINVERSIONES SARHEM DE COLOMBIA S.A.S."},{"$f":"B1100&H1100","v":"C4S4-074190000"},{"$f":"G1100","v":"INVERSIONES SARHEM DE COLOMBIA S.A.S."},"Und",{"$f":"C1100&D1100&E1100&F1100&G1100","v":"CUATRO (4)CUATRO (4)EBOTAS CAUCHO PUNTA DE ACEROINVERSIONES SARHEM DE COLOMBIA S.A.S."},{"$f":"H1100","v":190000}]
[{"$f":"\"ate01-\"&B1101&\" \"&C1101&\" \"&D1101&\" \"&E1101","v":"ate01-C4S4-074 CUATRO (4) CUATRO (4) E"},"C4S4-074","CUATRO (4)","CUATRO (4)","E","BOTAS CAUCHO PUNTA DE ACERO","UNION TEMPORAL AYGEMA",95000,{"$f":"B1101&G1101","v":"C4S4-074UNION TEMPORAL AYGEMA"},{"$f":"C1101&D1101&E1101&F1101","v":"CUATRO (4)CUATRO (4)EBOTAS CAUCHO PUNTA DE ACERO"},{"$f":"H1101","v":95000},{"$f":"C1101&D1101&E1101&F1101&G1101","v":"CUATRO (4)CUATRO (4)EBOTAS CAUCHO PUNTA DE ACEROUNION TEMPORAL AYGEMA"},{"$f":"B1101&H1101","v":"C4S4-07495000"},{"$f":"G1101","v":"UNION TEMPORAL AYGEMA"},"Und",{"$f":"C1101&D1101&E1101&F1101&G1101","v":"CUATRO (4)CUATRO (4)EBOTAS CAUCHO PUNTA DE ACEROUNION TEMPORAL AYGEMA"},{"$f":"H1101","v":95000}]
[{"$f":"\"ate01-\"&B1102&\" \"&C1102&\" \"&D1102&\" \"&E1102","v":"ate01-C4S4-074 CUATRO (4) CUATRO (4) E"},"C4S4-074","CUATRO (4)","CUATRO (4)","E","BOTAS CAUCHO PUNTA DE ACERO","UT SS 2021- CCENEG- 041-01-2021",99000,{"$f":"B1102&G1102","v":"C4S4-074UT SS 2021- CCENEG- 041-01-2021"},{"$f":"C1102&D1102&E1102&F1102","v":"CUATRO (4)CUATRO (4)EBOTAS CAUCHO PUNTA DE ACERO"},{"$f":"H1102","v":99000},{"$f":"C1102&D1102&E1102&F1102&G1102","v":"CUATRO (4)CUATRO (4)EBOTAS CAUCHO PUNTA DE ACEROUT SS 2021- CCENEG- 041-01-2021"},{"$f":"B1102&H1102","v":"C4S4-07499000"},{"$f":"G1102","v":"UT SS 2021- CCENEG- 041-01-2021"},"Und",{"$f":"C1102&D1102&E1102&F1102&G1102","v":"CUATRO (4)CUATRO (4)EBOTAS CAUCHO PUNTA DE ACEROUT SS 2021- CCENEG- 041-01-2021"},{"$f":"H1102","v":99000}]
[{"$f":"\"ate01-\"&B1103&\" \"&C1103&\" \"&D1103&\" \"&E1103","v":"ate01-C4S4-074 CUATRO (4) CUATRO (4) E"},"C4S4-074","CUATRO (4)","CUATRO (4)","E","BOTAS CAUCHO PUNTA DE ACERO","RES-Q SOLUTIONS",170000,{"$f":"B1103&G1103","v":"C4S4-074RES-Q SOLUTIONS"},{"$f":"C1103&D1103&E1103&F1103","v":"CUATRO (4)CUATRO (4)EBOTAS CAUCHO PUNTA DE ACERO"},{"$f":"H1103","v":170000},{"$f":"C1103&D1103&E1103&F1103&G1103","v":"CUATRO (4)CUATRO (4)EBOTAS CAUCHO PUNTA DE ACERORES-Q SOLUTIONS"},{"$f":"B1103&H1103","v":"C4S4-074170000"},{"$f":"G1103","v":"RES-Q SOLUTIONS"},"Und",{"$f":"C1103&D1103&E1103&F1103&G1103","v":"CUATRO (4)CUATRO (4)EBOTAS CAUCHO PUNTA DE ACERORES-Q SOLUTIONS"},{"$f":"H1103","v":170000}]
[{"$f":"\"ate01-\"&B1104&\" \"&C1104&\" \"&D1104&\" \"&E1104","v":"ate01-C4S4-074 CUATRO (4) CUATRO (4) E"},"C4S4-074","CUATRO (4)","CUATRO (4)","E","BOTAS CAUCHO PUNTA DE ACERO","YUBARTA S.A.S.",143820.01,{"$f":"B1104&G1104","v":"C4S4-074YUBARTA S.A.S."},{"$f":"C1104&D1104&E1104&F1104","v":"CUATRO (4)CUATRO (4)EBOTAS CAUCHO PUNTA DE ACERO"},{"$f":"H1104","v":143820.01},{"$f":"C1104&D1104&E1104&F1104&G1104","v":"CUATRO (4)CUATRO (4)EBOTAS CAUCHO PUNTA DE ACEROYUBARTA S.A.S."},{"$f":"B1104&H1104","v":"C4S4-074143820.01"},{"$f":"G1104","v":"YUBARTA S.A.S."},"Und",{"$f":"C1104&D1104&E1104&F1104&G1104","v":"CUATRO (4)CUATRO (4)EBOTAS CAUCHO PUNTA DE ACEROYUBARTA S.A.S."},{"$f":"H1104","v":143820.01}]
[{"$f":"\"ate01-\"&B1105&\" \"&C1105&\" \"&D1105&\" \"&E1105","v":"ate01-C4S4-074 CUATRO (4) CUATRO (4) E"},"C4S4-074","CUATRO (4)","CUATRO (4)","E","BOTAS CAUCHO PUNTA DE ACERO","COLOMBIANA DE TEXTILES POR MAYOR S.A.",96100,{"$f":"B1105&G1105","v":"C4S4-074COLOMBIANA DE TEXTILES POR MAYOR S.A."},{"$f":"C1105&D1105&E1105&F1105","v":"CUATRO (4)CUATRO (4)EBOTAS CAUCHO PUNTA DE ACERO"},{"$f":"H1105","v":96100},{"$f":"C1105&D1105&E1105&F1105&G1105","v":"CUATRO (4)CUATRO (4)EBOTAS CAUCHO PUNTA DE ACEROCOLOMBIANA DE TEXTILES POR MAYOR S.A."},{"$f":"B1105&H1105","v":"C4S4-07496100"},{"$f":"G1105","v":"COLOMBIANA DE TEXTILES POR MAYOR S.A."},"Und",{"$f":"C1105&D1105&E1105&F1105&G1105","v":"CUATRO (4)CUATRO (4)EBOTAS CAUCHO PUNTA DE ACEROCOLOMBIANA DE TEXTILES POR MAYOR S.A."},{"$f":"H1105","v":96100}]
[{"$f":"\"ate01-\"&B1106&\" \"&C1106&\" \"&D1106&\" \"&E1106","v":"ate01-C4S4-074 CUATRO (4) CUATRO (4) E"},"C4S4-074","CUATRO (4)","CUATRO (4)","E","BOTAS CAUCHO PUNTA DE ACERO","INVALCA",250000,{"$f":"B1106&G1106","v":"C4S4-074INVALCA"},{"$f":"C1106&D1106&E1106&F1106","v":"CUATRO (4)CUATRO (4)EBOTAS CAUCHO PUNTA DE ACERO"},{"$f":"H1106","v":250000},{"$f":"C1106&D1106&E1106&F1106&G1106","v":"CUATRO (4)CUATRO (4)EBOTAS CAUCHO PUNTA DE ACEROINVALCA"},{"$f":"B1106&H1106","v":"C4S4-074250000"},{"$f":"G1106","v":"INVALCA"},"Und",{"$f":"C1106&D1106&E1106&F1106&G1106","v":"CUATRO (4)CUATRO (4)EBOTAS CAUCHO PUNTA DE ACEROINVALCA"},{"$f":"H1106","v":250000}]
[{"$f":"\"ate01-\"&B1107&\" \"&C1107&\" \"&D1107&\" \"&E1107","v":"ate01-C4S4-075 CUATRO (4) CUATRO (4) E"},"C4S4-075","CUATRO (4)","CUATRO (4)","E","CASCOS DE SEGURIDAD CON BARBUQUEJO ","INVERSIONES SARHEM DE COLOMBIA S.A.S.",246000,{"$f":"B1107&G1107","v":"C4S4-075INVERSIONES SARHEM DE COLOMBIA S.A.S."},{"$f":"C1107&D1107&E1107&F1107","v":"CUATRO (4)CUATRO (4)ECASCOS DE SEGURIDAD CON BARBUQUEJO "},{"$f":"H1107","v":246000},{"$f":"C1107&D1107&E1107&F1107&G1107","v":"CUATRO (4)CUATRO (4)ECASCOS DE SEGURIDAD CON BARBUQUEJO INVERSIONES SARHEM DE COLOMBIA S.A.S."},{"$f":"B1107&H1107","v":"C4S4-075246000"},{"$f":"G1107","v":"INVERSIONES SARHEM DE COLOMBIA S.A.S."},"Und",{"$f":"C1107&D1107&E1107&F1107&G1107","v":"CUATRO (4)CUATRO (4)ECASCOS DE SEGURIDAD CON BARBUQUEJO INVERSIONES SARHEM DE COLOMBIA S.A.S."},{"$f":"H1107","v":246000}]
[{"$f":"\"ate01-\"&B1108&\" \"&C1108&\" \"&D1108&\" \"&E1108","v":"ate01-C4S4-075 CUATRO (4) CUATRO (4) E"},"C4S4-075","CUATRO (4)","CUATRO (4)","E","CASCOS DE SEGURIDAD CON BARBUQUEJO ","UNION TEMPORAL AYGEMA",90000,{"$f":"B1108&G1108","v":"C4S4-075UNION TEMPORAL AYGEMA"},{"$f":"C1108&D1108&E1108&F1108","v":"CUATRO (4)CUATRO (4)ECASCOS DE SEGURIDAD CON BARBUQUEJO "},{"$f":"H1108","v":90000},{"$f":"C1108&D1108&E1108&F1108&G1108","v":"CUATRO (4)CUATRO (4)ECASCOS DE SEGURIDAD CON BARBUQUEJO UNION TEMPORAL AYGEMA"},{"$f":"B1108&H1108","v":"C4S4-07590000"},{"$f":"G1108","v":"UNION TEMPORAL AYGEMA"},"Und",{"$f":"C1108&D1108&E1108&F1108&G1108","v":"CUATRO (4)CUATRO (4)ECASCOS DE SEGURIDAD CON BARBUQUEJO UNION TEMPORAL AYGEMA"},{"$f":"H1108","v":90000}]
[{"$f":"\"ate01-\"&B1109&\" \"&C1109&\" \"&D1109&\" \"&E1109","v":"ate01-C4S4-075 CUATRO (4) CUATRO (4) E"},"C4S4-075","CUATRO (4)","CUATRO (4)","E","CASCOS DE SEGURIDAD CON BARBUQUEJO ","UT SS 2021- CCENEG- 041-01-2021",153000,{"$f":"B1109&G1109","v":"C4S4-075UT SS 2021- CCENEG- 041-01-2021"},{"$f":"C1109&D1109&E1109&F1109","v":"CUATRO (4)CUATRO (4)ECASCOS DE SEGURIDAD CON BARBUQUEJO "},{"$f":"H1109","v":153000},{"$f":"C1109&D1109&E1109&F1109&G1109","v":"CUATRO (4)CUATRO (4)ECASCOS DE SEGURIDAD CON BARBUQUEJO UT SS 2021- CCENEG- 041-01-2021"},{"$f":"B1109&H1109","v":"C4S4-075153000"},{"$f":"G1109","v":"UT SS 2021- CCENEG- 041-01-2021"},"Und",{"$f":"C1109&D1109&E1109&F1109&G1109","v":"CUATRO (4)CUATRO (4)ECASCOS DE SEGURIDAD CON BARBUQUEJO UT SS 2021- CCENEG- 041-01-2021"},{"$f":"H1109","v":153000}]
[{"$f":"\"ate01-\"&B1110&\" \"&C1110&\" \"&D1110&\" \"&E1110","v":"ate01-C4S4-075 CUATRO (4) CUATRO (4) E"},"C4S4-075","CUATRO (4)","CUATRO (4)","E","CASCOS DE SEGURIDAD CON BARBUQUEJO ","RES-Q SOLUTIONS",200000,{"$f":"B1110&G1110","v":"C4S4-075RES-Q SOLUTIONS"},{"$f":"C1110&D1110&E1110&F1110","v":"CUATRO (4)CUATRO (4)ECASCOS DE SEGURIDAD CON BARBUQUEJO "},{"$f":"H1110","v":200000},{"$f":"C1110&D1110&E1110&F1110&G1110","v":"CUATRO (4)CUATRO (4)ECASCOS DE SEGURIDAD CON BARBUQUEJO RES-Q SOLUTIONS"},{"$f":"B1110&H1110","v":"C4S4-075200000"},{"$f":"G1110","v":"RES-Q SOLUTIONS"},"Und",{"$f":"C1110&D1110&E1110&F1110&G1110","v":"CUATRO (4)CUATRO (4)ECASCOS DE SEGURIDAD CON BARBUQUEJO RES-Q SOLUTIONS"},{"$f":"H1110","v":200000}]
[{"$f":"\"ate01-\"&B1111&\" \"&C1111&\" \"&D1111&\" \"&E1111","v":"ate01-C4S4-075 CUATRO (4) CUATRO (4) E"},"C4S4-075","CUATRO (4)","CUATRO (4)","E","CASCOS DE SEGURIDAD CON BARBUQUEJO ","YUBARTA S.A.S.",75599.990000000005,{"$f":"B1111&G1111","v":"C4S4-075YUBARTA S.A.S."},{"$f":"C1111&D1111&E1111&F1111","v":"CUATRO (4)CUATRO (4)ECASCOS DE SEGURIDAD CON BARBUQUEJO "},{"$f":"H1111","v":75599.990000000005},{"$f":"C1111&D1111&E1111&F1111&G1111","v":"CUATRO (4)CUATRO (4)ECASCOS DE SEGURIDAD CON BARBUQUEJO YUBARTA S.A.S."},{"$f":"B1111&H1111","v":"C4S4-07575599.99"},{"$f":"G1111","v":"YUBARTA S.A.S."},"Und",{"$f":"C1111&D1111&E1111&F1111&G1111","v":"CUATRO (4)CUATRO (4)ECASCOS DE SEGURIDAD CON BARBUQUEJO YUBARTA S.A.S."},{"$f":"H1111","v":75599.990000000005}]
[{"$f":"\"ate01-\"&B1112&\" \"&C1112&\" \"&D1112&\" \"&E1112","v":"ate01-C4S4-075 CUATRO (4) CUATRO (4) E"},"C4S4-075","CUATRO (4)","CUATRO (4)","E","CASCOS DE SEGURIDAD CON BARBUQUEJO ","COLOMBIANA DE TEXTILES POR MAYOR S.A.",198700,{"$f":"B1112&G1112","v":"C4S4-075COLOMBIANA DE TEXTILES POR MAYOR S.A."},{"$f":"C1112&D1112&E1112&F1112","v":"CUATRO (4)CUATRO (4)ECASCOS DE SEGURIDAD CON BARBUQUEJO "},{"$f":"H1112","v":198700},{"$f":"C1112&D1112&E1112&F1112&G1112","v":"CUATRO (4)CUATRO (4)ECASCOS DE SEGURIDAD CON BARBUQUEJO COLOMBIANA DE TEXTILES POR MAYOR S.A."},{"$f":"B1112&H1112","v":"C4S4-075198700"},{"$f":"G1112","v":"COLOMBIANA DE TEXTILES POR MAYOR S.A."},"Und",{"$f":"C1112&D1112&E1112&F1112&G1112","v":"CUATRO (4)CUATRO (4)ECASCOS DE SEGURIDAD CON BARBUQUEJO COLOMBIANA DE TEXTILES POR MAYOR S.A."},{"$f":"H1112","v":198700}]
[{"$f":"\"ate01-\"&B1113&\" \"&C1113&\" \"&D1113&\" \"&E1113","v":"ate01-C4S4-075 CUATRO (4) CUATRO (4) E"},"C4S4-075","CUATRO (4)","CUATRO (4)","E","CASCOS DE SEGURIDAD CON BARBUQUEJO ","INVALCA",95000,{"$f":"B1113&G1113","v":"C4S4-075INVALCA"},{"$f":"C1113&D1113&E1113&F1113","v":"CUATRO (4)CUATRO (4)ECASCOS DE SEGURIDAD CON BARBUQUEJO "},{"$f":"H1113","v":95000},{"$f":"C1113&D1113&E1113&F1113&G1113","v":"CUATRO (4)CUATRO (4)ECASCOS DE SEGURIDAD CON BARBUQUEJO INVALCA"},{"$f":"B1113&H1113","v":"C4S4-07595000"},{"$f":"G1113","v":"INVALCA"},"Und",{"$f":"C1113&D1113&E1113&F1113&G1113","v":"CUATRO (4)CUATRO (4)ECASCOS DE SEGURIDAD CON BARBUQUEJO INVALCA"},{"$f":"H1113","v":95000}]
[{"$f":"\"ate01-\"&B1114&\" \"&C1114&\" \"&D1114&\" \"&E1114","v":"ate01-C4S4-076 CUATRO (4) CUATRO (4) E"},"C4S4-076","CUATRO (4)","CUATRO (4)","E","GUANTES NYLON RECUBIERTO POLIURETANO","INVERSIONES SARHEM DE COLOMBIA S.A.S.",102000,{"$f":"B1114&G1114","v":"C4S4-076INVERSIONES SARHEM DE COLOMBIA S.A.S."},{"$f":"C1114&D1114&E1114&F1114","v":"CUATRO (4)CUATRO (4)EGUANTES NYLON RECUBIERTO POLIURETANO"},{"$f":"H1114","v":102000},{"$f":"C1114&D1114&E1114&F1114&G1114","v":"CUATRO (4)CUATRO (4)EGUANTES NYLON RECUBIERTO POLIURETANOINVERSIONES SARHEM DE COLOMBIA S.A.S."},{"$f":"B1114&H1114","v":"C4S4-076102000"},{"$f":"G1114","v":"INVERSIONES SARHEM DE COLOMBIA S.A.S."},"Und",{"$f":"C1114&D1114&E1114&F1114&G1114","v":"CUATRO (4)CUATRO (4)EGUANTES NYLON RECUBIERTO POLIURETANOINVERSIONES SARHEM DE COLOMBIA S.A.S."},{"$f":"H1114","v":102000}]
[{"$f":"\"ate01-\"&B1115&\" \"&C1115&\" \"&D1115&\" \"&E1115","v":"ate01-C4S4-076 CUATRO (4) CUATRO (4) E"},"C4S4-076","CUATRO (4)","CUATRO (4)","E","GUANTES NYLON RECUBIERTO POLIURETANO","UNION TEMPORAL AYGEMA",8000,{"$f":"B1115&G1115","v":"C4S4-076UNION TEMPORAL AYGEMA"},{"$f":"C1115&D1115&E1115&F1115","v":"CUATRO (4)CUATRO (4)EGUANTES NYLON RECUBIERTO POLIURETANO"},{"$f":"H1115","v":8000},{"$f":"C1115&D1115&E1115&F1115&G1115","v":"CUATRO (4)CUATRO (4)EGUANTES NYLON RECUBIERTO POLIURETANOUNION TEMPORAL AYGEMA"},{"$f":"B1115&H1115","v":"C4S4-0768000"},{"$f":"G1115","v":"UNION TEMPORAL AYGEMA"},"Und",{"$f":"C1115&D1115&E1115&F1115&G1115","v":"CUATRO (4)CUATRO (4)EGUANTES NYLON RECUBIERTO POLIURETANOUNION TEMPORAL AYGEMA"},{"$f":"H1115","v":8000}]
[{"$f":"\"ate01-\"&B1116&\" \"&C1116&\" \"&D1116&\" \"&E1116","v":"ate01-C4S4-076 CUATRO (4) CUATRO (4) E"},"C4S4-076","CUATRO (4)","CUATRO (4)","E","GUANTES NYLON RECUBIERTO POLIURETANO","UT SS 2021- CCENEG- 041-01-2021",12600,{"$f":"B1116&G1116","v":"C4S4-076UT SS 2021- CCENEG- 041-01-2021"},{"$f":"C1116&D1116&E1116&F1116","v":"CUATRO (4)CUATRO (4)EGUANTES NYLON RECUBIERTO POLIURETANO"},{"$f":"H1116","v":12600},{"$f":"C1116&D1116&E1116&F1116&G1116","v":"CUATRO (4)CUATRO (4)EGUANTES NYLON RECUBIERTO POLIURETANOUT SS 2021- CCENEG- 041-01-2021"},{"$f":"B1116&H1116","v":"C4S4-07612600"},{"$f":"G1116","v":"UT SS 2021- CCENEG- 041-01-2021"},"Und",{"$f":"C1116&D1116&E1116&F1116&G1116","v":"CUATRO (4)CUATRO (4)EGUANTES NYLON RECUBIERTO POLIURETANOUT SS 2021- CCENEG- 041-01-2021"},{"$f":"H1116","v":12600}]
[{"$f":"\"ate01-\"&B1117&\" \"&C1117&\" \"&D1117&\" \"&E1117","v":"ate01-C4S4-076 CUATRO (4) CUATRO (4) E"},"C4S4-076","CUATRO (4)","CUATRO (4)","E","GUANTES NYLON RECUBIERTO POLIURETANO","RES-Q SOLUTIONS",20000,{"$f":"B1117&G1117","v":"C4S4-076RES-Q SOLUTIONS"},{"$f":"C1117&D1117&E1117&F1117","v":"CUATRO (4)CUATRO (4)EGUANTES NYLON RECUBIERTO POLIURETANO"},{"$f":"H1117","v":20000},{"$f":"C1117&D1117&E1117&F1117&G1117","v":"CUATRO (4)CUATRO (4)EGUANTES NYLON RECUBIERTO POLIURETANORES-Q SOLUTIONS"},{"$f":"B1117&H1117","v":"C4S4-07620000"},{"$f":"G1117","v":"RES-Q SOLUTIONS"},"Und",{"$f":"C1117&D1117&E1117&F1117&G1117","v":"CUATRO (4)CUATRO (4)EGUANTES NYLON RECUBIERTO POLIURETANORES-Q SOLUTIONS"},{"$f":"H1117","v":20000}]
[{"$f":"\"ate01-\"&B1118&\" \"&C1118&\" \"&D1118&\" \"&E1118","v":"ate01-C4S4-076 CUATRO (4) CUATRO (4) E"},"C4S4-076","CUATRO (4)","CUATRO (4)","E","GUANTES NYLON RECUBIERTO POLIURETANO","YUBARTA S.A.S.",73304,{"$f":"B1118&G1118","v":"C4S4-076YUBARTA S.A.S."},{"$f":"C1118&D1118&E1118&F1118","v":"CUATRO (4)CUATRO (4)EGUANTES NYLON RECUBIERTO POLIURETANO"},{"$f":"H1118","v":73304},{"$f":"C1118&D1118&E1118&F1118&G1118","v":"CUATRO (4)CUATRO (4)EGUANTES NYLON RECUBIERTO POLIURETANOYUBARTA S.A.S."},{"$f":"B1118&H1118","v":"C4S4-07673304"},{"$f":"G1118","v":"YUBARTA S.A.S."},"Und",{"$f":"C1118&D1118&E1118&F1118&G1118","v":"CUATRO (4)CUATRO (4)EGUANTES NYLON RECUBIERTO POLIURETANOYUBARTA S.A.S."},{"$f":"H1118","v":73304}]
[{"$f":"\"ate01-\"&B1119&\" \"&C1119&\" \"&D1119&\" \"&E1119","v":"ate01-C4S4-076 CUATRO (4) CUATRO (4) E"},"C4S4-076","CUATRO (4)","CUATRO (4)","E","GUANTES NYLON RECUBIERTO POLIURETANO","COLOMBIANA DE TEXTILES POR MAYOR S.A.",23600,{"$f":"B1119&G1119","v":"C4S4-076COLOMBIANA DE TEXTILES POR MAYOR S.A."},{"$f":"C1119&D1119&E1119&F1119","v":"CUATRO (4)CUATRO (4)EGUANTES NYLON RECUBIERTO POLIURETANO"},{"$f":"H1119","v":23600},{"$f":"C1119&D1119&E1119&F1119&G1119","v":"CUATRO (4)CUATRO (4)EGUANTES NYLON RECUBIERTO POLIURETANOCOLOMBIANA DE TEXTILES POR MAYOR S.A."},{"$f":"B1119&H1119","v":"C4S4-07623600"},{"$f":"G1119","v":"COLOMBIANA DE TEXTILES POR MAYOR S.A."},"Und",{"$f":"C1119&D1119&E1119&F1119&G1119","v":"CUATRO (4)CUATRO (4)EGUANTES NYLON RECUBIERTO POLIURETANOCOLOMBIANA DE TEXTILES POR MAYOR S.A."},{"$f":"H1119","v":23600}]
[{"$f":"\"ate01-\"&B1120&\" \"&C1120&\" \"&D1120&\" \"&E1120","v":"ate01-C4S4-076 CUATRO (4) CUATRO (4) E"},"C4S4-076","CUATRO (4)","CUATRO (4)","E","GUANTES NYLON RECUBIERTO POLIURETANO","INVALCA",15000,{"$f":"B1120&G1120","v":"C4S4-076INVALCA"},{"$f":"C1120&D1120&E1120&F1120","v":"CUATRO (4)CUATRO (4)EGUANTES NYLON RECUBIERTO POLIURETANO"},{"$f":"H1120","v":15000},{"$f":"C1120&D1120&E1120&F1120&G1120","v":"CUATRO (4)CUATRO (4)EGUANTES NYLON RECUBIERTO POLIURETANOINVALCA"},{"$f":"B1120&H1120","v":"C4S4-07615000"},{"$f":"G1120","v":"INVALCA"},"Und",{"$f":"C1120&D1120&E1120&F1120&G1120","v":"CUATRO (4)CUATRO (4)EGUANTES NYLON RECUBIERTO POLIURETANOINVALCA"},{"$f":"H1120","v":15000}]
[{"$f":"\"ate01-\"&B1121&\" \"&C1121&\" \"&D1121&\" \"&E1121","v":"ate01-C4S4-077 CUATRO (4) CUATRO (4) E"},"C4S4-077","CUATRO (4)","CUATRO (4)","E","MANGAS DE PALPACIÓN PARA BOVINOS","INVERSIONES SARHEM DE COLOMBIA S.A.S.",98000,{"$f":"B1121&G1121","v":"C4S4-077INVERSIONES SARHEM DE COLOMBIA S.A.S."},{"$f":"C1121&D1121&E1121&F1121","v":"CUATRO (4)CUATRO (4)EMANGAS DE PALPACIÓN PARA BOVINOS"},{"$f":"H1121","v":98000},{"$f":"C1121&D1121&E1121&F1121&G1121","v":"CUATRO (4)CUATRO (4)EMANGAS DE PALPACIÓN PARA BOVINOSINVERSIONES SARHEM DE COLOMBIA S.A.S."},{"$f":"B1121&H1121","v":"C4S4-07798000"},{"$f":"G1121","v":"INVERSIONES SARHEM DE COLOMBIA S.A.S."},"Und",{"$f":"C1121&D1121&E1121&F1121&G1121","v":"CUATRO (4)CUATRO (4)EMANGAS DE PALPACIÓN PARA BOVINOSINVERSIONES SARHEM DE COLOMBIA S.A.S."},{"$f":"H1121","v":98000}]
[{"$f":"\"ate01-\"&B1122&\" \"&C1122&\" \"&D1122&\" \"&E1122","v":"ate01-C4S4-077 CUATRO (4) CUATRO (4) E"},"C4S4-077","CUATRO (4)","CUATRO (4)","E","MANGAS DE PALPACIÓN PARA BOVINOS","UNION TEMPORAL AYGEMA",50000,{"$f":"B1122&G1122","v":"C4S4-077UNION TEMPORAL AYGEMA"},{"$f":"C1122&D1122&E1122&F1122","v":"CUATRO (4)CUATRO (4)EMANGAS DE PALPACIÓN PARA BOVINOS"},{"$f":"H1122","v":50000},{"$f":"C1122&D1122&E1122&F1122&G1122","v":"CUATRO (4)CUATRO (4)EMANGAS DE PALPACIÓN PARA BOVINOSUNION TEMPORAL AYGEMA"},{"$f":"B1122&H1122","v":"C4S4-07750000"},{"$f":"G1122","v":"UNION TEMPORAL AYGEMA"},"Und",{"$f":"C1122&D1122&E1122&F1122&G1122","v":"CUATRO (4)CUATRO (4)EMANGAS DE PALPACIÓN PARA BOVINOSUNION TEMPORAL AYGEMA"},{"$f":"H1122","v":50000}]
[{"$f":"\"ate01-\"&B1123&\" \"&C1123&\" \"&D1123&\" \"&E1123","v":"ate01-C4S4-077 CUATRO (4) CUATRO (4) E"},"C4S4-077","CUATRO (4)","CUATRO (4)","E","MANGAS DE PALPACIÓN PARA BOVINOS","UT SS 2021- CCENEG- 041-01-2021",90000,{"$f":"B1123&G1123","v":"C4S4-077UT SS 2021- CCENEG- 041-01-2021"},{"$f":"C1123&D1123&E1123&F1123","v":"CUATRO (4)CUATRO (4)EMANGAS DE PALPACIÓN PARA BOVINOS"},{"$f":"H1123","v":90000},{"$f":"C1123&D1123&E1123&F1123&G1123","v":"CUATRO (4)CUATRO (4)EMANGAS DE PALPACIÓN PARA BOVINOSUT SS 2021- CCENEG- 041-01-2021"},{"$f":"B1123&H1123","v":"C4S4-07790000"},{"$f":"G1123","v":"UT SS 2021- CCENEG- 041-01-2021"},"Und",{"$f":"C1123&D1123&E1123&F1123&G1123","v":"CUATRO (4)CUATRO (4)EMANGAS DE PALPACIÓN PARA BOVINOSUT SS 2021- CCENEG- 041-01-2021"},{"$f":"H1123","v":90000}]
[{"$f":"\"ate01-\"&B1124&\" \"&C1124&\" \"&D1124&\" \"&E1124","v":"ate01-C4S4-077 CUATRO (4) CUATRO (4) E"},"C4S4-077","CUATRO (4)","CUATRO (4)","E","MANGAS DE PALPACIÓN PARA BOVINOS","RES-Q SOLUTIONS",70000,{"$f":"B1124&G1124","v":"C4S4-077RES-Q SOLUTIONS"},{"$f":"C1124&D1124&E1124&F1124","v":"CUATRO (4)CUATRO (4)EMANGAS DE PALPACIÓN PARA BOVINOS"},{"$f":"H1124","v":70000},{"$f":"C1124&D1124&E1124&F1124&G1124","v":"CUATRO (4)CUATRO (4)EMANGAS DE PALPACIÓN PARA BOVINOSRES-Q SOLUTIONS"},{"$f":"B1124&H1124","v":"C4S4-07770000"},{"$f":"G1124","v":"RES-Q SOLUTIONS"},"Und",{"$f":"C1124&D1124&E1124&F1124&G1124","v":"CUATRO (4)CUATRO (4)EMANGAS DE PALPACIÓN PARA BOVINOSRES-Q SOLUTIONS"},{"$f":"H1124","v":70000}]
[{"$f":"\"ate01-\"&B1125&\" \"&C1125&\" \"&D1125&\" \"&E1125","v":"ate01-C4S4-077 CUATRO (4) CUATRO (4) E"},"C4S4-077","CUATRO (4)","CUATRO (4)","E","MANGAS DE PALPACIÓN PARA BOVINOS","YUBARTA S.A.S.",93599.69,{"$f":"B1125&G1125","v":"C4S4-077YUBARTA S.A.S."},{"$f":"C1125&D1125&E1125&F1125","v":"CUATRO (4)CUATRO (4)EMANGAS DE PALPACIÓN PARA BOVINOS"},{"$f":"H1125","v":93599.69},{"$f":"C1125&D1125&E1125&F1125&G1125","v":"CUATRO (4)CUATRO (4)EMANGAS DE PALPACIÓN PARA BOVINOSYUBARTA S.A.S."},{"$f":"B1125&H1125","v":"C4S4-07793599.69"},{"$f":"G1125","v":"YUBARTA S.A.S."},"Und",{"$f":"C1125&D1125&E1125&F1125&G1125","v":"CUATRO (4)CUATRO (4)EMANGAS DE PALPACIÓN PARA BOVINOSYUBARTA S.A.S."},{"$f":"H1125","v":93599.69}]
[{"$f":"\"ate01-\"&B1126&\" \"&C1126&\" \"&D1126&\" \"&E1126","v":"ate01-C4S4-077 CUATRO (4) CUATRO (4) E"},"C4S4-077","CUATRO (4)","CUATRO (4)","E","MANGAS DE PALPACIÓN PARA BOVINOS","COLOMBIANA DE TEXTILES POR MAYOR S.A.",99800,{"$f":"B1126&G1126","v":"C4S4-077COLOMBIANA DE TEXTILES POR MAYOR S.A."},{"$f":"C1126&D1126&E1126&F1126","v":"CUATRO (4)CUATRO (4)EMANGAS DE PALPACIÓN PARA BOVINOS"},{"$f":"H1126","v":99800},{"$f":"C1126&D1126&E1126&F1126&G1126","v":"CUATRO (4)CUATRO (4)EMANGAS DE PALPACIÓN PARA BOVINOSCOLOMBIANA DE TEXTILES POR MAYOR S.A."},{"$f":"B1126&H1126","v":"C4S4-07799800"},{"$f":"G1126","v":"COLOMBIANA DE TEXTILES POR MAYOR S.A."},"Und",{"$f":"C1126&D1126&E1126&F1126&G1126","v":"CUATRO (4)CUATRO (4)EMANGAS DE PALPACIÓN PARA BOVINOSCOLOMBIANA DE TEXTILES POR MAYOR S.A."},{"$f":"H1126","v":99800}]
[{"$f":"\"ate01-\"&B1127&\" \"&C1127&\" \"&D1127&\" \"&E1127","v":"ate01-C4S4-077 CUATRO (4) CUATRO (4) E"},"C4S4-077","CUATRO (4)","CUATRO (4)","E","MANGAS DE PALPACIÓN PARA BOVINOS","INVALCA",250000,{"$f":"B1127&G1127","v":"C4S4-077INVALCA"},{"$f":"C1127&D1127&E1127&F1127","v":"CUATRO (4)CUATRO (4)EMANGAS DE PALPACIÓN PARA BOVINOS"},{"$f":"H1127","v":250000},{"$f":"C1127&D1127&E1127&F1127&G1127","v":"CUATRO (4)CUATRO (4)EMANGAS DE PALPACIÓN PARA BOVINOSINVALCA"},{"$f":"B1127&H1127","v":"C4S4-077250000"},{"$f":"G1127","v":"INVALCA"},"Und",{"$f":"C1127&D1127&E1127&F1127&G1127","v":"CUATRO (4)CUATRO (4)EMANGAS DE PALPACIÓN PARA BOVINOSINVALCA"},{"$f":"H1127","v":250000}]
[{"$f":"\"ate01-\"&B1128&\" \"&C1128&\" \"&D1128&\" \"&E1128","v":"ate01-C4S4-078 CUATRO (4) CUATRO (4) E"},"C4S4-078","CUATRO (4)","CUATRO (4)","E","CAJA X 100 UNIDADES","INVERSIONES SARHEM DE COLOMBIA S.A.S.",56000,{"$f":"B1128&G1128","v":"C4S4-078INVERSIONES SARHEM DE COLOMBIA S.A.S."},{"$f":"C1128&D1128&E1128&F1128","v":"CUATRO (4)CUATRO (4)ECAJA X 100 UNIDADES"},{"$f":"H1128","v":56000},{"$f":"C1128&D1128&E1128&F1128&G1128","v":"CUATRO (4)CUATRO (4)ECAJA X 100 UNIDADESINVERSIONES SARHEM DE COLOMBIA S.A.S."},{"$f":"B1128&H1128","v":"C4S4-07856000"},{"$f":"G1128","v":"INVERSIONES SARHEM DE COLOMBIA S.A.S."},"Und",{"$f":"C1128&D1128&E1128&F1128&G1128","v":"CUATRO (4)CUATRO (4)ECAJA X 100 UNIDADESINVERSIONES SARHEM DE COLOMBIA S.A.S."},{"$f":"H1128","v":56000}]
[{"$f":"\"ate01-\"&B1129&\" \"&C1129&\" \"&D1129&\" \"&E1129","v":"ate01-C4S4-078 CUATRO (4) CUATRO (4) E"},"C4S4-078","CUATRO (4)","CUATRO (4)","E","CAJA X 100 UNIDADES","UNION TEMPORAL AYGEMA",25000,{"$f":"B1129&G1129","v":"C4S4-078UNION TEMPORAL AYGEMA"},{"$f":"C1129&D1129&E1129&F1129","v":"CUATRO (4)CUATRO (4)ECAJA X 100 UNIDADES"},{"$f":"H1129","v":25000},{"$f":"C1129&D1129&E1129&F1129&G1129","v":"CUATRO (4)CUATRO (4)ECAJA X 100 UNIDADESUNION TEMPORAL AYGEMA"},{"$f":"B1129&H1129","v":"C4S4-07825000"},{"$f":"G1129","v":"UNION TEMPORAL AYGEMA"},"Und",{"$f":"C1129&D1129&E1129&F1129&G1129","v":"CUATRO (4)CUATRO (4)ECAJA X 100 UNIDADESUNION TEMPORAL AYGEMA"},{"$f":"H1129","v":25000}]
[{"$f":"\"ate01-\"&B1130&\" \"&C1130&\" \"&D1130&\" \"&E1130","v":"ate01-C4S4-078 CUATRO (4) CUATRO (4) E"},"C4S4-078","CUATRO (4)","CUATRO (4)","E","CAJA X 100 UNIDADES","UT SS 2021- CCENEG- 041-01-2021",50400,{"$f":"B1130&G1130","v":"C4S4-078UT SS 2021- CCENEG- 041-01-2021"},{"$f":"C1130&D1130&E1130&F1130","v":"CUATRO (4)CUATRO (4)ECAJA X 100 UNIDADES"},{"$f":"H1130","v":50400},{"$f":"C1130&D1130&E1130&F1130&G1130","v":"CUATRO (4)CUATRO (4)ECAJA X 100 UNIDADESUT SS 2021- CCENEG- 041-01-2021"},{"$f":"B1130&H1130","v":"C4S4-07850400"},{"$f":"G1130","v":"UT SS 2021- CCENEG- 041-01-2021"},"Und",{"$f":"C1130&D1130&E1130&F1130&G1130","v":"CUATRO (4)CUATRO (4)ECAJA X 100 UNIDADESUT SS 2021- CCENEG- 041-01-2021"},{"$f":"H1130","v":50400}]
[{"$f":"\"ate01-\"&B1131&\" \"&C1131&\" \"&D1131&\" \"&E1131","v":"ate01-C4S4-078 CUATRO (4) CUATRO (4) E"},"C4S4-078","CUATRO (4)","CUATRO (4)","E","CAJA X 100 UNIDADES","RES-Q SOLUTIONS",65000,{"$f":"B1131&G1131","v":"C4S4-078RES-Q SOLUTIONS"},{"$f":"C1131&D1131&E1131&F1131","v":"CUATRO (4)CUATRO (4)ECAJA X 100 UNIDADES"},{"$f":"H1131","v":65000},{"$f":"C1131&D1131&E1131&F1131&G1131","v":"CUATRO (4)CUATRO (4)ECAJA X 100 UNIDADESRES-Q SOLUTIONS"},{"$f":"B1131&H1131","v":"C4S4-07865000"},{"$f":"G1131","v":"RES-Q SOLUTIONS"},"Und",{"$f":"C1131&D1131&E1131&F1131&G1131","v":"CUATRO (4)CUATRO (4)ECAJA X 100 UNIDADESRES-Q SOLUTIONS"},{"$f":"H1131","v":65000}]
[{"$f":"\"ate01-\"&B1132&\" \"&C1132&\" \"&D1132&\" \"&E1132","v":"ate01-C4S4-078 CUATRO (4) CUATRO (4) E"},"C4S4-078","CUATRO (4)","CUATRO (4)","E","CAJA X 100 UNIDADES","YUBARTA S.A.S.",81749.97,{"$f":"B1132&G1132","v":"C4S4-078YUBARTA S.A.S."},{"$f":"C1132&D1132&E1132&F1132","v":"CUATRO (4)CUATRO (4)ECAJA X 100 UNIDADES"},{"$f":"H1132","v":81749.97},{"$f":"C1132&D1132&E1132&F1132&G1132","v":"CUATRO (4)CUATRO (4)ECAJA X 100 UNIDADESYUBARTA S.A.S."},{"$f":"B1132&H1132","v":"C4S4-07881749.97"},{"$f":"G1132","v":"YUBARTA S.A.S."},"Und",{"$f":"C1132&D1132&E1132&F1132&G1132","v":"CUATRO (4)CUATRO (4)ECAJA X 100 UNIDADESYUBARTA S.A.S."},{"$f":"H1132","v":81749.97}]
[{"$f":"\"ate01-\"&B1133&\" \"&C1133&\" \"&D1133&\" \"&E1133","v":"ate01-C4S4-078 CUATRO (4) CUATRO (4) E"},"C4S4-078","CUATRO (4)","CUATRO (4)","E","CAJA X 100 UNIDADES","COLOMBIANA DE TEXTILES POR MAYOR S.A.",29700,{"$f":"B1133&G1133","v":"C4S4-078COLOMBIANA DE TEXTILES POR MAYOR S.A."},{"$f":"C1133&D1133&E1133&F1133","v":"CUATRO (4)CUATRO (4)ECAJA X 100 UNIDADES"},{"$f":"H1133","v":29700},{"$f":"C1133&D1133&E1133&F1133&G1133","v":"CUATRO (4)CUATRO (4)ECAJA X 100 UNIDADESCOLOMBIANA DE TEXTILES POR MAYOR S.A."},{"$f":"B1133&H1133","v":"C4S4-07829700"},{"$f":"G1133","v":"COLOMBIANA DE TEXTILES POR MAYOR S.A."},"Und",{"$f":"C1133&D1133&E1133&F1133&G1133","v":"CUATRO (4)CUATRO (4)ECAJA X 100 UNIDADESCOLOMBIANA DE TEXTILES POR MAYOR S.A."},{"$f":"H1133","v":29700}]
[{"$f":"\"ate01-\"&B1134&\" \"&C1134&\" \"&D1134&\" \"&E1134","v":"ate01-C4S4-078 CUATRO (4) CUATRO (4) E"},"C4S4-078","CUATRO (4)","CUATRO (4)","E","CAJA X 100 UNIDADES","INVALCA",55000,{"$f":"B1134&G1134","v":"C4S4-078INVALCA"},{"$f":"C1134&D1134&E1134&F1134","v":"CUATRO (4)CUATRO (4)ECAJA X 100 UNIDADES"},{"$f":"H1134","v":55000},{"$f":"C1134&D1134&E1134&F1134&G1134","v":"CUATRO (4)CUATRO (4)ECAJA X 100 UNIDADESINVALCA"},{"$f":"B1134&H1134","v":"C4S4-07855000"},{"$f":"G1134","v":"INVALCA"},"Und",{"$f":"C1134&D1134&E1134&F1134&G1134","v":"CUATRO (4)CUATRO (4)ECAJA X 100 UNIDADESINVALCA"},{"$f":"H1134","v":55000}]
[{"$f":"\"ate01-\"&B1135&\" \"&C1135&\" \"&D1135&\" \"&E1135","v":"ate01-C4S4-079 CUATRO (4) CUATRO (4) E"},"C4S4-079","CUATRO (4)","CUATRO (4)","E","GORRA DE DOTACIÓN EN DRIL","INVERSIONES SARHEM DE COLOMBIA S.A.S.",216000,{"$f":"B1135&G1135","v":"C4S4-079INVERSIONES SARHEM DE COLOMBIA S.A.S."},{"$f":"C1135&D1135&E1135&F1135","v":"CUATRO (4)CUATRO (4)EGORRA DE DOTACIÓN EN DRIL"},{"$f":"H1135","v":216000},{"$f":"C1135&D1135&E1135&F1135&G1135","v":"CUATRO (4)CUATRO (4)EGORRA DE DOTACIÓN EN DRILINVERSIONES SARHEM DE COLOMBIA S.A.S."},{"$f":"B1135&H1135","v":"C4S4-079216000"},{"$f":"G1135","v":"INVERSIONES SARHEM DE COLOMBIA S.A.S."},"Und",{"$f":"C1135&D1135&E1135&F1135&G1135","v":"CUATRO (4)CUATRO (4)EGORRA DE DOTACIÓN EN DRILINVERSIONES SARHEM DE COLOMBIA S.A.S."},{"$f":"H1135","v":216000}]
[{"$f":"\"ate01-\"&B1136&\" \"&C1136&\" \"&D1136&\" \"&E1136","v":"ate01-C4S4-079 CUATRO (4) CUATRO (4) E"},"C4S4-079","CUATRO (4)","CUATRO (4)","E","GORRA DE DOTACIÓN EN DRIL","UNION TEMPORAL AYGEMA",70000,{"$f":"B1136&G1136","v":"C4S4-079UNION TEMPORAL AYGEMA"},{"$f":"C1136&D1136&E1136&F1136","v":"CUATRO (4)CUATRO (4)EGORRA DE DOTACIÓN EN DRIL"},{"$f":"H1136","v":70000},{"$f":"C1136&D1136&E1136&F1136&G1136","v":"CUATRO (4)CUATRO (4)EGORRA DE DOTACIÓN EN DRILUNION TEMPORAL AYGEMA"},{"$f":"B1136&H1136","v":"C4S4-07970000"},{"$f":"G1136","v":"UNION TEMPORAL AYGEMA"},"Und",{"$f":"C1136&D1136&E1136&F1136&G1136","v":"CUATRO (4)CUATRO (4)EGORRA DE DOTACIÓN EN DRILUNION TEMPORAL AYGEMA"},{"$f":"H1136","v":70000}]
[{"$f":"\"ate01-\"&B1137&\" \"&C1137&\" \"&D1137&\" \"&E1137","v":"ate01-C4S4-079 CUATRO (4) CUATRO (4) E"},"C4S4-079","CUATRO (4)","CUATRO (4)","E","GORRA DE DOTACIÓN EN DRIL","UT SS 2021- CCENEG- 041-01-2021",99000,{"$f":"B1137&G1137","v":"C4S4-079UT SS 2021- CCENEG- 041-01-2021"},{"$f":"C1137&D1137&E1137&F1137","v":"CUATRO (4)CUATRO (4)EGORRA DE DOTACIÓN EN DRIL"},{"$f":"H1137","v":99000},{"$f":"C1137&D1137&E1137&F1137&G1137","v":"CUATRO (4)CUATRO (4)EGORRA DE DOTACIÓN EN DRILUT SS 2021- CCENEG- 041-01-2021"},{"$f":"B1137&H1137","v":"C4S4-07999000"},{"$f":"G1137","v":"UT SS 2021- CCENEG- 041-01-2021"},"Und",{"$f":"C1137&D1137&E1137&F1137&G1137","v":"CUATRO (4)CUATRO (4)EGORRA DE DOTACIÓN EN DRILUT SS 2021- CCENEG- 041-01-2021"},{"$f":"H1137","v":99000}]
[{"$f":"\"ate01-\"&B1138&\" \"&C1138&\" \"&D1138&\" \"&E1138","v":"ate01-C4S4-079 CUATRO (4) CUATRO (4) E"},"C4S4-079","CUATRO (4)","CUATRO (4)","E","GORRA DE DOTACIÓN EN DRIL","RES-Q SOLUTIONS",140000,{"$f":"B1138&G1138","v":"C4S4-079RES-Q SOLUTIONS"},{"$f":"C1138&D1138&E1138&F1138","v":"CUATRO (4)CUATRO (4)EGORRA DE DOTACIÓN EN DRIL"},{"$f":"H1138","v":140000},{"$f":"C1138&D1138&E1138&F1138&G1138","v":"CUATRO (4)CUATRO (4)EGORRA DE DOTACIÓN EN DRILRES-Q SOLUTIONS"},{"$f":"B1138&H1138","v":"C4S4-079140000"},{"$f":"G1138","v":"RES-Q SOLUTIONS"},"Und",{"$f":"C1138&D1138&E1138&F1138&G1138","v":"CUATRO (4)CUATRO (4)EGORRA DE DOTACIÓN EN DRILRES-Q SOLUTIONS"},{"$f":"H1138","v":140000}]
[{"$f":"\"ate01-\"&B1139&\" \"&C1139&\" \"&D1139&\" \"&E1139","v":"ate01-C4S4-079 CUATRO (4) CUATRO (4) E"},"C4S4-079","CUATRO (4)","CUATRO (4)","E","GORRA DE DOTACIÓN EN DRIL","YUBARTA S.A.S.",76570,{"$f":"B1139&G1139","v":"C4S4-079YUBARTA S.A.S."},{"$f":"C1139&D1139&E1139&F1139","v":"CUATRO (4)CUATRO (4)EGORRA DE DOTACIÓN EN DRIL"},{"$f":"H1139","v":76570},{"$f":"C1139&D1139&E1139&F1139&G1139","v":"CUATRO (4)CUATRO (4)EGORRA DE DOTACIÓN EN DRILYUBARTA S.A.S."},{"$f":"B1139&H1139","v":"C4S4-07976570"},{"$f":"G1139","v":"YUBARTA S.A.S."},"Und",{"$f":"C1139&D1139&E1139&F1139&G1139","v":"CUATRO (4)CUATRO (4)EGORRA DE DOTACIÓN EN DRILYUBARTA S.A.S."},{"$f":"H1139","v":76570}]
[{"$f":"\"ate01-\"&B1140&\" \"&C1140&\" \"&D1140&\" \"&E1140","v":"ate01-C4S4-079 CUATRO (4) CUATRO (4) E"},"C4S4-079","CUATRO (4)","CUATRO (4)","E","GORRA DE DOTACIÓN EN DRIL","COLOMBIANA DE TEXTILES POR MAYOR S.A.",145900,{"$f":"B1140&G1140","v":"C4S4-079COLOMBIANA DE TEXTILES POR MAYOR S.A."},{"$f":"C1140&D1140&E1140&F1140","v":"CUATRO (4)CUATRO (4)EGORRA DE DOTACIÓN EN DRIL"},{"$f":"H1140","v":145900},{"$f":"C1140&D1140&E1140&F1140&G1140","v":"CUATRO (4)CUATRO (4)EGORRA DE DOTACIÓN EN DRILCOLOMBIANA DE TEXTILES POR MAYOR S.A."},{"$f":"B1140&H1140","v":"C4S4-079145900"},{"$f":"G1140","v":"COLOMBIANA DE TEXTILES POR MAYOR S.A."},"Und",{"$f":"C1140&D1140&E1140&F1140&G1140","v":"CUATRO (4)CUATRO (4)EGORRA DE DOTACIÓN EN DRILCOLOMBIANA DE TEXTILES POR MAYOR S.A."},{"$f":"H1140","v":145900}]
[{"$f":"\"ate01-\"&B1141&\" \"&C1141&\" \"&D1141&\" \"&E1141","v":"ate01-C4S4-079 CUATRO (4) CUATRO (4) E"},"C4S4-079","CUATRO (4)","CUATRO (4)","E","GORRA DE DOTACIÓN EN DRIL","INVALCA",75000,{"$f":"B1141&G1141","v":"C4S4-079INVALCA"},{"$f":"C1141&D1141&E1141&F1141","v":"CUATRO (4)CUATRO (4)EGORRA DE DOTACIÓN EN DRIL"},{"$f":"H1141","v":75000},{"$f":"C1141&D1141&E1141&F1141&G1141","v":"CUATRO (4)CUATRO (4)EGORRA DE DOTACIÓN EN DRILINVALCA"},{"$f":"B1141&H1141","v":"C4S4-07975000"},{"$f":"G1141","v":"INVALCA"},"Und",{"$f":"C1141&D1141&E1141&F1141&G1141","v":"CUATRO (4)CUATRO (4)EGORRA DE DOTACIÓN EN DRILINVALCA"},{"$f":"H1141","v":75000}]
[{"$f":"\"ate01-\"&B1142&\" \"&C1142&\" \"&D1142&\" \"&E1142","v":"ate01-SD-01-C1-S-G UNO (1) N/A N/A"},"SD-01-C1-S-G","UNO (1)","N/A","N/A","Servicio de distribucion Region Pacifico sur","IMPLESEG S.A.S.",0.26227200000000001,{"$f":"B1142&G1142","v":"SD-01-C1-S-GIMPLESEG S.A.S."},{"$f":"C1142&D1142&E1142&F1142","v":"UNO (1)N/AN/AServicio de distribucion Region Pacifico sur"},{"$f":"H1142","v":0.26227200000000001},{"$f":"C1142&D1142&E1142&F1142&G1142","v":"UNO (1)N/AN/AServicio de distribucion Region Pacifico surIMPLESEG S.A.S."},{"$f":"B1142&H1142","v":"SD-01-C1-S-G0.262272"},{"$f":"G1142","v":"IMPLESEG S.A.S."},"Und",{"$f":"C1142&D1142&E1142&F1142&G1142","v":"UNO (1)N/AN/AServicio de distribucion Region Pacifico surIMPLESEG S.A.S."},{"$f":"H1142","v":0.26227200000000001}]
[{"$f":"\"ate01-\"&B1143&\" \"&C1143&\" \"&D1143&\" \"&E1143","v":"ate01-SD-01-C1-S-G UNO (1) N/A N/A"},"SD-01-C1-S-G","UNO (1)","N/A","N/A","Servicio de distribucion Region Pacifico sur","JM GRUPO",0.14752800000000002,{"$f":"B1143&G1143","v":"SD-01-C1-S-GJM GRUPO"},{"$f":"C1143&D1143&E1143&F1143","v":"UNO (1)N/AN/AServicio de distribucion Region Pacifico sur"},{"$f":"H1143","v":0.14752800000000002},{"$f":"C1143&D1143&E1143&F1143&G1143","v":"UNO (1)N/AN/AServicio de distribucion Region Pacifico surJM GRUPO"},{"$f":"B1143&H1143","v":"SD-01-C1-S-G0.147528"},{"$f":"G1143","v":"JM GRUPO"},"Und",{"$f":"C1143&D1143&E1143&F1143&G1143","v":"UNO (1)N/AN/AServicio de distribucion Region Pacifico surJM GRUPO"},{"$f":"H1143","v":0.14752800000000002}]
[{"$f":"\"ate01-\"&B1144&\" \"&C1144&\" \"&D1144&\" \"&E1144","v":"ate01-SD-01-C2-S1-G DOS (2) UNO (1) N/A"},"SD-01-C2-S1-G","DOS (2)","UNO (1)","N/A","Servicio de distribucion Region Pacifico sur","JM GRUPO",0.14752800000000002,{"$f":"B1144&G1144","v":"SD-01-C2-S1-GJM GRUPO"},{"$f":"C1144&D1144&E1144&F1144","v":"DOS (2)UNO (1)N/AServicio de distribucion Region Pacifico sur"},{"$f":"H1144","v":0.14752800000000002},{"$f":"C1144&D1144&E1144&F1144&G1144","v":"DOS (2)UNO (1)N/AServicio de distribucion Region Pacifico surJM GRUPO"},{"$f":"B1144&H1144","v":"SD-01-C2-S1-G0.147528"},{"$f":"G1144","v":"JM GRUPO"},"Und",{"$f":"C1144&D1144&E1144&F1144&G1144","v":"DOS (2)UNO (1)N/AServicio de distribucion Region Pacifico surJM GRUPO"},{"$f":"H1144","v":0.14752800000000002}]
[{"$f":"\"ate01-\"&B1145&\" \"&C1145&\" \"&D1145&\" \"&E1145","v":"ate01-SD-01-C2-S1-G DOS (2) UNO (1) N/A"},"SD-01-C2-S1-G","DOS (2)","UNO (1)","N/A","Servicio de distribucion Region Pacifico sur","INCOLDEXT S.A.S.",0.142064,{"$f":"B1145&G1145","v":"SD-01-C2-S1-GINCOLDEXT S.A.S."},{"$f":"C1145&D1145&E1145&F1145","v":"DOS (2)UNO (1)N/AServicio de distribucion Region Pacifico sur"},{"$f":"H1145","v":0.142064},{"$f":"C1145&D1145&E1145&F1145&G1145","v":"DOS (2)UNO (1)N/AServicio de distribucion Region Pacifico surINCOLDEXT S.A.S."},{"$f":"B1145&H1145","v":"SD-01-C2-S1-G0.142064"},{"$f":"G1145","v":"INCOLDEXT S.A.S."},"Und",{"$f":"C1145&D1145&E1145&F1145&G1145","v":"DOS (2)UNO (1)N/AServicio de distribucion Region Pacifico surINCOLDEXT S.A.S."},{"$f":"H1145","v":0.142064}]
[{"$f":"\"ate01-\"&B1146&\" \"&C1146&\" \"&D1146&\" \"&E1146","v":"ate01-SD-01-C2-S1-G DOS (2) UNO (1) N/A"},"SD-01-C2-S1-G","DOS (2)","UNO (1)","N/A","Servicio de distribucion Region Pacifico sur","RES-Q SOLUTIONS",0.142064,{"$f":"B1146&G1146","v":"SD-01-C2-S1-GRES-Q SOLUTIONS"},{"$f":"C1146&D1146&E1146&F1146","v":"DOS (2)UNO (1)N/AServicio de distribucion Region Pacifico sur"},{"$f":"H1146","v":0.142064},{"$f":"C1146&D1146&E1146&F1146&G1146","v":"DOS (2)UNO (1)N/AServicio de distribucion Region Pacifico surRES-Q SOLUTIONS"},{"$f":"B1146&H1146","v":"SD-01-C2-S1-G0.142064"},{"$f":"G1146","v":"RES-Q SOLUTIONS"},"Und",{"$f":"C1146&D1146&E1146&F1146&G1146","v":"DOS (2)UNO (1)N/AServicio de distribucion Region Pacifico surRES-Q SOLUTIONS"},{"$f":"H1146","v":0.142064}]
[{"$f":"\"ate01-\"&B1147&\" \"&C1147&\" \"&D1147&\" \"&E1147","v":"ate01-SD-01-C2-S1-G DOS (2) UNO (1) N/A"},"SD-01-C2-S1-G","DOS (2)","UNO (1)","N/A","Servicio de distribucion Region Pacifico sur","INVERSION Y HOGAR S.A.S.",0.185776,{"$f":"B1147&G1147","v":"SD-01-C2-S1-GINVERSION Y HOGAR S.A.S."},{"$f":"C1147&D1147&E1147&F1147","v":"DOS (2)UNO (1)N/AServicio de distribucion Region Pacifico sur"},{"$f":"H1147","v":0.185776},{"$f":"C1147&D1147&E1147&F1147&G1147","v":"DOS (2)UNO (1)N/AServicio de distribucion Region Pacifico surINVERSION Y HOGAR S.A.S."},{"$f":"B1147&H1147","v":"SD-01-C2-S1-G0.185776"},{"$f":"G1147","v":"INVERSION Y HOGAR S.A.S."},"Und",{"$f":"C1147&D1147&E1147&F1147&G1147","v":"DOS (2)UNO (1)N/AServicio de distribucion Region Pacifico surINVERSION Y HOGAR S.A.S."},{"$f":"H1147","v":0.185776}]
[{"$f":"\"ate01-\"&B1148&\" \"&C1148&\" \"&D1148&\" \"&E1148","v":"ate01-SD-01-C2-S2-G DOS (2) DOS (2) N/A"},"SD-01-C2-S2-G","DOS (2)","DOS (2)","N/A","Servicio de distribucion Region Pacifico sur","IMPLESEG S.A.S.",0.16391999999999998,{"$f":"B1148&G1148","v":"SD-01-C2-S2-GIMPLESEG S.A.S."},{"$f":"C1148&D1148&E1148&F1148","v":"DOS (2)DOS (2)N/AServicio de distribucion Region Pacifico sur"},{"$f":"H1148","v":0.16391999999999998},{"$f":"C1148&D1148&E1148&F1148&G1148","v":"DOS (2)DOS (2)N/AServicio de distribucion Region Pacifico surIMPLESEG S.A.S."},{"$f":"B1148&H1148","v":"SD-01-C2-S2-G0.16392"},{"$f":"G1148","v":"IMPLESEG S.A.S."},"Und",{"$f":"C1148&D1148&E1148&F1148&G1148","v":"DOS (2)DOS (2)N/AServicio de distribucion Region Pacifico surIMPLESEG S.A.S."},{"$f":"H1148","v":0.16391999999999998}]
[{"$f":"\"ate01-\"&B1149&\" \"&C1149&\" \"&D1149&\" \"&E1149","v":"ate01-SD-01-C2-S2-G DOS (2) DOS (2) N/A"},"SD-01-C2-S2-G","DOS (2)","DOS (2)","N/A","Servicio de distribucion Region Pacifico sur","JM GRUPO",0.14752800000000002,{"$f":"B1149&G1149","v":"SD-01-C2-S2-GJM GRUPO"},{"$f":"C1149&D1149&E1149&F1149","v":"DOS (2)DOS (2)N/AServicio de distribucion Region Pacifico sur"},{"$f":"H1149","v":0.14752800000000002},{"$f":"C1149&D1149&E1149&F1149&G1149","v":"DOS (2)DOS (2)N/AServicio de distribucion Region Pacifico surJM GRUPO"},{"$f":"B1149&H1149","v":"SD-01-C2-S2-G0.147528"},{"$f":"G1149","v":"JM GRUPO"},"Und",{"$f":"C1149&D1149&E1149&F1149&G1149","v":"DOS (2)DOS (2)N/AServicio de distribucion Region Pacifico surJM GRUPO"},{"$f":"H1149","v":0.14752800000000002}]
[{"$f":"\"ate01-\"&B1150&\" \"&C1150&\" \"&D1150&\" \"&E1150","v":"ate01-SD-01-C2-S2-G DOS (2) DOS (2) N/A"},"SD-01-C2-S2-G","DOS (2)","DOS (2)","N/A","Servicio de distribucion Region Pacifico sur","UT EMERGENCIAS 2021",0.14752800000000002,{"$f":"B1150&G1150","v":"SD-01-C2-S2-GUT EMERGENCIAS 2021"},{"$f":"C1150&D1150&E1150&F1150","v":"DOS (2)DOS (2)N/AServicio de distribucion Region Pacifico sur"},{"$f":"H1150","v":0.14752800000000002},{"$f":"C1150&D1150&E1150&F1150&G1150","v":"DOS (2)DOS (2)N/AServicio de distribucion Region Pacifico surUT EMERGENCIAS 2021"},{"$f":"B1150&H1150","v":"SD-01-C2-S2-G0.147528"},{"$f":"G1150","v":"UT EMERGENCIAS 2021"},"Und",{"$f":"C1150&D1150&E1150&F1150&G1150","v":"DOS (2)DOS (2)N/AServicio de distribucion Region Pacifico surUT EMERGENCIAS 2021"},{"$f":"H1150","v":0.14752800000000002}]
[{"$f":"\"ate01-\"&B1151&\" \"&C1151&\" \"&D1151&\" \"&E1151","v":"ate01-SD-01-C2-S2-G DOS (2) DOS (2) N/A"},"SD-01-C2-S2-G","DOS (2)","DOS (2)","N/A","Servicio de distribucion Region Pacifico sur","INCOLDEXT S.A.S.",0.14752800000000002,{"$f":"B1151&G1151","v":"SD-01-C2-S2-GINCOLDEXT S.A.S."},{"$f":"C1151&D1151&E1151&F1151","v":"DOS (2)DOS (2)N/AServicio de distribucion Region Pacifico sur"},{"$f":"H1151","v":0.14752800000000002},{"$f":"C1151&D1151&E1151&F1151&G1151","v":"DOS (2)DOS (2)N/AServicio de distribucion Region Pacifico surINCOLDEXT S.A.S."},{"$f":"B1151&H1151","v":"SD-01-C2-S2-G0.147528"},{"$f":"G1151","v":"INCOLDEXT S.A.S."},"Und",{"$f":"C1151&D1151&E1151&F1151&G1151","v":"DOS (2)DOS (2)N/AServicio de distribucion Region Pacifico surINCOLDEXT S.A.S."},{"$f":"H1151","v":0.14752800000000002}]
[{"$f":"\"ate01-\"&B1152&\" \"&C1152&\" \"&D1152&\" \"&E1152","v":"ate01-SD-01-C2-S2-G DOS (2) DOS (2) N/A"},"SD-01-C2-S2-G","DOS (2)","DOS (2)","N/A","Servicio de distribucion Region Pacifico sur","YUBARTA S.A.S.",0.14752800000000002,{"$f":"B1152&G1152","v":"SD-01-C2-S2-GYUBARTA S.A.S."},{"$f":"C1152&D1152&E1152&F1152","v":"DOS (2)DOS (2)N/AServicio de distribucion Region Pacifico sur"},{"$f":"H1152","v":0.14752800000000002},{"$f":"C1152&D1152&E1152&F1152&G1152","v":"DOS (2)DOS (2)N/AServicio de distribucion Region Pacifico surYUBARTA S.A.S."},{"$f":"B1152&H1152","v":"SD-01-C2-S2-G0.147528"},{"$f":"G1152","v":"YUBARTA S.A.S."},"Und",{"$f":"C1152&D1152&E1152&F1152&G1152","v":"DOS (2)DOS (2)N/AServicio de distribucion Region Pacifico surYUBARTA S.A.S."},{"$f":"H1152","v":0.14752800000000002}]
[{"$f":"\"ate01-\"&B1153&\" \"&C1153&\" \"&D1153&\" \"&E1153","v":"ate01-SD-01-C2-S2-G DOS (2) DOS (2) N/A"},"SD-01-C2-S2-G","DOS (2)","DOS (2)","N/A","Servicio de distribucion Region Pacifico sur","MIGUEL ANGEL VALLEJO BURGOS",0.14752800000000002,{"$f":"B1153&G1153","v":"SD-01-C2-S2-GMIGUEL ANGEL VALLEJO BURGOS"},{"$f":"C1153&D1153&E1153&F1153","v":"DOS (2)DOS (2)N/AServicio de distribucion Region Pacifico sur"},{"$f":"H1153","v":0.14752800000000002},{"$f":"C1153&D1153&E1153&F1153&G1153","v":"DOS (2)DOS (2)N/AServicio de distribucion Region Pacifico surMIGUEL ANGEL VALLEJO BURGOS"},{"$f":"B1153&H1153","v":"SD-01-C2-S2-G0.147528"},{"$f":"G1153","v":"MIGUEL ANGEL VALLEJO BURGOS"},"Und",{"$f":"C1153&D1153&E1153&F1153&G1153","v":"DOS (2)DOS (2)N/AServicio de distribucion Region Pacifico surMIGUEL ANGEL VALLEJO BURGOS"},{"$f":"H1153","v":0.14752800000000002}]
[{"$f":"\"ate01-\"&B1154&\" \"&C1154&\" \"&D1154&\" \"&E1154","v":"ate01-SD-01-C3-S-G TRES (3) N/A N/A"},"SD-01-C3-S-G","TRES (3)","N/A","N/A","Servicio de distribucion Region Pacifico sur","JM GRUPO",0.14752800000000002,{"$f":"B1154&G1154","v":"SD-01-C3-S-GJM GRUPO"},{"$f":"C1154&D1154&E1154&F1154","v":"TRES (3)N/AN/AServicio de distribucion Region Pacifico sur"},{"$f":"H1154","v":0.14752800000000002},{"$f":"C1154&D1154&E1154&F1154&G1154","v":"TRES (3)N/AN/AServicio de distribucion Region Pacifico surJM GRUPO"},{"$f":"B1154&H1154","v":"SD-01-C3-S-G0.147528"},{"$f":"G1154","v":"JM GRUPO"},"Und",{"$f":"C1154&D1154&E1154&F1154&G1154","v":"TRES (3)N/AN/AServicio de distribucion Region Pacifico surJM GRUPO"},{"$f":"H1154","v":0.14752800000000002}]
[{"$f":"\"ate01-\"&B1155&\" \"&C1155&\" \"&D1155&\" \"&E1155","v":"ate01-SD-01-C3-S-G TRES (3) N/A N/A"},"SD-01-C3-S-G","TRES (3)","N/A","N/A","Servicio de distribucion Region Pacifico sur","INVERSIONES SARHEM DE COLOMBIA S.A.S.",0.185776,{"$f":"B1155&G1155","v":"SD-01-C3-S-GINVERSIONES SARHEM DE COLOMBIA S.A.S."},{"$f":"C1155&D1155&E1155&F1155","v":"TRES (3)N/AN/AServicio de distribucion Region Pacifico sur"},{"$f":"H1155","v":0.185776},{"$f":"C1155&D1155&E1155&F1155&G1155","v":"TRES (3)N/AN/AServicio de distribucion Region Pacifico surINVERSIONES SARHEM DE COLOMBIA S.A.S."},{"$f":"B1155&H1155","v":"SD-01-C3-S-G0.185776"},{"$f":"G1155","v":"INVERSIONES SARHEM DE COLOMBIA S.A.S."},"Und",{"$f":"C1155&D1155&E1155&F1155&G1155","v":"TRES (3)N/AN/AServicio de distribucion Region Pacifico surINVERSIONES SARHEM DE COLOMBIA S.A.S."},{"$f":"H1155","v":0.185776}]
[{"$f":"\"ate01-\"&B1156&\" \"&C1156&\" \"&D1156&\" \"&E1156","v":"ate01-SD-01-C3-S-G TRES (3) N/A N/A"},"SD-01-C3-S-G","TRES (3)","N/A","N/A","Servicio de distribucion Region Pacifico sur","C I WARRIORS COMPANY S.A.S.",0.14752800000000002,{"$f":"B1156&G1156","v":"SD-01-C3-S-GC I WARRIORS COMPANY S.A.S."},{"$f":"C1156&D1156&E1156&F1156","v":"TRES (3)N/AN/AServicio de distribucion Region Pacifico sur"},{"$f":"H1156","v":0.14752800000000002},{"$f":"C1156&D1156&E1156&F1156&G1156","v":"TRES (3)N/AN/AServicio de distribucion Region Pacifico surC I WARRIORS COMPANY S.A.S."},{"$f":"B1156&H1156","v":"SD-01-C3-S-G0.147528"},{"$f":"G1156","v":"C I WARRIORS COMPANY S.A.S."},"Und",{"$f":"C1156&D1156&E1156&F1156&G1156","v":"TRES (3)N/AN/AServicio de distribucion Region Pacifico surC I WARRIORS COMPANY S.A.S."},{"$f":"H1156","v":0.14752800000000002}]
[{"$f":"\"ate01-\"&B1157&\" \"&C1157&\" \"&D1157&\" \"&E1157","v":"ate01-SD-01-C3-S-G TRES (3) N/A N/A"},"SD-01-C3-S-G","TRES (3)","N/A","N/A","Servicio de distribucion Region Pacifico sur","LIMINA S.A.S.",0.185776,{"$f":"B1157&G1157","v":"SD-01-C3-S-GLIMINA S.A.S."},{"$f":"C1157&D1157&E1157&F1157","v":"TRES (3)N/AN/AServicio de distribucion Region Pacifico sur"},{"$f":"H1157","v":0.185776},{"$f":"C1157&D1157&E1157&F1157&G1157","v":"TRES (3)N/AN/AServicio de distribucion Region Pacifico surLIMINA S.A.S."},{"$f":"B1157&H1157","v":"SD-01-C3-S-G0.185776"},{"$f":"G1157","v":"LIMINA S.A.S."},"Und",{"$f":"C1157&D1157&E1157&F1157&G1157","v":"TRES (3)N/AN/AServicio de distribucion Region Pacifico surLIMINA S.A.S."},{"$f":"H1157","v":0.185776}]
[{"$f":"\"ate01-\"&B1158&\" \"&C1158&\" \"&D1158&\" \"&E1158","v":"ate01-SD-01-C3-S-G TRES (3) N/A N/A"},"SD-01-C3-S-G","TRES (3)","N/A","N/A","Servicio de distribucion Region Pacifico sur","YUBARTA S.A.S.",0.14752800000000002,{"$f":"B1158&G1158","v":"SD-01-C3-S-GYUBARTA S.A.S."},{"$f":"C1158&D1158&E1158&F1158","v":"TRES (3)N/AN/AServicio de distribucion Region Pacifico sur"},{"$f":"H1158","v":0.14752800000000002},{"$f":"C1158&D1158&E1158&F1158&G1158","v":"TRES (3)N/AN/AServicio de distribucion Region Pacifico surYUBARTA S.A.S."},{"$f":"B1158&H1158","v":"SD-01-C3-S-G0.147528"},{"$f":"G1158","v":"YUBARTA S.A.S."},"Und",{"$f":"C1158&D1158&E1158&F1158&G1158","v":"TRES (3)N/AN/AServicio de distribucion Region Pacifico surYUBARTA S.A.S."},{"$f":"H1158","v":0.14752800000000002}]
[{"$f":"\"ate01-\"&B1159&\" \"&C1159&\" \"&D1159&\" \"&E1159","v":"ate01-SD-01-C3-S-G TRES (3) N/A N/A"},"SD-01-C3-S-G","TRES (3)","N/A","N/A","Servicio de distribucion Region Pacifico sur","COLOMBIANA DE TEXTILES POR MAYOR S.A.",0.14752800000000002,{"$f":"B1159&G1159","v":"SD-01-C3-S-GCOLOMBIANA DE TEXTILES POR MAYOR S.A."},{"$f":"C1159&D1159&E1159&F1159","v":"TRES (3)N/AN/AServicio de distribucion Region Pacifico sur"},{"$f":"H1159","v":0.14752800000000002},{"$f":"C1159&D1159&E1159&F1159&G1159","v":"TRES (3)N/AN/AServicio de distribucion Region Pacifico surCOLOMBIANA DE TEXTILES POR MAYOR S.A."},{"$f":"B1159&H1159","v":"SD-01-C3-S-G0.147528"},{"$f":"G1159","v":"COLOMBIANA DE TEXTILES POR MAYOR S.A."},"Und",{"$f":"C1159&D1159&E1159&F1159&G1159","v":"TRES (3)N/AN/AServicio de distribucion Region Pacifico surCOLOMBIANA DE TEXTILES POR MAYOR S.A."},{"$f":"H1159","v":0.14752800000000002}]
[{"$f":"\"ate01-\"&B1160&\" \"&C1160&\" \"&D1160&\" \"&E1160","v":"ate01-SD-01-C3-S-G TRES (3) N/A N/A"},"SD-01-C3-S-G","TRES (3)","N/A","N/A","Servicio de distribucion Region Pacifico sur","MIGUEL ANGEL VALLEJO BURGOS",0.14752800000000002,{"$f":"B1160&G1160","v":"SD-01-C3-S-GMIGUEL ANGEL VALLEJO BURGOS"},{"$f":"C1160&D1160&E1160&F1160","v":"TRES (3)N/AN/AServicio de distribucion Region Pacifico sur"},{"$f":"H1160","v":0.14752800000000002},{"$f":"C1160&D1160&E1160&F1160&G1160","v":"TRES (3)N/AN/AServicio de distribucion Region Pacifico surMIGUEL ANGEL VALLEJO BURGOS"},{"$f":"B1160&H1160","v":"SD-01-C3-S-G0.147528"},{"$f":"G1160","v":"MIGUEL ANGEL VALLEJO BURGOS"},"Und",{"$f":"C1160&D1160&E1160&F1160&G1160","v":"TRES (3)N/AN/AServicio de distribucion Region Pacifico surMIGUEL ANGEL VALLEJO BURGOS"},{"$f":"H1160","v":0.14752800000000002}]
[{"$f":"\"ate01-\"&B1161&\" \"&C1161&\" \"&D1161&\" \"&E1161","v":"ate01-SD-01-C3-S-G TRES (3) N/A N/A"},"SD-01-C3-S-G","TRES (3)","N/A","N/A","Servicio de distribucion Region Pacifico sur","INVALCA",0.14752800000000002,{"$f":"B1161&G1161","v":"SD-01-C3-S-GINVALCA"},{"$f":"C1161&D1161&E1161&F1161","v":"TRES (3)N/AN/AServicio de distribucion Region Pacifico sur"},{"$f":"H1161","v":0.14752800000000002},{"$f":"C1161&D1161&E1161&F1161&G1161","v":"TRES (3)N/AN/AServicio de distribucion Region Pacifico surINVALCA"},{"$f":"B1161&H1161","v":"SD-01-C3-S-G0.147528"},{"$f":"G1161","v":"INVALCA"},"Und",{"$f":"C1161&D1161&E1161&F1161&G1161","v":"TRES (3)N/AN/AServicio de distribucion Region Pacifico surINVALCA"},{"$f":"H1161","v":0.14752800000000002}]
[{"$f":"\"ate01-\"&B1162&\" \"&C1162&\" \"&D1162&\" \"&E1162","v":"ate01-SD-01-C4-S3-GA CUATRO (4) TRES (3) A"},"SD-01-C4-S3-GA","CUATRO (4)","TRES (3)","A","Servicio de distribucion Region Pacifico sur","JM GRUPO",0.14752800000000002,{"$f":"B1162&G1162","v":"SD-01-C4-S3-GAJM GRUPO"},{"$f":"C1162&D1162&E1162&F1162","v":"CUATRO (4)TRES (3)AServicio de distribucion Region Pacifico sur"},{"$f":"H1162","v":0.14752800000000002},{"$f":"C1162&D1162&E1162&F1162&G1162","v":"CUATRO (4)TRES (3)AServicio de distribucion Region Pacifico surJM GRUPO"},{"$f":"B1162&H1162","v":"SD-01-C4-S3-GA0.147528"},{"$f":"G1162","v":"JM GRUPO"},"Und",{"$f":"C1162&D1162&E1162&F1162&G1162","v":"CUATRO (4)TRES (3)AServicio de distribucion Region Pacifico surJM GRUPO"},{"$f":"H1162","v":0.14752800000000002}]
[{"$f":"\"ate01-\"&B1163&\" \"&C1163&\" \"&D1163&\" \"&E1163","v":"ate01-SD-01-C4-S3-GA CUATRO (4) TRES (3) A"},"SD-01-C4-S3-GA","CUATRO (4)","TRES (3)","A","Servicio de distribucion Region Pacifico sur","UT EMERGENCIAS 2021",0.14752800000000002,{"$f":"B1163&G1163","v":"SD-01-C4-S3-GAUT EMERGENCIAS 2021"},{"$f":"C1163&D1163&E1163&F1163","v":"CUATRO (4)TRES (3)AServicio de distribucion Region Pacifico sur"},{"$f":"H1163","v":0.14752800000000002},{"$f":"C1163&D1163&E1163&F1163&G1163","v":"CUATRO (4)TRES (3)AServicio de distribucion Region Pacifico surUT EMERGENCIAS 2021"},{"$f":"B1163&H1163","v":"SD-01-C4-S3-GA0.147528"},{"$f":"G1163","v":"UT EMERGENCIAS 2021"},"Und",{"$f":"C1163&D1163&E1163&F1163&G1163","v":"CUATRO (4)TRES (3)AServicio de distribucion Region Pacifico surUT EMERGENCIAS 2021"},{"$f":"H1163","v":0.14752800000000002}]
[{"$f":"\"ate01-\"&B1164&\" \"&C1164&\" \"&D1164&\" \"&E1164","v":"ate01-SD-01-C4-S3-GA CUATRO (4) TRES (3) A"},"SD-01-C4-S3-GA","CUATRO (4)","TRES (3)","A","Servicio de distribucion Region Pacifico sur","UNION TEMPORAL AYGEMA",0.14752800000000002,{"$f":"B1164&G1164","v":"SD-01-C4-S3-GAUNION TEMPORAL AYGEMA"},{"$f":"C1164&D1164&E1164&F1164","v":"CUATRO (4)TRES (3)AServicio de distribucion Region Pacifico sur"},{"$f":"H1164","v":0.14752800000000002},{"$f":"C1164&D1164&E1164&F1164&G1164","v":"CUATRO (4)TRES (3)AServicio de distribucion Region Pacifico surUNION TEMPORAL AYGEMA"},{"$f":"B1164&H1164","v":"SD-01-C4-S3-GA0.147528"},{"$f":"G1164","v":"UNION TEMPORAL AYGEMA"},"Und",{"$f":"C1164&D1164&E1164&F1164&G1164","v":"CUATRO (4)TRES (3)AServicio de distribucion Region Pacifico surUNION TEMPORAL AYGEMA"},{"$f":"H1164","v":0.14752800000000002}]
[{"$f":"\"ate01-\"&B1165&\" \"&C1165&\" \"&D1165&\" \"&E1165","v":"ate01-SD-01-C4-S3-GA CUATRO (4) TRES (3) A"},"SD-01-C4-S3-GA","CUATRO (4)","TRES (3)","A","Servicio de distribucion Region Pacifico sur","COLOMBIANA DE TEXTILES POR MAYOR S.A.",0.14752800000000002,{"$f":"B1165&G1165","v":"SD-01-C4-S3-GACOLOMBIANA DE TEXTILES POR MAYOR S.A."},{"$f":"C1165&D1165&E1165&F1165","v":"CUATRO (4)TRES (3)AServicio de distribucion Region Pacifico sur"},{"$f":"H1165","v":0.14752800000000002},{"$f":"C1165&D1165&E1165&F1165&G1165","v":"CUATRO (4)TRES (3)AServicio de distribucion Region Pacifico surCOLOMBIANA DE TEXTILES POR MAYOR S.A."},{"$f":"B1165&H1165","v":"SD-01-C4-S3-GA0.147528"},{"$f":"G1165","v":"COLOMBIANA DE TEXTILES POR MAYOR S.A."},"Und",{"$f":"C1165&D1165&E1165&F1165&G1165","v":"CUATRO (4)TRES (3)AServicio de distribucion Region Pacifico surCOLOMBIANA DE TEXTILES POR MAYOR S.A."},{"$f":"H1165","v":0.14752800000000002}]
[{"$f":"\"ate01-\"&B1166&\" \"&C1166&\" \"&D1166&\" \"&E1166","v":"ate01-SD-01-C4-S3-GC CUATRO (4) TRES (3) C"},"SD-01-C4-S3-GC","CUATRO (4)","TRES (3)","C","Servicio de distribucion Region Pacifico sur","JM GRUPO",0.14752800000000002,{"$f":"B1166&G1166","v":"SD-01-C4-S3-GCJM GRUPO"},{"$f":"C1166&D1166&E1166&F1166","v":"CUATRO (4)TRES (3)CServicio de distribucion Region Pacifico sur"},{"$f":"H1166","v":0.14752800000000002},{"$f":"C1166&D1166&E1166&F1166&G1166","v":"CUATRO (4)TRES (3)CServicio de distribucion Region Pacifico surJM GRUPO"},{"$f":"B1166&H1166","v":"SD-01-C4-S3-GC0.147528"},{"$f":"G1166","v":"JM GRUPO"},"Und",{"$f":"C1166&D1166&E1166&F1166&G1166","v":"CUATRO (4)TRES (3)CServicio de distribucion Region Pacifico surJM GRUPO"},{"$f":"H1166","v":0.14752800000000002}]
[{"$f":"\"ate01-\"&B1167&\" \"&C1167&\" \"&D1167&\" \"&E1167","v":"ate01-SD-01-C4-S3-GC CUATRO (4) TRES (3) C"},"SD-01-C4-S3-GC","CUATRO (4)","TRES (3)","C","Servicio de distribucion Region Pacifico sur","UNION TEMPORAL AYGEMA",0.14752800000000002,{"$f":"B1167&G1167","v":"SD-01-C4-S3-GCUNION TEMPORAL AYGEMA"},{"$f":"C1167&D1167&E1167&F1167","v":"CUATRO (4)TRES (3)CServicio de distribucion Region Pacifico sur"},{"$f":"H1167","v":0.14752800000000002},{"$f":"C1167&D1167&E1167&F1167&G1167","v":"CUATRO (4)TRES (3)CServicio de distribucion Region Pacifico surUNION TEMPORAL AYGEMA"},{"$f":"B1167&H1167","v":"SD-01-C4-S3-GC0.147528"},{"$f":"G1167","v":"UNION TEMPORAL AYGEMA"},"Und",{"$f":"C1167&D1167&E1167&F1167&G1167","v":"CUATRO (4)TRES (3)CServicio de distribucion Region Pacifico surUNION TEMPORAL AYGEMA"},{"$f":"H1167","v":0.14752800000000002}]
[{"$f":"\"ate01-\"&B1168&\" \"&C1168&\" \"&D1168&\" \"&E1168","v":"ate01-SD-01-C4-S3-GC CUATRO (4) TRES (3) C"},"SD-01-C4-S3-GC","CUATRO (4)","TRES (3)","C","Servicio de distribucion Region Pacifico sur","SUPRISA S.A.S.",0.15,{"$f":"B1168&G1168","v":"SD-01-C4-S3-GCSUPRISA S.A.S."},{"$f":"C1168&D1168&E1168&F1168","v":"CUATRO (4)TRES (3)CServicio de distribucion Region Pacifico sur"},{"$f":"H1168","v":0.15},{"$f":"C1168&D1168&E1168&F1168&G1168","v":"CUATRO (4)TRES (3)CServicio de distribucion Region Pacifico surSUPRISA S.A.S."},{"$f":"B1168&H1168","v":"SD-01-C4-S3-GC0.15"},{"$f":"G1168","v":"SUPRISA S.A.S."},"Und",{"$f":"C1168&D1168&E1168&F1168&G1168","v":"CUATRO (4)TRES (3)CServicio de distribucion Region Pacifico surSUPRISA S.A.S."},{"$f":"H1168","v":0.15}]
[{"$f":"\"ate01-\"&B1169&\" \"&C1169&\" \"&D1169&\" \"&E1169","v":"ate01-SD-01-C4-S3-GC CUATRO (4) TRES (3) C"},"SD-01-C4-S3-GC","CUATRO (4)","TRES (3)","C","Servicio de distribucion Region Pacifico sur","MIGUEL ANGEL VALLEJO BURGOS",0.14752800000000002,{"$f":"B1169&G1169","v":"SD-01-C4-S3-GCMIGUEL ANGEL VALLEJO BURGOS"},{"$f":"C1169&D1169&E1169&F1169","v":"CUATRO (4)TRES (3)CServicio de distribucion Region Pacifico sur"},{"$f":"H1169","v":0.14752800000000002},{"$f":"C1169&D1169&E1169&F1169&G1169","v":"CUATRO (4)TRES (3)CServicio de distribucion Region Pacifico surMIGUEL ANGEL VALLEJO BURGOS"},{"$f":"B1169&H1169","v":"SD-01-C4-S3-GC0.147528"},{"$f":"G1169","v":"MIGUEL ANGEL VALLEJO BURGOS"},"Und",{"$f":"C1169&D1169&E1169&F1169&G1169","v":"CUATRO (4)TRES (3)CServicio de distribucion Region Pacifico surMIGUEL ANGEL VALLEJO BURGOS"},{"$f":"H1169","v":0.14752800000000002}]
[{"$f":"\"ate01-\"&B1170&\" \"&C1170&\" \"&D1170&\" \"&E1170","v":"ate01-SD-01-C4-S3-GD CUATRO (4) TRES (3) D"},"SD-01-C4-S3-GD","CUATRO (4)","TRES (3)","D","Servicio de distribucion Region Pacifico sur","IMPLESEG S.A.S.",0.16391999999999998,{"$f":"B1170&G1170","v":"SD-01-C4-S3-GDIMPLESEG S.A.S."},{"$f":"C1170&D1170&E1170&F1170","v":"CUATRO (4)TRES (3)DServicio de distribucion Region Pacifico sur"},{"$f":"H1170","v":0.16391999999999998},{"$f":"C1170&D1170&E1170&F1170&G1170","v":"CUATRO (4)TRES (3)DServicio de distribucion Region Pacifico surIMPLESEG S.A.S."},{"$f":"B1170&H1170","v":"SD-01-C4-S3-GD0.16392"},{"$f":"G1170","v":"IMPLESEG S.A.S."},"Und",{"$f":"C1170&D1170&E1170&F1170&G1170","v":"CUATRO (4)TRES (3)DServicio de distribucion Region Pacifico surIMPLESEG S.A.S."},{"$f":"H1170","v":0.16391999999999998}]
[{"$f":"\"ate01-\"&B1171&\" \"&C1171&\" \"&D1171&\" \"&E1171","v":"ate01-SD-01-C4-S3-GD CUATRO (4) TRES (3) D"},"SD-01-C4-S3-GD","CUATRO (4)","TRES (3)","D","Servicio de distribucion Region Pacifico sur","JM GRUPO",0.14752800000000002,{"$f":"B1171&G1171","v":"SD-01-C4-S3-GDJM GRUPO"},{"$f":"C1171&D1171&E1171&F1171","v":"CUATRO (4)TRES (3)DServicio de distribucion Region Pacifico sur"},{"$f":"H1171","v":0.14752800000000002},{"$f":"C1171&D1171&E1171&F1171&G1171","v":"CUATRO (4)TRES (3)DServicio de distribucion Region Pacifico surJM GRUPO"},{"$f":"B1171&H1171","v":"SD-01-C4-S3-GD0.147528"},{"$f":"G1171","v":"JM GRUPO"},"Und",{"$f":"C1171&D1171&E1171&F1171&G1171","v":"CUATRO (4)TRES (3)DServicio de distribucion Region Pacifico surJM GRUPO"},{"$f":"H1171","v":0.14752800000000002}]
[{"$f":"\"ate01-\"&B1172&\" \"&C1172&\" \"&D1172&\" \"&E1172","v":"ate01-SD-01-C4-S3-GD CUATRO (4) TRES (3) D"},"SD-01-C4-S3-GD","CUATRO (4)","TRES (3)","D","Servicio de distribucion Region Pacifico sur","SUMIMAS S.A.S.",0.13,{"$f":"B1172&G1172","v":"SD-01-C4-S3-GDSUMIMAS S.A.S."},{"$f":"C1172&D1172&E1172&F1172","v":"CUATRO (4)TRES (3)DServicio de distribucion Region Pacifico sur"},{"$f":"H1172","v":0.13},{"$f":"C1172&D1172&E1172&F1172&G1172","v":"CUATRO (4)TRES (3)DServicio de distribucion Region Pacifico surSUMIMAS S.A.S."},{"$f":"B1172&H1172","v":"SD-01-C4-S3-GD0.13"},{"$f":"G1172","v":"SUMIMAS S.A.S."},"Und",{"$f":"C1172&D1172&E1172&F1172&G1172","v":"CUATRO (4)TRES (3)DServicio de distribucion Region Pacifico surSUMIMAS S.A.S."},{"$f":"H1172","v":0.13}]
[{"$f":"\"ate01-\"&B1173&\" \"&C1173&\" \"&D1173&\" \"&E1173","v":"ate01-SD-01-C4-S3-GD CUATRO (4) TRES (3) D"},"SD-01-C4-S3-GD","CUATRO (4)","TRES (3)","D","Servicio de distribucion Region Pacifico sur","UT EMERGENCIAS 2021",0.14752800000000002,{"$f":"B1173&G1173","v":"SD-01-C4-S3-GDUT EMERGENCIAS 2021"},{"$f":"C1173&D1173&E1173&F1173","v":"CUATRO (4)TRES (3)DServicio de distribucion Region Pacifico sur"},{"$f":"H1173","v":0.14752800000000002},{"$f":"C1173&D1173&E1173&F1173&G1173","v":"CUATRO (4)TRES (3)DServicio de distribucion Region Pacifico surUT EMERGENCIAS 2021"},{"$f":"B1173&H1173","v":"SD-01-C4-S3-GD0.147528"},{"$f":"G1173","v":"UT EMERGENCIAS 2021"},"Und",{"$f":"C1173&D1173&E1173&F1173&G1173","v":"CUATRO (4)TRES (3)DServicio de distribucion Region Pacifico surUT EMERGENCIAS 2021"},{"$f":"H1173","v":0.14752800000000002}]
[{"$f":"\"ate01-\"&B1174&\" \"&C1174&\" \"&D1174&\" \"&E1174","v":"ate01-SD-01-C4-S3-GD CUATRO (4) TRES (3) D"},"SD-01-C4-S3-GD","CUATRO (4)","TRES (3)","D","Servicio de distribucion Region Pacifico sur","INCOLDEXT S.A.S.",0.14752800000000002,{"$f":"B1174&G1174","v":"SD-01-C4-S3-GDINCOLDEXT S.A.S."},{"$f":"C1174&D1174&E1174&F1174","v":"CUATRO (4)TRES (3)DServicio de distribucion Region Pacifico sur"},{"$f":"H1174","v":0.14752800000000002},{"$f":"C1174&D1174&E1174&F1174&G1174","v":"CUATRO (4)TRES (3)DServicio de distribucion Region Pacifico surINCOLDEXT S.A.S."},{"$f":"B1174&H1174","v":"SD-01-C4-S3-GD0.147528"},{"$f":"G1174","v":"INCOLDEXT S.A.S."},"Und",{"$f":"C1174&D1174&E1174&F1174&G1174","v":"CUATRO (4)TRES (3)DServicio de distribucion Region Pacifico surINCOLDEXT S.A.S."},{"$f":"H1174","v":0.14752800000000002}]
[{"$f":"\"ate01-\"&B1175&\" \"&C1175&\" \"&D1175&\" \"&E1175","v":"ate01-SD-01-C4-S3-GD CUATRO (4) TRES (3) D"},"SD-01-C4-S3-GD","CUATRO (4)","TRES (3)","D","Servicio de distribucion Region Pacifico sur","UNION TEMPORAL AYGEMA",0.14752800000000002,{"$f":"B1175&G1175","v":"SD-01-C4-S3-GDUNION TEMPORAL AYGEMA"},{"$f":"C1175&D1175&E1175&F1175","v":"CUATRO (4)TRES (3)DServicio de distribucion Region Pacifico sur"},{"$f":"H1175","v":0.14752800000000002},{"$f":"C1175&D1175&E1175&F1175&G1175","v":"CUATRO (4)TRES (3)DServicio de distribucion Region Pacifico surUNION TEMPORAL AYGEMA"},{"$f":"B1175&H1175","v":"SD-01-C4-S3-GD0.147528"},{"$f":"G1175","v":"UNION TEMPORAL AYGEMA"},"Und",{"$f":"C1175&D1175&E1175&F1175&G1175","v":"CUATRO (4)TRES (3)DServicio de distribucion Region Pacifico surUNION TEMPORAL AYGEMA"},{"$f":"H1175","v":0.14752800000000002}]
[{"$f":"\"ate01-\"&B1176&\" \"&C1176&\" \"&D1176&\" \"&E1176","v":"ate01-SD-01-C4-S3-GD CUATRO (4) TRES (3) D"},"SD-01-C4-S3-GD","CUATRO (4)","TRES (3)","D","Servicio de distribucion Region Pacifico sur","COMERCIALIZADORA DINPRO S.A.S.",0.14752800000000002,{"$f":"B1176&G1176","v":"SD-01-C4-S3-GDCOMERCIALIZADORA DINPRO S.A.S."},{"$f":"C1176&D1176&E1176&F1176","v":"CUATRO (4)TRES (3)DServicio de distribucion Region Pacifico sur"},{"$f":"H1176","v":0.14752800000000002},{"$f":"C1176&D1176&E1176&F1176&G1176","v":"CUATRO (4)TRES (3)DServicio de distribucion Region Pacifico surCOMERCIALIZADORA DINPRO S.A.S."},{"$f":"B1176&H1176","v":"SD-01-C4-S3-GD0.147528"},{"$f":"G1176","v":"COMERCIALIZADORA DINPRO S.A.S."},"Und",{"$f":"C1176&D1176&E1176&F1176&G1176","v":"CUATRO (4)TRES (3)DServicio de distribucion Region Pacifico surCOMERCIALIZADORA DINPRO S.A.S."},{"$f":"H1176","v":0.14752800000000002}]
[{"$f":"\"ate01-\"&B1177&\" \"&C1177&\" \"&D1177&\" \"&E1177","v":"ate01-SD-01-C4-S3-GD CUATRO (4) TRES (3) D"},"SD-01-C4-S3-GD","CUATRO (4)","TRES (3)","D","Servicio de distribucion Region Pacifico sur","LIMINA S.A.S.",0.185776,{"$f":"B1177&G1177","v":"SD-01-C4-S3-GDLIMINA S.A.S."},{"$f":"C1177&D1177&E1177&F1177","v":"CUATRO (4)TRES (3)DServicio de distribucion Region Pacifico sur"},{"$f":"H1177","v":0.185776},{"$f":"C1177&D1177&E1177&F1177&G1177","v":"CUATRO (4)TRES (3)DServicio de distribucion Region Pacifico surLIMINA S.A.S."},{"$f":"B1177&H1177","v":"SD-01-C4-S3-GD0.185776"},{"$f":"G1177","v":"LIMINA S.A.S."},"Und",{"$f":"C1177&D1177&E1177&F1177&G1177","v":"CUATRO (4)TRES (3)DServicio de distribucion Region Pacifico surLIMINA S.A.S."},{"$f":"H1177","v":0.185776}]
[{"$f":"\"ate01-\"&B1178&\" \"&C1178&\" \"&D1178&\" \"&E1178","v":"ate01-SD-01-C4-S3-GD CUATRO (4) TRES (3) D"},"SD-01-C4-S3-GD","CUATRO (4)","TRES (3)","D","Servicio de distribucion Region Pacifico sur","INMADICA ANDINA",8.7424000000000002E-2,{"$f":"B1178&G1178","v":"SD-01-C4-S3-GDINMADICA ANDINA"},{"$f":"C1178&D1178&E1178&F1178","v":"CUATRO (4)TRES (3)DServicio de distribucion Region Pacifico sur"},{"$f":"H1178","v":8.7424000000000002E-2},{"$f":"C1178&D1178&E1178&F1178&G1178","v":"CUATRO (4)TRES (3)DServicio de distribucion Region Pacifico surINMADICA ANDINA"},{"$f":"B1178&H1178","v":"SD-01-C4-S3-GD0.087424"},{"$f":"G1178","v":"INMADICA ANDINA"},"Und",{"$f":"C1178&D1178&E1178&F1178&G1178","v":"CUATRO (4)TRES (3)DServicio de distribucion Region Pacifico surINMADICA ANDINA"},{"$f":"H1178","v":8.7424000000000002E-2}]
[{"$f":"\"ate01-\"&B1179&\" \"&C1179&\" \"&D1179&\" \"&E1179","v":"ate01-SD-01-C4-S3-GD CUATRO (4) TRES (3) D"},"SD-01-C4-S3-GD","CUATRO (4)","TRES (3)","D","Servicio de distribucion Region Pacifico sur","COLOMBIANA DE TEXTILES POR MAYOR S.A.",0.14752800000000002,{"$f":"B1179&G1179","v":"SD-01-C4-S3-GDCOLOMBIANA DE TEXTILES POR MAYOR S.A."},{"$f":"C1179&D1179&E1179&F1179","v":"CUATRO (4)TRES (3)DServicio de distribucion Region Pacifico sur"},{"$f":"H1179","v":0.14752800000000002},{"$f":"C1179&D1179&E1179&F1179&G1179","v":"CUATRO (4)TRES (3)DServicio de distribucion Region Pacifico surCOLOMBIANA DE TEXTILES POR MAYOR S.A."},{"$f":"B1179&H1179","v":"SD-01-C4-S3-GD0.147528"},{"$f":"G1179","v":"COLOMBIANA DE TEXTILES POR MAYOR S.A."},"Und",{"$f":"C1179&D1179&E1179&F1179&G1179","v":"CUATRO (4)TRES (3)DServicio de distribucion Region Pacifico surCOLOMBIANA DE TEXTILES POR MAYOR S.A."},{"$f":"H1179","v":0.14752800000000002}]
[{"$f":"\"ate01-\"&B1180&\" \"&C1180&\" \"&D1180&\" \"&E1180","v":"ate01-SD-01-C4-S3-GD CUATRO (4) TRES (3) D"},"SD-01-C4-S3-GD","CUATRO (4)","TRES (3)","D","Servicio de distribucion Region Pacifico sur","MIGUEL ANGEL VALLEJO BURGOS",0.14752800000000002,{"$f":"B1180&G1180","v":"SD-01-C4-S3-GDMIGUEL ANGEL VALLEJO BURGOS"},{"$f":"C1180&D1180&E1180&F1180","v":"CUATRO (4)TRES (3)DServicio de distribucion Region Pacifico sur"},{"$f":"H1180","v":0.14752800000000002},{"$f":"C1180&D1180&E1180&F1180&G1180","v":"CUATRO (4)TRES (3)DServicio de distribucion Region Pacifico surMIGUEL ANGEL VALLEJO BURGOS"},{"$f":"B1180&H1180","v":"SD-01-C4-S3-GD0.147528"},{"$f":"G1180","v":"MIGUEL ANGEL VALLEJO BURGOS"},"Und",{"$f":"C1180&D1180&E1180&F1180&G1180","v":"CUATRO (4)TRES (3)DServicio de distribucion Region Pacifico surMIGUEL ANGEL VALLEJO BURGOS"},{"$f":"H1180","v":0.14752800000000002}]
[{"$f":"\"ate01-\"&B1181&\" \"&C1181&\" \"&D1181&\" \"&E1181","v":"ate01-SD-01-C4-S3-GE CUATRO (4) TRES (3) E"},"SD-01-C4-S3-GE","CUATRO (4)","TRES (3)","E","Servicio de distribucion Region Pacifico sur","JM GRUPO",0.14752800000000002,{"$f":"B1181&G1181","v":"SD-01-C4-S3-GEJM GRUPO"},{"$f":"C1181&D1181&E1181&F1181","v":"CUATRO (4)TRES (3)EServicio de distribucion Region Pacifico sur"},{"$f":"H1181","v":0.14752800000000002},{"$f":"C1181&D1181&E1181&F1181&G1181","v":"CUATRO (4)TRES (3)EServicio de distribucion Region Pacifico surJM GRUPO"},{"$f":"B1181&H1181","v":"SD-01-C4-S3-GE0.147528"},{"$f":"G1181","v":"JM GRUPO"},"Und",{"$f":"C1181&D1181&E1181&F1181&G1181","v":"CUATRO (4)TRES (3)EServicio de distribucion Region Pacifico surJM GRUPO"},{"$f":"H1181","v":0.14752800000000002}]
[{"$f":"\"ate01-\"&B1182&\" \"&C1182&\" \"&D1182&\" \"&E1182","v":"ate01-SD-01-C4-S3-GE CUATRO (4) TRES (3) E"},"SD-01-C4-S3-GE","CUATRO (4)","TRES (3)","E","Servicio de distribucion Region Pacifico sur","INVERSIONES SARHEM DE COLOMBIA S.A.S.",0.185776,{"$f":"B1182&G1182","v":"SD-01-C4-S3-GEINVERSIONES SARHEM DE COLOMBIA S.A.S."},{"$f":"C1182&D1182&E1182&F1182","v":"CUATRO (4)TRES (3)EServicio de distribucion Region Pacifico sur"},{"$f":"H1182","v":0.185776},{"$f":"C1182&D1182&E1182&F1182&G1182","v":"CUATRO (4)TRES (3)EServicio de distribucion Region Pacifico surINVERSIONES SARHEM DE COLOMBIA S.A.S."},{"$f":"B1182&H1182","v":"SD-01-C4-S3-GE0.185776"},{"$f":"G1182","v":"INVERSIONES SARHEM DE COLOMBIA S.A.S."},"Und",{"$f":"C1182&D1182&E1182&F1182&G1182","v":"CUATRO (4)TRES (3)EServicio de distribucion Region Pacifico surINVERSIONES SARHEM DE COLOMBIA S.A.S."},{"$f":"H1182","v":0.185776}]
[{"$f":"\"ate01-\"&B1183&\" \"&C1183&\" \"&D1183&\" \"&E1183","v":"ate01-SD-01-C4-S3-GE CUATRO (4) TRES (3) E"},"SD-01-C4-S3-GE","CUATRO (4)","TRES (3)","E","Servicio de distribucion Region Pacifico sur","UT EMERGENCIAS 2021",0.14752800000000002,{"$f":"B1183&G1183","v":"SD-01-C4-S3-GEUT EMERGENCIAS 2021"},{"$f":"C1183&D1183&E1183&F1183","v":"CUATRO (4)TRES (3)EServicio de distribucion Region Pacifico sur"},{"$f":"H1183","v":0.14752800000000002},{"$f":"C1183&D1183&E1183&F1183&G1183","v":"CUATRO (4)TRES (3)EServicio de distribucion Region Pacifico surUT EMERGENCIAS 2021"},{"$f":"B1183&H1183","v":"SD-01-C4-S3-GE0.147528"},{"$f":"G1183","v":"UT EMERGENCIAS 2021"},"Und",{"$f":"C1183&D1183&E1183&F1183&G1183","v":"CUATRO (4)TRES (3)EServicio de distribucion Region Pacifico surUT EMERGENCIAS 2021"},{"$f":"H1183","v":0.14752800000000002}]
[{"$f":"\"ate01-\"&B1184&\" \"&C1184&\" \"&D1184&\" \"&E1184","v":"ate01-SD-01-C4-S3-GE CUATRO (4) TRES (3) E"},"SD-01-C4-S3-GE","CUATRO (4)","TRES (3)","E","Servicio de distribucion Region Pacifico sur","LIMINA S.A.S.",0.185776,{"$f":"B1184&G1184","v":"SD-01-C4-S3-GELIMINA S.A.S."},{"$f":"C1184&D1184&E1184&F1184","v":"CUATRO (4)TRES (3)EServicio de distribucion Region Pacifico sur"},{"$f":"H1184","v":0.185776},{"$f":"C1184&D1184&E1184&F1184&G1184","v":"CUATRO (4)TRES (3)EServicio de distribucion Region Pacifico surLIMINA S.A.S."},{"$f":"B1184&H1184","v":"SD-01-C4-S3-GE0.185776"},{"$f":"G1184","v":"LIMINA S.A.S."},"Und",{"$f":"C1184&D1184&E1184&F1184&G1184","v":"CUATRO (4)TRES (3)EServicio de distribucion Region Pacifico surLIMINA S.A.S."},{"$f":"H1184","v":0.185776}]
[{"$f":"\"ate01-\"&B1185&\" \"&C1185&\" \"&D1185&\" \"&E1185","v":"ate01-SD-01-C4-S3-GE CUATRO (4) TRES (3) E"},"SD-01-C4-S3-GE","CUATRO (4)","TRES (3)","E","Servicio de distribucion Region Pacifico sur","COLOMBIANA DE TEXTILES POR MAYOR S.A.",0.14752800000000002,{"$f":"B1185&G1185","v":"SD-01-C4-S3-GECOLOMBIANA DE TEXTILES POR MAYOR S.A."},{"$f":"C1185&D1185&E1185&F1185","v":"CUATRO (4)TRES (3)EServicio de distribucion Region Pacifico sur"},{"$f":"H1185","v":0.14752800000000002},{"$f":"C1185&D1185&E1185&F1185&G1185","v":"CUATRO (4)TRES (3)EServicio de distribucion Region Pacifico surCOLOMBIANA DE TEXTILES POR MAYOR S.A."},{"$f":"B1185&H1185","v":"SD-01-C4-S3-GE0.147528"},{"$f":"G1185","v":"COLOMBIANA DE TEXTILES POR MAYOR S.A."},"Und",{"$f":"C1185&D1185&E1185&F1185&G1185","v":"CUATRO (4)TRES (3)EServicio de distribucion Region Pacifico surCOLOMBIANA DE TEXTILES POR MAYOR S.A."},{"$f":"H1185","v":0.14752800000000002}]
[{"$f":"\"ate01-\"&B1186&\" \"&C1186&\" \"&D1186&\" \"&E1186","v":"ate01-SD-01-C4-S3-GE CUATRO (4) TRES (3) E"},"SD-01-C4-S3-GE","CUATRO (4)","TRES (3)","E","Servicio de distribucion Region Pacifico sur","MIGUEL ANGEL VALLEJO BURGOS",0.14752800000000002,{"$f":"B1186&G1186","v":"SD-01-C4-S3-GEMIGUEL ANGEL VALLEJO BURGOS"},{"$f":"C1186&D1186&E1186&F1186","v":"CUATRO (4)TRES (3)EServicio de distribucion Region Pacifico sur"},{"$f":"H1186","v":0.14752800000000002},{"$f":"C1186&D1186&E1186&F1186&G1186","v":"CUATRO (4)TRES (3)EServicio de distribucion Region Pacifico surMIGUEL ANGEL VALLEJO BURGOS"},{"$f":"B1186&H1186","v":"SD-01-C4-S3-GE0.147528"},{"$f":"G1186","v":"MIGUEL ANGEL VALLEJO BURGOS"},"Und",{"$f":"C1186&D1186&E1186&F1186&G1186","v":"CUATRO (4)TRES (3)EServicio de distribucion Region Pacifico surMIGUEL ANGEL VALLEJO BURGOS"},{"$f":"H1186","v":0.14752800000000002}]
[{"$f":"\"ate01-\"&B1187&\" \"&C1187&\" \"&D1187&\" \"&E1187","v":"ate01-SD-01-C4-S4-GA CUATRO (4) CUATRO (4) A"},"SD-01-C4-S4-GA","CUATRO (4)","CUATRO (4)","A","Servicio de distribucion Region Pacifico sur","JM GRUPO",0.14752800000000002,{"$f":"B1187&G1187","v":"SD-01-C4-S4-GAJM GRUPO"},{"$f":"C1187&D1187&E1187&F1187","v":"CUATRO (4)CUATRO (4)AServicio de distribucion Region Pacifico sur"},{"$f":"H1187","v":0.14752800000000002},{"$f":"C1187&D1187&E1187&F1187&G1187","v":"CUATRO (4)CUATRO (4)AServicio de distribucion Region Pacifico surJM GRUPO"},{"$f":"B1187&H1187","v":"SD-01-C4-S4-GA0.147528"},{"$f":"G1187","v":"JM GRUPO"},"Und",{"$f":"C1187&D1187&E1187&F1187&G1187","v":"CUATRO (4)CUATRO (4)AServicio de distribucion Region Pacifico surJM GRUPO"},{"$f":"H1187","v":0.14752800000000002}]
[{"$f":"\"ate01-\"&B1188&\" \"&C1188&\" \"&D1188&\" \"&E1188","v":"ate01-SD-01-C4-S4-GA CUATRO (4) CUATRO (4) A"},"SD-01-C4-S4-GA","CUATRO (4)","CUATRO (4)","A","Servicio de distribucion Region Pacifico sur","SUMIMAS S.A.S.",0.142064,{"$f":"B1188&G1188","v":"SD-01-C4-S4-GASUMIMAS S.A.S."},{"$f":"C1188&D1188&E1188&F1188","v":"CUATRO (4)CUATRO (4)AServicio de distribucion Region Pacifico sur"},{"$f":"H1188","v":0.142064},{"$f":"C1188&D1188&E1188&F1188&G1188","v":"CUATRO (4)CUATRO (4)AServicio de distribucion Region Pacifico surSUMIMAS S.A.S."},{"$f":"B1188&H1188","v":"SD-01-C4-S4-GA0.142064"},{"$f":"G1188","v":"SUMIMAS S.A.S."},"Und",{"$f":"C1188&D1188&E1188&F1188&G1188","v":"CUATRO (4)CUATRO (4)AServicio de distribucion Region Pacifico surSUMIMAS S.A.S."},{"$f":"H1188","v":0.142064}]
[{"$f":"\"ate01-\"&B1189&\" \"&C1189&\" \"&D1189&\" \"&E1189","v":"ate01-SD-01-C4-S4-GA CUATRO (4) CUATRO (4) A"},"SD-01-C4-S4-GA","CUATRO (4)","CUATRO (4)","A","Servicio de distribucion Region Pacifico sur","UNION TEMPORAL AYGEMA",0.14752800000000002,{"$f":"B1189&G1189","v":"SD-01-C4-S4-GAUNION TEMPORAL AYGEMA"},{"$f":"C1189&D1189&E1189&F1189","v":"CUATRO (4)CUATRO (4)AServicio de distribucion Region Pacifico sur"},{"$f":"H1189","v":0.14752800000000002},{"$f":"C1189&D1189&E1189&F1189&G1189","v":"CUATRO (4)CUATRO (4)AServicio de distribucion Region Pacifico surUNION TEMPORAL AYGEMA"},{"$f":"B1189&H1189","v":"SD-01-C4-S4-GA0.147528"},{"$f":"G1189","v":"UNION TEMPORAL AYGEMA"},"Und",{"$f":"C1189&D1189&E1189&F1189&G1189","v":"CUATRO (4)CUATRO (4)AServicio de distribucion Region Pacifico surUNION TEMPORAL AYGEMA"},{"$f":"H1189","v":0.14752800000000002}]
[{"$f":"\"ate01-\"&B1190&\" \"&C1190&\" \"&D1190&\" \"&E1190","v":"ate01-SD-01-C4-S4-GA CUATRO (4) CUATRO (4) A"},"SD-01-C4-S4-GA","CUATRO (4)","CUATRO (4)","A","Servicio de distribucion Region Pacifico sur","UT SS 2021- CCENEG- 041-01-2021",0.14752800000000002,{"$f":"B1190&G1190","v":"SD-01-C4-S4-GAUT SS 2021- CCENEG- 041-01-2021"},{"$f":"C1190&D1190&E1190&F1190","v":"CUATRO (4)CUATRO (4)AServicio de distribucion Region Pacifico sur"},{"$f":"H1190","v":0.14752800000000002},{"$f":"C1190&D1190&E1190&F1190&G1190","v":"CUATRO (4)CUATRO (4)AServicio de distribucion Region Pacifico surUT SS 2021- CCENEG- 041-01-2021"},{"$f":"B1190&H1190","v":"SD-01-C4-S4-GA0.147528"},{"$f":"G1190","v":"UT SS 2021- CCENEG- 041-01-2021"},"Und",{"$f":"C1190&D1190&E1190&F1190&G1190","v":"CUATRO (4)CUATRO (4)AServicio de distribucion Region Pacifico surUT SS 2021- CCENEG- 041-01-2021"},{"$f":"H1190","v":0.14752800000000002}]
[{"$f":"\"ate01-\"&B1191&\" \"&C1191&\" \"&D1191&\" \"&E1191","v":"ate01-SD-01-C4-S4-GA CUATRO (4) CUATRO (4) A"},"SD-01-C4-S4-GA","CUATRO (4)","CUATRO (4)","A","Servicio de distribucion Region Pacifico sur","COLOMBIANA DE TEXTILES POR MAYOR S.A.",0.14752800000000002,{"$f":"B1191&G1191","v":"SD-01-C4-S4-GACOLOMBIANA DE TEXTILES POR MAYOR S.A."},{"$f":"C1191&D1191&E1191&F1191","v":"CUATRO (4)CUATRO (4)AServicio de distribucion Region Pacifico sur"},{"$f":"H1191","v":0.14752800000000002},{"$f":"C1191&D1191&E1191&F1191&G1191","v":"CUATRO (4)CUATRO (4)AServicio de distribucion Region Pacifico surCOLOMBIANA DE TEXTILES POR MAYOR S.A."},{"$f":"B1191&H1191","v":"SD-01-C4-S4-GA0.147528"},{"$f":"G1191","v":"COLOMBIANA DE TEXTILES POR MAYOR S.A."},"Und",{"$f":"C1191&D1191&E1191&F1191&G1191","v":"CUATRO (4)CUATRO (4)AServicio de distribucion Region Pacifico surCOLOMBIANA DE TEXTILES POR MAYOR S.A."},{"$f":"H1191","v":0.14752800000000002}]
[{"$f":"\"ate01-\"&B1192&\" \"&C1192&\" \"&D1192&\" \"&E1192","v":"ate01-SD-01-C4-S4-GB CUATRO (4) CUATRO (4) B"},"SD-01-C4-S4-GB","CUATRO (4)","CUATRO (4)","B","Servicio de distribucion Region Pacifico sur","JM GRUPO",0.14752800000000002,{"$f":"B1192&G1192","v":"SD-01-C4-S4-GBJM GRUPO"},{"$f":"C1192&D1192&E1192&F1192","v":"CUATRO (4)CUATRO (4)BServicio de distribucion Region Pacifico sur"},{"$f":"H1192","v":0.14752800000000002},{"$f":"C1192&D1192&E1192&F1192&G1192","v":"CUATRO (4)CUATRO (4)BServicio de distribucion Region Pacifico surJM GRUPO"},{"$f":"B1192&H1192","v":"SD-01-C4-S4-GB0.147528"},{"$f":"G1192","v":"JM GRUPO"},"Und",{"$f":"C1192&D1192&E1192&F1192&G1192","v":"CUATRO (4)CUATRO (4)BServicio de distribucion Region Pacifico surJM GRUPO"},{"$f":"H1192","v":0.14752800000000002}]
[{"$f":"\"ate01-\"&B1193&\" \"&C1193&\" \"&D1193&\" \"&E1193","v":"ate01-SD-01-C4-S4-GB CUATRO (4) CUATRO (4) B"},"SD-01-C4-S4-GB","CUATRO (4)","CUATRO (4)","B","Servicio de distribucion Region Pacifico sur","SUMIMAS S.A.S.",0.142064,{"$f":"B1193&G1193","v":"SD-01-C4-S4-GBSUMIMAS S.A.S."},{"$f":"C1193&D1193&E1193&F1193","v":"CUATRO (4)CUATRO (4)BServicio de distribucion Region Pacifico sur"},{"$f":"H1193","v":0.142064},{"$f":"C1193&D1193&E1193&F1193&G1193","v":"CUATRO (4)CUATRO (4)BServicio de distribucion Region Pacifico surSUMIMAS S.A.S."},{"$f":"B1193&H1193","v":"SD-01-C4-S4-GB0.142064"},{"$f":"G1193","v":"SUMIMAS S.A.S."},"Und",{"$f":"C1193&D1193&E1193&F1193&G1193","v":"CUATRO (4)CUATRO (4)BServicio de distribucion Region Pacifico surSUMIMAS S.A.S."},{"$f":"H1193","v":0.142064}]
[{"$f":"\"ate01-\"&B1194&\" \"&C1194&\" \"&D1194&\" \"&E1194","v":"ate01-SD-01-C4-S4-GB CUATRO (4) CUATRO (4) B"},"SD-01-C4-S4-GB","CUATRO (4)","CUATRO (4)","B","Servicio de distribucion Region Pacifico sur","UNION TEMPORAL AYGEMA",0.14752800000000002,{"$f":"B1194&G1194","v":"SD-01-C4-S4-GBUNION TEMPORAL AYGEMA"},{"$f":"C1194&D1194&E1194&F1194","v":"CUATRO (4)CUATRO (4)BServicio de distribucion Region Pacifico sur"},{"$f":"H1194","v":0.14752800000000002},{"$f":"C1194&D1194&E1194&F1194&G1194","v":"CUATRO (4)CUATRO (4)BServicio de distribucion Region Pacifico surUNION TEMPORAL AYGEMA"},{"$f":"B1194&H1194","v":"SD-01-C4-S4-GB0.147528"},{"$f":"G1194","v":"UNION TEMPORAL AYGEMA"},"Und",{"$f":"C1194&D1194&E1194&F1194&G1194","v":"CUATRO (4)CUATRO (4)BServicio de distribucion Region Pacifico surUNION TEMPORAL AYGEMA"},{"$f":"H1194","v":0.14752800000000002}]
[{"$f":"\"ate01-\"&B1195&\" \"&C1195&\" \"&D1195&\" \"&E1195","v":"ate01-SD-01-C4-S4-GB CUATRO (4) CUATRO (4) B"},"SD-01-C4-S4-GB","CUATRO (4)","CUATRO (4)","B","Servicio de distribucion Region Pacifico sur","PLASTICOS MQ S.A.S.",0.25134400000000001,{"$f":"B1195&G1195","v":"SD-01-C4-S4-GBPLASTICOS MQ S.A.S."},{"$f":"C1195&D1195&E1195&F1195","v":"CUATRO (4)CUATRO (4)BServicio de distribucion Region Pacifico sur"},{"$f":"H1195","v":0.25134400000000001},{"$f":"C1195&D1195&E1195&F1195&G1195","v":"CUATRO (4)CUATRO (4)BServicio de distribucion Region Pacifico surPLASTICOS MQ S.A.S."},{"$f":"B1195&H1195","v":"SD-01-C4-S4-GB0.251344"},{"$f":"G1195","v":"PLASTICOS MQ S.A.S."},"Und",{"$f":"C1195&D1195&E1195&F1195&G1195","v":"CUATRO (4)CUATRO (4)BServicio de distribucion Region Pacifico surPLASTICOS MQ S.A.S."},{"$f":"H1195","v":0.25134400000000001}]
[{"$f":"\"ate01-\"&B1196&\" \"&C1196&\" \"&D1196&\" \"&E1196","v":"ate01-SD-01-C4-S4-GB CUATRO (4) CUATRO (4) B"},"SD-01-C4-S4-GB","CUATRO (4)","CUATRO (4)","B","Servicio de distribucion Region Pacifico sur","SUPRISA S.A.S.",0.16391999999999998,{"$f":"B1196&G1196","v":"SD-01-C4-S4-GBSUPRISA S.A.S."},{"$f":"C1196&D1196&E1196&F1196","v":"CUATRO (4)CUATRO (4)BServicio de distribucion Region Pacifico sur"},{"$f":"H1196","v":0.16391999999999998},{"$f":"C1196&D1196&E1196&F1196&G1196","v":"CUATRO (4)CUATRO (4)BServicio de distribucion Region Pacifico surSUPRISA S.A.S."},{"$f":"B1196&H1196","v":"SD-01-C4-S4-GB0.16392"},{"$f":"G1196","v":"SUPRISA S.A.S."},"Und",{"$f":"C1196&D1196&E1196&F1196&G1196","v":"CUATRO (4)CUATRO (4)BServicio de distribucion Region Pacifico surSUPRISA S.A.S."},{"$f":"H1196","v":0.16391999999999998}]
[{"$f":"\"ate01-\"&B1197&\" \"&C1197&\" \"&D1197&\" \"&E1197","v":"ate01-SD-01-C4-S4-GB CUATRO (4) CUATRO (4) B"},"SD-01-C4-S4-GB","CUATRO (4)","CUATRO (4)","B","Servicio de distribucion Region Pacifico sur","MIGUEL ANGEL VALLEJO BURGOS",0.14752800000000002,{"$f":"B1197&G1197","v":"SD-01-C4-S4-GBMIGUEL ANGEL VALLEJO BURGOS"},{"$f":"C1197&D1197&E1197&F1197","v":"CUATRO (4)CUATRO (4)BServicio de distribucion Region Pacifico sur"},{"$f":"H1197","v":0.14752800000000002},{"$f":"C1197&D1197&E1197&F1197&G1197","v":"CUATRO (4)CUATRO (4)BServicio de distribucion Region Pacifico surMIGUEL ANGEL VALLEJO BURGOS"},{"$f":"B1197&H1197","v":"SD-01-C4-S4-GB0.147528"},{"$f":"G1197","v":"MIGUEL ANGEL VALLEJO BURGOS"},"Und",{"$f":"C1197&D1197&E1197&F1197&G1197","v":"CUATRO (4)CUATRO (4)BServicio de distribucion Region Pacifico surMIGUEL ANGEL VALLEJO BURGOS"},{"$f":"H1197","v":0.14752800000000002}]
[{"$f":"\"ate01-\"&B1198&\" \"&C1198&\" \"&D1198&\" \"&E1198","v":"ate01-SD-01-C4-S4-GC CUATRO (4) CUATRO (4) C"},"SD-01-C4-S4-GC","CUATRO (4)","CUATRO (4)","C","Servicio de distribucion Region Pacifico sur","SUMIMAS S.A.S.",0.142064,{"$f":"B1198&G1198","v":"SD-01-C4-S4-GCSUMIMAS S.A.S."},{"$f":"C1198&D1198&E1198&F1198","v":"CUATRO (4)CUATRO (4)CServicio de distribucion Region Pacifico sur"},{"$f":"H1198","v":0.142064},{"$f":"C1198&D1198&E1198&F1198&G1198","v":"CUATRO (4)CUATRO (4)CServicio de distribucion Region Pacifico surSUMIMAS S.A.S."},{"$f":"B1198&H1198","v":"SD-01-C4-S4-GC0.142064"},{"$f":"G1198","v":"SUMIMAS S.A.S."},"Und",{"$f":"C1198&D1198&E1198&F1198&G1198","v":"CUATRO (4)CUATRO (4)CServicio de distribucion Region Pacifico surSUMIMAS S.A.S."},{"$f":"H1198","v":0.142064}]
[{"$f":"\"ate01-\"&B1199&\" \"&C1199&\" \"&D1199&\" \"&E1199","v":"ate01-SD-01-C4-S4-GC CUATRO (4) CUATRO (4) C"},"SD-01-C4-S4-GC","CUATRO (4)","CUATRO (4)","C","Servicio de distribucion Region Pacifico sur","UNION TEMPORAL AYGEMA",0.14752800000000002,{"$f":"B1199&G1199","v":"SD-01-C4-S4-GCUNION TEMPORAL AYGEMA"},{"$f":"C1199&D1199&E1199&F1199","v":"CUATRO (4)CUATRO (4)CServicio de distribucion Region Pacifico sur"},{"$f":"H1199","v":0.14752800000000002},{"$f":"C1199&D1199&E1199&F1199&G1199","v":"CUATRO (4)CUATRO (4)CServicio de distribucion Region Pacifico surUNION TEMPORAL AYGEMA"},{"$f":"B1199&H1199","v":"SD-01-C4-S4-GC0.147528"},{"$f":"G1199","v":"UNION TEMPORAL AYGEMA"},"Und",{"$f":"C1199&D1199&E1199&F1199&G1199","v":"CUATRO (4)CUATRO (4)CServicio de distribucion Region Pacifico surUNION TEMPORAL AYGEMA"},{"$f":"H1199","v":0.14752800000000002}]
[{"$f":"\"ate01-\"&B1200&\" \"&C1200&\" \"&D1200&\" \"&E1200","v":"ate01-SD-01-C4-S4-GC CUATRO (4) CUATRO (4) C"},"SD-01-C4-S4-GC","CUATRO (4)","CUATRO (4)","C","Servicio de distribucion Region Pacifico sur","UT SS 2021- CCENEG- 041-01-2021",0.14752800000000002,{"$f":"B1200&G1200","v":"SD-01-C4-S4-GCUT SS 2021- CCENEG- 041-01-2021"},{"$f":"C1200&D1200&E1200&F1200","v":"CUATRO (4)CUATRO (4)CServicio de distribucion Region Pacifico sur"},{"$f":"H1200","v":0.14752800000000002},{"$f":"C1200&D1200&E1200&F1200&G1200","v":"CUATRO (4)CUATRO (4)CServicio de distribucion Region Pacifico surUT SS 2021- CCENEG- 041-01-2021"},{"$f":"B1200&H1200","v":"SD-01-C4-S4-GC0.147528"},{"$f":"G1200","v":"UT SS 2021- CCENEG- 041-01-2021"},"Und",{"$f":"C1200&D1200&E1200&F1200&G1200","v":"CUATRO (4)CUATRO (4)CServicio de distribucion Region Pacifico surUT SS 2021- CCENEG- 041-01-2021"},{"$f":"H1200","v":0.14752800000000002}]
[{"$f":"\"ate01-\"&B1201&\" \"&C1201&\" \"&D1201&\" \"&E1201","v":"ate01-SD-01-C4-S4-GC CUATRO (4) CUATRO (4) C"},"SD-01-C4-S4-GC","CUATRO (4)","CUATRO (4)","C","Servicio de distribucion Region Pacifico sur","SUPRISA S.A.S.",0.16391999999999998,{"$f":"B1201&G1201","v":"SD-01-C4-S4-GCSUPRISA S.A.S."},{"$f":"C1201&D1201&E1201&F1201","v":"CUATRO (4)CUATRO (4)CServicio de distribucion Region Pacifico sur"},{"$f":"H1201","v":0.16391999999999998},{"$f":"C1201&D1201&E1201&F1201&G1201","v":"CUATRO (4)CUATRO (4)CServicio de distribucion Region Pacifico surSUPRISA S.A.S."},{"$f":"B1201&H1201","v":"SD-01-C4-S4-GC0.16392"},{"$f":"G1201","v":"SUPRISA S.A.S."},"Und",{"$f":"C1201&D1201&E1201&F1201&G1201","v":"CUATRO (4)CUATRO (4)CServicio de distribucion Region Pacifico surSUPRISA S.A.S."},{"$f":"H1201","v":0.16391999999999998}]
[{"$f":"\"ate01-\"&B1202&\" \"&C1202&\" \"&D1202&\" \"&E1202","v":"ate01-SD-01-C4-S4-GC CUATRO (4) CUATRO (4) C"},"SD-01-C4-S4-GC","CUATRO (4)","CUATRO (4)","C","Servicio de distribucion Region Pacifico sur","COMERCIALIZADORA DINPRO S.A.S.",0.14752800000000002,{"$f":"B1202&G1202","v":"SD-01-C4-S4-GCCOMERCIALIZADORA DINPRO S.A.S."},{"$f":"C1202&D1202&E1202&F1202","v":"CUATRO (4)CUATRO (4)CServicio de distribucion Region Pacifico sur"},{"$f":"H1202","v":0.14752800000000002},{"$f":"C1202&D1202&E1202&F1202&G1202","v":"CUATRO (4)CUATRO (4)CServicio de distribucion Region Pacifico surCOMERCIALIZADORA DINPRO S.A.S."},{"$f":"B1202&H1202","v":"SD-01-C4-S4-GC0.147528"},{"$f":"G1202","v":"COMERCIALIZADORA DINPRO S.A.S."},"Und",{"$f":"C1202&D1202&E1202&F1202&G1202","v":"CUATRO (4)CUATRO (4)CServicio de distribucion Region Pacifico surCOMERCIALIZADORA DINPRO S.A.S."},{"$f":"H1202","v":0.14752800000000002}]
[{"$f":"\"ate01-\"&B1203&\" \"&C1203&\" \"&D1203&\" \"&E1203","v":"ate01-SD-01-C4-S4-GC CUATRO (4) CUATRO (4) C"},"SD-01-C4-S4-GC","CUATRO (4)","CUATRO (4)","C","Servicio de distribucion Region Pacifico sur","MIGUEL ANGEL VALLEJO BURGOS",0.14752800000000002,{"$f":"B1203&G1203","v":"SD-01-C4-S4-GCMIGUEL ANGEL VALLEJO BURGOS"},{"$f":"C1203&D1203&E1203&F1203","v":"CUATRO (4)CUATRO (4)CServicio de distribucion Region Pacifico sur"},{"$f":"H1203","v":0.14752800000000002},{"$f":"C1203&D1203&E1203&F1203&G1203","v":"CUATRO (4)CUATRO (4)CServicio de distribucion Region Pacifico surMIGUEL ANGEL VALLEJO BURGOS"},{"$f":"B1203&H1203","v":"SD-01-C4-S4-GC0.147528"},{"$f":"G1203","v":"MIGUEL ANGEL VALLEJO BURGOS"},"Und",{"$f":"C1203&D1203&E1203&F1203&G1203","v":"CUATRO (4)CUATRO (4)CServicio de distribucion Region Pacifico surMIGUEL ANGEL VALLEJO BURGOS"},{"$f":"H1203","v":0.14752800000000002}]
[{"$f":"\"ate01-\"&B1204&\" \"&C1204&\" \"&D1204&\" \"&E1204","v":"ate01-SD-01-C4-S4-GD CUATRO (4) CUATRO (4) D"},"SD-01-C4-S4-GD","CUATRO (4)","CUATRO (4)","D","Servicio de distribucion Region Pacifico sur","JM GRUPO",0.14752800000000002,{"$f":"B1204&G1204","v":"SD-01-C4-S4-GDJM GRUPO"},{"$f":"C1204&D1204&E1204&F1204","v":"CUATRO (4)CUATRO (4)DServicio de distribucion Region Pacifico sur"},{"$f":"H1204","v":0.14752800000000002},{"$f":"C1204&D1204&E1204&F1204&G1204","v":"CUATRO (4)CUATRO (4)DServicio de distribucion Region Pacifico surJM GRUPO"},{"$f":"B1204&H1204","v":"SD-01-C4-S4-GD0.147528"},{"$f":"G1204","v":"JM GRUPO"},"Und",{"$f":"C1204&D1204&E1204&F1204&G1204","v":"CUATRO (4)CUATRO (4)DServicio de distribucion Region Pacifico surJM GRUPO"},{"$f":"H1204","v":0.14752800000000002}]
[{"$f":"\"ate01-\"&B1205&\" \"&C1205&\" \"&D1205&\" \"&E1205","v":"ate01-SD-01-C4-S4-GD CUATRO (4) CUATRO (4) D"},"SD-01-C4-S4-GD","CUATRO (4)","CUATRO (4)","D","Servicio de distribucion Region Pacifico sur","SUMIMAS S.A.S.",0.142064,{"$f":"B1205&G1205","v":"SD-01-C4-S4-GDSUMIMAS S.A.S."},{"$f":"C1205&D1205&E1205&F1205","v":"CUATRO (4)CUATRO (4)DServicio de distribucion Region Pacifico sur"},{"$f":"H1205","v":0.142064},{"$f":"C1205&D1205&E1205&F1205&G1205","v":"CUATRO (4)CUATRO (4)DServicio de distribucion Region Pacifico surSUMIMAS S.A.S."},{"$f":"B1205&H1205","v":"SD-01-C4-S4-GD0.142064"},{"$f":"G1205","v":"SUMIMAS S.A.S."},"Und",{"$f":"C1205&D1205&E1205&F1205&G1205","v":"CUATRO (4)CUATRO (4)DServicio de distribucion Region Pacifico surSUMIMAS S.A.S."},{"$f":"H1205","v":0.142064}]
[{"$f":"\"ate01-\"&B1206&\" \"&C1206&\" \"&D1206&\" \"&E1206","v":"ate01-SD-01-C4-S4-GD CUATRO (4) CUATRO (4) D"},"SD-01-C4-S4-GD","CUATRO (4)","CUATRO (4)","D","Servicio de distribucion Region Pacifico sur","UT SS 2021- CCENEG- 041-01-2021",0.14752800000000002,{"$f":"B1206&G1206","v":"SD-01-C4-S4-GDUT SS 2021- CCENEG- 041-01-2021"},{"$f":"C1206&D1206&E1206&F1206","v":"CUATRO (4)CUATRO (4)DServicio de distribucion Region Pacifico sur"},{"$f":"H1206","v":0.14752800000000002},{"$f":"C1206&D1206&E1206&F1206&G1206","v":"CUATRO (4)CUATRO (4)DServicio de distribucion Region Pacifico surUT SS 2021- CCENEG- 041-01-2021"},{"$f":"B1206&H1206","v":"SD-01-C4-S4-GD0.147528"},{"$f":"G1206","v":"UT SS 2021- CCENEG- 041-01-2021"},"Und",{"$f":"C1206&D1206&E1206&F1206&G1206","v":"CUATRO (4)CUATRO (4)DServicio de distribucion Region Pacifico surUT SS 2021- CCENEG- 041-01-2021"},{"$f":"H1206","v":0.14752800000000002}]
[{"$f":"\"ate01-\"&B1207&\" \"&C1207&\" \"&D1207&\" \"&E1207","v":"ate01-SD-01-C4-S4-GE CUATRO (4) CUATRO (4) E"},"SD-01-C4-S4-GE","CUATRO (4)","CUATRO (4)","E","Servicio de distribucion Region Pacifico sur","C I WARRIORS COMPANY S.A.S.",0.14752800000000002,{"$f":"B1207&G1207","v":"SD-01-C4-S4-GEC I WARRIORS COMPANY S.A.S."},{"$f":"C1207&D1207&E1207&F1207","v":"CUATRO (4)CUATRO (4)EServicio de distribucion Region Pacifico sur"},{"$f":"H1207","v":0.14752800000000002},{"$f":"C1207&D1207&E1207&F1207&G1207","v":"CUATRO (4)CUATRO (4)EServicio de distribucion Region Pacifico surC I WARRIORS COMPANY S.A.S."},{"$f":"B1207&H1207","v":"SD-01-C4-S4-GE0.147528"},{"$f":"G1207","v":"C I WARRIORS COMPANY S.A.S."},"Und",{"$f":"C1207&D1207&E1207&F1207&G1207","v":"CUATRO (4)CUATRO (4)EServicio de distribucion Region Pacifico surC I WARRIORS COMPANY S.A.S."},{"$f":"H1207","v":0.14752800000000002}]
[{"$f":"\"ate01-\"&B1208&\" \"&C1208&\" \"&D1208&\" \"&E1208","v":"ate01-SD-01-C4-S4-GE CUATRO (4) CUATRO (4) E"},"SD-01-C4-S4-GE","CUATRO (4)","CUATRO (4)","E","Servicio de distribucion Region Pacifico sur","SUMIMAS S.A.S.",0.142064,{"$f":"B1208&G1208","v":"SD-01-C4-S4-GESUMIMAS S.A.S."},{"$f":"C1208&D1208&E1208&F1208","v":"CUATRO (4)CUATRO (4)EServicio de distribucion Region Pacifico sur"},{"$f":"H1208","v":0.142064},{"$f":"C1208&D1208&E1208&F1208&G1208","v":"CUATRO (4)CUATRO (4)EServicio de distribucion Region Pacifico surSUMIMAS S.A.S."},{"$f":"B1208&H1208","v":"SD-01-C4-S4-GE0.142064"},{"$f":"G1208","v":"SUMIMAS S.A.S."},"Und",{"$f":"C1208&D1208&E1208&F1208&G1208","v":"CUATRO (4)CUATRO (4)EServicio de distribucion Region Pacifico surSUMIMAS S.A.S."},{"$f":"H1208","v":0.142064}]
[{"$f":"\"ate01-\"&B1209&\" \"&C1209&\" \"&D1209&\" \"&E1209","v":"ate01-SD-01-C4-S4-GE CUATRO (4) CUATRO (4) E"},"SD-01-C4-S4-GE","CUATRO (4)","CUATRO (4)","E","Servicio de distribucion Region Pacifico sur","UT EMERGENCIAS 2021",0.14752800000000002,{"$f":"B1209&G1209","v":"SD-01-C4-S4-GEUT EMERGENCIAS 2021"},{"$f":"C1209&D1209&E1209&F1209","v":"CUATRO (4)CUATRO (4)EServicio de distribucion Region Pacifico sur"},{"$f":"H1209","v":0.14752800000000002},{"$f":"C1209&D1209&E1209&F1209&G1209","v":"CUATRO (4)CUATRO (4)EServicio de distribucion Region Pacifico surUT EMERGENCIAS 2021"},{"$f":"B1209&H1209","v":"SD-01-C4-S4-GE0.147528"},{"$f":"G1209","v":"UT EMERGENCIAS 2021"},"Und",{"$f":"C1209&D1209&E1209&F1209&G1209","v":"CUATRO (4)CUATRO (4)EServicio de distribucion Region Pacifico surUT EMERGENCIAS 2021"},{"$f":"H1209","v":0.14752800000000002}]
[{"$f":"\"ate01-\"&B1210&\" \"&C1210&\" \"&D1210&\" \"&E1210","v":"ate01-SD-01-C4-S4-GE CUATRO (4) CUATRO (4) E"},"SD-01-C4-S4-GE","CUATRO (4)","CUATRO (4)","E","Servicio de distribucion Region Pacifico sur","UNION TEMPORAL AYGEMA",0.14752800000000002,{"$f":"B1210&G1210","v":"SD-01-C4-S4-GEUNION TEMPORAL AYGEMA"},{"$f":"C1210&D1210&E1210&F1210","v":"CUATRO (4)CUATRO (4)EServicio de distribucion Region Pacifico sur"},{"$f":"H1210","v":0.14752800000000002},{"$f":"C1210&D1210&E1210&F1210&G1210","v":"CUATRO (4)CUATRO (4)EServicio de distribucion Region Pacifico surUNION TEMPORAL AYGEMA"},{"$f":"B1210&H1210","v":"SD-01-C4-S4-GE0.147528"},{"$f":"G1210","v":"UNION TEMPORAL AYGEMA"},"Und",{"$f":"C1210&D1210&E1210&F1210&G1210","v":"CUATRO (4)CUATRO (4)EServicio de distribucion Region Pacifico surUNION TEMPORAL AYGEMA"},{"$f":"H1210","v":0.14752800000000002}]
[{"$f":"\"ate01-\"&B1211&\" \"&C1211&\" \"&D1211&\" \"&E1211","v":"ate01-SD-01-C4-S4-GE CUATRO (4) CUATRO (4) E"},"SD-01-C4-S4-GE","CUATRO (4)","CUATRO (4)","E","Servicio de distribucion Region Pacifico sur","UT OFICON",0.14752800000000002,{"$f":"B1211&G1211","v":"SD-01-C4-S4-GEUT OFICON"},{"$f":"C1211&D1211&E1211&F1211","v":"CUATRO (4)CUATRO (4)EServicio de distribucion Region Pacifico sur"},{"$f":"H1211","v":0.14752800000000002},{"$f":"C1211&D1211&E1211&F1211&G1211","v":"CUATRO (4)CUATRO (4)EServicio de distribucion Region Pacifico surUT OFICON"},{"$f":"B1211&H1211","v":"SD-01-C4-S4-GE0.147528"},{"$f":"G1211","v":"UT OFICON"},"Und",{"$f":"C1211&D1211&E1211&F1211&G1211","v":"CUATRO (4)CUATRO (4)EServicio de distribucion Region Pacifico surUT OFICON"},{"$f":"H1211","v":0.14752800000000002}]
[{"$f":"\"ate01-\"&B1212&\" \"&C1212&\" \"&D1212&\" \"&E1212","v":"ate01-SD-01-C4-S4-GE CUATRO (4) CUATRO (4) E"},"SD-01-C4-S4-GE","CUATRO (4)","CUATRO (4)","E","Servicio de distribucion Region Pacifico sur","MIGUEL ANGEL VALLEJO BURGOS",0.14752800000000002,{"$f":"B1212&G1212","v":"SD-01-C4-S4-GEMIGUEL ANGEL VALLEJO BURGOS"},{"$f":"C1212&D1212&E1212&F1212","v":"CUATRO (4)CUATRO (4)EServicio de distribucion Region Pacifico sur"},{"$f":"H1212","v":0.14752800000000002},{"$f":"C1212&D1212&E1212&F1212&G1212","v":"CUATRO (4)CUATRO (4)EServicio de distribucion Region Pacifico surMIGUEL ANGEL VALLEJO BURGOS"},{"$f":"B1212&H1212","v":"SD-01-C4-S4-GE0.147528"},{"$f":"G1212","v":"MIGUEL ANGEL VALLEJO BURGOS"},"Und",{"$f":"C1212&D1212&E1212&F1212&G1212","v":"CUATRO (4)CUATRO (4)EServicio de distribucion Region Pacifico surMIGUEL ANGEL VALLEJO BURGOS"},{"$f":"H1212","v":0.14752800000000002}]
[{"$f":"\"ate01-\"&B1213&\" \"&C1213&\" \"&D1213&\" \"&E1213","v":"ate01-SD-01-C4-S4-GE CUATRO (4) CUATRO (4) E"},"SD-01-C4-S4-GE","CUATRO (4)","CUATRO (4)","E","Servicio de distribucion Region Pacifico sur","INVALCA",0.14752800000000002,{"$f":"B1213&G1213","v":"SD-01-C4-S4-GEINVALCA"},{"$f":"C1213&D1213&E1213&F1213","v":"CUATRO (4)CUATRO (4)EServicio de distribucion Region Pacifico sur"},{"$f":"H1213","v":0.14752800000000002},{"$f":"C1213&D1213&E1213&F1213&G1213","v":"CUATRO (4)CUATRO (4)EServicio de distribucion Region Pacifico surINVALCA"},{"$f":"B1213&H1213","v":"SD-01-C4-S4-GE0.147528"},{"$f":"G1213","v":"INVALCA"},"Und",{"$f":"C1213&D1213&E1213&F1213&G1213","v":"CUATRO (4)CUATRO (4)EServicio de distribucion Region Pacifico surINVALCA"},{"$f":"H1213","v":0.14752800000000002}]
[{"$f":"\"ate01-\"&B1214&\" \"&C1214&\" \"&D1214&\" \"&E1214","v":"ate01-SD-02-C1-S-G UNO (1) N/A N/A"},"SD-02-C1-S-G","UNO (1)","N/A","N/A","Servicio de distribucion Region Caribe central","IMPLESEG S.A.S.",0.2732,{"$f":"B1214&G1214","v":"SD-02-C1-S-GIMPLESEG S.A.S."},{"$f":"C1214&D1214&E1214&F1214","v":"UNO (1)N/AN/AServicio de distribucion Region Caribe central"},{"$f":"H1214","v":0.2732},{"$f":"C1214&D1214&E1214&F1214&G1214","v":"UNO (1)N/AN/AServicio de distribucion Region Caribe centralIMPLESEG S.A.S."},{"$f":"B1214&H1214","v":"SD-02-C1-S-G0.2732"},{"$f":"G1214","v":"IMPLESEG S.A.S."},"Und",{"$f":"C1214&D1214&E1214&F1214&G1214","v":"UNO (1)N/AN/AServicio de distribucion Region Caribe centralIMPLESEG S.A.S."},{"$f":"H1214","v":0.2732}]
[{"$f":"\"ate01-\"&B1215&\" \"&C1215&\" \"&D1215&\" \"&E1215","v":"ate01-SD-02-C1-S-G UNO (1) N/A N/A"},"SD-02-C1-S-G","UNO (1)","N/A","N/A","Servicio de distribucion Region Caribe central","JM GRUPO",0.14752800000000002,{"$f":"B1215&G1215","v":"SD-02-C1-S-GJM GRUPO"},{"$f":"C1215&D1215&E1215&F1215","v":"UNO (1)N/AN/AServicio de distribucion Region Caribe central"},{"$f":"H1215","v":0.14752800000000002},{"$f":"C1215&D1215&E1215&F1215&G1215","v":"UNO (1)N/AN/AServicio de distribucion Region Caribe centralJM GRUPO"},{"$f":"B1215&H1215","v":"SD-02-C1-S-G0.147528"},{"$f":"G1215","v":"JM GRUPO"},"Und",{"$f":"C1215&D1215&E1215&F1215&G1215","v":"UNO (1)N/AN/AServicio de distribucion Region Caribe centralJM GRUPO"},{"$f":"H1215","v":0.14752800000000002}]
[{"$f":"\"ate01-\"&B1216&\" \"&C1216&\" \"&D1216&\" \"&E1216","v":"ate01-SD-02-C2-S1-G DOS (2) UNO (1) N/A"},"SD-02-C2-S1-G","DOS (2)","UNO (1)","N/A","Servicio de distribucion Region Caribe central","JM GRUPO",0.14752800000000002,{"$f":"B1216&G1216","v":"SD-02-C2-S1-GJM GRUPO"},{"$f":"C1216&D1216&E1216&F1216","v":"DOS (2)UNO (1)N/AServicio de distribucion Region Caribe central"},{"$f":"H1216","v":0.14752800000000002},{"$f":"C1216&D1216&E1216&F1216&G1216","v":"DOS (2)UNO (1)N/AServicio de distribucion Region Caribe centralJM GRUPO"},{"$f":"B1216&H1216","v":"SD-02-C2-S1-G0.147528"},{"$f":"G1216","v":"JM GRUPO"},"Und",{"$f":"C1216&D1216&E1216&F1216&G1216","v":"DOS (2)UNO (1)N/AServicio de distribucion Region Caribe centralJM GRUPO"},{"$f":"H1216","v":0.14752800000000002}]
[{"$f":"\"ate01-\"&B1217&\" \"&C1217&\" \"&D1217&\" \"&E1217","v":"ate01-SD-02-C2-S1-G DOS (2) UNO (1) N/A"},"SD-02-C2-S1-G","DOS (2)","UNO (1)","N/A","Servicio de distribucion Region Caribe central","INCOLDEXT S.A.S.",0.142064,{"$f":"B1217&G1217","v":"SD-02-C2-S1-GINCOLDEXT S.A.S."},{"$f":"C1217&D1217&E1217&F1217","v":"DOS (2)UNO (1)N/AServicio de distribucion Region Caribe central"},{"$f":"H1217","v":0.142064},{"$f":"C1217&D1217&E1217&F1217&G1217","v":"DOS (2)UNO (1)N/AServicio de distribucion Region Caribe centralINCOLDEXT S.A.S."},{"$f":"B1217&H1217","v":"SD-02-C2-S1-G0.142064"},{"$f":"G1217","v":"INCOLDEXT S.A.S."},"Und",{"$f":"C1217&D1217&E1217&F1217&G1217","v":"DOS (2)UNO (1)N/AServicio de distribucion Region Caribe centralINCOLDEXT S.A.S."},{"$f":"H1217","v":0.142064}]
[{"$f":"\"ate01-\"&B1218&\" \"&C1218&\" \"&D1218&\" \"&E1218","v":"ate01-SD-02-C2-S1-G DOS (2) UNO (1) N/A"},"SD-02-C2-S1-G","DOS (2)","UNO (1)","N/A","Servicio de distribucion Region Caribe central","RES-Q SOLUTIONS",0.142064,{"$f":"B1218&G1218","v":"SD-02-C2-S1-GRES-Q SOLUTIONS"},{"$f":"C1218&D1218&E1218&F1218","v":"DOS (2)UNO (1)N/AServicio de distribucion Region Caribe central"},{"$f":"H1218","v":0.142064},{"$f":"C1218&D1218&E1218&F1218&G1218","v":"DOS (2)UNO (1)N/AServicio de distribucion Region Caribe centralRES-Q SOLUTIONS"},{"$f":"B1218&H1218","v":"SD-02-C2-S1-G0.142064"},{"$f":"G1218","v":"RES-Q SOLUTIONS"},"Und",{"$f":"C1218&D1218&E1218&F1218&G1218","v":"DOS (2)UNO (1)N/AServicio de distribucion Region Caribe centralRES-Q SOLUTIONS"},{"$f":"H1218","v":0.142064}]
[{"$f":"\"ate01-\"&B1219&\" \"&C1219&\" \"&D1219&\" \"&E1219","v":"ate01-SD-02-C2-S1-G DOS (2) UNO (1) N/A"},"SD-02-C2-S1-G","DOS (2)","UNO (1)","N/A","Servicio de distribucion Region Caribe central","INVERSION Y HOGAR S.A.S.",0.185776,{"$f":"B1219&G1219","v":"SD-02-C2-S1-GINVERSION Y HOGAR S.A.S."},{"$f":"C1219&D1219&E1219&F1219","v":"DOS (2)UNO (1)N/AServicio de distribucion Region Caribe central"},{"$f":"H1219","v":0.185776},{"$f":"C1219&D1219&E1219&F1219&G1219","v":"DOS (2)UNO (1)N/AServicio de distribucion Region Caribe centralINVERSION Y HOGAR S.A.S."},{"$f":"B1219&H1219","v":"SD-02-C2-S1-G0.185776"},{"$f":"G1219","v":"INVERSION Y HOGAR S.A.S."},"Und",{"$f":"C1219&D1219&E1219&F1219&G1219","v":"DOS (2)UNO (1)N/AServicio de distribucion Region Caribe centralINVERSION Y HOGAR S.A.S."},{"$f":"H1219","v":0.185776}]
[{"$f":"\"ate01-\"&B1220&\" \"&C1220&\" \"&D1220&\" \"&E1220","v":"ate01-SD-02-C2-S2-G DOS (2) DOS (2) N/A"},"SD-02-C2-S2-G","DOS (2)","DOS (2)","N/A","Servicio de distribucion Region Caribe central","IMPLESEG S.A.S.",0.16391999999999998,{"$f":"B1220&G1220","v":"SD-02-C2-S2-GIMPLESEG S.A.S."},{"$f":"C1220&D1220&E1220&F1220","v":"DOS (2)DOS (2)N/AServicio de distribucion Region Caribe central"},{"$f":"H1220","v":0.16391999999999998},{"$f":"C1220&D1220&E1220&F1220&G1220","v":"DOS (2)DOS (2)N/AServicio de distribucion Region Caribe centralIMPLESEG S.A.S."},{"$f":"B1220&H1220","v":"SD-02-C2-S2-G0.16392"},{"$f":"G1220","v":"IMPLESEG S.A.S."},"Und",{"$f":"C1220&D1220&E1220&F1220&G1220","v":"DOS (2)DOS (2)N/AServicio de distribucion Region Caribe centralIMPLESEG S.A.S."},{"$f":"H1220","v":0.16391999999999998}]
[{"$f":"\"ate01-\"&B1221&\" \"&C1221&\" \"&D1221&\" \"&E1221","v":"ate01-SD-02-C2-S2-G DOS (2) DOS (2) N/A"},"SD-02-C2-S2-G","DOS (2)","DOS (2)","N/A","Servicio de distribucion Region Caribe central","JM GRUPO",0.14752800000000002,{"$f":"B1221&G1221","v":"SD-02-C2-S2-GJM GRUPO"},{"$f":"C1221&D1221&E1221&F1221","v":"DOS (2)DOS (2)N/AServicio de distribucion Region Caribe central"},{"$f":"H1221","v":0.14752800000000002},{"$f":"C1221&D1221&E1221&F1221&G1221","v":"DOS (2)DOS (2)N/AServicio de distribucion Region Caribe centralJM GRUPO"},{"$f":"B1221&H1221","v":"SD-02-C2-S2-G0.147528"},{"$f":"G1221","v":"JM GRUPO"},"Und",{"$f":"C1221&D1221&E1221&F1221&G1221","v":"DOS (2)DOS (2)N/AServicio de distribucion Region Caribe centralJM GRUPO"},{"$f":"H1221","v":0.14752800000000002}]
[{"$f":"\"ate01-\"&B1222&\" \"&C1222&\" \"&D1222&\" \"&E1222","v":"ate01-SD-02-C2-S2-G DOS (2) DOS (2) N/A"},"SD-02-C2-S2-G","DOS (2)","DOS (2)","N/A","Servicio de distribucion Region Caribe central","UT EMERGENCIAS 2021",0.14752800000000002,{"$f":"B1222&G1222","v":"SD-02-C2-S2-GUT EMERGENCIAS 2021"},{"$f":"C1222&D1222&E1222&F1222","v":"DOS (2)DOS (2)N/AServicio de distribucion Region Caribe central"},{"$f":"H1222","v":0.14752800000000002},{"$f":"C1222&D1222&E1222&F1222&G1222","v":"DOS (2)DOS (2)N/AServicio de distribucion Region Caribe centralUT EMERGENCIAS 2021"},{"$f":"B1222&H1222","v":"SD-02-C2-S2-G0.147528"},{"$f":"G1222","v":"UT EMERGENCIAS 2021"},"Und",{"$f":"C1222&D1222&E1222&F1222&G1222","v":"DOS (2)DOS (2)N/AServicio de distribucion Region Caribe centralUT EMERGENCIAS 2021"},{"$f":"H1222","v":0.14752800000000002}]
[{"$f":"\"ate01-\"&B1223&\" \"&C1223&\" \"&D1223&\" \"&E1223","v":"ate01-SD-02-C2-S2-G DOS (2) DOS (2) N/A"},"SD-02-C2-S2-G","DOS (2)","DOS (2)","N/A","Servicio de distribucion Region Caribe central","INCOLDEXT S.A.S.",0.14752800000000002,{"$f":"B1223&G1223","v":"SD-02-C2-S2-GINCOLDEXT S.A.S."},{"$f":"C1223&D1223&E1223&F1223","v":"DOS (2)DOS (2)N/AServicio de distribucion Region Caribe central"},{"$f":"H1223","v":0.14752800000000002},{"$f":"C1223&D1223&E1223&F1223&G1223","v":"DOS (2)DOS (2)N/AServicio de distribucion Region Caribe centralINCOLDEXT S.A.S."},{"$f":"B1223&H1223","v":"SD-02-C2-S2-G0.147528"},{"$f":"G1223","v":"INCOLDEXT S.A.S."},"Und",{"$f":"C1223&D1223&E1223&F1223&G1223","v":"DOS (2)DOS (2)N/AServicio de distribucion Region Caribe centralINCOLDEXT S.A.S."},{"$f":"H1223","v":0.14752800000000002}]
[{"$f":"\"ate01-\"&B1224&\" \"&C1224&\" \"&D1224&\" \"&E1224","v":"ate01-SD-02-C2-S2-G DOS (2) DOS (2) N/A"},"SD-02-C2-S2-G","DOS (2)","DOS (2)","N/A","Servicio de distribucion Region Caribe central","YUBARTA S.A.S.",0.14752800000000002,{"$f":"B1224&G1224","v":"SD-02-C2-S2-GYUBARTA S.A.S."},{"$f":"C1224&D1224&E1224&F1224","v":"DOS (2)DOS (2)N/AServicio de distribucion Region Caribe central"},{"$f":"H1224","v":0.14752800000000002},{"$f":"C1224&D1224&E1224&F1224&G1224","v":"DOS (2)DOS (2)N/AServicio de distribucion Region Caribe centralYUBARTA S.A.S."},{"$f":"B1224&H1224","v":"SD-02-C2-S2-G0.147528"},{"$f":"G1224","v":"YUBARTA S.A.S."},"Und",{"$f":"C1224&D1224&E1224&F1224&G1224","v":"DOS (2)DOS (2)N/AServicio de distribucion Region Caribe centralYUBARTA S.A.S."},{"$f":"H1224","v":0.14752800000000002}]
[{"$f":"\"ate01-\"&B1225&\" \"&C1225&\" \"&D1225&\" \"&E1225","v":"ate01-SD-02-C2-S2-G DOS (2) DOS (2) N/A"},"SD-02-C2-S2-G","DOS (2)","DOS (2)","N/A","Servicio de distribucion Region Caribe central","MIGUEL ANGEL VALLEJO BURGOS",0.14752800000000002,{"$f":"B1225&G1225","v":"SD-02-C2-S2-GMIGUEL ANGEL VALLEJO BURGOS"},{"$f":"C1225&D1225&E1225&F1225","v":"DOS (2)DOS (2)N/AServicio de distribucion Region Caribe central"},{"$f":"H1225","v":0.14752800000000002},{"$f":"C1225&D1225&E1225&F1225&G1225","v":"DOS (2)DOS (2)N/AServicio de distribucion Region Caribe centralMIGUEL ANGEL VALLEJO BURGOS"},{"$f":"B1225&H1225","v":"SD-02-C2-S2-G0.147528"},{"$f":"G1225","v":"MIGUEL ANGEL VALLEJO BURGOS"},"Und",{"$f":"C1225&D1225&E1225&F1225&G1225","v":"DOS (2)DOS (2)N/AServicio de distribucion Region Caribe centralMIGUEL ANGEL VALLEJO BURGOS"},{"$f":"H1225","v":0.14752800000000002}]
[{"$f":"\"ate01-\"&B1226&\" \"&C1226&\" \"&D1226&\" \"&E1226","v":"ate01-SD-02-C3-S-G TRES (3) N/A N/A"},"SD-02-C3-S-G","TRES (3)","N/A","N/A","Servicio de distribucion Region Caribe central","JM GRUPO",0.14752800000000002,{"$f":"B1226&G1226","v":"SD-02-C3-S-GJM GRUPO"},{"$f":"C1226&D1226&E1226&F1226","v":"TRES (3)N/AN/AServicio de distribucion Region Caribe central"},{"$f":"H1226","v":0.14752800000000002},{"$f":"C1226&D1226&E1226&F1226&G1226","v":"TRES (3)N/AN/AServicio de distribucion Region Caribe centralJM GRUPO"},{"$f":"B1226&H1226","v":"SD-02-C3-S-G0.147528"},{"$f":"G1226","v":"JM GRUPO"},"Und",{"$f":"C1226&D1226&E1226&F1226&G1226","v":"TRES (3)N/AN/AServicio de distribucion Region Caribe centralJM GRUPO"},{"$f":"H1226","v":0.14752800000000002}]
[{"$f":"\"ate01-\"&B1227&\" \"&C1227&\" \"&D1227&\" \"&E1227","v":"ate01-SD-02-C3-S-G TRES (3) N/A N/A"},"SD-02-C3-S-G","TRES (3)","N/A","N/A","Servicio de distribucion Region Caribe central","INVERSIONES SARHEM DE COLOMBIA S.A.S.",0.185776,{"$f":"B1227&G1227","v":"SD-02-C3-S-GINVERSIONES SARHEM DE COLOMBIA S.A.S."},{"$f":"C1227&D1227&E1227&F1227","v":"TRES (3)N/AN/AServicio de distribucion Region Caribe central"},{"$f":"H1227","v":0.185776},{"$f":"C1227&D1227&E1227&F1227&G1227","v":"TRES (3)N/AN/AServicio de distribucion Region Caribe centralINVERSIONES SARHEM DE COLOMBIA S.A.S."},{"$f":"B1227&H1227","v":"SD-02-C3-S-G0.185776"},{"$f":"G1227","v":"INVERSIONES SARHEM DE COLOMBIA S.A.S."},"Und",{"$f":"C1227&D1227&E1227&F1227&G1227","v":"TRES (3)N/AN/AServicio de distribucion Region Caribe centralINVERSIONES SARHEM DE COLOMBIA S.A.S."},{"$f":"H1227","v":0.185776}]
[{"$f":"\"ate01-\"&B1228&\" \"&C1228&\" \"&D1228&\" \"&E1228","v":"ate01-SD-02-C3-S-G TRES (3) N/A N/A"},"SD-02-C3-S-G","TRES (3)","N/A","N/A","Servicio de distribucion Region Caribe central","C I WARRIORS COMPANY S.A.S.",0.14752800000000002,{"$f":"B1228&G1228","v":"SD-02-C3-S-GC I WARRIORS COMPANY S.A.S."},{"$f":"C1228&D1228&E1228&F1228","v":"TRES (3)N/AN/AServicio de distribucion Region Caribe central"},{"$f":"H1228","v":0.14752800000000002},{"$f":"C1228&D1228&E1228&F1228&G1228","v":"TRES (3)N/AN/AServicio de distribucion Region Caribe centralC I WARRIORS COMPANY S.A.S."},{"$f":"B1228&H1228","v":"SD-02-C3-S-G0.147528"},{"$f":"G1228","v":"C I WARRIORS COMPANY S.A.S."},"Und",{"$f":"C1228&D1228&E1228&F1228&G1228","v":"TRES (3)N/AN/AServicio de distribucion Region Caribe centralC I WARRIORS COMPANY S.A.S."},{"$f":"H1228","v":0.14752800000000002}]
[{"$f":"\"ate01-\"&B1229&\" \"&C1229&\" \"&D1229&\" \"&E1229","v":"ate01-SD-02-C3-S-G TRES (3) N/A N/A"},"SD-02-C3-S-G","TRES (3)","N/A","N/A","Servicio de distribucion Region Caribe central","LIMINA S.A.S.",0.185776,{"$f":"B1229&G1229","v":"SD-02-C3-S-GLIMINA S.A.S."},{"$f":"C1229&D1229&E1229&F1229","v":"TRES (3)N/AN/AServicio de distribucion Region Caribe central"},{"$f":"H1229","v":0.185776},{"$f":"C1229&D1229&E1229&F1229&G1229","v":"TRES (3)N/AN/AServicio de distribucion Region Caribe centralLIMINA S.A.S."},{"$f":"B1229&H1229","v":"SD-02-C3-S-G0.185776"},{"$f":"G1229","v":"LIMINA S.A.S."},"Und",{"$f":"C1229&D1229&E1229&F1229&G1229","v":"TRES (3)N/AN/AServicio de distribucion Region Caribe centralLIMINA S.A.S."},{"$f":"H1229","v":0.185776}]
[{"$f":"\"ate01-\"&B1230&\" \"&C1230&\" \"&D1230&\" \"&E1230","v":"ate01-SD-02-C3-S-G TRES (3) N/A N/A"},"SD-02-C3-S-G","TRES (3)","N/A","N/A","Servicio de distribucion Region Caribe central","YUBARTA S.A.S.",0.14752800000000002,{"$f":"B1230&G1230","v":"SD-02-C3-S-GYUBARTA S.A.S."},{"$f":"C1230&D1230&E1230&F1230","v":"TRES (3)N/AN/AServicio de distribucion Region Caribe central"},{"$f":"H1230","v":0.14752800000000002},{"$f":"C1230&D1230&E1230&F1230&G1230","v":"TRES (3)N/AN/AServicio de distribucion Region Caribe centralYUBARTA S.A.S."},{"$f":"B1230&H1230","v":"SD-02-C3-S-G0.147528"},{"$f":"G1230","v":"YUBARTA S.A.S."},"Und",{"$f":"C1230&D1230&E1230&F1230&G1230","v":"TRES (3)N/AN/AServicio de distribucion Region Caribe centralYUBARTA S.A.S."},{"$f":"H1230","v":0.14752800000000002}]
[{"$f":"\"ate01-\"&B1231&\" \"&C1231&\" \"&D1231&\" \"&E1231","v":"ate01-SD-02-C3-S-G TRES (3) N/A N/A"},"SD-02-C3-S-G","TRES (3)","N/A","N/A","Servicio de distribucion Region Caribe central","COLOMBIANA DE TEXTILES POR MAYOR S.A.",0.14752800000000002,{"$f":"B1231&G1231","v":"SD-02-C3-S-GCOLOMBIANA DE TEXTILES POR MAYOR S.A."},{"$f":"C1231&D1231&E1231&F1231","v":"TRES (3)N/AN/AServicio de distribucion Region Caribe central"},{"$f":"H1231","v":0.14752800000000002},{"$f":"C1231&D1231&E1231&F1231&G1231","v":"TRES (3)N/AN/AServicio de distribucion Region Caribe centralCOLOMBIANA DE TEXTILES POR MAYOR S.A."},{"$f":"B1231&H1231","v":"SD-02-C3-S-G0.147528"},{"$f":"G1231","v":"COLOMBIANA DE TEXTILES POR MAYOR S.A."},"Und",{"$f":"C1231&D1231&E1231&F1231&G1231","v":"TRES (3)N/AN/AServicio de distribucion Region Caribe centralCOLOMBIANA DE TEXTILES POR MAYOR S.A."},{"$f":"H1231","v":0.14752800000000002}]
[{"$f":"\"ate01-\"&B1232&\" \"&C1232&\" \"&D1232&\" \"&E1232","v":"ate01-SD-02-C3-S-G TRES (3) N/A N/A"},"SD-02-C3-S-G","TRES (3)","N/A","N/A","Servicio de distribucion Region Caribe central","MIGUEL ANGEL VALLEJO BURGOS",0.14752800000000002,{"$f":"B1232&G1232","v":"SD-02-C3-S-GMIGUEL ANGEL VALLEJO BURGOS"},{"$f":"C1232&D1232&E1232&F1232","v":"TRES (3)N/AN/AServicio de distribucion Region Caribe central"},{"$f":"H1232","v":0.14752800000000002},{"$f":"C1232&D1232&E1232&F1232&G1232","v":"TRES (3)N/AN/AServicio de distribucion Region Caribe centralMIGUEL ANGEL VALLEJO BURGOS"},{"$f":"B1232&H1232","v":"SD-02-C3-S-G0.147528"},{"$f":"G1232","v":"MIGUEL ANGEL VALLEJO BURGOS"},"Und",{"$f":"C1232&D1232&E1232&F1232&G1232","v":"TRES (3)N/AN/AServicio de distribucion Region Caribe centralMIGUEL ANGEL VALLEJO BURGOS"},{"$f":"H1232","v":0.14752800000000002}]
[{"$f":"\"ate01-\"&B1233&\" \"&C1233&\" \"&D1233&\" \"&E1233","v":"ate01-SD-02-C3-S-G TRES (3) N/A N/A"},"SD-02-C3-S-G","TRES (3)","N/A","N/A","Servicio de distribucion Region Caribe central","INVALCA",0.14752800000000002,{"$f":"B1233&G1233","v":"SD-02-C3-S-GINVALCA"},{"$f":"C1233&D1233&E1233&F1233","v":"TRES (3)N/AN/AServicio de distribucion Region Caribe central"},{"$f":"H1233","v":0.14752800000000002},{"$f":"C1233&D1233&E1233&F1233&G1233","v":"TRES (3)N/AN/AServicio de distribucion Region Caribe centralINVALCA"},{"$f":"B1233&H1233","v":"SD-02-C3-S-G0.147528"},{"$f":"G1233","v":"INVALCA"},"Und",{"$f":"C1233&D1233&E1233&F1233&G1233","v":"TRES (3)N/AN/AServicio de distribucion Region Caribe centralINVALCA"},{"$f":"H1233","v":0.14752800000000002}]
[{"$f":"\"ate01-\"&B1234&\" \"&C1234&\" \"&D1234&\" \"&E1234","v":"ate01-SD-02-C4-S3-GA CUATRO (4) TRES (3) A"},"SD-02-C4-S3-GA","CUATRO (4)","TRES (3)","A","Servicio de distribucion Region Caribe central","JM GRUPO",0.14752800000000002,{"$f":"B1234&G1234","v":"SD-02-C4-S3-GAJM GRUPO"},{"$f":"C1234&D1234&E1234&F1234","v":"CUATRO (4)TRES (3)AServicio de distribucion Region Caribe central"},{"$f":"H1234","v":0.14752800000000002},{"$f":"C1234&D1234&E1234&F1234&G1234","v":"CUATRO (4)TRES (3)AServicio de distribucion Region Caribe centralJM GRUPO"},{"$f":"B1234&H1234","v":"SD-02-C4-S3-GA0.147528"},{"$f":"G1234","v":"JM GRUPO"},"Und",{"$f":"C1234&D1234&E1234&F1234&G1234","v":"CUATRO (4)TRES (3)AServicio de distribucion Region Caribe centralJM GRUPO"},{"$f":"H1234","v":0.14752800000000002}]
[{"$f":"\"ate01-\"&B1235&\" \"&C1235&\" \"&D1235&\" \"&E1235","v":"ate01-SD-02-C4-S3-GA CUATRO (4) TRES (3) A"},"SD-02-C4-S3-GA","CUATRO (4)","TRES (3)","A","Servicio de distribucion Region Caribe central","UT EMERGENCIAS 2021",0.14752800000000002,{"$f":"B1235&G1235","v":"SD-02-C4-S3-GAUT EMERGENCIAS 2021"},{"$f":"C1235&D1235&E1235&F1235","v":"CUATRO (4)TRES (3)AServicio de distribucion Region Caribe central"},{"$f":"H1235","v":0.14752800000000002},{"$f":"C1235&D1235&E1235&F1235&G1235","v":"CUATRO (4)TRES (3)AServicio de distribucion Region Caribe centralUT EMERGENCIAS 2021"},{"$f":"B1235&H1235","v":"SD-02-C4-S3-GA0.147528"},{"$f":"G1235","v":"UT EMERGENCIAS 2021"},"Und",{"$f":"C1235&D1235&E1235&F1235&G1235","v":"CUATRO (4)TRES (3)AServicio de distribucion Region Caribe centralUT EMERGENCIAS 2021"},{"$f":"H1235","v":0.14752800000000002}]
[{"$f":"\"ate01-\"&B1236&\" \"&C1236&\" \"&D1236&\" \"&E1236","v":"ate01-SD-02-C4-S3-GA CUATRO (4) TRES (3) A"},"SD-02-C4-S3-GA","CUATRO (4)","TRES (3)","A","Servicio de distribucion Region Caribe central","UNION TEMPORAL AYGEMA",0.14752800000000002,{"$f":"B1236&G1236","v":"SD-02-C4-S3-GAUNION TEMPORAL AYGEMA"},{"$f":"C1236&D1236&E1236&F1236","v":"CUATRO (4)TRES (3)AServicio de distribucion Region Caribe central"},{"$f":"H1236","v":0.14752800000000002},{"$f":"C1236&D1236&E1236&F1236&G1236","v":"CUATRO (4)TRES (3)AServicio de distribucion Region Caribe centralUNION TEMPORAL AYGEMA"},{"$f":"B1236&H1236","v":"SD-02-C4-S3-GA0.147528"},{"$f":"G1236","v":"UNION TEMPORAL AYGEMA"},"Und",{"$f":"C1236&D1236&E1236&F1236&G1236","v":"CUATRO (4)TRES (3)AServicio de distribucion Region Caribe centralUNION TEMPORAL AYGEMA"},{"$f":"H1236","v":0.14752800000000002}]
[{"$f":"\"ate01-\"&B1237&\" \"&C1237&\" \"&D1237&\" \"&E1237","v":"ate01-SD-02-C4-S3-GA CUATRO (4) TRES (3) A"},"SD-02-C4-S3-GA","CUATRO (4)","TRES (3)","A","Servicio de distribucion Region Caribe central","COLOMBIANA DE TEXTILES POR MAYOR S.A.",0.14752800000000002,{"$f":"B1237&G1237","v":"SD-02-C4-S3-GACOLOMBIANA DE TEXTILES POR MAYOR S.A."},{"$f":"C1237&D1237&E1237&F1237","v":"CUATRO (4)TRES (3)AServicio de distribucion Region Caribe central"},{"$f":"H1237","v":0.14752800000000002},{"$f":"C1237&D1237&E1237&F1237&G1237","v":"CUATRO (4)TRES (3)AServicio de distribucion Region Caribe centralCOLOMBIANA DE TEXTILES POR MAYOR S.A."},{"$f":"B1237&H1237","v":"SD-02-C4-S3-GA0.147528"},{"$f":"G1237","v":"COLOMBIANA DE TEXTILES POR MAYOR S.A."},"Und",{"$f":"C1237&D1237&E1237&F1237&G1237","v":"CUATRO (4)TRES (3)AServicio de distribucion Region Caribe centralCOLOMBIANA DE TEXTILES POR MAYOR S.A."},{"$f":"H1237","v":0.14752800000000002}]
[{"$f":"\"ate01-\"&B1238&\" \"&C1238&\" \"&D1238&\" \"&E1238","v":"ate01-SD-02-C4-S3-GC CUATRO (4) TRES (3) C"},"SD-02-C4-S3-GC","CUATRO (4)","TRES (3)","C","Servicio de distribucion Region Caribe central","JM GRUPO",0.14752800000000002,{"$f":"B1238&G1238","v":"SD-02-C4-S3-GCJM GRUPO"},{"$f":"C1238&D1238&E1238&F1238","v":"CUATRO (4)TRES (3)CServicio de distribucion Region Caribe central"},{"$f":"H1238","v":0.14752800000000002},{"$f":"C1238&D1238&E1238&F1238&G1238","v":"CUATRO (4)TRES (3)CServicio de distribucion Region Caribe centralJM GRUPO"},{"$f":"B1238&H1238","v":"SD-02-C4-S3-GC0.147528"},{"$f":"G1238","v":"JM GRUPO"},"Und",{"$f":"C1238&D1238&E1238&F1238&G1238","v":"CUATRO (4)TRES (3)CServicio de distribucion Region Caribe centralJM GRUPO"},{"$f":"H1238","v":0.14752800000000002}]
[{"$f":"\"ate01-\"&B1239&\" \"&C1239&\" \"&D1239&\" \"&E1239","v":"ate01-SD-02-C4-S3-GC CUATRO (4) TRES (3) C"},"SD-02-C4-S3-GC","CUATRO (4)","TRES (3)","C","Servicio de distribucion Region Caribe central","UNION TEMPORAL AYGEMA",0.14752800000000002,{"$f":"B1239&G1239","v":"SD-02-C4-S3-GCUNION TEMPORAL AYGEMA"},{"$f":"C1239&D1239&E1239&F1239","v":"CUATRO (4)TRES (3)CServicio de distribucion Region Caribe central"},{"$f":"H1239","v":0.14752800000000002},{"$f":"C1239&D1239&E1239&F1239&G1239","v":"CUATRO (4)TRES (3)CServicio de distribucion Region Caribe centralUNION TEMPORAL AYGEMA"},{"$f":"B1239&H1239","v":"SD-02-C4-S3-GC0.147528"},{"$f":"G1239","v":"UNION TEMPORAL AYGEMA"},"Und",{"$f":"C1239&D1239&E1239&F1239&G1239","v":"CUATRO (4)TRES (3)CServicio de distribucion Region Caribe centralUNION TEMPORAL AYGEMA"},{"$f":"H1239","v":0.14752800000000002}]
[{"$f":"\"ate01-\"&B1240&\" \"&C1240&\" \"&D1240&\" \"&E1240","v":"ate01-SD-02-C4-S3-GC CUATRO (4) TRES (3) C"},"SD-02-C4-S3-GC","CUATRO (4)","TRES (3)","C","Servicio de distribucion Region Caribe central","SUPRISA S.A.S.",0.15,{"$f":"B1240&G1240","v":"SD-02-C4-S3-GCSUPRISA S.A.S."},{"$f":"C1240&D1240&E1240&F1240","v":"CUATRO (4)TRES (3)CServicio de distribucion Region Caribe central"},{"$f":"H1240","v":0.15},{"$f":"C1240&D1240&E1240&F1240&G1240","v":"CUATRO (4)TRES (3)CServicio de distribucion Region Caribe centralSUPRISA S.A.S."},{"$f":"B1240&H1240","v":"SD-02-C4-S3-GC0.15"},{"$f":"G1240","v":"SUPRISA S.A.S."},"Und",{"$f":"C1240&D1240&E1240&F1240&G1240","v":"CUATRO (4)TRES (3)CServicio de distribucion Region Caribe centralSUPRISA S.A.S."},{"$f":"H1240","v":0.15}]
[{"$f":"\"ate01-\"&B1241&\" \"&C1241&\" \"&D1241&\" \"&E1241","v":"ate01-SD-02-C4-S3-GC CUATRO (4) TRES (3) C"},"SD-02-C4-S3-GC","CUATRO (4)","TRES (3)","C","Servicio de distribucion Region Caribe central","MIGUEL ANGEL VALLEJO BURGOS",0.14752800000000002,{"$f":"B1241&G1241","v":"SD-02-C4-S3-GCMIGUEL ANGEL VALLEJO BURGOS"},{"$f":"C1241&D1241&E1241&F1241","v":"CUATRO (4)TRES (3)CServicio de distribucion Region Caribe central"},{"$f":"H1241","v":0.14752800000000002},{"$f":"C1241&D1241&E1241&F1241&G1241","v":"CUATRO (4)TRES (3)CServicio de distribucion Region Caribe centralMIGUEL ANGEL VALLEJO BURGOS"},{"$f":"B1241&H1241","v":"SD-02-C4-S3-GC0.147528"},{"$f":"G1241","v":"MIGUEL ANGEL VALLEJO BURGOS"},"Und",{"$f":"C1241&D1241&E1241&F1241&G1241","v":"CUATRO (4)TRES (3)CServicio de distribucion Region Caribe centralMIGUEL ANGEL VALLEJO BURGOS"},{"$f":"H1241","v":0.14752800000000002}]
[{"$f":"\"ate01-\"&B1242&\" \"&C1242&\" \"&D1242&\" \"&E1242","v":"ate01-SD-02-C4-S3-GD CUATRO (4) TRES (3) D"},"SD-02-C4-S3-GD","CUATRO (4)","TRES (3)","D","Servicio de distribucion Region Caribe central","IMPLESEG S.A.S.",0.16391999999999998,{"$f":"B1242&G1242","v":"SD-02-C4-S3-GDIMPLESEG S.A.S."},{"$f":"C1242&D1242&E1242&F1242","v":"CUATRO (4)TRES (3)DServicio de distribucion Region Caribe central"},{"$f":"H1242","v":0.16391999999999998},{"$f":"C1242&D1242&E1242&F1242&G1242","v":"CUATRO (4)TRES (3)DServicio de distribucion Region Caribe centralIMPLESEG S.A.S."},{"$f":"B1242&H1242","v":"SD-02-C4-S3-GD0.16392"},{"$f":"G1242","v":"IMPLESEG S.A.S."},"Und",{"$f":"C1242&D1242&E1242&F1242&G1242","v":"CUATRO (4)TRES (3)DServicio de distribucion Region Caribe centralIMPLESEG S.A.S."},{"$f":"H1242","v":0.16391999999999998}]
[{"$f":"\"ate01-\"&B1243&\" \"&C1243&\" \"&D1243&\" \"&E1243","v":"ate01-SD-02-C4-S3-GD CUATRO (4) TRES (3) D"},"SD-02-C4-S3-GD","CUATRO (4)","TRES (3)","D","Servicio de distribucion Region Caribe central","JM GRUPO",0.14752800000000002,{"$f":"B1243&G1243","v":"SD-02-C4-S3-GDJM GRUPO"},{"$f":"C1243&D1243&E1243&F1243","v":"CUATRO (4)TRES (3)DServicio de distribucion Region Caribe central"},{"$f":"H1243","v":0.14752800000000002},{"$f":"C1243&D1243&E1243&F1243&G1243","v":"CUATRO (4)TRES (3)DServicio de distribucion Region Caribe centralJM GRUPO"},{"$f":"B1243&H1243","v":"SD-02-C4-S3-GD0.147528"},{"$f":"G1243","v":"JM GRUPO"},"Und",{"$f":"C1243&D1243&E1243&F1243&G1243","v":"CUATRO (4)TRES (3)DServicio de distribucion Region Caribe centralJM GRUPO"},{"$f":"H1243","v":0.14752800000000002}]
[{"$f":"\"ate01-\"&B1244&\" \"&C1244&\" \"&D1244&\" \"&E1244","v":"ate01-SD-02-C4-S3-GD CUATRO (4) TRES (3) D"},"SD-02-C4-S3-GD","CUATRO (4)","TRES (3)","D","Servicio de distribucion Region Caribe central","SUMIMAS S.A.S.",0.13,{"$f":"B1244&G1244","v":"SD-02-C4-S3-GDSUMIMAS S.A.S."},{"$f":"C1244&D1244&E1244&F1244","v":"CUATRO (4)TRES (3)DServicio de distribucion Region Caribe central"},{"$f":"H1244","v":0.13},{"$f":"C1244&D1244&E1244&F1244&G1244","v":"CUATRO (4)TRES (3)DServicio de distribucion Region Caribe centralSUMIMAS S.A.S."},{"$f":"B1244&H1244","v":"SD-02-C4-S3-GD0.13"},{"$f":"G1244","v":"SUMIMAS S.A.S."},"Und",{"$f":"C1244&D1244&E1244&F1244&G1244","v":"CUATRO (4)TRES (3)DServicio de distribucion Region Caribe centralSUMIMAS S.A.S."},{"$f":"H1244","v":0.13}]
[{"$f":"\"ate01-\"&B1245&\" \"&C1245&\" \"&D1245&\" \"&E1245","v":"ate01-SD-02-C4-S3-GD CUATRO (4) TRES (3) D"},"SD-02-C4-S3-GD","CUATRO (4)","TRES (3)","D","Servicio de distribucion Region Caribe central","UT EMERGENCIAS 2021",0.14752800000000002,{"$f":"B1245&G1245","v":"SD-02-C4-S3-GDUT EMERGENCIAS 2021"},{"$f":"C1245&D1245&E1245&F1245","v":"CUATRO (4)TRES (3)DServicio de distribucion Region Caribe central"},{"$f":"H1245","v":0.14752800000000002},{"$f":"C1245&D1245&E1245&F1245&G1245","v":"CUATRO (4)TRES (3)DServicio de distribucion Region Caribe centralUT EMERGENCIAS 2021"},{"$f":"B1245&H1245","v":"SD-02-C4-S3-GD0.147528"},{"$f":"G1245","v":"UT EMERGENCIAS 2021"},"Und",{"$f":"C1245&D1245&E1245&F1245&G1245","v":"CUATRO (4)TRES (3)DServicio de distribucion Region Caribe centralUT EMERGENCIAS 2021"},{"$f":"H1245","v":0.14752800000000002}]
[{"$f":"\"ate01-\"&B1246&\" \"&C1246&\" \"&D1246&\" \"&E1246","v":"ate01-SD-02-C4-S3-GD CUATRO (4) TRES (3) D"},"SD-02-C4-S3-GD","CUATRO (4)","TRES (3)","D","Servicio de distribucion Region Caribe central","INCOLDEXT S.A.S.",0.14752800000000002,{"$f":"B1246&G1246","v":"SD-02-C4-S3-GDINCOLDEXT S.A.S."},{"$f":"C1246&D1246&E1246&F1246","v":"CUATRO (4)TRES (3)DServicio de distribucion Region Caribe central"},{"$f":"H1246","v":0.14752800000000002},{"$f":"C1246&D1246&E1246&F1246&G1246","v":"CUATRO (4)TRES (3)DServicio de distribucion Region Caribe centralINCOLDEXT S.A.S."},{"$f":"B1246&H1246","v":"SD-02-C4-S3-GD0.147528"},{"$f":"G1246","v":"INCOLDEXT S.A.S."},"Und",{"$f":"C1246&D1246&E1246&F1246&G1246","v":"CUATRO (4)TRES (3)DServicio de distribucion Region Caribe centralINCOLDEXT S.A.S."},{"$f":"H1246","v":0.14752800000000002}]
[{"$f":"\"ate01-\"&B1247&\" \"&C1247&\" \"&D1247&\" \"&E1247","v":"ate01-SD-02-C4-S3-GD CUATRO (4) TRES (3) D"},"SD-02-C4-S3-GD","CUATRO (4)","TRES (3)","D","Servicio de distribucion Region Caribe central","UNION TEMPORAL AYGEMA",0.14752800000000002,{"$f":"B1247&G1247","v":"SD-02-C4-S3-GDUNION TEMPORAL AYGEMA"},{"$f":"C1247&D1247&E1247&F1247","v":"CUATRO (4)TRES (3)DServicio de distribucion Region Caribe central"},{"$f":"H1247","v":0.14752800000000002},{"$f":"C1247&D1247&E1247&F1247&G1247","v":"CUATRO (4)TRES (3)DServicio de distribucion Region Caribe centralUNION TEMPORAL AYGEMA"},{"$f":"B1247&H1247","v":"SD-02-C4-S3-GD0.147528"},{"$f":"G1247","v":"UNION TEMPORAL AYGEMA"},"Und",{"$f":"C1247&D1247&E1247&F1247&G1247","v":"CUATRO (4)TRES (3)DServicio de distribucion Region Caribe centralUNION TEMPORAL AYGEMA"},{"$f":"H1247","v":0.14752800000000002}]
[{"$f":"\"ate01-\"&B1248&\" \"&C1248&\" \"&D1248&\" \"&E1248","v":"ate01-SD-02-C4-S3-GD CUATRO (4) TRES (3) D"},"SD-02-C4-S3-GD","CUATRO (4)","TRES (3)","D","Servicio de distribucion Region Caribe central","COMERCIALIZADORA DINPRO S.A.S.",0.14752800000000002,{"$f":"B1248&G1248","v":"SD-02-C4-S3-GDCOMERCIALIZADORA DINPRO S.A.S."},{"$f":"C1248&D1248&E1248&F1248","v":"CUATRO (4)TRES (3)DServicio de distribucion Region Caribe central"},{"$f":"H1248","v":0.14752800000000002},{"$f":"C1248&D1248&E1248&F1248&G1248","v":"CUATRO (4)TRES (3)DServicio de distribucion Region Caribe centralCOMERCIALIZADORA DINPRO S.A.S."},{"$f":"B1248&H1248","v":"SD-02-C4-S3-GD0.147528"},{"$f":"G1248","v":"COMERCIALIZADORA DINPRO S.A.S."},"Und",{"$f":"C1248&D1248&E1248&F1248&G1248","v":"CUATRO (4)TRES (3)DServicio de distribucion Region Caribe centralCOMERCIALIZADORA DINPRO S.A.S."},{"$f":"H1248","v":0.14752800000000002}]
[{"$f":"\"ate01-\"&B1249&\" \"&C1249&\" \"&D1249&\" \"&E1249","v":"ate01-SD-02-C4-S3-GD CUATRO (4) TRES (3) D"},"SD-02-C4-S3-GD","CUATRO (4)","TRES (3)","D","Servicio de distribucion Region Caribe central","LIMINA S.A.S.",0.185776,{"$f":"B1249&G1249","v":"SD-02-C4-S3-GDLIMINA S.A.S."},{"$f":"C1249&D1249&E1249&F1249","v":"CUATRO (4)TRES (3)DServicio de distribucion Region Caribe central"},{"$f":"H1249","v":0.185776},{"$f":"C1249&D1249&E1249&F1249&G1249","v":"CUATRO (4)TRES (3)DServicio de distribucion Region Caribe centralLIMINA S.A.S."},{"$f":"B1249&H1249","v":"SD-02-C4-S3-GD0.185776"},{"$f":"G1249","v":"LIMINA S.A.S."},"Und",{"$f":"C1249&D1249&E1249&F1249&G1249","v":"CUATRO (4)TRES (3)DServicio de distribucion Region Caribe centralLIMINA S.A.S."},{"$f":"H1249","v":0.185776}]
[{"$f":"\"ate01-\"&B1250&\" \"&C1250&\" \"&D1250&\" \"&E1250","v":"ate01-SD-02-C4-S3-GD CUATRO (4) TRES (3) D"},"SD-02-C4-S3-GD","CUATRO (4)","TRES (3)","D","Servicio de distribucion Region Caribe central","INMADICA ANDINA",8.7424000000000002E-2,{"$f":"B1250&G1250","v":"SD-02-C4-S3-GDINMADICA ANDINA"},{"$f":"C1250&D1250&E1250&F1250","v":"CUATRO (4)TRES (3)DServicio de distribucion Region Caribe central"},{"$f":"H1250","v":8.7424000000000002E-2},{"$f":"C1250&D1250&E1250&F1250&G1250","v":"CUATRO (4)TRES (3)DServicio de distribucion Region Caribe centralINMADICA ANDINA"},{"$f":"B1250&H1250","v":"SD-02-C4-S3-GD0.087424"},{"$f":"G1250","v":"INMADICA ANDINA"},"Und",{"$f":"C1250&D1250&E1250&F1250&G1250","v":"CUATRO (4)TRES (3)DServicio de distribucion Region Caribe centralINMADICA ANDINA"},{"$f":"H1250","v":8.7424000000000002E-2}]
[{"$f":"\"ate01-\"&B1251&\" \"&C1251&\" \"&D1251&\" \"&E1251","v":"ate01-SD-02-C4-S3-GD CUATRO (4) TRES (3) D"},"SD-02-C4-S3-GD","CUATRO (4)","TRES (3)","D","Servicio de distribucion Region Caribe central","COLOMBIANA DE TEXTILES POR MAYOR S.A.",0.14752800000000002,{"$f":"B1251&G1251","v":"SD-02-C4-S3-GDCOLOMBIANA DE TEXTILES POR MAYOR S.A."},{"$f":"C1251&D1251&E1251&F1251","v":"CUATRO (4)TRES (3)DServicio de distribucion Region Caribe central"},{"$f":"H1251","v":0.14752800000000002},{"$f":"C1251&D1251&E1251&F1251&G1251","v":"CUATRO (4)TRES (3)DServicio de distribucion Region Caribe centralCOLOMBIANA DE TEXTILES POR MAYOR S.A."},{"$f":"B1251&H1251","v":"SD-02-C4-S3-GD0.147528"},{"$f":"G1251","v":"COLOMBIANA DE TEXTILES POR MAYOR S.A."},"Und",{"$f":"C1251&D1251&E1251&F1251&G1251","v":"CUATRO (4)TRES (3)DServicio de distribucion Region Caribe centralCOLOMBIANA DE TEXTILES POR MAYOR S.A."},{"$f":"H1251","v":0.14752800000000002}]
[{"$f":"\"ate01-\"&B1252&\" \"&C1252&\" \"&D1252&\" \"&E1252","v":"ate01-SD-02-C4-S3-GD CUATRO (4) TRES (3) D"},"SD-02-C4-S3-GD","CUATRO (4)","TRES (3)","D","Servicio de distribucion Region Caribe central","MIGUEL ANGEL VALLEJO BURGOS",0.14752800000000002,{"$f":"B1252&G1252","v":"SD-02-C4-S3-GDMIGUEL ANGEL VALLEJO BURGOS"},{"$f":"C1252&D1252&E1252&F1252","v":"CUATRO (4)TRES (3)DServicio de distribucion Region Caribe central"},{"$f":"H1252","v":0.14752800000000002},{"$f":"C1252&D1252&E1252&F1252&G1252","v":"CUATRO (4)TRES (3)DServicio de distribucion Region Caribe centralMIGUEL ANGEL VALLEJO BURGOS"},{"$f":"B1252&H1252","v":"SD-02-C4-S3-GD0.147528"},{"$f":"G1252","v":"MIGUEL ANGEL VALLEJO BURGOS"},"Und",{"$f":"C1252&D1252&E1252&F1252&G1252","v":"CUATRO (4)TRES (3)DServicio de distribucion Region Caribe centralMIGUEL ANGEL VALLEJO BURGOS"},{"$f":"H1252","v":0.14752800000000002}]
[{"$f":"\"ate01-\"&B1253&\" \"&C1253&\" \"&D1253&\" \"&E1253","v":"ate01-SD-02-C4-S3-GE CUATRO (4) TRES (3) E"},"SD-02-C4-S3-GE","CUATRO (4)","TRES (3)","E","Servicio de distribucion Region Caribe central","JM GRUPO",0.14752800000000002,{"$f":"B1253&G1253","v":"SD-02-C4-S3-GEJM GRUPO"},{"$f":"C1253&D1253&E1253&F1253","v":"CUATRO (4)TRES (3)EServicio de distribucion Region Caribe central"},{"$f":"H1253","v":0.14752800000000002},{"$f":"C1253&D1253&E1253&F1253&G1253","v":"CUATRO (4)TRES (3)EServicio de distribucion Region Caribe centralJM GRUPO"},{"$f":"B1253&H1253","v":"SD-02-C4-S3-GE0.147528"},{"$f":"G1253","v":"JM GRUPO"},"Und",{"$f":"C1253&D1253&E1253&F1253&G1253","v":"CUATRO (4)TRES (3)EServicio de distribucion Region Caribe centralJM GRUPO"},{"$f":"H1253","v":0.14752800000000002}]
[{"$f":"\"ate01-\"&B1254&\" \"&C1254&\" \"&D1254&\" \"&E1254","v":"ate01-SD-02-C4-S3-GE CUATRO (4) TRES (3) E"},"SD-02-C4-S3-GE","CUATRO (4)","TRES (3)","E","Servicio de distribucion Region Caribe central","INVERSIONES SARHEM DE COLOMBIA S.A.S.",0.185776,{"$f":"B1254&G1254","v":"SD-02-C4-S3-GEINVERSIONES SARHEM DE COLOMBIA S.A.S."},{"$f":"C1254&D1254&E1254&F1254","v":"CUATRO (4)TRES (3)EServicio de distribucion Region Caribe central"},{"$f":"H1254","v":0.185776},{"$f":"C1254&D1254&E1254&F1254&G1254","v":"CUATRO (4)TRES (3)EServicio de distribucion Region Caribe centralINVERSIONES SARHEM DE COLOMBIA S.A.S."},{"$f":"B1254&H1254","v":"SD-02-C4-S3-GE0.185776"},{"$f":"G1254","v":"INVERSIONES SARHEM DE COLOMBIA S.A.S."},"Und",{"$f":"C1254&D1254&E1254&F1254&G1254","v":"CUATRO (4)TRES (3)EServicio de distribucion Region Caribe centralINVERSIONES SARHEM DE COLOMBIA S.A.S."},{"$f":"H1254","v":0.185776}]
[{"$f":"\"ate01-\"&B1255&\" \"&C1255&\" \"&D1255&\" \"&E1255","v":"ate01-SD-02-C4-S3-GE CUATRO (4) TRES (3) E"},"SD-02-C4-S3-GE","CUATRO (4)","TRES (3)","E","Servicio de distribucion Region Caribe central","UT EMERGENCIAS 2021",0.14752800000000002,{"$f":"B1255&G1255","v":"SD-02-C4-S3-GEUT EMERGENCIAS 2021"},{"$f":"C1255&D1255&E1255&F1255","v":"CUATRO (4)TRES (3)EServicio de distribucion Region Caribe central"},{"$f":"H1255","v":0.14752800000000002},{"$f":"C1255&D1255&E1255&F1255&G1255","v":"CUATRO (4)TRES (3)EServicio de distribucion Region Caribe centralUT EMERGENCIAS 2021"},{"$f":"B1255&H1255","v":"SD-02-C4-S3-GE0.147528"},{"$f":"G1255","v":"UT EMERGENCIAS 2021"},"Und",{"$f":"C1255&D1255&E1255&F1255&G1255","v":"CUATRO (4)TRES (3)EServicio de distribucion Region Caribe centralUT EMERGENCIAS 2021"},{"$f":"H1255","v":0.14752800000000002}]
[{"$f":"\"ate01-\"&B1256&\" \"&C1256&\" \"&D1256&\" \"&E1256","v":"ate01-SD-02-C4-S3-GE CUATRO (4) TRES (3) E"},"SD-02-C4-S3-GE","CUATRO (4)","TRES (3)","E","Servicio de distribucion Region Caribe central","LIMINA S.A.S.",0.185776,{"$f":"B1256&G1256","v":"SD-02-C4-S3-GELIMINA S.A.S."},{"$f":"C1256&D1256&E1256&F1256","v":"CUATRO (4)TRES (3)EServicio de distribucion Region Caribe central"},{"$f":"H1256","v":0.185776},{"$f":"C1256&D1256&E1256&F1256&G1256","v":"CUATRO (4)TRES (3)EServicio de distribucion Region Caribe centralLIMINA S.A.S."},{"$f":"B1256&H1256","v":"SD-02-C4-S3-GE0.185776"},{"$f":"G1256","v":"LIMINA S.A.S."},"Und",{"$f":"C1256&D1256&E1256&F1256&G1256","v":"CUATRO (4)TRES (3)EServicio de distribucion Region Caribe centralLIMINA S.A.S."},{"$f":"H1256","v":0.185776}]
[{"$f":"\"ate01-\"&B1257&\" \"&C1257&\" \"&D1257&\" \"&E1257","v":"ate01-SD-02-C4-S3-GE CUATRO (4) TRES (3) E"},"SD-02-C4-S3-GE","CUATRO (4)","TRES (3)","E","Servicio de distribucion Region Caribe central","COLOMBIANA DE TEXTILES POR MAYOR S.A.",0.14752800000000002,{"$f":"B1257&G1257","v":"SD-02-C4-S3-GECOLOMBIANA DE TEXTILES POR MAYOR S.A."},{"$f":"C1257&D1257&E1257&F1257","v":"CUATRO (4)TRES (3)EServicio de distribucion Region Caribe central"},{"$f":"H1257","v":0.14752800000000002},{"$f":"C1257&D1257&E1257&F1257&G1257","v":"CUATRO (4)TRES (3)EServicio de distribucion Region Caribe centralCOLOMBIANA DE TEXTILES POR MAYOR S.A."},{"$f":"B1257&H1257","v":"SD-02-C4-S3-GE0.147528"},{"$f":"G1257","v":"COLOMBIANA DE TEXTILES POR MAYOR S.A."},"Und",{"$f":"C1257&D1257&E1257&F1257&G1257","v":"CUATRO (4)TRES (3)EServicio de distribucion Region Caribe centralCOLOMBIANA DE TEXTILES POR MAYOR S.A."},{"$f":"H1257","v":0.14752800000000002}]
[{"$f":"\"ate01-\"&B1258&\" \"&C1258&\" \"&D1258&\" \"&E1258","v":"ate01-SD-02-C4-S3-GE CUATRO (4) TRES (3) E"},"SD-02-C4-S3-GE","CUATRO (4)","TRES (3)","E","Servicio de distribucion Region Caribe central","MIGUEL ANGEL VALLEJO BURGOS",0.14752800000000002,{"$f":"B1258&G1258","v":"SD-02-C4-S3-GEMIGUEL ANGEL VALLEJO BURGOS"},{"$f":"C1258&D1258&E1258&F1258","v":"CUATRO (4)TRES (3)EServicio de distribucion Region Caribe central"},{"$f":"H1258","v":0.14752800000000002},{"$f":"C1258&D1258&E1258&F1258&G1258","v":"CUATRO (4)TRES (3)EServicio de distribucion Region Caribe centralMIGUEL ANGEL VALLEJO BURGOS"},{"$f":"B1258&H1258","v":"SD-02-C4-S3-GE0.147528"},{"$f":"G1258","v":"MIGUEL ANGEL VALLEJO BURGOS"},"Und",{"$f":"C1258&D1258&E1258&F1258&G1258","v":"CUATRO (4)TRES (3)EServicio de distribucion Region Caribe centralMIGUEL ANGEL VALLEJO BURGOS"},{"$f":"H1258","v":0.14752800000000002}]
[{"$f":"\"ate01-\"&B1259&\" \"&C1259&\" \"&D1259&\" \"&E1259","v":"ate01-SD-02-C4-S4-GA CUATRO (4) CUATRO (4) A"},"SD-02-C4-S4-GA","CUATRO (4)","CUATRO (4)","A","Servicio de distribucion Region Caribe central","JM GRUPO",0.14752800000000002,{"$f":"B1259&G1259","v":"SD-02-C4-S4-GAJM GRUPO"},{"$f":"C1259&D1259&E1259&F1259","v":"CUATRO (4)CUATRO (4)AServicio de distribucion Region Caribe central"},{"$f":"H1259","v":0.14752800000000002},{"$f":"C1259&D1259&E1259&F1259&G1259","v":"CUATRO (4)CUATRO (4)AServicio de distribucion Region Caribe centralJM GRUPO"},{"$f":"B1259&H1259","v":"SD-02-C4-S4-GA0.147528"},{"$f":"G1259","v":"JM GRUPO"},"Und",{"$f":"C1259&D1259&E1259&F1259&G1259","v":"CUATRO (4)CUATRO (4)AServicio de distribucion Region Caribe centralJM GRUPO"},{"$f":"H1259","v":0.14752800000000002}]
[{"$f":"\"ate01-\"&B1260&\" \"&C1260&\" \"&D1260&\" \"&E1260","v":"ate01-SD-02-C4-S4-GA CUATRO (4) CUATRO (4) A"},"SD-02-C4-S4-GA","CUATRO (4)","CUATRO (4)","A","Servicio de distribucion Region Caribe central","SUMIMAS S.A.S.",0.142064,{"$f":"B1260&G1260","v":"SD-02-C4-S4-GASUMIMAS S.A.S."},{"$f":"C1260&D1260&E1260&F1260","v":"CUATRO (4)CUATRO (4)AServicio de distribucion Region Caribe central"},{"$f":"H1260","v":0.142064},{"$f":"C1260&D1260&E1260&F1260&G1260","v":"CUATRO (4)CUATRO (4)AServicio de distribucion Region Caribe centralSUMIMAS S.A.S."},{"$f":"B1260&H1260","v":"SD-02-C4-S4-GA0.142064"},{"$f":"G1260","v":"SUMIMAS S.A.S."},"Und",{"$f":"C1260&D1260&E1260&F1260&G1260","v":"CUATRO (4)CUATRO (4)AServicio de distribucion Region Caribe centralSUMIMAS S.A.S."},{"$f":"H1260","v":0.142064}]
[{"$f":"\"ate01-\"&B1261&\" \"&C1261&\" \"&D1261&\" \"&E1261","v":"ate01-SD-02-C4-S4-GA CUATRO (4) CUATRO (4) A"},"SD-02-C4-S4-GA","CUATRO (4)","CUATRO (4)","A","Servicio de distribucion Region Caribe central","UNION TEMPORAL AYGEMA",0.14752800000000002,{"$f":"B1261&G1261","v":"SD-02-C4-S4-GAUNION TEMPORAL AYGEMA"},{"$f":"C1261&D1261&E1261&F1261","v":"CUATRO (4)CUATRO (4)AServicio de distribucion Region Caribe central"},{"$f":"H1261","v":0.14752800000000002},{"$f":"C1261&D1261&E1261&F1261&G1261","v":"CUATRO (4)CUATRO (4)AServicio de distribucion Region Caribe centralUNION TEMPORAL AYGEMA"},{"$f":"B1261&H1261","v":"SD-02-C4-S4-GA0.147528"},{"$f":"G1261","v":"UNION TEMPORAL AYGEMA"},"Und",{"$f":"C1261&D1261&E1261&F1261&G1261","v":"CUATRO (4)CUATRO (4)AServicio de distribucion Region Caribe centralUNION TEMPORAL AYGEMA"},{"$f":"H1261","v":0.14752800000000002}]
[{"$f":"\"ate01-\"&B1262&\" \"&C1262&\" \"&D1262&\" \"&E1262","v":"ate01-SD-02-C4-S4-GA CUATRO (4) CUATRO (4) A"},"SD-02-C4-S4-GA","CUATRO (4)","CUATRO (4)","A","Servicio de distribucion Region Caribe central","UT SS 2021- CCENEG- 041-01-2021",0.14752800000000002,{"$f":"B1262&G1262","v":"SD-02-C4-S4-GAUT SS 2021- CCENEG- 041-01-2021"},{"$f":"C1262&D1262&E1262&F1262","v":"CUATRO (4)CUATRO (4)AServicio de distribucion Region Caribe central"},{"$f":"H1262","v":0.14752800000000002},{"$f":"C1262&D1262&E1262&F1262&G1262","v":"CUATRO (4)CUATRO (4)AServicio de distribucion Region Caribe centralUT SS 2021- CCENEG- 041-01-2021"},{"$f":"B1262&H1262","v":"SD-02-C4-S4-GA0.147528"},{"$f":"G1262","v":"UT SS 2021- CCENEG- 041-01-2021"},"Und",{"$f":"C1262&D1262&E1262&F1262&G1262","v":"CUATRO (4)CUATRO (4)AServicio de distribucion Region Caribe centralUT SS 2021- CCENEG- 041-01-2021"},{"$f":"H1262","v":0.14752800000000002}]
[{"$f":"\"ate01-\"&B1263&\" \"&C1263&\" \"&D1263&\" \"&E1263","v":"ate01-SD-02-C4-S4-GA CUATRO (4) CUATRO (4) A"},"SD-02-C4-S4-GA","CUATRO (4)","CUATRO (4)","A","Servicio de distribucion Region Caribe central","COLOMBIANA DE TEXTILES POR MAYOR S.A.",0.14752800000000002,{"$f":"B1263&G1263","v":"SD-02-C4-S4-GACOLOMBIANA DE TEXTILES POR MAYOR S.A."},{"$f":"C1263&D1263&E1263&F1263","v":"CUATRO (4)CUATRO (4)AServicio de distribucion Region Caribe central"},{"$f":"H1263","v":0.14752800000000002},{"$f":"C1263&D1263&E1263&F1263&G1263","v":"CUATRO (4)CUATRO (4)AServicio de distribucion Region Caribe centralCOLOMBIANA DE TEXTILES POR MAYOR S.A."},{"$f":"B1263&H1263","v":"SD-02-C4-S4-GA0.147528"},{"$f":"G1263","v":"COLOMBIANA DE TEXTILES POR MAYOR S.A."},"Und",{"$f":"C1263&D1263&E1263&F1263&G1263","v":"CUATRO (4)CUATRO (4)AServicio de distribucion Region Caribe centralCOLOMBIANA DE TEXTILES POR MAYOR S.A."},{"$f":"H1263","v":0.14752800000000002}]
[{"$f":"\"ate01-\"&B1264&\" \"&C1264&\" \"&D1264&\" \"&E1264","v":"ate01-SD-02-C4-S4-GB CUATRO (4) CUATRO (4) B"},"SD-02-C4-S4-GB","CUATRO (4)","CUATRO (4)","B","Servicio de distribucion Region Caribe central","JM GRUPO",0.14752800000000002,{"$f":"B1264&G1264","v":"SD-02-C4-S4-GBJM GRUPO"},{"$f":"C1264&D1264&E1264&F1264","v":"CUATRO (4)CUATRO (4)BServicio de distribucion Region Caribe central"},{"$f":"H1264","v":0.14752800000000002},{"$f":"C1264&D1264&E1264&F1264&G1264","v":"CUATRO (4)CUATRO (4)BServicio de distribucion Region Caribe centralJM GRUPO"},{"$f":"B1264&H1264","v":"SD-02-C4-S4-GB0.147528"},{"$f":"G1264","v":"JM GRUPO"},"Und",{"$f":"C1264&D1264&E1264&F1264&G1264","v":"CUATRO (4)CUATRO (4)BServicio de distribucion Region Caribe centralJM GRUPO"},{"$f":"H1264","v":0.14752800000000002}]
[{"$f":"\"ate01-\"&B1265&\" \"&C1265&\" \"&D1265&\" \"&E1265","v":"ate01-SD-02-C4-S4-GB CUATRO (4) CUATRO (4) B"},"SD-02-C4-S4-GB","CUATRO (4)","CUATRO (4)","B","Servicio de distribucion Region Caribe central","SUMIMAS S.A.S.",0.142064,{"$f":"B1265&G1265","v":"SD-02-C4-S4-GBSUMIMAS S.A.S."},{"$f":"C1265&D1265&E1265&F1265","v":"CUATRO (4)CUATRO (4)BServicio de distribucion Region Caribe central"},{"$f":"H1265","v":0.142064},{"$f":"C1265&D1265&E1265&F1265&G1265","v":"CUATRO (4)CUATRO (4)BServicio de distribucion Region Caribe centralSUMIMAS S.A.S."},{"$f":"B1265&H1265","v":"SD-02-C4-S4-GB0.142064"},{"$f":"G1265","v":"SUMIMAS S.A.S."},"Und",{"$f":"C1265&D1265&E1265&F1265&G1265","v":"CUATRO (4)CUATRO (4)BServicio de distribucion Region Caribe centralSUMIMAS S.A.S."},{"$f":"H1265","v":0.142064}]
[{"$f":"\"ate01-\"&B1266&\" \"&C1266&\" \"&D1266&\" \"&E1266","v":"ate01-SD-02-C4-S4-GB CUATRO (4) CUATRO (4) B"},"SD-02-C4-S4-GB","CUATRO (4)","CUATRO (4)","B","Servicio de distribucion Region Caribe central","UNION TEMPORAL AYGEMA",0.14752800000000002,{"$f":"B1266&G1266","v":"SD-02-C4-S4-GBUNION TEMPORAL AYGEMA"},{"$f":"C1266&D1266&E1266&F1266","v":"CUATRO (4)CUATRO (4)BServicio de distribucion Region Caribe central"},{"$f":"H1266","v":0.14752800000000002},{"$f":"C1266&D1266&E1266&F1266&G1266","v":"CUATRO (4)CUATRO (4)BServicio de distribucion Region Caribe centralUNION TEMPORAL AYGEMA"},{"$f":"B1266&H1266","v":"SD-02-C4-S4-GB0.147528"},{"$f":"G1266","v":"UNION TEMPORAL AYGEMA"},"Und",{"$f":"C1266&D1266&E1266&F1266&G1266","v":"CUATRO (4)CUATRO (4)BServicio de distribucion Region Caribe centralUNION TEMPORAL AYGEMA"},{"$f":"H1266","v":0.14752800000000002}]
[{"$f":"\"ate01-\"&B1267&\" \"&C1267&\" \"&D1267&\" \"&E1267","v":"ate01-SD-02-C4-S4-GB CUATRO (4) CUATRO (4) B"},"SD-02-C4-S4-GB","CUATRO (4)","CUATRO (4)","B","Servicio de distribucion Region Caribe central","PLASTICOS MQ S.A.S.",0.26227200000000001,{"$f":"B1267&G1267","v":"SD-02-C4-S4-GBPLASTICOS MQ S.A.S."},{"$f":"C1267&D1267&E1267&F1267","v":"CUATRO (4)CUATRO (4)BServicio de distribucion Region Caribe central"},{"$f":"H1267","v":0.26227200000000001},{"$f":"C1267&D1267&E1267&F1267&G1267","v":"CUATRO (4)CUATRO (4)BServicio de distribucion Region Caribe centralPLASTICOS MQ S.A.S."},{"$f":"B1267&H1267","v":"SD-02-C4-S4-GB0.262272"},{"$f":"G1267","v":"PLASTICOS MQ S.A.S."},"Und",{"$f":"C1267&D1267&E1267&F1267&G1267","v":"CUATRO (4)CUATRO (4)BServicio de distribucion Region Caribe centralPLASTICOS MQ S.A.S."},{"$f":"H1267","v":0.26227200000000001}]
[{"$f":"\"ate01-\"&B1268&\" \"&C1268&\" \"&D1268&\" \"&E1268","v":"ate01-SD-02-C4-S4-GB CUATRO (4) CUATRO (4) B"},"SD-02-C4-S4-GB","CUATRO (4)","CUATRO (4)","B","Servicio de distribucion Region Caribe central","SUPRISA S.A.S.",0.16391999999999998,{"$f":"B1268&G1268","v":"SD-02-C4-S4-GBSUPRISA S.A.S."},{"$f":"C1268&D1268&E1268&F1268","v":"CUATRO (4)CUATRO (4)BServicio de distribucion Region Caribe central"},{"$f":"H1268","v":0.16391999999999998},{"$f":"C1268&D1268&E1268&F1268&G1268","v":"CUATRO (4)CUATRO (4)BServicio de distribucion Region Caribe centralSUPRISA S.A.S."},{"$f":"B1268&H1268","v":"SD-02-C4-S4-GB0.16392"},{"$f":"G1268","v":"SUPRISA S.A.S."},"Und",{"$f":"C1268&D1268&E1268&F1268&G1268","v":"CUATRO (4)CUATRO (4)BServicio de distribucion Region Caribe centralSUPRISA S.A.S."},{"$f":"H1268","v":0.16391999999999998}]
[{"$f":"\"ate01-\"&B1269&\" \"&C1269&\" \"&D1269&\" \"&E1269","v":"ate01-SD-02-C4-S4-GB CUATRO (4) CUATRO (4) B"},"SD-02-C4-S4-GB","CUATRO (4)","CUATRO (4)","B","Servicio de distribucion Region Caribe central","MIGUEL ANGEL VALLEJO BURGOS",0.14752800000000002,{"$f":"B1269&G1269","v":"SD-02-C4-S4-GBMIGUEL ANGEL VALLEJO BURGOS"},{"$f":"C1269&D1269&E1269&F1269","v":"CUATRO (4)CUATRO (4)BServicio de distribucion Region Caribe central"},{"$f":"H1269","v":0.14752800000000002},{"$f":"C1269&D1269&E1269&F1269&G1269","v":"CUATRO (4)CUATRO (4)BServicio de distribucion Region Caribe centralMIGUEL ANGEL VALLEJO BURGOS"},{"$f":"B1269&H1269","v":"SD-02-C4-S4-GB0.147528"},{"$f":"G1269","v":"MIGUEL ANGEL VALLEJO BURGOS"},"Und",{"$f":"C1269&D1269&E1269&F1269&G1269","v":"CUATRO (4)CUATRO (4)BServicio de distribucion Region Caribe centralMIGUEL ANGEL VALLEJO BURGOS"},{"$f":"H1269","v":0.14752800000000002}]
[{"$f":"\"ate01-\"&B1270&\" \"&C1270&\" \"&D1270&\" \"&E1270","v":"ate01-SD-02-C4-S4-GC CUATRO (4) CUATRO (4) C"},"SD-02-C4-S4-GC","CUATRO (4)","CUATRO (4)","C","Servicio de distribucion Region Caribe central","SUMIMAS S.A.S.",0.142064,{"$f":"B1270&G1270","v":"SD-02-C4-S4-GCSUMIMAS S.A.S."},{"$f":"C1270&D1270&E1270&F1270","v":"CUATRO (4)CUATRO (4)CServicio de distribucion Region Caribe central"},{"$f":"H1270","v":0.142064},{"$f":"C1270&D1270&E1270&F1270&G1270","v":"CUATRO (4)CUATRO (4)CServicio de distribucion Region Caribe centralSUMIMAS S.A.S."},{"$f":"B1270&H1270","v":"SD-02-C4-S4-GC0.142064"},{"$f":"G1270","v":"SUMIMAS S.A.S."},"Und",{"$f":"C1270&D1270&E1270&F1270&G1270","v":"CUATRO (4)CUATRO (4)CServicio de distribucion Region Caribe centralSUMIMAS S.A.S."},{"$f":"H1270","v":0.142064}]
[{"$f":"\"ate01-\"&B1271&\" \"&C1271&\" \"&D1271&\" \"&E1271","v":"ate01-SD-02-C4-S4-GC CUATRO (4) CUATRO (4) C"},"SD-02-C4-S4-GC","CUATRO (4)","CUATRO (4)","C","Servicio de distribucion Region Caribe central","UNION TEMPORAL AYGEMA",0.14752800000000002,{"$f":"B1271&G1271","v":"SD-02-C4-S4-GCUNION TEMPORAL AYGEMA"},{"$f":"C1271&D1271&E1271&F1271","v":"CUATRO (4)CUATRO (4)CServicio de distribucion Region Caribe central"},{"$f":"H1271","v":0.14752800000000002},{"$f":"C1271&D1271&E1271&F1271&G1271","v":"CUATRO (4)CUATRO (4)CServicio de distribucion Region Caribe centralUNION TEMPORAL AYGEMA"},{"$f":"B1271&H1271","v":"SD-02-C4-S4-GC0.147528"},{"$f":"G1271","v":"UNION TEMPORAL AYGEMA"},"Und",{"$f":"C1271&D1271&E1271&F1271&G1271","v":"CUATRO (4)CUATRO (4)CServicio de distribucion Region Caribe centralUNION TEMPORAL AYGEMA"},{"$f":"H1271","v":0.14752800000000002}]
[{"$f":"\"ate01-\"&B1272&\" \"&C1272&\" \"&D1272&\" \"&E1272","v":"ate01-SD-02-C4-S4-GC CUATRO (4) CUATRO (4) C"},"SD-02-C4-S4-GC","CUATRO (4)","CUATRO (4)","C","Servicio de distribucion Region Caribe central","UT SS 2021- CCENEG- 041-01-2021",0.14752800000000002,{"$f":"B1272&G1272","v":"SD-02-C4-S4-GCUT SS 2021- CCENEG- 041-01-2021"},{"$f":"C1272&D1272&E1272&F1272","v":"CUATRO (4)CUATRO (4)CServicio de distribucion Region Caribe central"},{"$f":"H1272","v":0.14752800000000002},{"$f":"C1272&D1272&E1272&F1272&G1272","v":"CUATRO (4)CUATRO (4)CServicio de distribucion Region Caribe centralUT SS 2021- CCENEG- 041-01-2021"},{"$f":"B1272&H1272","v":"SD-02-C4-S4-GC0.147528"},{"$f":"G1272","v":"UT SS 2021- CCENEG- 041-01-2021"},"Und",{"$f":"C1272&D1272&E1272&F1272&G1272","v":"CUATRO (4)CUATRO (4)CServicio de distribucion Region Caribe centralUT SS 2021- CCENEG- 041-01-2021"},{"$f":"H1272","v":0.14752800000000002}]
[{"$f":"\"ate01-\"&B1273&\" \"&C1273&\" \"&D1273&\" \"&E1273","v":"ate01-SD-02-C4-S4-GC CUATRO (4) CUATRO (4) C"},"SD-02-C4-S4-GC","CUATRO (4)","CUATRO (4)","C","Servicio de distribucion Region Caribe central","SUPRISA S.A.S.",0.16391999999999998,{"$f":"B1273&G1273","v":"SD-02-C4-S4-GCSUPRISA S.A.S."},{"$f":"C1273&D1273&E1273&F1273","v":"CUATRO (4)CUATRO (4)CServicio de distribucion Region Caribe central"},{"$f":"H1273","v":0.16391999999999998},{"$f":"C1273&D1273&E1273&F1273&G1273","v":"CUATRO (4)CUATRO (4)CServicio de distribucion Region Caribe centralSUPRISA S.A.S."},{"$f":"B1273&H1273","v":"SD-02-C4-S4-GC0.16392"},{"$f":"G1273","v":"SUPRISA S.A.S."},"Und",{"$f":"C1273&D1273&E1273&F1273&G1273","v":"CUATRO (4)CUATRO (4)CServicio de distribucion Region Caribe centralSUPRISA S.A.S."},{"$f":"H1273","v":0.16391999999999998}]
[{"$f":"\"ate01-\"&B1274&\" \"&C1274&\" \"&D1274&\" \"&E1274","v":"ate01-SD-02-C4-S4-GC CUATRO (4) CUATRO (4) C"},"SD-02-C4-S4-GC","CUATRO (4)","CUATRO (4)","C","Servicio de distribucion Region Caribe central","COMERCIALIZADORA DINPRO S.A.S.",0.14752800000000002,{"$f":"B1274&G1274","v":"SD-02-C4-S4-GCCOMERCIALIZADORA DINPRO S.A.S."},{"$f":"C1274&D1274&E1274&F1274","v":"CUATRO (4)CUATRO (4)CServicio de distribucion Region Caribe central"},{"$f":"H1274","v":0.14752800000000002},{"$f":"C1274&D1274&E1274&F1274&G1274","v":"CUATRO (4)CUATRO (4)CServicio de distribucion Region Caribe centralCOMERCIALIZADORA DINPRO S.A.S."},{"$f":"B1274&H1274","v":"SD-02-C4-S4-GC0.147528"},{"$f":"G1274","v":"COMERCIALIZADORA DINPRO S.A.S."},"Und",{"$f":"C1274&D1274&E1274&F1274&G1274","v":"CUATRO (4)CUATRO (4)CServicio de distribucion Region Caribe centralCOMERCIALIZADORA DINPRO S.A.S."},{"$f":"H1274","v":0.14752800000000002}]
[{"$f":"\"ate01-\"&B1275&\" \"&C1275&\" \"&D1275&\" \"&E1275","v":"ate01-SD-02-C4-S4-GC CUATRO (4) CUATRO (4) C"},"SD-02-C4-S4-GC","CUATRO (4)","CUATRO (4)","C","Servicio de distribucion Region Caribe central","MIGUEL ANGEL VALLEJO BURGOS",0.14752800000000002,{"$f":"B1275&G1275","v":"SD-02-C4-S4-GCMIGUEL ANGEL VALLEJO BURGOS"},{"$f":"C1275&D1275&E1275&F1275","v":"CUATRO (4)CUATRO (4)CServicio de distribucion Region Caribe central"},{"$f":"H1275","v":0.14752800000000002},{"$f":"C1275&D1275&E1275&F1275&G1275","v":"CUATRO (4)CUATRO (4)CServicio de distribucion Region Caribe centralMIGUEL ANGEL VALLEJO BURGOS"},{"$f":"B1275&H1275","v":"SD-02-C4-S4-GC0.147528"},{"$f":"G1275","v":"MIGUEL ANGEL VALLEJO BURGOS"},"Und",{"$f":"C1275&D1275&E1275&F1275&G1275","v":"CUATRO (4)CUATRO (4)CServicio de distribucion Region Caribe centralMIGUEL ANGEL VALLEJO BURGOS"},{"$f":"H1275","v":0.14752800000000002}]
[{"$f":"\"ate01-\"&B1276&\" \"&C1276&\" \"&D1276&\" \"&E1276","v":"ate01-SD-02-C4-S4-GD CUATRO (4) CUATRO (4) D"},"SD-02-C4-S4-GD","CUATRO (4)","CUATRO (4)","D","Servicio de distribucion Region Caribe central","JM GRUPO",0.14752800000000002,{"$f":"B1276&G1276","v":"SD-02-C4-S4-GDJM GRUPO"},{"$f":"C1276&D1276&E1276&F1276","v":"CUATRO (4)CUATRO (4)DServicio de distribucion Region Caribe central"},{"$f":"H1276","v":0.14752800000000002},{"$f":"C1276&D1276&E1276&F1276&G1276","v":"CUATRO (4)CUATRO (4)DServicio de distribucion Region Caribe centralJM GRUPO"},{"$f":"B1276&H1276","v":"SD-02-C4-S4-GD0.147528"},{"$f":"G1276","v":"JM GRUPO"},"Und",{"$f":"C1276&D1276&E1276&F1276&G1276","v":"CUATRO (4)CUATRO (4)DServicio de distribucion Region Caribe centralJM GRUPO"},{"$f":"H1276","v":0.14752800000000002}]
[{"$f":"\"ate01-\"&B1277&\" \"&C1277&\" \"&D1277&\" \"&E1277","v":"ate01-SD-02-C4-S4-GD CUATRO (4) CUATRO (4) D"},"SD-02-C4-S4-GD","CUATRO (4)","CUATRO (4)","D","Servicio de distribucion Region Caribe central","SUMIMAS S.A.S.",0.142064,{"$f":"B1277&G1277","v":"SD-02-C4-S4-GDSUMIMAS S.A.S."},{"$f":"C1277&D1277&E1277&F1277","v":"CUATRO (4)CUATRO (4)DServicio de distribucion Region Caribe central"},{"$f":"H1277","v":0.142064},{"$f":"C1277&D1277&E1277&F1277&G1277","v":"CUATRO (4)CUATRO (4)DServicio de distribucion Region Caribe centralSUMIMAS S.A.S."},{"$f":"B1277&H1277","v":"SD-02-C4-S4-GD0.142064"},{"$f":"G1277","v":"SUMIMAS S.A.S."},"Und",{"$f":"C1277&D1277&E1277&F1277&G1277","v":"CUATRO (4)CUATRO (4)DServicio de distribucion Region Caribe centralSUMIMAS S.A.S."},{"$f":"H1277","v":0.142064}]
[{"$f":"\"ate01-\"&B1278&\" \"&C1278&\" \"&D1278&\" \"&E1278","v":"ate01-SD-02-C4-S4-GD CUATRO (4) CUATRO (4) D"},"SD-02-C4-S4-GD","CUATRO (4)","CUATRO (4)","D","Servicio de distribucion Region Caribe central","UT SS 2021- CCENEG- 041-01-2021",0.14752800000000002,{"$f":"B1278&G1278","v":"SD-02-C4-S4-GDUT SS 2021- CCENEG- 041-01-2021"},{"$f":"C1278&D1278&E1278&F1278","v":"CUATRO (4)CUATRO (4)DServicio de distribucion Region Caribe central"},{"$f":"H1278","v":0.14752800000000002},{"$f":"C1278&D1278&E1278&F1278&G1278","v":"CUATRO (4)CUATRO (4)DServicio de distribucion Region Caribe centralUT SS 2021- CCENEG- 041-01-2021"},{"$f":"B1278&H1278","v":"SD-02-C4-S4-GD0.147528"},{"$f":"G1278","v":"UT SS 2021- CCENEG- 041-01-2021"},"Und",{"$f":"C1278&D1278&E1278&F1278&G1278","v":"CUATRO (4)CUATRO (4)DServicio de distribucion Region Caribe centralUT SS 2021- CCENEG- 041-01-2021"},{"$f":"H1278","v":0.14752800000000002}]
[{"$f":"\"ate01-\"&B1279&\" \"&C1279&\" \"&D1279&\" \"&E1279","v":"ate01-SD-02-C4-S4-GE CUATRO (4) CUATRO (4) E"},"SD-02-C4-S4-GE","CUATRO (4)","CUATRO (4)","E","Servicio de distribucion Region Caribe central","C I WARRIORS COMPANY S.A.S.",0.14752800000000002,{"$f":"B1279&G1279","v":"SD-02-C4-S4-GEC I WARRIORS COMPANY S.A.S."},{"$f":"C1279&D1279&E1279&F1279","v":"CUATRO (4)CUATRO (4)EServicio de distribucion Region Caribe central"},{"$f":"H1279","v":0.14752800000000002},{"$f":"C1279&D1279&E1279&F1279&G1279","v":"CUATRO (4)CUATRO (4)EServicio de distribucion Region Caribe centralC I WARRIORS COMPANY S.A.S."},{"$f":"B1279&H1279","v":"SD-02-C4-S4-GE0.147528"},{"$f":"G1279","v":"C I WARRIORS COMPANY S.A.S."},"Und",{"$f":"C1279&D1279&E1279&F1279&G1279","v":"CUATRO (4)CUATRO (4)EServicio de distribucion Region Caribe centralC I WARRIORS COMPANY S.A.S."},{"$f":"H1279","v":0.14752800000000002}]
[{"$f":"\"ate01-\"&B1280&\" \"&C1280&\" \"&D1280&\" \"&E1280","v":"ate01-SD-02-C4-S4-GE CUATRO (4) CUATRO (4) E"},"SD-02-C4-S4-GE","CUATRO (4)","CUATRO (4)","E","Servicio de distribucion Region Caribe central","SUMIMAS S.A.S.",0.142064,{"$f":"B1280&G1280","v":"SD-02-C4-S4-GESUMIMAS S.A.S."},{"$f":"C1280&D1280&E1280&F1280","v":"CUATRO (4)CUATRO (4)EServicio de distribucion Region Caribe central"},{"$f":"H1280","v":0.142064},{"$f":"C1280&D1280&E1280&F1280&G1280","v":"CUATRO (4)CUATRO (4)EServicio de distribucion Region Caribe centralSUMIMAS S.A.S."},{"$f":"B1280&H1280","v":"SD-02-C4-S4-GE0.142064"},{"$f":"G1280","v":"SUMIMAS S.A.S."},"Und",{"$f":"C1280&D1280&E1280&F1280&G1280","v":"CUATRO (4)CUATRO (4)EServicio de distribucion Region Caribe centralSUMIMAS S.A.S."},{"$f":"H1280","v":0.142064}]
[{"$f":"\"ate01-\"&B1281&\" \"&C1281&\" \"&D1281&\" \"&E1281","v":"ate01-SD-02-C4-S4-GE CUATRO (4) CUATRO (4) E"},"SD-02-C4-S4-GE","CUATRO (4)","CUATRO (4)","E","Servicio de distribucion Region Caribe central","UT EMERGENCIAS 2021",0.14752800000000002,{"$f":"B1281&G1281","v":"SD-02-C4-S4-GEUT EMERGENCIAS 2021"},{"$f":"C1281&D1281&E1281&F1281","v":"CUATRO (4)CUATRO (4)EServicio de distribucion Region Caribe central"},{"$f":"H1281","v":0.14752800000000002},{"$f":"C1281&D1281&E1281&F1281&G1281","v":"CUATRO (4)CUATRO (4)EServicio de distribucion Region Caribe centralUT EMERGENCIAS 2021"},{"$f":"B1281&H1281","v":"SD-02-C4-S4-GE0.147528"},{"$f":"G1281","v":"UT EMERGENCIAS 2021"},"Und",{"$f":"C1281&D1281&E1281&F1281&G1281","v":"CUATRO (4)CUATRO (4)EServicio de distribucion Region Caribe centralUT EMERGENCIAS 2021"},{"$f":"H1281","v":0.14752800000000002}]
[{"$f":"\"ate01-\"&B1282&\" \"&C1282&\" \"&D1282&\" \"&E1282","v":"ate01-SD-02-C4-S4-GE CUATRO (4) CUATRO (4) E"},"SD-02-C4-S4-GE","CUATRO (4)","CUATRO (4)","E","Servicio de distribucion Region Caribe central","UNION TEMPORAL AYGEMA",0.14752800000000002,{"$f":"B1282&G1282","v":"SD-02-C4-S4-GEUNION TEMPORAL AYGEMA"},{"$f":"C1282&D1282&E1282&F1282","v":"CUATRO (4)CUATRO (4)EServicio de distribucion Region Caribe central"},{"$f":"H1282","v":0.14752800000000002},{"$f":"C1282&D1282&E1282&F1282&G1282","v":"CUATRO (4)CUATRO (4)EServicio de distribucion Region Caribe centralUNION TEMPORAL AYGEMA"},{"$f":"B1282&H1282","v":"SD-02-C4-S4-GE0.147528"},{"$f":"G1282","v":"UNION TEMPORAL AYGEMA"},"Und",{"$f":"C1282&D1282&E1282&F1282&G1282","v":"CUATRO (4)CUATRO (4)EServicio de distribucion Region Caribe centralUNION TEMPORAL AYGEMA"},{"$f":"H1282","v":0.14752800000000002}]
[{"$f":"\"ate01-\"&B1283&\" \"&C1283&\" \"&D1283&\" \"&E1283","v":"ate01-SD-02-C4-S4-GE CUATRO (4) CUATRO (4) E"},"SD-02-C4-S4-GE","CUATRO (4)","CUATRO (4)","E","Servicio de distribucion Region Caribe central","UT OFICON",0.14752800000000002,{"$f":"B1283&G1283","v":"SD-02-C4-S4-GEUT OFICON"},{"$f":"C1283&D1283&E1283&F1283","v":"CUATRO (4)CUATRO (4)EServicio de distribucion Region Caribe central"},{"$f":"H1283","v":0.14752800000000002},{"$f":"C1283&D1283&E1283&F1283&G1283","v":"CUATRO (4)CUATRO (4)EServicio de distribucion Region Caribe centralUT OFICON"},{"$f":"B1283&H1283","v":"SD-02-C4-S4-GE0.147528"},{"$f":"G1283","v":"UT OFICON"},"Und",{"$f":"C1283&D1283&E1283&F1283&G1283","v":"CUATRO (4)CUATRO (4)EServicio de distribucion Region Caribe centralUT OFICON"},{"$f":"H1283","v":0.14752800000000002}]
[{"$f":"\"ate01-\"&B1284&\" \"&C1284&\" \"&D1284&\" \"&E1284","v":"ate01-SD-02-C4-S4-GE CUATRO (4) CUATRO (4) E"},"SD-02-C4-S4-GE","CUATRO (4)","CUATRO (4)","E","Servicio de distribucion Region Caribe central","MIGUEL ANGEL VALLEJO BURGOS",0.14752800000000002,{"$f":"B1284&G1284","v":"SD-02-C4-S4-GEMIGUEL ANGEL VALLEJO BURGOS"},{"$f":"C1284&D1284&E1284&F1284","v":"CUATRO (4)CUATRO (4)EServicio de distribucion Region Caribe central"},{"$f":"H1284","v":0.14752800000000002},{"$f":"C1284&D1284&E1284&F1284&G1284","v":"CUATRO (4)CUATRO (4)EServicio de distribucion Region Caribe centralMIGUEL ANGEL VALLEJO BURGOS"},{"$f":"B1284&H1284","v":"SD-02-C4-S4-GE0.147528"},{"$f":"G1284","v":"MIGUEL ANGEL VALLEJO BURGOS"},"Und",{"$f":"C1284&D1284&E1284&F1284&G1284","v":"CUATRO (4)CUATRO (4)EServicio de distribucion Region Caribe centralMIGUEL ANGEL VALLEJO BURGOS"},{"$f":"H1284","v":0.14752800000000002}]
[{"$f":"\"ate01-\"&B1285&\" \"&C1285&\" \"&D1285&\" \"&E1285","v":"ate01-SD-02-C4-S4-GE CUATRO (4) CUATRO (4) E"},"SD-02-C4-S4-GE","CUATRO (4)","CUATRO (4)","E","Servicio de distribucion Region Caribe central","INVALCA",0.14752800000000002,{"$f":"B1285&G1285","v":"SD-02-C4-S4-GEINVALCA"},{"$f":"C1285&D1285&E1285&F1285","v":"CUATRO (4)CUATRO (4)EServicio de distribucion Region Caribe central"},{"$f":"H1285","v":0.14752800000000002},{"$f":"C1285&D1285&E1285&F1285&G1285","v":"CUATRO (4)CUATRO (4)EServicio de distribucion Region Caribe centralINVALCA"},{"$f":"B1285&H1285","v":"SD-02-C4-S4-GE0.147528"},{"$f":"G1285","v":"INVALCA"},"Und",{"$f":"C1285&D1285&E1285&F1285&G1285","v":"CUATRO (4)CUATRO (4)EServicio de distribucion Region Caribe centralINVALCA"},{"$f":"H1285","v":0.14752800000000002}]
[{"$f":"\"ate01-\"&B1286&\" \"&C1286&\" \"&D1286&\" \"&E1286","v":"ate01-SD-03-C1-S-G UNO (1) N/A N/A"},"SD-03-C1-S-G","UNO (1)","N/A","N/A","Servicio de distribucion Region San Andres y Providencia","IMPLESEG S.A.S.",0.31691199999999997,{"$f":"B1286&G1286","v":"SD-03-C1-S-GIMPLESEG S.A.S."},{"$f":"C1286&D1286&E1286&F1286","v":"UNO (1)N/AN/AServicio de distribucion Region San Andres y Providencia"},{"$f":"H1286","v":0.31691199999999997},{"$f":"C1286&D1286&E1286&F1286&G1286","v":"UNO (1)N/AN/AServicio de distribucion Region San Andres y ProvidenciaIMPLESEG S.A.S."},{"$f":"B1286&H1286","v":"SD-03-C1-S-G0.316912"},{"$f":"G1286","v":"IMPLESEG S.A.S."},"Und",{"$f":"C1286&D1286&E1286&F1286&G1286","v":"UNO (1)N/AN/AServicio de distribucion Region San Andres y ProvidenciaIMPLESEG S.A.S."},{"$f":"H1286","v":0.31691199999999997}]
[{"$f":"\"ate01-\"&B1287&\" \"&C1287&\" \"&D1287&\" \"&E1287","v":"ate01-SD-03-C1-S-G UNO (1) N/A N/A"},"SD-03-C1-S-G","UNO (1)","N/A","N/A","Servicio de distribucion Region San Andres y Providencia","JM GRUPO",0.14752800000000002,{"$f":"B1287&G1287","v":"SD-03-C1-S-GJM GRUPO"},{"$f":"C1287&D1287&E1287&F1287","v":"UNO (1)N/AN/AServicio de distribucion Region San Andres y Providencia"},{"$f":"H1287","v":0.14752800000000002},{"$f":"C1287&D1287&E1287&F1287&G1287","v":"UNO (1)N/AN/AServicio de distribucion Region San Andres y ProvidenciaJM GRUPO"},{"$f":"B1287&H1287","v":"SD-03-C1-S-G0.147528"},{"$f":"G1287","v":"JM GRUPO"},"Und",{"$f":"C1287&D1287&E1287&F1287&G1287","v":"UNO (1)N/AN/AServicio de distribucion Region San Andres y ProvidenciaJM GRUPO"},{"$f":"H1287","v":0.14752800000000002}]
[{"$f":"\"ate01-\"&B1288&\" \"&C1288&\" \"&D1288&\" \"&E1288","v":"ate01-SD-03-C2-S1-G DOS (2) UNO (1) N/A"},"SD-03-C2-S1-G","DOS (2)","UNO (1)","N/A","Servicio de distribucion Region San Andres y Providencia","JM GRUPO",0.14752800000000002,{"$f":"B1288&G1288","v":"SD-03-C2-S1-GJM GRUPO"},{"$f":"C1288&D1288&E1288&F1288","v":"DOS (2)UNO (1)N/AServicio de distribucion Region San Andres y Providencia"},{"$f":"H1288","v":0.14752800000000002},{"$f":"C1288&D1288&E1288&F1288&G1288","v":"DOS (2)UNO (1)N/AServicio de distribucion Region San Andres y ProvidenciaJM GRUPO"},{"$f":"B1288&H1288","v":"SD-03-C2-S1-G0.147528"},{"$f":"G1288","v":"JM GRUPO"},"Und",{"$f":"C1288&D1288&E1288&F1288&G1288","v":"DOS (2)UNO (1)N/AServicio de distribucion Region San Andres y ProvidenciaJM GRUPO"},{"$f":"H1288","v":0.14752800000000002}]
[{"$f":"\"ate01-\"&B1289&\" \"&C1289&\" \"&D1289&\" \"&E1289","v":"ate01-SD-03-C2-S1-G DOS (2) UNO (1) N/A"},"SD-03-C2-S1-G","DOS (2)","UNO (1)","N/A","Servicio de distribucion Region San Andres y Providencia","INCOLDEXT S.A.S.",0.142064,{"$f":"B1289&G1289","v":"SD-03-C2-S1-GINCOLDEXT S.A.S."},{"$f":"C1289&D1289&E1289&F1289","v":"DOS (2)UNO (1)N/AServicio de distribucion Region San Andres y Providencia"},{"$f":"H1289","v":0.142064},{"$f":"C1289&D1289&E1289&F1289&G1289","v":"DOS (2)UNO (1)N/AServicio de distribucion Region San Andres y ProvidenciaINCOLDEXT S.A.S."},{"$f":"B1289&H1289","v":"SD-03-C2-S1-G0.142064"},{"$f":"G1289","v":"INCOLDEXT S.A.S."},"Und",{"$f":"C1289&D1289&E1289&F1289&G1289","v":"DOS (2)UNO (1)N/AServicio de distribucion Region San Andres y ProvidenciaINCOLDEXT S.A.S."},{"$f":"H1289","v":0.142064}]
[{"$f":"\"ate01-\"&B1290&\" \"&C1290&\" \"&D1290&\" \"&E1290","v":"ate01-SD-03-C2-S1-G DOS (2) UNO (1) N/A"},"SD-03-C2-S1-G","DOS (2)","UNO (1)","N/A","Servicio de distribucion Region San Andres y Providencia","RES-Q SOLUTIONS",0.142064,{"$f":"B1290&G1290","v":"SD-03-C2-S1-GRES-Q SOLUTIONS"},{"$f":"C1290&D1290&E1290&F1290","v":"DOS (2)UNO (1)N/AServicio de distribucion Region San Andres y Providencia"},{"$f":"H1290","v":0.142064},{"$f":"C1290&D1290&E1290&F1290&G1290","v":"DOS (2)UNO (1)N/AServicio de distribucion Region San Andres y ProvidenciaRES-Q SOLUTIONS"},{"$f":"B1290&H1290","v":"SD-03-C2-S1-G0.142064"},{"$f":"G1290","v":"RES-Q SOLUTIONS"},"Und",{"$f":"C1290&D1290&E1290&F1290&G1290","v":"DOS (2)UNO (1)N/AServicio de distribucion Region San Andres y ProvidenciaRES-Q SOLUTIONS"},{"$f":"H1290","v":0.142064}]
[{"$f":"\"ate01-\"&B1291&\" \"&C1291&\" \"&D1291&\" \"&E1291","v":"ate01-SD-03-C2-S1-G DOS (2) UNO (1) N/A"},"SD-03-C2-S1-G","DOS (2)","UNO (1)","N/A","Servicio de distribucion Region San Andres y Providencia","INVERSION Y HOGAR S.A.S.",0.185776,{"$f":"B1291&G1291","v":"SD-03-C2-S1-GINVERSION Y HOGAR S.A.S."},{"$f":"C1291&D1291&E1291&F1291","v":"DOS (2)UNO (1)N/AServicio de distribucion Region San Andres y Providencia"},{"$f":"H1291","v":0.185776},{"$f":"C1291&D1291&E1291&F1291&G1291","v":"DOS (2)UNO (1)N/AServicio de distribucion Region San Andres y ProvidenciaINVERSION Y HOGAR S.A.S."},{"$f":"B1291&H1291","v":"SD-03-C2-S1-G0.185776"},{"$f":"G1291","v":"INVERSION Y HOGAR S.A.S."},"Und",{"$f":"C1291&D1291&E1291&F1291&G1291","v":"DOS (2)UNO (1)N/AServicio de distribucion Region San Andres y ProvidenciaINVERSION Y HOGAR S.A.S."},{"$f":"H1291","v":0.185776}]
[{"$f":"\"ate01-\"&B1292&\" \"&C1292&\" \"&D1292&\" \"&E1292","v":"ate01-SD-03-C2-S2-G DOS (2) DOS (2) N/A"},"SD-03-C2-S2-G","DOS (2)","DOS (2)","N/A","Servicio de distribucion Region San Andres y Providencia","IMPLESEG S.A.S.",0.16391999999999998,{"$f":"B1292&G1292","v":"SD-03-C2-S2-GIMPLESEG S.A.S."},{"$f":"C1292&D1292&E1292&F1292","v":"DOS (2)DOS (2)N/AServicio de distribucion Region San Andres y Providencia"},{"$f":"H1292","v":0.16391999999999998},{"$f":"C1292&D1292&E1292&F1292&G1292","v":"DOS (2)DOS (2)N/AServicio de distribucion Region San Andres y ProvidenciaIMPLESEG S.A.S."},{"$f":"B1292&H1292","v":"SD-03-C2-S2-G0.16392"},{"$f":"G1292","v":"IMPLESEG S.A.S."},"Und",{"$f":"C1292&D1292&E1292&F1292&G1292","v":"DOS (2)DOS (2)N/AServicio de distribucion Region San Andres y ProvidenciaIMPLESEG S.A.S."},{"$f":"H1292","v":0.16391999999999998}]
[{"$f":"\"ate01-\"&B1293&\" \"&C1293&\" \"&D1293&\" \"&E1293","v":"ate01-SD-03-C2-S2-G DOS (2) DOS (2) N/A"},"SD-03-C2-S2-G","DOS (2)","DOS (2)","N/A","Servicio de distribucion Region San Andres y Providencia","JM GRUPO",0.14752800000000002,{"$f":"B1293&G1293","v":"SD-03-C2-S2-GJM GRUPO"},{"$f":"C1293&D1293&E1293&F1293","v":"DOS (2)DOS (2)N/AServicio de distribucion Region San Andres y Providencia"},{"$f":"H1293","v":0.14752800000000002},{"$f":"C1293&D1293&E1293&F1293&G1293","v":"DOS (2)DOS (2)N/AServicio de distribucion Region San Andres y ProvidenciaJM GRUPO"},{"$f":"B1293&H1293","v":"SD-03-C2-S2-G0.147528"},{"$f":"G1293","v":"JM GRUPO"},"Und",{"$f":"C1293&D1293&E1293&F1293&G1293","v":"DOS (2)DOS (2)N/AServicio de distribucion Region San Andres y ProvidenciaJM GRUPO"},{"$f":"H1293","v":0.14752800000000002}]
[{"$f":"\"ate01-\"&B1294&\" \"&C1294&\" \"&D1294&\" \"&E1294","v":"ate01-SD-03-C2-S2-G DOS (2) DOS (2) N/A"},"SD-03-C2-S2-G","DOS (2)","DOS (2)","N/A","Servicio de distribucion Region San Andres y Providencia","UT EMERGENCIAS 2021",0.14752800000000002,{"$f":"B1294&G1294","v":"SD-03-C2-S2-GUT EMERGENCIAS 2021"},{"$f":"C1294&D1294&E1294&F1294","v":"DOS (2)DOS (2)N/AServicio de distribucion Region San Andres y Providencia"},{"$f":"H1294","v":0.14752800000000002},{"$f":"C1294&D1294&E1294&F1294&G1294","v":"DOS (2)DOS (2)N/AServicio de distribucion Region San Andres y ProvidenciaUT EMERGENCIAS 2021"},{"$f":"B1294&H1294","v":"SD-03-C2-S2-G0.147528"},{"$f":"G1294","v":"UT EMERGENCIAS 2021"},"Und",{"$f":"C1294&D1294&E1294&F1294&G1294","v":"DOS (2)DOS (2)N/AServicio de distribucion Region San Andres y ProvidenciaUT EMERGENCIAS 2021"},{"$f":"H1294","v":0.14752800000000002}]
[{"$f":"\"ate01-\"&B1295&\" \"&C1295&\" \"&D1295&\" \"&E1295","v":"ate01-SD-03-C2-S2-G DOS (2) DOS (2) N/A"},"SD-03-C2-S2-G","DOS (2)","DOS (2)","N/A","Servicio de distribucion Region San Andres y Providencia","INCOLDEXT S.A.S.",0.14752800000000002,{"$f":"B1295&G1295","v":"SD-03-C2-S2-GINCOLDEXT S.A.S."},{"$f":"C1295&D1295&E1295&F1295","v":"DOS (2)DOS (2)N/AServicio de distribucion Region San Andres y Providencia"},{"$f":"H1295","v":0.14752800000000002},{"$f":"C1295&D1295&E1295&F1295&G1295","v":"DOS (2)DOS (2)N/AServicio de distribucion Region San Andres y ProvidenciaINCOLDEXT S.A.S."},{"$f":"B1295&H1295","v":"SD-03-C2-S2-G0.147528"},{"$f":"G1295","v":"INCOLDEXT S.A.S."},"Und",{"$f":"C1295&D1295&E1295&F1295&G1295","v":"DOS (2)DOS (2)N/AServicio de distribucion Region San Andres y ProvidenciaINCOLDEXT S.A.S."},{"$f":"H1295","v":0.14752800000000002}]
[{"$f":"\"ate01-\"&B1296&\" \"&C1296&\" \"&D1296&\" \"&E1296","v":"ate01-SD-03-C2-S2-G DOS (2) DOS (2) N/A"},"SD-03-C2-S2-G","DOS (2)","DOS (2)","N/A","Servicio de distribucion Region San Andres y Providencia","YUBARTA S.A.S.",0.14752800000000002,{"$f":"B1296&G1296","v":"SD-03-C2-S2-GYUBARTA S.A.S."},{"$f":"C1296&D1296&E1296&F1296","v":"DOS (2)DOS (2)N/AServicio de distribucion Region San Andres y Providencia"},{"$f":"H1296","v":0.14752800000000002},{"$f":"C1296&D1296&E1296&F1296&G1296","v":"DOS (2)DOS (2)N/AServicio de distribucion Region San Andres y ProvidenciaYUBARTA S.A.S."},{"$f":"B1296&H1296","v":"SD-03-C2-S2-G0.147528"},{"$f":"G1296","v":"YUBARTA S.A.S."},"Und",{"$f":"C1296&D1296&E1296&F1296&G1296","v":"DOS (2)DOS (2)N/AServicio de distribucion Region San Andres y ProvidenciaYUBARTA S.A.S."},{"$f":"H1296","v":0.14752800000000002}]
[{"$f":"\"ate01-\"&B1297&\" \"&C1297&\" \"&D1297&\" \"&E1297","v":"ate01-SD-03-C2-S2-G DOS (2) DOS (2) N/A"},"SD-03-C2-S2-G","DOS (2)","DOS (2)","N/A","Servicio de distribucion Region San Andres y Providencia","MIGUEL ANGEL VALLEJO BURGOS",0.14752800000000002,{"$f":"B1297&G1297","v":"SD-03-C2-S2-GMIGUEL ANGEL VALLEJO BURGOS"},{"$f":"C1297&D1297&E1297&F1297","v":"DOS (2)DOS (2)N/AServicio de distribucion Region San Andres y Providencia"},{"$f":"H1297","v":0.14752800000000002},{"$f":"C1297&D1297&E1297&F1297&G1297","v":"DOS (2)DOS (2)N/AServicio de distribucion Region San Andres y ProvidenciaMIGUEL ANGEL VALLEJO BURGOS"},{"$f":"B1297&H1297","v":"SD-03-C2-S2-G0.147528"},{"$f":"G1297","v":"MIGUEL ANGEL VALLEJO BURGOS"},"Und",{"$f":"C1297&D1297&E1297&F1297&G1297","v":"DOS (2)DOS (2)N/AServicio de distribucion Region San Andres y ProvidenciaMIGUEL ANGEL VALLEJO BURGOS"},{"$f":"H1297","v":0.14752800000000002}]
[{"$f":"\"ate01-\"&B1298&\" \"&C1298&\" \"&D1298&\" \"&E1298","v":"ate01-SD-03-C3-S-G TRES (3) N/A N/A"},"SD-03-C3-S-G","TRES (3)","N/A","N/A","Servicio de distribucion Region San Andres y Providencia","JM GRUPO",0.14752800000000002,{"$f":"B1298&G1298","v":"SD-03-C3-S-GJM GRUPO"},{"$f":"C1298&D1298&E1298&F1298","v":"TRES (3)N/AN/AServicio de distribucion Region San Andres y Providencia"},{"$f":"H1298","v":0.14752800000000002},{"$f":"C1298&D1298&E1298&F1298&G1298","v":"TRES (3)N/AN/AServicio de distribucion Region San Andres y ProvidenciaJM GRUPO"},{"$f":"B1298&H1298","v":"SD-03-C3-S-G0.147528"},{"$f":"G1298","v":"JM GRUPO"},"Und",{"$f":"C1298&D1298&E1298&F1298&G1298","v":"TRES (3)N/AN/AServicio de distribucion Region San Andres y ProvidenciaJM GRUPO"},{"$f":"H1298","v":0.14752800000000002}]
[{"$f":"\"ate01-\"&B1299&\" \"&C1299&\" \"&D1299&\" \"&E1299","v":"ate01-SD-03-C3-S-G TRES (3) N/A N/A"},"SD-03-C3-S-G","TRES (3)","N/A","N/A","Servicio de distribucion Region San Andres y Providencia","INVERSIONES SARHEM DE COLOMBIA S.A.S.",0.185776,{"$f":"B1299&G1299","v":"SD-03-C3-S-GINVERSIONES SARHEM DE COLOMBIA S.A.S."},{"$f":"C1299&D1299&E1299&F1299","v":"TRES (3)N/AN/AServicio de distribucion Region San Andres y Providencia"},{"$f":"H1299","v":0.185776},{"$f":"C1299&D1299&E1299&F1299&G1299","v":"TRES (3)N/AN/AServicio de distribucion Region San Andres y ProvidenciaINVERSIONES SARHEM DE COLOMBIA S.A.S."},{"$f":"B1299&H1299","v":"SD-03-C3-S-G0.185776"},{"$f":"G1299","v":"INVERSIONES SARHEM DE COLOMBIA S.A.S."},"Und",{"$f":"C1299&D1299&E1299&F1299&G1299","v":"TRES (3)N/AN/AServicio de distribucion Region San Andres y ProvidenciaINVERSIONES SARHEM DE COLOMBIA S.A.S."},{"$f":"H1299","v":0.185776}]
[{"$f":"\"ate01-\"&B1300&\" \"&C1300&\" \"&D1300&\" \"&E1300","v":"ate01-SD-03-C3-S-G TRES (3) N/A N/A"},"SD-03-C3-S-G","TRES (3)","N/A","N/A","Servicio de distribucion Region San Andres y Providencia","C I WARRIORS COMPANY S.A.S.",0.14752800000000002,{"$f":"B1300&G1300","v":"SD-03-C3-S-GC I WARRIORS COMPANY S.A.S."},{"$f":"C1300&D1300&E1300&F1300","v":"TRES (3)N/AN/AServicio de distribucion Region San Andres y Providencia"},{"$f":"H1300","v":0.14752800000000002},{"$f":"C1300&D1300&E1300&F1300&G1300","v":"TRES (3)N/AN/AServicio de distribucion Region San Andres y ProvidenciaC I WARRIORS COMPANY S.A.S."},{"$f":"B1300&H1300","v":"SD-03-C3-S-G0.147528"},{"$f":"G1300","v":"C I WARRIORS COMPANY S.A.S."},"Und",{"$f":"C1300&D1300&E1300&F1300&G1300","v":"TRES (3)N/AN/AServicio de distribucion Region San Andres y ProvidenciaC I WARRIORS COMPANY S.A.S."},{"$f":"H1300","v":0.14752800000000002}]
[{"$f":"\"ate01-\"&B1301&\" \"&C1301&\" \"&D1301&\" \"&E1301","v":"ate01-SD-03-C3-S-G TRES (3) N/A N/A"},"SD-03-C3-S-G","TRES (3)","N/A","N/A","Servicio de distribucion Region San Andres y Providencia","LIMINA S.A.S.",0.185776,{"$f":"B1301&G1301","v":"SD-03-C3-S-GLIMINA S.A.S."},{"$f":"C1301&D1301&E1301&F1301","v":"TRES (3)N/AN/AServicio de distribucion Region San Andres y Providencia"},{"$f":"H1301","v":0.185776},{"$f":"C1301&D1301&E1301&F1301&G1301","v":"TRES (3)N/AN/AServicio de distribucion Region San Andres y ProvidenciaLIMINA S.A.S."},{"$f":"B1301&H1301","v":"SD-03-C3-S-G0.185776"},{"$f":"G1301","v":"LIMINA S.A.S."},"Und",{"$f":"C1301&D1301&E1301&F1301&G1301","v":"TRES (3)N/AN/AServicio de distribucion Region San Andres y ProvidenciaLIMINA S.A.S."},{"$f":"H1301","v":0.185776}]
[{"$f":"\"ate01-\"&B1302&\" \"&C1302&\" \"&D1302&\" \"&E1302","v":"ate01-SD-03-C3-S-G TRES (3) N/A N/A"},"SD-03-C3-S-G","TRES (3)","N/A","N/A","Servicio de distribucion Region San Andres y Providencia","YUBARTA S.A.S.",0.14752800000000002,{"$f":"B1302&G1302","v":"SD-03-C3-S-GYUBARTA S.A.S."},{"$f":"C1302&D1302&E1302&F1302","v":"TRES (3)N/AN/AServicio de distribucion Region San Andres y Providencia"},{"$f":"H1302","v":0.14752800000000002},{"$f":"C1302&D1302&E1302&F1302&G1302","v":"TRES (3)N/AN/AServicio de distribucion Region San Andres y ProvidenciaYUBARTA S.A.S."},{"$f":"B1302&H1302","v":"SD-03-C3-S-G0.147528"},{"$f":"G1302","v":"YUBARTA S.A.S."},"Und",{"$f":"C1302&D1302&E1302&F1302&G1302","v":"TRES (3)N/AN/AServicio de distribucion Region San Andres y ProvidenciaYUBARTA S.A.S."},{"$f":"H1302","v":0.14752800000000002}]
[{"$f":"\"ate01-\"&B1303&\" \"&C1303&\" \"&D1303&\" \"&E1303","v":"ate01-SD-03-C3-S-G TRES (3) N/A N/A"},"SD-03-C3-S-G","TRES (3)","N/A","N/A","Servicio de distribucion Region San Andres y Providencia","COLOMBIANA DE TEXTILES POR MAYOR S.A.",0.14752800000000002,{"$f":"B1303&G1303","v":"SD-03-C3-S-GCOLOMBIANA DE TEXTILES POR MAYOR S.A."},{"$f":"C1303&D1303&E1303&F1303","v":"TRES (3)N/AN/AServicio de distribucion Region San Andres y Providencia"},{"$f":"H1303","v":0.14752800000000002},{"$f":"C1303&D1303&E1303&F1303&G1303","v":"TRES (3)N/AN/AServicio de distribucion Region San Andres y ProvidenciaCOLOMBIANA DE TEXTILES POR MAYOR S.A."},{"$f":"B1303&H1303","v":"SD-03-C3-S-G0.147528"},{"$f":"G1303","v":"COLOMBIANA DE TEXTILES POR MAYOR S.A."},"Und",{"$f":"C1303&D1303&E1303&F1303&G1303","v":"TRES (3)N/AN/AServicio de distribucion Region San Andres y ProvidenciaCOLOMBIANA DE TEXTILES POR MAYOR S.A."},{"$f":"H1303","v":0.14752800000000002}]
[{"$f":"\"ate01-\"&B1304&\" \"&C1304&\" \"&D1304&\" \"&E1304","v":"ate01-SD-03-C3-S-G TRES (3) N/A N/A"},"SD-03-C3-S-G","TRES (3)","N/A","N/A","Servicio de distribucion Region San Andres y Providencia","MIGUEL ANGEL VALLEJO BURGOS",0.14752800000000002,{"$f":"B1304&G1304","v":"SD-03-C3-S-GMIGUEL ANGEL VALLEJO BURGOS"},{"$f":"C1304&D1304&E1304&F1304","v":"TRES (3)N/AN/AServicio de distribucion Region San Andres y Providencia"},{"$f":"H1304","v":0.14752800000000002},{"$f":"C1304&D1304&E1304&F1304&G1304","v":"TRES (3)N/AN/AServicio de distribucion Region San Andres y ProvidenciaMIGUEL ANGEL VALLEJO BURGOS"},{"$f":"B1304&H1304","v":"SD-03-C3-S-G0.147528"},{"$f":"G1304","v":"MIGUEL ANGEL VALLEJO BURGOS"},"Und",{"$f":"C1304&D1304&E1304&F1304&G1304","v":"TRES (3)N/AN/AServicio de distribucion Region San Andres y ProvidenciaMIGUEL ANGEL VALLEJO BURGOS"},{"$f":"H1304","v":0.14752800000000002}]
[{"$f":"\"ate01-\"&B1305&\" \"&C1305&\" \"&D1305&\" \"&E1305","v":"ate01-SD-03-C3-S-G TRES (3) N/A N/A"},"SD-03-C3-S-G","TRES (3)","N/A","N/A","Servicio de distribucion Region San Andres y Providencia","INVALCA",0.14752800000000002,{"$f":"B1305&G1305","v":"SD-03-C3-S-GINVALCA"},{"$f":"C1305&D1305&E1305&F1305","v":"TRES (3)N/AN/AServicio de distribucion Region San Andres y Providencia"},{"$f":"H1305","v":0.14752800000000002},{"$f":"C1305&D1305&E1305&F1305&G1305","v":"TRES (3)N/AN/AServicio de distribucion Region San Andres y ProvidenciaINVALCA"},{"$f":"B1305&H1305","v":"SD-03-C3-S-G0.147528"},{"$f":"G1305","v":"INVALCA"},"Und",{"$f":"C1305&D1305&E1305&F1305&G1305","v":"TRES (3)N/AN/AServicio de distribucion Region San Andres y ProvidenciaINVALCA"},{"$f":"H1305","v":0.14752800000000002}]
[{"$f":"\"ate01-\"&B1306&\" \"&C1306&\" \"&D1306&\" \"&E1306","v":"ate01-SD-03-C4-S3-GA CUATRO (4) TRES (3) A"},"SD-03-C4-S3-GA","CUATRO (4)","TRES (3)","A","Servicio de distribucion Region San Andres y Providencia","JM GRUPO",0.14752800000000002,{"$f":"B1306&G1306","v":"SD-03-C4-S3-GAJM GRUPO"},{"$f":"C1306&D1306&E1306&F1306","v":"CUATRO (4)TRES (3)AServicio de distribucion Region San Andres y Providencia"},{"$f":"H1306","v":0.14752800000000002},{"$f":"C1306&D1306&E1306&F1306&G1306","v":"CUATRO (4)TRES (3)AServicio de distribucion Region San Andres y ProvidenciaJM GRUPO"},{"$f":"B1306&H1306","v":"SD-03-C4-S3-GA0.147528"},{"$f":"G1306","v":"JM GRUPO"},"Und",{"$f":"C1306&D1306&E1306&F1306&G1306","v":"CUATRO (4)TRES (3)AServicio de distribucion Region San Andres y ProvidenciaJM GRUPO"},{"$f":"H1306","v":0.14752800000000002}]
[{"$f":"\"ate01-\"&B1307&\" \"&C1307&\" \"&D1307&\" \"&E1307","v":"ate01-SD-03-C4-S3-GA CUATRO (4) TRES (3) A"},"SD-03-C4-S3-GA","CUATRO (4)","TRES (3)","A","Servicio de distribucion Region San Andres y Providencia","UT EMERGENCIAS 2021",0.14752800000000002,{"$f":"B1307&G1307","v":"SD-03-C4-S3-GAUT EMERGENCIAS 2021"},{"$f":"C1307&D1307&E1307&F1307","v":"CUATRO (4)TRES (3)AServicio de distribucion Region San Andres y Providencia"},{"$f":"H1307","v":0.14752800000000002},{"$f":"C1307&D1307&E1307&F1307&G1307","v":"CUATRO (4)TRES (3)AServicio de distribucion Region San Andres y ProvidenciaUT EMERGENCIAS 2021"},{"$f":"B1307&H1307","v":"SD-03-C4-S3-GA0.147528"},{"$f":"G1307","v":"UT EMERGENCIAS 2021"},"Und",{"$f":"C1307&D1307&E1307&F1307&G1307","v":"CUATRO (4)TRES (3)AServicio de distribucion Region San Andres y ProvidenciaUT EMERGENCIAS 2021"},{"$f":"H1307","v":0.14752800000000002}]
[{"$f":"\"ate01-\"&B1308&\" \"&C1308&\" \"&D1308&\" \"&E1308","v":"ate01-SD-03-C4-S3-GA CUATRO (4) TRES (3) A"},"SD-03-C4-S3-GA","CUATRO (4)","TRES (3)","A","Servicio de distribucion Region San Andres y Providencia","UNION TEMPORAL AYGEMA",0.14752800000000002,{"$f":"B1308&G1308","v":"SD-03-C4-S3-GAUNION TEMPORAL AYGEMA"},{"$f":"C1308&D1308&E1308&F1308","v":"CUATRO (4)TRES (3)AServicio de distribucion Region San Andres y Providencia"},{"$f":"H1308","v":0.14752800000000002},{"$f":"C1308&D1308&E1308&F1308&G1308","v":"CUATRO (4)TRES (3)AServicio de distribucion Region San Andres y ProvidenciaUNION TEMPORAL AYGEMA"},{"$f":"B1308&H1308","v":"SD-03-C4-S3-GA0.147528"},{"$f":"G1308","v":"UNION TEMPORAL AYGEMA"},"Und",{"$f":"C1308&D1308&E1308&F1308&G1308","v":"CUATRO (4)TRES (3)AServicio de distribucion Region San Andres y ProvidenciaUNION TEMPORAL AYGEMA"},{"$f":"H1308","v":0.14752800000000002}]
[{"$f":"\"ate01-\"&B1309&\" \"&C1309&\" \"&D1309&\" \"&E1309","v":"ate01-SD-03-C4-S3-GA CUATRO (4) TRES (3) A"},"SD-03-C4-S3-GA","CUATRO (4)","TRES (3)","A","Servicio de distribucion Region San Andres y Providencia","COLOMBIANA DE TEXTILES POR MAYOR S.A.",0.14752800000000002,{"$f":"B1309&G1309","v":"SD-03-C4-S3-GACOLOMBIANA DE TEXTILES POR MAYOR S.A."},{"$f":"C1309&D1309&E1309&F1309","v":"CUATRO (4)TRES (3)AServicio de distribucion Region San Andres y Providencia"},{"$f":"H1309","v":0.14752800000000002},{"$f":"C1309&D1309&E1309&F1309&G1309","v":"CUATRO (4)TRES (3)AServicio de distribucion Region San Andres y ProvidenciaCOLOMBIANA DE TEXTILES POR MAYOR S.A."},{"$f":"B1309&H1309","v":"SD-03-C4-S3-GA0.147528"},{"$f":"G1309","v":"COLOMBIANA DE TEXTILES POR MAYOR S.A."},"Und",{"$f":"C1309&D1309&E1309&F1309&G1309","v":"CUATRO (4)TRES (3)AServicio de distribucion Region San Andres y ProvidenciaCOLOMBIANA DE TEXTILES POR MAYOR S.A."},{"$f":"H1309","v":0.14752800000000002}]
[{"$f":"\"ate01-\"&B1310&\" \"&C1310&\" \"&D1310&\" \"&E1310","v":"ate01-SD-03-C4-S3-GC CUATRO (4) TRES (3) C"},"SD-03-C4-S3-GC","CUATRO (4)","TRES (3)","C","Servicio de distribucion Region San Andres y Providencia","JM GRUPO",0.14752800000000002,{"$f":"B1310&G1310","v":"SD-03-C4-S3-GCJM GRUPO"},{"$f":"C1310&D1310&E1310&F1310","v":"CUATRO (4)TRES (3)CServicio de distribucion Region San Andres y Providencia"},{"$f":"H1310","v":0.14752800000000002},{"$f":"C1310&D1310&E1310&F1310&G1310","v":"CUATRO (4)TRES (3)CServicio de distribucion Region San Andres y ProvidenciaJM GRUPO"},{"$f":"B1310&H1310","v":"SD-03-C4-S3-GC0.147528"},{"$f":"G1310","v":"JM GRUPO"},"Und",{"$f":"C1310&D1310&E1310&F1310&G1310","v":"CUATRO (4)TRES (3)CServicio de distribucion Region San Andres y ProvidenciaJM GRUPO"},{"$f":"H1310","v":0.14752800000000002}]
[{"$f":"\"ate01-\"&B1311&\" \"&C1311&\" \"&D1311&\" \"&E1311","v":"ate01-SD-03-C4-S3-GC CUATRO (4) TRES (3) C"},"SD-03-C4-S3-GC","CUATRO (4)","TRES (3)","C","Servicio de distribucion Region San Andres y Providencia","UNION TEMPORAL AYGEMA",0.14752800000000002,{"$f":"B1311&G1311","v":"SD-03-C4-S3-GCUNION TEMPORAL AYGEMA"},{"$f":"C1311&D1311&E1311&F1311","v":"CUATRO (4)TRES (3)CServicio de distribucion Region San Andres y Providencia"},{"$f":"H1311","v":0.14752800000000002},{"$f":"C1311&D1311&E1311&F1311&G1311","v":"CUATRO (4)TRES (3)CServicio de distribucion Region San Andres y ProvidenciaUNION TEMPORAL AYGEMA"},{"$f":"B1311&H1311","v":"SD-03-C4-S3-GC0.147528"},{"$f":"G1311","v":"UNION TEMPORAL AYGEMA"},"Und",{"$f":"C1311&D1311&E1311&F1311&G1311","v":"CUATRO (4)TRES (3)CServicio de distribucion Region San Andres y ProvidenciaUNION TEMPORAL AYGEMA"},{"$f":"H1311","v":0.14752800000000002}]
[{"$f":"\"ate01-\"&B1312&\" \"&C1312&\" \"&D1312&\" \"&E1312","v":"ate01-SD-03-C4-S3-GC CUATRO (4) TRES (3) C"},"SD-03-C4-S3-GC","CUATRO (4)","TRES (3)","C","Servicio de distribucion Region San Andres y Providencia","SUPRISA S.A.S.",0.28999999999999998,{"$f":"B1312&G1312","v":"SD-03-C4-S3-GCSUPRISA S.A.S."},{"$f":"C1312&D1312&E1312&F1312","v":"CUATRO (4)TRES (3)CServicio de distribucion Region San Andres y Providencia"},{"$f":"H1312","v":0.28999999999999998},{"$f":"C1312&D1312&E1312&F1312&G1312","v":"CUATRO (4)TRES (3)CServicio de distribucion Region San Andres y ProvidenciaSUPRISA S.A.S."},{"$f":"B1312&H1312","v":"SD-03-C4-S3-GC0.29"},{"$f":"G1312","v":"SUPRISA S.A.S."},"Und",{"$f":"C1312&D1312&E1312&F1312&G1312","v":"CUATRO (4)TRES (3)CServicio de distribucion Region San Andres y ProvidenciaSUPRISA S.A.S."},{"$f":"H1312","v":0.28999999999999998}]
[{"$f":"\"ate01-\"&B1313&\" \"&C1313&\" \"&D1313&\" \"&E1313","v":"ate01-SD-03-C4-S3-GC CUATRO (4) TRES (3) C"},"SD-03-C4-S3-GC","CUATRO (4)","TRES (3)","C","Servicio de distribucion Region San Andres y Providencia","MIGUEL ANGEL VALLEJO BURGOS",0.14752800000000002,{"$f":"B1313&G1313","v":"SD-03-C4-S3-GCMIGUEL ANGEL VALLEJO BURGOS"},{"$f":"C1313&D1313&E1313&F1313","v":"CUATRO (4)TRES (3)CServicio de distribucion Region San Andres y Providencia"},{"$f":"H1313","v":0.14752800000000002},{"$f":"C1313&D1313&E1313&F1313&G1313","v":"CUATRO (4)TRES (3)CServicio de distribucion Region San Andres y ProvidenciaMIGUEL ANGEL VALLEJO BURGOS"},{"$f":"B1313&H1313","v":"SD-03-C4-S3-GC0.147528"},{"$f":"G1313","v":"MIGUEL ANGEL VALLEJO BURGOS"},"Und",{"$f":"C1313&D1313&E1313&F1313&G1313","v":"CUATRO (4)TRES (3)CServicio de distribucion Region San Andres y ProvidenciaMIGUEL ANGEL VALLEJO BURGOS"},{"$f":"H1313","v":0.14752800000000002}]
[{"$f":"\"ate01-\"&B1314&\" \"&C1314&\" \"&D1314&\" \"&E1314","v":"ate01-SD-03-C4-S3-GD CUATRO (4) TRES (3) D"},"SD-03-C4-S3-GD","CUATRO (4)","TRES (3)","D","Servicio de distribucion Region San Andres y Providencia","IMPLESEG S.A.S.",0.16391999999999998,{"$f":"B1314&G1314","v":"SD-03-C4-S3-GDIMPLESEG S.A.S."},{"$f":"C1314&D1314&E1314&F1314","v":"CUATRO (4)TRES (3)DServicio de distribucion Region San Andres y Providencia"},{"$f":"H1314","v":0.16391999999999998},{"$f":"C1314&D1314&E1314&F1314&G1314","v":"CUATRO (4)TRES (3)DServicio de distribucion Region San Andres y ProvidenciaIMPLESEG S.A.S."},{"$f":"B1314&H1314","v":"SD-03-C4-S3-GD0.16392"},{"$f":"G1314","v":"IMPLESEG S.A.S."},"Und",{"$f":"C1314&D1314&E1314&F1314&G1314","v":"CUATRO (4)TRES (3)DServicio de distribucion Region San Andres y ProvidenciaIMPLESEG S.A.S."},{"$f":"H1314","v":0.16391999999999998}]
[{"$f":"\"ate01-\"&B1315&\" \"&C1315&\" \"&D1315&\" \"&E1315","v":"ate01-SD-03-C4-S3-GD CUATRO (4) TRES (3) D"},"SD-03-C4-S3-GD","CUATRO (4)","TRES (3)","D","Servicio de distribucion Region San Andres y Providencia","JM GRUPO",0.14752800000000002,{"$f":"B1315&G1315","v":"SD-03-C4-S3-GDJM GRUPO"},{"$f":"C1315&D1315&E1315&F1315","v":"CUATRO (4)TRES (3)DServicio de distribucion Region San Andres y Providencia"},{"$f":"H1315","v":0.14752800000000002},{"$f":"C1315&D1315&E1315&F1315&G1315","v":"CUATRO (4)TRES (3)DServicio de distribucion Region San Andres y ProvidenciaJM GRUPO"},{"$f":"B1315&H1315","v":"SD-03-C4-S3-GD0.147528"},{"$f":"G1315","v":"JM GRUPO"},"Und",{"$f":"C1315&D1315&E1315&F1315&G1315","v":"CUATRO (4)TRES (3)DServicio de distribucion Region San Andres y ProvidenciaJM GRUPO"},{"$f":"H1315","v":0.14752800000000002}]
[{"$f":"\"ate01-\"&B1316&\" \"&C1316&\" \"&D1316&\" \"&E1316","v":"ate01-SD-03-C4-S3-GD CUATRO (4) TRES (3) D"},"SD-03-C4-S3-GD","CUATRO (4)","TRES (3)","D","Servicio de distribucion Region San Andres y Providencia","SUMIMAS S.A.S.",0.13,{"$f":"B1316&G1316","v":"SD-03-C4-S3-GDSUMIMAS S.A.S."},{"$f":"C1316&D1316&E1316&F1316","v":"CUATRO (4)TRES (3)DServicio de distribucion Region San Andres y Providencia"},{"$f":"H1316","v":0.13},{"$f":"C1316&D1316&E1316&F1316&G1316","v":"CUATRO (4)TRES (3)DServicio de distribucion Region San Andres y ProvidenciaSUMIMAS S.A.S."},{"$f":"B1316&H1316","v":"SD-03-C4-S3-GD0.13"},{"$f":"G1316","v":"SUMIMAS S.A.S."},"Und",{"$f":"C1316&D1316&E1316&F1316&G1316","v":"CUATRO (4)TRES (3)DServicio de distribucion Region San Andres y ProvidenciaSUMIMAS S.A.S."},{"$f":"H1316","v":0.13}]
[{"$f":"\"ate01-\"&B1317&\" \"&C1317&\" \"&D1317&\" \"&E1317","v":"ate01-SD-03-C4-S3-GD CUATRO (4) TRES (3) D"},"SD-03-C4-S3-GD","CUATRO (4)","TRES (3)","D","Servicio de distribucion Region San Andres y Providencia","UT EMERGENCIAS 2021",0.14752800000000002,{"$f":"B1317&G1317","v":"SD-03-C4-S3-GDUT EMERGENCIAS 2021"},{"$f":"C1317&D1317&E1317&F1317","v":"CUATRO (4)TRES (3)DServicio de distribucion Region San Andres y Providencia"},{"$f":"H1317","v":0.14752800000000002},{"$f":"C1317&D1317&E1317&F1317&G1317","v":"CUATRO (4)TRES (3)DServicio de distribucion Region San Andres y ProvidenciaUT EMERGENCIAS 2021"},{"$f":"B1317&H1317","v":"SD-03-C4-S3-GD0.147528"},{"$f":"G1317","v":"UT EMERGENCIAS 2021"},"Und",{"$f":"C1317&D1317&E1317&F1317&G1317","v":"CUATRO (4)TRES (3)DServicio de distribucion Region San Andres y ProvidenciaUT EMERGENCIAS 2021"},{"$f":"H1317","v":0.14752800000000002}]
[{"$f":"\"ate01-\"&B1318&\" \"&C1318&\" \"&D1318&\" \"&E1318","v":"ate01-SD-03-C4-S3-GD CUATRO (4) TRES (3) D"},"SD-03-C4-S3-GD","CUATRO (4)","TRES (3)","D","Servicio de distribucion Region San Andres y Providencia","INCOLDEXT S.A.S.",0.14752800000000002,{"$f":"B1318&G1318","v":"SD-03-C4-S3-GDINCOLDEXT S.A.S."},{"$f":"C1318&D1318&E1318&F1318","v":"CUATRO (4)TRES (3)DServicio de distribucion Region San Andres y Providencia"},{"$f":"H1318","v":0.14752800000000002},{"$f":"C1318&D1318&E1318&F1318&G1318","v":"CUATRO (4)TRES (3)DServicio de distribucion Region San Andres y ProvidenciaINCOLDEXT S.A.S."},{"$f":"B1318&H1318","v":"SD-03-C4-S3-GD0.147528"},{"$f":"G1318","v":"INCOLDEXT S.A.S."},"Und",{"$f":"C1318&D1318&E1318&F1318&G1318","v":"CUATRO (4)TRES (3)DServicio de distribucion Region San Andres y ProvidenciaINCOLDEXT S.A.S."},{"$f":"H1318","v":0.14752800000000002}]
[{"$f":"\"ate01-\"&B1319&\" \"&C1319&\" \"&D1319&\" \"&E1319","v":"ate01-SD-03-C4-S3-GD CUATRO (4) TRES (3) D"},"SD-03-C4-S3-GD","CUATRO (4)","TRES (3)","D","Servicio de distribucion Region San Andres y Providencia","UNION TEMPORAL AYGEMA",0.14752800000000002,{"$f":"B1319&G1319","v":"SD-03-C4-S3-GDUNION TEMPORAL AYGEMA"},{"$f":"C1319&D1319&E1319&F1319","v":"CUATRO (4)TRES (3)DServicio de distribucion Region San Andres y Providencia"},{"$f":"H1319","v":0.14752800000000002},{"$f":"C1319&D1319&E1319&F1319&G1319","v":"CUATRO (4)TRES (3)DServicio de distribucion Region San Andres y ProvidenciaUNION TEMPORAL AYGEMA"},{"$f":"B1319&H1319","v":"SD-03-C4-S3-GD0.147528"},{"$f":"G1319","v":"UNION TEMPORAL AYGEMA"},"Und",{"$f":"C1319&D1319&E1319&F1319&G1319","v":"CUATRO (4)TRES (3)DServicio de distribucion Region San Andres y ProvidenciaUNION TEMPORAL AYGEMA"},{"$f":"H1319","v":0.14752800000000002}]
[{"$f":"\"ate01-\"&B1320&\" \"&C1320&\" \"&D1320&\" \"&E1320","v":"ate01-SD-03-C4-S3-GD CUATRO (4) TRES (3) D"},"SD-03-C4-S3-GD","CUATRO (4)","TRES (3)","D","Servicio de distribucion Region San Andres y Providencia","COMERCIALIZADORA DINPRO S.A.S.",0.14752800000000002,{"$f":"B1320&G1320","v":"SD-03-C4-S3-GDCOMERCIALIZADORA DINPRO S.A.S."},{"$f":"C1320&D1320&E1320&F1320","v":"CUATRO (4)TRES (3)DServicio de distribucion Region San Andres y Providencia"},{"$f":"H1320","v":0.14752800000000002},{"$f":"C1320&D1320&E1320&F1320&G1320","v":"CUATRO (4)TRES (3)DServicio de distribucion Region San Andres y ProvidenciaCOMERCIALIZADORA DINPRO S.A.S."},{"$f":"B1320&H1320","v":"SD-03-C4-S3-GD0.147528"},{"$f":"G1320","v":"COMERCIALIZADORA DINPRO S.A.S."},"Und",{"$f":"C1320&D1320&E1320&F1320&G1320","v":"CUATRO (4)TRES (3)DServicio de distribucion Region San Andres y ProvidenciaCOMERCIALIZADORA DINPRO S.A.S."},{"$f":"H1320","v":0.14752800000000002}]
[{"$f":"\"ate01-\"&B1321&\" \"&C1321&\" \"&D1321&\" \"&E1321","v":"ate01-SD-03-C4-S3-GD CUATRO (4) TRES (3) D"},"SD-03-C4-S3-GD","CUATRO (4)","TRES (3)","D","Servicio de distribucion Region San Andres y Providencia","LIMINA S.A.S.",0.185776,{"$f":"B1321&G1321","v":"SD-03-C4-S3-GDLIMINA S.A.S."},{"$f":"C1321&D1321&E1321&F1321","v":"CUATRO (4)TRES (3)DServicio de distribucion Region San Andres y Providencia"},{"$f":"H1321","v":0.185776},{"$f":"C1321&D1321&E1321&F1321&G1321","v":"CUATRO (4)TRES (3)DServicio de distribucion Region San Andres y ProvidenciaLIMINA S.A.S."},{"$f":"B1321&H1321","v":"SD-03-C4-S3-GD0.185776"},{"$f":"G1321","v":"LIMINA S.A.S."},"Und",{"$f":"C1321&D1321&E1321&F1321&G1321","v":"CUATRO (4)TRES (3)DServicio de distribucion Region San Andres y ProvidenciaLIMINA S.A.S."},{"$f":"H1321","v":0.185776}]
[{"$f":"\"ate01-\"&B1322&\" \"&C1322&\" \"&D1322&\" \"&E1322","v":"ate01-SD-03-C4-S3-GD CUATRO (4) TRES (3) D"},"SD-03-C4-S3-GD","CUATRO (4)","TRES (3)","D","Servicio de distribucion Region San Andres y Providencia","INMADICA ANDINA",8.7424000000000002E-2,{"$f":"B1322&G1322","v":"SD-03-C4-S3-GDINMADICA ANDINA"},{"$f":"C1322&D1322&E1322&F1322","v":"CUATRO (4)TRES (3)DServicio de distribucion Region San Andres y Providencia"},{"$f":"H1322","v":8.7424000000000002E-2},{"$f":"C1322&D1322&E1322&F1322&G1322","v":"CUATRO (4)TRES (3)DServicio de distribucion Region San Andres y ProvidenciaINMADICA ANDINA"},{"$f":"B1322&H1322","v":"SD-03-C4-S3-GD0.087424"},{"$f":"G1322","v":"INMADICA ANDINA"},"Und",{"$f":"C1322&D1322&E1322&F1322&G1322","v":"CUATRO (4)TRES (3)DServicio de distribucion Region San Andres y ProvidenciaINMADICA ANDINA"},{"$f":"H1322","v":8.7424000000000002E-2}]
[{"$f":"\"ate01-\"&B1323&\" \"&C1323&\" \"&D1323&\" \"&E1323","v":"ate01-SD-03-C4-S3-GD CUATRO (4) TRES (3) D"},"SD-03-C4-S3-GD","CUATRO (4)","TRES (3)","D","Servicio de distribucion Region San Andres y Providencia","COLOMBIANA DE TEXTILES POR MAYOR S.A.",0.14752800000000002,{"$f":"B1323&G1323","v":"SD-03-C4-S3-GDCOLOMBIANA DE TEXTILES POR MAYOR S.A."},{"$f":"C1323&D1323&E1323&F1323","v":"CUATRO (4)TRES (3)DServicio de distribucion Region San Andres y Providencia"},{"$f":"H1323","v":0.14752800000000002},{"$f":"C1323&D1323&E1323&F1323&G1323","v":"CUATRO (4)TRES (3)DServicio de distribucion Region San Andres y ProvidenciaCOLOMBIANA DE TEXTILES POR MAYOR S.A."},{"$f":"B1323&H1323","v":"SD-03-C4-S3-GD0.147528"},{"$f":"G1323","v":"COLOMBIANA DE TEXTILES POR MAYOR S.A."},"Und",{"$f":"C1323&D1323&E1323&F1323&G1323","v":"CUATRO (4)TRES (3)DServicio de distribucion Region San Andres y ProvidenciaCOLOMBIANA DE TEXTILES POR MAYOR S.A."},{"$f":"H1323","v":0.14752800000000002}]
[{"$f":"\"ate01-\"&B1324&\" \"&C1324&\" \"&D1324&\" \"&E1324","v":"ate01-SD-03-C4-S3-GD CUATRO (4) TRES (3) D"},"SD-03-C4-S3-GD","CUATRO (4)","TRES (3)","D","Servicio de distribucion Region San Andres y Providencia","MIGUEL ANGEL VALLEJO BURGOS",0.14752800000000002,{"$f":"B1324&G1324","v":"SD-03-C4-S3-GDMIGUEL ANGEL VALLEJO BURGOS"},{"$f":"C1324&D1324&E1324&F1324","v":"CUATRO (4)TRES (3)DServicio de distribucion Region San Andres y Providencia"},{"$f":"H1324","v":0.14752800000000002},{"$f":"C1324&D1324&E1324&F1324&G1324","v":"CUATRO (4)TRES (3)DServicio de distribucion Region San Andres y ProvidenciaMIGUEL ANGEL VALLEJO BURGOS"},{"$f":"B1324&H1324","v":"SD-03-C4-S3-GD0.147528"},{"$f":"G1324","v":"MIGUEL ANGEL VALLEJO BURGOS"},"Und",{"$f":"C1324&D1324&E1324&F1324&G1324","v":"CUATRO (4)TRES (3)DServicio de distribucion Region San Andres y ProvidenciaMIGUEL ANGEL VALLEJO BURGOS"},{"$f":"H1324","v":0.14752800000000002}]
[{"$f":"\"ate01-\"&B1325&\" \"&C1325&\" \"&D1325&\" \"&E1325","v":"ate01-SD-03-C4-S3-GE CUATRO (4) TRES (3) E"},"SD-03-C4-S3-GE","CUATRO (4)","TRES (3)","E","Servicio de distribucion Region San Andres y Providencia","JM GRUPO",0.14752800000000002,{"$f":"B1325&G1325","v":"SD-03-C4-S3-GEJM GRUPO"},{"$f":"C1325&D1325&E1325&F1325","v":"CUATRO (4)TRES (3)EServicio de distribucion Region San Andres y Providencia"},{"$f":"H1325","v":0.14752800000000002},{"$f":"C1325&D1325&E1325&F1325&G1325","v":"CUATRO (4)TRES (3)EServicio de distribucion Region San Andres y ProvidenciaJM GRUPO"},{"$f":"B1325&H1325","v":"SD-03-C4-S3-GE0.147528"},{"$f":"G1325","v":"JM GRUPO"},"Und",{"$f":"C1325&D1325&E1325&F1325&G1325","v":"CUATRO (4)TRES (3)EServicio de distribucion Region San Andres y ProvidenciaJM GRUPO"},{"$f":"H1325","v":0.14752800000000002}]
[{"$f":"\"ate01-\"&B1326&\" \"&C1326&\" \"&D1326&\" \"&E1326","v":"ate01-SD-03-C4-S3-GE CUATRO (4) TRES (3) E"},"SD-03-C4-S3-GE","CUATRO (4)","TRES (3)","E","Servicio de distribucion Region San Andres y Providencia","INVERSIONES SARHEM DE COLOMBIA S.A.S.",0.185776,{"$f":"B1326&G1326","v":"SD-03-C4-S3-GEINVERSIONES SARHEM DE COLOMBIA S.A.S."},{"$f":"C1326&D1326&E1326&F1326","v":"CUATRO (4)TRES (3)EServicio de distribucion Region San Andres y Providencia"},{"$f":"H1326","v":0.185776},{"$f":"C1326&D1326&E1326&F1326&G1326","v":"CUATRO (4)TRES (3)EServicio de distribucion Region San Andres y ProvidenciaINVERSIONES SARHEM DE COLOMBIA S.A.S."},{"$f":"B1326&H1326","v":"SD-03-C4-S3-GE0.185776"},{"$f":"G1326","v":"INVERSIONES SARHEM DE COLOMBIA S.A.S."},"Und",{"$f":"C1326&D1326&E1326&F1326&G1326","v":"CUATRO (4)TRES (3)EServicio de distribucion Region San Andres y ProvidenciaINVERSIONES SARHEM DE COLOMBIA S.A.S."},{"$f":"H1326","v":0.185776}]
[{"$f":"\"ate01-\"&B1327&\" \"&C1327&\" \"&D1327&\" \"&E1327","v":"ate01-SD-03-C4-S3-GE CUATRO (4) TRES (3) E"},"SD-03-C4-S3-GE","CUATRO (4)","TRES (3)","E","Servicio de distribucion Region San Andres y Providencia","UT EMERGENCIAS 2021",0.14752800000000002,{"$f":"B1327&G1327","v":"SD-03-C4-S3-GEUT EMERGENCIAS 2021"},{"$f":"C1327&D1327&E1327&F1327","v":"CUATRO (4)TRES (3)EServicio de distribucion Region San Andres y Providencia"},{"$f":"H1327","v":0.14752800000000002},{"$f":"C1327&D1327&E1327&F1327&G1327","v":"CUATRO (4)TRES (3)EServicio de distribucion Region San Andres y ProvidenciaUT EMERGENCIAS 2021"},{"$f":"B1327&H1327","v":"SD-03-C4-S3-GE0.147528"},{"$f":"G1327","v":"UT EMERGENCIAS 2021"},"Und",{"$f":"C1327&D1327&E1327&F1327&G1327","v":"CUATRO (4)TRES (3)EServicio de distribucion Region San Andres y ProvidenciaUT EMERGENCIAS 2021"},{"$f":"H1327","v":0.14752800000000002}]
[{"$f":"\"ate01-\"&B1328&\" \"&C1328&\" \"&D1328&\" \"&E1328","v":"ate01-SD-03-C4-S3-GE CUATRO (4) TRES (3) E"},"SD-03-C4-S3-GE","CUATRO (4)","TRES (3)","E","Servicio de distribucion Region San Andres y Providencia","LIMINA S.A.S.",0.185776,{"$f":"B1328&G1328","v":"SD-03-C4-S3-GELIMINA S.A.S."},{"$f":"C1328&D1328&E1328&F1328","v":"CUATRO (4)TRES (3)EServicio de distribucion Region San Andres y Providencia"},{"$f":"H1328","v":0.185776},{"$f":"C1328&D1328&E1328&F1328&G1328","v":"CUATRO (4)TRES (3)EServicio de distribucion Region San Andres y ProvidenciaLIMINA S.A.S."},{"$f":"B1328&H1328","v":"SD-03-C4-S3-GE0.185776"},{"$f":"G1328","v":"LIMINA S.A.S."},"Und",{"$f":"C1328&D1328&E1328&F1328&G1328","v":"CUATRO (4)TRES (3)EServicio de distribucion Region San Andres y ProvidenciaLIMINA S.A.S."},{"$f":"H1328","v":0.185776}]
[{"$f":"\"ate01-\"&B1329&\" \"&C1329&\" \"&D1329&\" \"&E1329","v":"ate01-SD-03-C4-S3-GE CUATRO (4) TRES (3) E"},"SD-03-C4-S3-GE","CUATRO (4)","TRES (3)","E","Servicio de distribucion Region San Andres y Providencia","COLOMBIANA DE TEXTILES POR MAYOR S.A.",0.14752800000000002,{"$f":"B1329&G1329","v":"SD-03-C4-S3-GECOLOMBIANA DE TEXTILES POR MAYOR S.A."},{"$f":"C1329&D1329&E1329&F1329","v":"CUATRO (4)TRES (3)EServicio de distribucion Region San Andres y Providencia"},{"$f":"H1329","v":0.14752800000000002},{"$f":"C1329&D1329&E1329&F1329&G1329","v":"CUATRO (4)TRES (3)EServicio de distribucion Region San Andres y ProvidenciaCOLOMBIANA DE TEXTILES POR MAYOR S.A."},{"$f":"B1329&H1329","v":"SD-03-C4-S3-GE0.147528"},{"$f":"G1329","v":"COLOMBIANA DE TEXTILES POR MAYOR S.A."},"Und",{"$f":"C1329&D1329&E1329&F1329&G1329","v":"CUATRO (4)TRES (3)EServicio de distribucion Region San Andres y ProvidenciaCOLOMBIANA DE TEXTILES POR MAYOR S.A."},{"$f":"H1329","v":0.14752800000000002}]
[{"$f":"\"ate01-\"&B1330&\" \"&C1330&\" \"&D1330&\" \"&E1330","v":"ate01-SD-03-C4-S3-GE CUATRO (4) TRES (3) E"},"SD-03-C4-S3-GE","CUATRO (4)","TRES (3)","E","Servicio de distribucion Region San Andres y Providencia","MIGUEL ANGEL VALLEJO BURGOS",0.14752800000000002,{"$f":"B1330&G1330","v":"SD-03-C4-S3-GEMIGUEL ANGEL VALLEJO BURGOS"},{"$f":"C1330&D1330&E1330&F1330","v":"CUATRO (4)TRES (3)EServicio de distribucion Region San Andres y Providencia"},{"$f":"H1330","v":0.14752800000000002},{"$f":"C1330&D1330&E1330&F1330&G1330","v":"CUATRO (4)TRES (3)EServicio de distribucion Region San Andres y ProvidenciaMIGUEL ANGEL VALLEJO BURGOS"},{"$f":"B1330&H1330","v":"SD-03-C4-S3-GE0.147528"},{"$f":"G1330","v":"MIGUEL ANGEL VALLEJO BURGOS"},"Und",{"$f":"C1330&D1330&E1330&F1330&G1330","v":"CUATRO (4)TRES (3)EServicio de distribucion Region San Andres y ProvidenciaMIGUEL ANGEL VALLEJO BURGOS"},{"$f":"H1330","v":0.14752800000000002}]
[{"$f":"\"ate01-\"&B1331&\" \"&C1331&\" \"&D1331&\" \"&E1331","v":"ate01-SD-03-C4-S4-GA CUATRO (4) CUATRO (4) A"},"SD-03-C4-S4-GA","CUATRO (4)","CUATRO (4)","A","Servicio de distribucion Region San Andres y Providencia","JM GRUPO",0.14752800000000002,{"$f":"B1331&G1331","v":"SD-03-C4-S4-GAJM GRUPO"},{"$f":"C1331&D1331&E1331&F1331","v":"CUATRO (4)CUATRO (4)AServicio de distribucion Region San Andres y Providencia"},{"$f":"H1331","v":0.14752800000000002},{"$f":"C1331&D1331&E1331&F1331&G1331","v":"CUATRO (4)CUATRO (4)AServicio de distribucion Region San Andres y ProvidenciaJM GRUPO"},{"$f":"B1331&H1331","v":"SD-03-C4-S4-GA0.147528"},{"$f":"G1331","v":"JM GRUPO"},"Und",{"$f":"C1331&D1331&E1331&F1331&G1331","v":"CUATRO (4)CUATRO (4)AServicio de distribucion Region San Andres y ProvidenciaJM GRUPO"},{"$f":"H1331","v":0.14752800000000002}]
[{"$f":"\"ate01-\"&B1332&\" \"&C1332&\" \"&D1332&\" \"&E1332","v":"ate01-SD-03-C4-S4-GA CUATRO (4) CUATRO (4) A"},"SD-03-C4-S4-GA","CUATRO (4)","CUATRO (4)","A","Servicio de distribucion Region San Andres y Providencia","SUMIMAS S.A.S.",0.142064,{"$f":"B1332&G1332","v":"SD-03-C4-S4-GASUMIMAS S.A.S."},{"$f":"C1332&D1332&E1332&F1332","v":"CUATRO (4)CUATRO (4)AServicio de distribucion Region San Andres y Providencia"},{"$f":"H1332","v":0.142064},{"$f":"C1332&D1332&E1332&F1332&G1332","v":"CUATRO (4)CUATRO (4)AServicio de distribucion Region San Andres y ProvidenciaSUMIMAS S.A.S."},{"$f":"B1332&H1332","v":"SD-03-C4-S4-GA0.142064"},{"$f":"G1332","v":"SUMIMAS S.A.S."},"Und",{"$f":"C1332&D1332&E1332&F1332&G1332","v":"CUATRO (4)CUATRO (4)AServicio de distribucion Region San Andres y ProvidenciaSUMIMAS S.A.S."},{"$f":"H1332","v":0.142064}]
[{"$f":"\"ate01-\"&B1333&\" \"&C1333&\" \"&D1333&\" \"&E1333","v":"ate01-SD-03-C4-S4-GA CUATRO (4) CUATRO (4) A"},"SD-03-C4-S4-GA","CUATRO (4)","CUATRO (4)","A","Servicio de distribucion Region San Andres y Providencia","UNION TEMPORAL AYGEMA",0.14752800000000002,{"$f":"B1333&G1333","v":"SD-03-C4-S4-GAUNION TEMPORAL AYGEMA"},{"$f":"C1333&D1333&E1333&F1333","v":"CUATRO (4)CUATRO (4)AServicio de distribucion Region San Andres y Providencia"},{"$f":"H1333","v":0.14752800000000002},{"$f":"C1333&D1333&E1333&F1333&G1333","v":"CUATRO (4)CUATRO (4)AServicio de distribucion Region San Andres y ProvidenciaUNION TEMPORAL AYGEMA"},{"$f":"B1333&H1333","v":"SD-03-C4-S4-GA0.147528"},{"$f":"G1333","v":"UNION TEMPORAL AYGEMA"},"Und",{"$f":"C1333&D1333&E1333&F1333&G1333","v":"CUATRO (4)CUATRO (4)AServicio de distribucion Region San Andres y ProvidenciaUNION TEMPORAL AYGEMA"},{"$f":"H1333","v":0.14752800000000002}]
[{"$f":"\"ate01-\"&B1334&\" \"&C1334&\" \"&D1334&\" \"&E1334","v":"ate01-SD-03-C4-S4-GA CUATRO (4) CUATRO (4) A"},"SD-03-C4-S4-GA","CUATRO (4)","CUATRO (4)","A","Servicio de distribucion Region San Andres y Providencia","UT SS 2021- CCENEG- 041-01-2021",0.14752800000000002,{"$f":"B1334&G1334","v":"SD-03-C4-S4-GAUT SS 2021- CCENEG- 041-01-2021"},{"$f":"C1334&D1334&E1334&F1334","v":"CUATRO (4)CUATRO (4)AServicio de distribucion Region San Andres y Providencia"},{"$f":"H1334","v":0.14752800000000002},{"$f":"C1334&D1334&E1334&F1334&G1334","v":"CUATRO (4)CUATRO (4)AServicio de distribucion Region San Andres y ProvidenciaUT SS 2021- CCENEG- 041-01-2021"},{"$f":"B1334&H1334","v":"SD-03-C4-S4-GA0.147528"},{"$f":"G1334","v":"UT SS 2021- CCENEG- 041-01-2021"},"Und",{"$f":"C1334&D1334&E1334&F1334&G1334","v":"CUATRO (4)CUATRO (4)AServicio de distribucion Region San Andres y ProvidenciaUT SS 2021- CCENEG- 041-01-2021"},{"$f":"H1334","v":0.14752800000000002}]
[{"$f":"\"ate01-\"&B1335&\" \"&C1335&\" \"&D1335&\" \"&E1335","v":"ate01-SD-03-C4-S4-GA CUATRO (4) CUATRO (4) A"},"SD-03-C4-S4-GA","CUATRO (4)","CUATRO (4)","A","Servicio de distribucion Region San Andres y Providencia","COLOMBIANA DE TEXTILES POR MAYOR S.A.",0.14752800000000002,{"$f":"B1335&G1335","v":"SD-03-C4-S4-GACOLOMBIANA DE TEXTILES POR MAYOR S.A."},{"$f":"C1335&D1335&E1335&F1335","v":"CUATRO (4)CUATRO (4)AServicio de distribucion Region San Andres y Providencia"},{"$f":"H1335","v":0.14752800000000002},{"$f":"C1335&D1335&E1335&F1335&G1335","v":"CUATRO (4)CUATRO (4)AServicio de distribucion Region San Andres y ProvidenciaCOLOMBIANA DE TEXTILES POR MAYOR S.A."},{"$f":"B1335&H1335","v":"SD-03-C4-S4-GA0.147528"},{"$f":"G1335","v":"COLOMBIANA DE TEXTILES POR MAYOR S.A."},"Und",{"$f":"C1335&D1335&E1335&F1335&G1335","v":"CUATRO (4)CUATRO (4)AServicio de distribucion Region San Andres y ProvidenciaCOLOMBIANA DE TEXTILES POR MAYOR S.A."},{"$f":"H1335","v":0.14752800000000002}]
[{"$f":"\"ate01-\"&B1336&\" \"&C1336&\" \"&D1336&\" \"&E1336","v":"ate01-SD-03-C4-S4-GB CUATRO (4) CUATRO (4) B"},"SD-03-C4-S4-GB","CUATRO (4)","CUATRO (4)","B","Servicio de distribucion Region San Andres y Providencia","JM GRUPO",0.14752800000000002,{"$f":"B1336&G1336","v":"SD-03-C4-S4-GBJM GRUPO"},{"$f":"C1336&D1336&E1336&F1336","v":"CUATRO (4)CUATRO (4)BServicio de distribucion Region San Andres y Providencia"},{"$f":"H1336","v":0.14752800000000002},{"$f":"C1336&D1336&E1336&F1336&G1336","v":"CUATRO (4)CUATRO (4)BServicio de distribucion Region San Andres y ProvidenciaJM GRUPO"},{"$f":"B1336&H1336","v":"SD-03-C4-S4-GB0.147528"},{"$f":"G1336","v":"JM GRUPO"},"Und",{"$f":"C1336&D1336&E1336&F1336&G1336","v":"CUATRO (4)CUATRO (4)BServicio de distribucion Region San Andres y ProvidenciaJM GRUPO"},{"$f":"H1336","v":0.14752800000000002}]
[{"$f":"\"ate01-\"&B1337&\" \"&C1337&\" \"&D1337&\" \"&E1337","v":"ate01-SD-03-C4-S4-GB CUATRO (4) CUATRO (4) B"},"SD-03-C4-S4-GB","CUATRO (4)","CUATRO (4)","B","Servicio de distribucion Region San Andres y Providencia","SUMIMAS S.A.S.",0.142064,{"$f":"B1337&G1337","v":"SD-03-C4-S4-GBSUMIMAS S.A.S."},{"$f":"C1337&D1337&E1337&F1337","v":"CUATRO (4)CUATRO (4)BServicio de distribucion Region San Andres y Providencia"},{"$f":"H1337","v":0.142064},{"$f":"C1337&D1337&E1337&F1337&G1337","v":"CUATRO (4)CUATRO (4)BServicio de distribucion Region San Andres y ProvidenciaSUMIMAS S.A.S."},{"$f":"B1337&H1337","v":"SD-03-C4-S4-GB0.142064"},{"$f":"G1337","v":"SUMIMAS S.A.S."},"Und",{"$f":"C1337&D1337&E1337&F1337&G1337","v":"CUATRO (4)CUATRO (4)BServicio de distribucion Region San Andres y ProvidenciaSUMIMAS S.A.S."},{"$f":"H1337","v":0.142064}]
[{"$f":"\"ate01-\"&B1338&\" \"&C1338&\" \"&D1338&\" \"&E1338","v":"ate01-SD-03-C4-S4-GB CUATRO (4) CUATRO (4) B"},"SD-03-C4-S4-GB","CUATRO (4)","CUATRO (4)","B","Servicio de distribucion Region San Andres y Providencia","UNION TEMPORAL AYGEMA",0.14752800000000002,{"$f":"B1338&G1338","v":"SD-03-C4-S4-GBUNION TEMPORAL AYGEMA"},{"$f":"C1338&D1338&E1338&F1338","v":"CUATRO (4)CUATRO (4)BServicio de distribucion Region San Andres y Providencia"},{"$f":"H1338","v":0.14752800000000002},{"$f":"C1338&D1338&E1338&F1338&G1338","v":"CUATRO (4)CUATRO (4)BServicio de distribucion Region San Andres y ProvidenciaUNION TEMPORAL AYGEMA"},{"$f":"B1338&H1338","v":"SD-03-C4-S4-GB0.147528"},{"$f":"G1338","v":"UNION TEMPORAL AYGEMA"},"Und",{"$f":"C1338&D1338&E1338&F1338&G1338","v":"CUATRO (4)CUATRO (4)BServicio de distribucion Region San Andres y ProvidenciaUNION TEMPORAL AYGEMA"},{"$f":"H1338","v":0.14752800000000002}]
[{"$f":"\"ate01-\"&B1339&\" \"&C1339&\" \"&D1339&\" \"&E1339","v":"ate01-SD-03-C4-S4-GB CUATRO (4) CUATRO (4) B"},"SD-03-C4-S4-GB","CUATRO (4)","CUATRO (4)","B","Servicio de distribucion Region San Andres y Providencia","PLASTICOS MQ S.A.S.",0.30598400000000003,{"$f":"B1339&G1339","v":"SD-03-C4-S4-GBPLASTICOS MQ S.A.S."},{"$f":"C1339&D1339&E1339&F1339","v":"CUATRO (4)CUATRO (4)BServicio de distribucion Region San Andres y Providencia"},{"$f":"H1339","v":0.30598400000000003},{"$f":"C1339&D1339&E1339&F1339&G1339","v":"CUATRO (4)CUATRO (4)BServicio de distribucion Region San Andres y ProvidenciaPLASTICOS MQ S.A.S."},{"$f":"B1339&H1339","v":"SD-03-C4-S4-GB0.305984"},{"$f":"G1339","v":"PLASTICOS MQ S.A.S."},"Und",{"$f":"C1339&D1339&E1339&F1339&G1339","v":"CUATRO (4)CUATRO (4)BServicio de distribucion Region San Andres y ProvidenciaPLASTICOS MQ S.A.S."},{"$f":"H1339","v":0.30598400000000003}]
[{"$f":"\"ate01-\"&B1340&\" \"&C1340&\" \"&D1340&\" \"&E1340","v":"ate01-SD-03-C4-S4-GB CUATRO (4) CUATRO (4) B"},"SD-03-C4-S4-GB","CUATRO (4)","CUATRO (4)","B","Servicio de distribucion Region San Andres y Providencia","SUPRISA S.A.S.",0.31691199999999997,{"$f":"B1340&G1340","v":"SD-03-C4-S4-GBSUPRISA S.A.S."},{"$f":"C1340&D1340&E1340&F1340","v":"CUATRO (4)CUATRO (4)BServicio de distribucion Region San Andres y Providencia"},{"$f":"H1340","v":0.31691199999999997},{"$f":"C1340&D1340&E1340&F1340&G1340","v":"CUATRO (4)CUATRO (4)BServicio de distribucion Region San Andres y ProvidenciaSUPRISA S.A.S."},{"$f":"B1340&H1340","v":"SD-03-C4-S4-GB0.316912"},{"$f":"G1340","v":"SUPRISA S.A.S."},"Und",{"$f":"C1340&D1340&E1340&F1340&G1340","v":"CUATRO (4)CUATRO (4)BServicio de distribucion Region San Andres y ProvidenciaSUPRISA S.A.S."},{"$f":"H1340","v":0.31691199999999997}]
[{"$f":"\"ate01-\"&B1341&\" \"&C1341&\" \"&D1341&\" \"&E1341","v":"ate01-SD-03-C4-S4-GB CUATRO (4) CUATRO (4) B"},"SD-03-C4-S4-GB","CUATRO (4)","CUATRO (4)","B","Servicio de distribucion Region San Andres y Providencia","MIGUEL ANGEL VALLEJO BURGOS",0.14752800000000002,{"$f":"B1341&G1341","v":"SD-03-C4-S4-GBMIGUEL ANGEL VALLEJO BURGOS"},{"$f":"C1341&D1341&E1341&F1341","v":"CUATRO (4)CUATRO (4)BServicio de distribucion Region San Andres y Providencia"},{"$f":"H1341","v":0.14752800000000002},{"$f":"C1341&D1341&E1341&F1341&G1341","v":"CUATRO (4)CUATRO (4)BServicio de distribucion Region San Andres y ProvidenciaMIGUEL ANGEL VALLEJO BURGOS"},{"$f":"B1341&H1341","v":"SD-03-C4-S4-GB0.147528"},{"$f":"G1341","v":"MIGUEL ANGEL VALLEJO BURGOS"},"Und",{"$f":"C1341&D1341&E1341&F1341&G1341","v":"CUATRO (4)CUATRO (4)BServicio de distribucion Region San Andres y ProvidenciaMIGUEL ANGEL VALLEJO BURGOS"},{"$f":"H1341","v":0.14752800000000002}]
[{"$f":"\"ate01-\"&B1342&\" \"&C1342&\" \"&D1342&\" \"&E1342","v":"ate01-SD-03-C4-S4-GC CUATRO (4) CUATRO (4) C"},"SD-03-C4-S4-GC","CUATRO (4)","CUATRO (4)","C","Servicio de distribucion Region San Andres y Providencia","SUMIMAS S.A.S.",0.142064,{"$f":"B1342&G1342","v":"SD-03-C4-S4-GCSUMIMAS S.A.S."},{"$f":"C1342&D1342&E1342&F1342","v":"CUATRO (4)CUATRO (4)CServicio de distribucion Region San Andres y Providencia"},{"$f":"H1342","v":0.142064},{"$f":"C1342&D1342&E1342&F1342&G1342","v":"CUATRO (4)CUATRO (4)CServicio de distribucion Region San Andres y ProvidenciaSUMIMAS S.A.S."},{"$f":"B1342&H1342","v":"SD-03-C4-S4-GC0.142064"},{"$f":"G1342","v":"SUMIMAS S.A.S."},"Und",{"$f":"C1342&D1342&E1342&F1342&G1342","v":"CUATRO (4)CUATRO (4)CServicio de distribucion Region San Andres y ProvidenciaSUMIMAS S.A.S."},{"$f":"H1342","v":0.142064}]
[{"$f":"\"ate01-\"&B1343&\" \"&C1343&\" \"&D1343&\" \"&E1343","v":"ate01-SD-03-C4-S4-GC CUATRO (4) CUATRO (4) C"},"SD-03-C4-S4-GC","CUATRO (4)","CUATRO (4)","C","Servicio de distribucion Region San Andres y Providencia","UNION TEMPORAL AYGEMA",0.14752800000000002,{"$f":"B1343&G1343","v":"SD-03-C4-S4-GCUNION TEMPORAL AYGEMA"},{"$f":"C1343&D1343&E1343&F1343","v":"CUATRO (4)CUATRO (4)CServicio de distribucion Region San Andres y Providencia"},{"$f":"H1343","v":0.14752800000000002},{"$f":"C1343&D1343&E1343&F1343&G1343","v":"CUATRO (4)CUATRO (4)CServicio de distribucion Region San Andres y ProvidenciaUNION TEMPORAL AYGEMA"},{"$f":"B1343&H1343","v":"SD-03-C4-S4-GC0.147528"},{"$f":"G1343","v":"UNION TEMPORAL AYGEMA"},"Und",{"$f":"C1343&D1343&E1343&F1343&G1343","v":"CUATRO (4)CUATRO (4)CServicio de distribucion Region San Andres y ProvidenciaUNION TEMPORAL AYGEMA"},{"$f":"H1343","v":0.14752800000000002}]
[{"$f":"\"ate01-\"&B1344&\" \"&C1344&\" \"&D1344&\" \"&E1344","v":"ate01-SD-03-C4-S4-GC CUATRO (4) CUATRO (4) C"},"SD-03-C4-S4-GC","CUATRO (4)","CUATRO (4)","C","Servicio de distribucion Region San Andres y Providencia","UT SS 2021- CCENEG- 041-01-2021",0.14752800000000002,{"$f":"B1344&G1344","v":"SD-03-C4-S4-GCUT SS 2021- CCENEG- 041-01-2021"},{"$f":"C1344&D1344&E1344&F1344","v":"CUATRO (4)CUATRO (4)CServicio de distribucion Region San Andres y Providencia"},{"$f":"H1344","v":0.14752800000000002},{"$f":"C1344&D1344&E1344&F1344&G1344","v":"CUATRO (4)CUATRO (4)CServicio de distribucion Region San Andres y ProvidenciaUT SS 2021- CCENEG- 041-01-2021"},{"$f":"B1344&H1344","v":"SD-03-C4-S4-GC0.147528"},{"$f":"G1344","v":"UT SS 2021- CCENEG- 041-01-2021"},"Und",{"$f":"C1344&D1344&E1344&F1344&G1344","v":"CUATRO (4)CUATRO (4)CServicio de distribucion Region San Andres y ProvidenciaUT SS 2021- CCENEG- 041-01-2021"},{"$f":"H1344","v":0.14752800000000002}]
[{"$f":"\"ate01-\"&B1345&\" \"&C1345&\" \"&D1345&\" \"&E1345","v":"ate01-SD-03-C4-S4-GC CUATRO (4) CUATRO (4) C"},"SD-03-C4-S4-GC","CUATRO (4)","CUATRO (4)","C","Servicio de distribucion Region San Andres y Providencia","SUPRISA S.A.S.",0.31691199999999997,{"$f":"B1345&G1345","v":"SD-03-C4-S4-GCSUPRISA S.A.S."},{"$f":"C1345&D1345&E1345&F1345","v":"CUATRO (4)CUATRO (4)CServicio de distribucion Region San Andres y Providencia"},{"$f":"H1345","v":0.31691199999999997},{"$f":"C1345&D1345&E1345&F1345&G1345","v":"CUATRO (4)CUATRO (4)CServicio de distribucion Region San Andres y ProvidenciaSUPRISA S.A.S."},{"$f":"B1345&H1345","v":"SD-03-C4-S4-GC0.316912"},{"$f":"G1345","v":"SUPRISA S.A.S."},"Und",{"$f":"C1345&D1345&E1345&F1345&G1345","v":"CUATRO (4)CUATRO (4)CServicio de distribucion Region San Andres y ProvidenciaSUPRISA S.A.S."},{"$f":"H1345","v":0.31691199999999997}]
[{"$f":"\"ate01-\"&B1346&\" \"&C1346&\" \"&D1346&\" \"&E1346","v":"ate01-SD-03-C4-S4-GC CUATRO (4) CUATRO (4) C"},"SD-03-C4-S4-GC","CUATRO (4)","CUATRO (4)","C","Servicio de distribucion Region San Andres y Providencia","COMERCIALIZADORA DINPRO S.A.S.",0.14752800000000002,{"$f":"B1346&G1346","v":"SD-03-C4-S4-GCCOMERCIALIZADORA DINPRO S.A.S."},{"$f":"C1346&D1346&E1346&F1346","v":"CUATRO (4)CUATRO (4)CServicio de distribucion Region San Andres y Providencia"},{"$f":"H1346","v":0.14752800000000002},{"$f":"C1346&D1346&E1346&F1346&G1346","v":"CUATRO (4)CUATRO (4)CServicio de distribucion Region San Andres y ProvidenciaCOMERCIALIZADORA DINPRO S.A.S."},{"$f":"B1346&H1346","v":"SD-03-C4-S4-GC0.147528"},{"$f":"G1346","v":"COMERCIALIZADORA DINPRO S.A.S."},"Und",{"$f":"C1346&D1346&E1346&F1346&G1346","v":"CUATRO (4)CUATRO (4)CServicio de distribucion Region San Andres y ProvidenciaCOMERCIALIZADORA DINPRO S.A.S."},{"$f":"H1346","v":0.14752800000000002}]
[{"$f":"\"ate01-\"&B1347&\" \"&C1347&\" \"&D1347&\" \"&E1347","v":"ate01-SD-03-C4-S4-GC CUATRO (4) CUATRO (4) C"},"SD-03-C4-S4-GC","CUATRO (4)","CUATRO (4)","C","Servicio de distribucion Region San Andres y Providencia","MIGUEL ANGEL VALLEJO BURGOS",0.14752800000000002,{"$f":"B1347&G1347","v":"SD-03-C4-S4-GCMIGUEL ANGEL VALLEJO BURGOS"},{"$f":"C1347&D1347&E1347&F1347","v":"CUATRO (4)CUATRO (4)CServicio de distribucion Region San Andres y Providencia"},{"$f":"H1347","v":0.14752800000000002},{"$f":"C1347&D1347&E1347&F1347&G1347","v":"CUATRO (4)CUATRO (4)CServicio de distribucion Region San Andres y ProvidenciaMIGUEL ANGEL VALLEJO BURGOS"},{"$f":"B1347&H1347","v":"SD-03-C4-S4-GC0.147528"},{"$f":"G1347","v":"MIGUEL ANGEL VALLEJO BURGOS"},"Und",{"$f":"C1347&D1347&E1347&F1347&G1347","v":"CUATRO (4)CUATRO (4)CServicio de distribucion Region San Andres y ProvidenciaMIGUEL ANGEL VALLEJO BURGOS"},{"$f":"H1347","v":0.14752800000000002}]
[{"$f":"\"ate01-\"&B1348&\" \"&C1348&\" \"&D1348&\" \"&E1348","v":"ate01-SD-03-C4-S4-GD CUATRO (4) CUATRO (4) D"},"SD-03-C4-S4-GD","CUATRO (4)","CUATRO (4)","D","Servicio de distribucion Region San Andres y Providencia","JM GRUPO",0.14752800000000002,{"$f":"B1348&G1348","v":"SD-03-C4-S4-GDJM GRUPO"},{"$f":"C1348&D1348&E1348&F1348","v":"CUATRO (4)CUATRO (4)DServicio de distribucion Region San Andres y Providencia"},{"$f":"H1348","v":0.14752800000000002},{"$f":"C1348&D1348&E1348&F1348&G1348","v":"CUATRO (4)CUATRO (4)DServicio de distribucion Region San Andres y ProvidenciaJM GRUPO"},{"$f":"B1348&H1348","v":"SD-03-C4-S4-GD0.147528"},{"$f":"G1348","v":"JM GRUPO"},"Und",{"$f":"C1348&D1348&E1348&F1348&G1348","v":"CUATRO (4)CUATRO (4)DServicio de distribucion Region San Andres y ProvidenciaJM GRUPO"},{"$f":"H1348","v":0.14752800000000002}]
[{"$f":"\"ate01-\"&B1349&\" \"&C1349&\" \"&D1349&\" \"&E1349","v":"ate01-SD-03-C4-S4-GD CUATRO (4) CUATRO (4) D"},"SD-03-C4-S4-GD","CUATRO (4)","CUATRO (4)","D","Servicio de distribucion Region San Andres y Providencia","SUMIMAS S.A.S.",0.142064,{"$f":"B1349&G1349","v":"SD-03-C4-S4-GDSUMIMAS S.A.S."},{"$f":"C1349&D1349&E1349&F1349","v":"CUATRO (4)CUATRO (4)DServicio de distribucion Region San Andres y Providencia"},{"$f":"H1349","v":0.142064},{"$f":"C1349&D1349&E1349&F1349&G1349","v":"CUATRO (4)CUATRO (4)DServicio de distribucion Region San Andres y ProvidenciaSUMIMAS S.A.S."},{"$f":"B1349&H1349","v":"SD-03-C4-S4-GD0.142064"},{"$f":"G1349","v":"SUMIMAS S.A.S."},"Und",{"$f":"C1349&D1349&E1349&F1349&G1349","v":"CUATRO (4)CUATRO (4)DServicio de distribucion Region San Andres y ProvidenciaSUMIMAS S.A.S."},{"$f":"H1349","v":0.142064}]
[{"$f":"\"ate01-\"&B1350&\" \"&C1350&\" \"&D1350&\" \"&E1350","v":"ate01-SD-03-C4-S4-GD CUATRO (4) CUATRO (4) D"},"SD-03-C4-S4-GD","CUATRO (4)","CUATRO (4)","D","Servicio de distribucion Region San Andres y Providencia","UT SS 2021- CCENEG- 041-01-2021",0.14752800000000002,{"$f":"B1350&G1350","v":"SD-03-C4-S4-GDUT SS 2021- CCENEG- 041-01-2021"},{"$f":"C1350&D1350&E1350&F1350","v":"CUATRO (4)CUATRO (4)DServicio de distribucion Region San Andres y Providencia"},{"$f":"H1350","v":0.14752800000000002},{"$f":"C1350&D1350&E1350&F1350&G1350","v":"CUATRO (4)CUATRO (4)DServicio de distribucion Region San Andres y ProvidenciaUT SS 2021- CCENEG- 041-01-2021"},{"$f":"B1350&H1350","v":"SD-03-C4-S4-GD0.147528"},{"$f":"G1350","v":"UT SS 2021- CCENEG- 041-01-2021"},"Und",{"$f":"C1350&D1350&E1350&F1350&G1350","v":"CUATRO (4)CUATRO (4)DServicio de distribucion Region San Andres y ProvidenciaUT SS 2021- CCENEG- 041-01-2021"},{"$f":"H1350","v":0.14752800000000002}]
[{"$f":"\"ate01-\"&B1351&\" \"&C1351&\" \"&D1351&\" \"&E1351","v":"ate01-SD-03-C4-S4-GE CUATRO (4) CUATRO (4) E"},"SD-03-C4-S4-GE","CUATRO (4)","CUATRO (4)","E","Servicio de distribucion Region San Andres y Providencia","C I WARRIORS COMPANY S.A.S.",0.14752800000000002,{"$f":"B1351&G1351","v":"SD-03-C4-S4-GEC I WARRIORS COMPANY S.A.S."},{"$f":"C1351&D1351&E1351&F1351","v":"CUATRO (4)CUATRO (4)EServicio de distribucion Region San Andres y Providencia"},{"$f":"H1351","v":0.14752800000000002},{"$f":"C1351&D1351&E1351&F1351&G1351","v":"CUATRO (4)CUATRO (4)EServicio de distribucion Region San Andres y ProvidenciaC I WARRIORS COMPANY S.A.S."},{"$f":"B1351&H1351","v":"SD-03-C4-S4-GE0.147528"},{"$f":"G1351","v":"C I WARRIORS COMPANY S.A.S."},"Und",{"$f":"C1351&D1351&E1351&F1351&G1351","v":"CUATRO (4)CUATRO (4)EServicio de distribucion Region San Andres y ProvidenciaC I WARRIORS COMPANY S.A.S."},{"$f":"H1351","v":0.14752800000000002}]
[{"$f":"\"ate01-\"&B1352&\" \"&C1352&\" \"&D1352&\" \"&E1352","v":"ate01-SD-03-C4-S4-GE CUATRO (4) CUATRO (4) E"},"SD-03-C4-S4-GE","CUATRO (4)","CUATRO (4)","E","Servicio de distribucion Region San Andres y Providencia","SUMIMAS S.A.S.",0.142064,{"$f":"B1352&G1352","v":"SD-03-C4-S4-GESUMIMAS S.A.S."},{"$f":"C1352&D1352&E1352&F1352","v":"CUATRO (4)CUATRO (4)EServicio de distribucion Region San Andres y Providencia"},{"$f":"H1352","v":0.142064},{"$f":"C1352&D1352&E1352&F1352&G1352","v":"CUATRO (4)CUATRO (4)EServicio de distribucion Region San Andres y ProvidenciaSUMIMAS S.A.S."},{"$f":"B1352&H1352","v":"SD-03-C4-S4-GE0.142064"},{"$f":"G1352","v":"SUMIMAS S.A.S."},"Und",{"$f":"C1352&D1352&E1352&F1352&G1352","v":"CUATRO (4)CUATRO (4)EServicio de distribucion Region San Andres y ProvidenciaSUMIMAS S.A.S."},{"$f":"H1352","v":0.142064}]
[{"$f":"\"ate01-\"&B1353&\" \"&C1353&\" \"&D1353&\" \"&E1353","v":"ate01-SD-03-C4-S4-GE CUATRO (4) CUATRO (4) E"},"SD-03-C4-S4-GE","CUATRO (4)","CUATRO (4)","E","Servicio de distribucion Region San Andres y Providencia","UT EMERGENCIAS 2021",0.14752800000000002,{"$f":"B1353&G1353","v":"SD-03-C4-S4-GEUT EMERGENCIAS 2021"},{"$f":"C1353&D1353&E1353&F1353","v":"CUATRO (4)CUATRO (4)EServicio de distribucion Region San Andres y Providencia"},{"$f":"H1353","v":0.14752800000000002},{"$f":"C1353&D1353&E1353&F1353&G1353","v":"CUATRO (4)CUATRO (4)EServicio de distribucion Region San Andres y ProvidenciaUT EMERGENCIAS 2021"},{"$f":"B1353&H1353","v":"SD-03-C4-S4-GE0.147528"},{"$f":"G1353","v":"UT EMERGENCIAS 2021"},"Und",{"$f":"C1353&D1353&E1353&F1353&G1353","v":"CUATRO (4)CUATRO (4)EServicio de distribucion Region San Andres y ProvidenciaUT EMERGENCIAS 2021"},{"$f":"H1353","v":0.14752800000000002}]
[{"$f":"\"ate01-\"&B1354&\" \"&C1354&\" \"&D1354&\" \"&E1354","v":"ate01-SD-03-C4-S4-GE CUATRO (4) CUATRO (4) E"},"SD-03-C4-S4-GE","CUATRO (4)","CUATRO (4)","E","Servicio de distribucion Region San Andres y Providencia","UNION TEMPORAL AYGEMA",0.14752800000000002,{"$f":"B1354&G1354","v":"SD-03-C4-S4-GEUNION TEMPORAL AYGEMA"},{"$f":"C1354&D1354&E1354&F1354","v":"CUATRO (4)CUATRO (4)EServicio de distribucion Region San Andres y Providencia"},{"$f":"H1354","v":0.14752800000000002},{"$f":"C1354&D1354&E1354&F1354&G1354","v":"CUATRO (4)CUATRO (4)EServicio de distribucion Region San Andres y ProvidenciaUNION TEMPORAL AYGEMA"},{"$f":"B1354&H1354","v":"SD-03-C4-S4-GE0.147528"},{"$f":"G1354","v":"UNION TEMPORAL AYGEMA"},"Und",{"$f":"C1354&D1354&E1354&F1354&G1354","v":"CUATRO (4)CUATRO (4)EServicio de distribucion Region San Andres y ProvidenciaUNION TEMPORAL AYGEMA"},{"$f":"H1354","v":0.14752800000000002}]
[{"$f":"\"ate01-\"&B1355&\" \"&C1355&\" \"&D1355&\" \"&E1355","v":"ate01-SD-03-C4-S4-GE CUATRO (4) CUATRO (4) E"},"SD-03-C4-S4-GE","CUATRO (4)","CUATRO (4)","E","Servicio de distribucion Region San Andres y Providencia","UT OFICON",0.14752800000000002,{"$f":"B1355&G1355","v":"SD-03-C4-S4-GEUT OFICON"},{"$f":"C1355&D1355&E1355&F1355","v":"CUATRO (4)CUATRO (4)EServicio de distribucion Region San Andres y Providencia"},{"$f":"H1355","v":0.14752800000000002},{"$f":"C1355&D1355&E1355&F1355&G1355","v":"CUATRO (4)CUATRO (4)EServicio de distribucion Region San Andres y ProvidenciaUT OFICON"},{"$f":"B1355&H1355","v":"SD-03-C4-S4-GE0.147528"},{"$f":"G1355","v":"UT OFICON"},"Und",{"$f":"C1355&D1355&E1355&F1355&G1355","v":"CUATRO (4)CUATRO (4)EServicio de distribucion Region San Andres y ProvidenciaUT OFICON"},{"$f":"H1355","v":0.14752800000000002}]
[{"$f":"\"ate01-\"&B1356&\" \"&C1356&\" \"&D1356&\" \"&E1356","v":"ate01-SD-03-C4-S4-GE CUATRO (4) CUATRO (4) E"},"SD-03-C4-S4-GE","CUATRO (4)","CUATRO (4)","E","Servicio de distribucion Region San Andres y Providencia","MIGUEL ANGEL VALLEJO BURGOS",0.14752800000000002,{"$f":"B1356&G1356","v":"SD-03-C4-S4-GEMIGUEL ANGEL VALLEJO BURGOS"},{"$f":"C1356&D1356&E1356&F1356","v":"CUATRO (4)CUATRO (4)EServicio de distribucion Region San Andres y Providencia"},{"$f":"H1356","v":0.14752800000000002},{"$f":"C1356&D1356&E1356&F1356&G1356","v":"CUATRO (4)CUATRO (4)EServicio de distribucion Region San Andres y ProvidenciaMIGUEL ANGEL VALLEJO BURGOS"},{"$f":"B1356&H1356","v":"SD-03-C4-S4-GE0.147528"},{"$f":"G1356","v":"MIGUEL ANGEL VALLEJO BURGOS"},"Und",{"$f":"C1356&D1356&E1356&F1356&G1356","v":"CUATRO (4)CUATRO (4)EServicio de distribucion Region San Andres y ProvidenciaMIGUEL ANGEL VALLEJO BURGOS"},{"$f":"H1356","v":0.14752800000000002}]
[{"$f":"\"ate01-\"&B1357&\" \"&C1357&\" \"&D1357&\" \"&E1357","v":"ate01-SD-03-C4-S4-GE CUATRO (4) CUATRO (4) E"},"SD-03-C4-S4-GE","CUATRO (4)","CUATRO (4)","E","Servicio de distribucion Region San Andres y Providencia","INVALCA",0.14752800000000002,{"$f":"B1357&G1357","v":"SD-03-C4-S4-GEINVALCA"},{"$f":"C1357&D1357&E1357&F1357","v":"CUATRO (4)CUATRO (4)EServicio de distribucion Region San Andres y Providencia"},{"$f":"H1357","v":0.14752800000000002},{"$f":"C1357&D1357&E1357&F1357&G1357","v":"CUATRO (4)CUATRO (4)EServicio de distribucion Region San Andres y ProvidenciaINVALCA"},{"$f":"B1357&H1357","v":"SD-03-C4-S4-GE0.147528"},{"$f":"G1357","v":"INVALCA"},"Und",{"$f":"C1357&D1357&E1357&F1357&G1357","v":"CUATRO (4)CUATRO (4)EServicio de distribucion Region San Andres y ProvidenciaINVALCA"},{"$f":"H1357","v":0.14752800000000002}]
[{"$f":"\"ate01-\"&B1358&\" \"&C1358&\" \"&D1358&\" \"&E1358","v":"ate01-SD-04-C1-S-G UNO (1) N/A N/A"},"SD-04-C1-S-G","UNO (1)","N/A","N/A","Servicio de distribucion Region Caribe occidental","IMPLESEG S.A.S.",0.40433599999999997,{"$f":"B1358&G1358","v":"SD-04-C1-S-GIMPLESEG S.A.S."},{"$f":"C1358&D1358&E1358&F1358","v":"UNO (1)N/AN/AServicio de distribucion Region Caribe occidental"},{"$f":"H1358","v":0.40433599999999997},{"$f":"C1358&D1358&E1358&F1358&G1358","v":"UNO (1)N/AN/AServicio de distribucion Region Caribe occidentalIMPLESEG S.A.S."},{"$f":"B1358&H1358","v":"SD-04-C1-S-G0.404336"},{"$f":"G1358","v":"IMPLESEG S.A.S."},"Und",{"$f":"C1358&D1358&E1358&F1358&G1358","v":"UNO (1)N/AN/AServicio de distribucion Region Caribe occidentalIMPLESEG S.A.S."},{"$f":"H1358","v":0.40433599999999997}]
[{"$f":"\"ate01-\"&B1359&\" \"&C1359&\" \"&D1359&\" \"&E1359","v":"ate01-SD-04-C1-S-G UNO (1) N/A N/A"},"SD-04-C1-S-G","UNO (1)","N/A","N/A","Servicio de distribucion Region Caribe occidental","JM GRUPO",0.14752800000000002,{"$f":"B1359&G1359","v":"SD-04-C1-S-GJM GRUPO"},{"$f":"C1359&D1359&E1359&F1359","v":"UNO (1)N/AN/AServicio de distribucion Region Caribe occidental"},{"$f":"H1359","v":0.14752800000000002},{"$f":"C1359&D1359&E1359&F1359&G1359","v":"UNO (1)N/AN/AServicio de distribucion Region Caribe occidentalJM GRUPO"},{"$f":"B1359&H1359","v":"SD-04-C1-S-G0.147528"},{"$f":"G1359","v":"JM GRUPO"},"Und",{"$f":"C1359&D1359&E1359&F1359&G1359","v":"UNO (1)N/AN/AServicio de distribucion Region Caribe occidentalJM GRUPO"},{"$f":"H1359","v":0.14752800000000002}]
[{"$f":"\"ate01-\"&B1360&\" \"&C1360&\" \"&D1360&\" \"&E1360","v":"ate01-SD-04-C2-S1-G DOS (2) UNO (1) N/A"},"SD-04-C2-S1-G","DOS (2)","UNO (1)","N/A","Servicio de distribucion Region Caribe occidental","JM GRUPO",0.14752800000000002,{"$f":"B1360&G1360","v":"SD-04-C2-S1-GJM GRUPO"},{"$f":"C1360&D1360&E1360&F1360","v":"DOS (2)UNO (1)N/AServicio de distribucion Region Caribe occidental"},{"$f":"H1360","v":0.14752800000000002},{"$f":"C1360&D1360&E1360&F1360&G1360","v":"DOS (2)UNO (1)N/AServicio de distribucion Region Caribe occidentalJM GRUPO"},{"$f":"B1360&H1360","v":"SD-04-C2-S1-G0.147528"},{"$f":"G1360","v":"JM GRUPO"},"Und",{"$f":"C1360&D1360&E1360&F1360&G1360","v":"DOS (2)UNO (1)N/AServicio de distribucion Region Caribe occidentalJM GRUPO"},{"$f":"H1360","v":0.14752800000000002}]
[{"$f":"\"ate01-\"&B1361&\" \"&C1361&\" \"&D1361&\" \"&E1361","v":"ate01-SD-04-C2-S1-G DOS (2) UNO (1) N/A"},"SD-04-C2-S1-G","DOS (2)","UNO (1)","N/A","Servicio de distribucion Region Caribe occidental","INCOLDEXT S.A.S.",0.142064,{"$f":"B1361&G1361","v":"SD-04-C2-S1-GINCOLDEXT S.A.S."},{"$f":"C1361&D1361&E1361&F1361","v":"DOS (2)UNO (1)N/AServicio de distribucion Region Caribe occidental"},{"$f":"H1361","v":0.142064},{"$f":"C1361&D1361&E1361&F1361&G1361","v":"DOS (2)UNO (1)N/AServicio de distribucion Region Caribe occidentalINCOLDEXT S.A.S."},{"$f":"B1361&H1361","v":"SD-04-C2-S1-G0.142064"},{"$f":"G1361","v":"INCOLDEXT S.A.S."},"Und",{"$f":"C1361&D1361&E1361&F1361&G1361","v":"DOS (2)UNO (1)N/AServicio de distribucion Region Caribe occidentalINCOLDEXT S.A.S."},{"$f":"H1361","v":0.142064}]
[{"$f":"\"ate01-\"&B1362&\" \"&C1362&\" \"&D1362&\" \"&E1362","v":"ate01-SD-04-C2-S1-G DOS (2) UNO (1) N/A"},"SD-04-C2-S1-G","DOS (2)","UNO (1)","N/A","Servicio de distribucion Region Caribe occidental","RES-Q SOLUTIONS",0.142064,{"$f":"B1362&G1362","v":"SD-04-C2-S1-GRES-Q SOLUTIONS"},{"$f":"C1362&D1362&E1362&F1362","v":"DOS (2)UNO (1)N/AServicio de distribucion Region Caribe occidental"},{"$f":"H1362","v":0.142064},{"$f":"C1362&D1362&E1362&F1362&G1362","v":"DOS (2)UNO (1)N/AServicio de distribucion Region Caribe occidentalRES-Q SOLUTIONS"},{"$f":"B1362&H1362","v":"SD-04-C2-S1-G0.142064"},{"$f":"G1362","v":"RES-Q SOLUTIONS"},"Und",{"$f":"C1362&D1362&E1362&F1362&G1362","v":"DOS (2)UNO (1)N/AServicio de distribucion Region Caribe occidentalRES-Q SOLUTIONS"},{"$f":"H1362","v":0.142064}]
[{"$f":"\"ate01-\"&B1363&\" \"&C1363&\" \"&D1363&\" \"&E1363","v":"ate01-SD-04-C2-S1-G DOS (2) UNO (1) N/A"},"SD-04-C2-S1-G","DOS (2)","UNO (1)","N/A","Servicio de distribucion Region Caribe occidental","INVERSION Y HOGAR S.A.S.",0.185776,{"$f":"B1363&G1363","v":"SD-04-C2-S1-GINVERSION Y HOGAR S.A.S."},{"$f":"C1363&D1363&E1363&F1363","v":"DOS (2)UNO (1)N/AServicio de distribucion Region Caribe occidental"},{"$f":"H1363","v":0.185776},{"$f":"C1363&D1363&E1363&F1363&G1363","v":"DOS (2)UNO (1)N/AServicio de distribucion Region Caribe occidentalINVERSION Y HOGAR S.A.S."},{"$f":"B1363&H1363","v":"SD-04-C2-S1-G0.185776"},{"$f":"G1363","v":"INVERSION Y HOGAR S.A.S."},"Und",{"$f":"C1363&D1363&E1363&F1363&G1363","v":"DOS (2)UNO (1)N/AServicio de distribucion Region Caribe occidentalINVERSION Y HOGAR S.A.S."},{"$f":"H1363","v":0.185776}]
[{"$f":"\"ate01-\"&B1364&\" \"&C1364&\" \"&D1364&\" \"&E1364","v":"ate01-SD-04-C2-S2-G DOS (2) DOS (2) N/A"},"SD-04-C2-S2-G","DOS (2)","DOS (2)","N/A","Servicio de distribucion Region Caribe occidental","IMPLESEG S.A.S.",0.16391999999999998,{"$f":"B1364&G1364","v":"SD-04-C2-S2-GIMPLESEG S.A.S."},{"$f":"C1364&D1364&E1364&F1364","v":"DOS (2)DOS (2)N/AServicio de distribucion Region Caribe occidental"},{"$f":"H1364","v":0.16391999999999998},{"$f":"C1364&D1364&E1364&F1364&G1364","v":"DOS (2)DOS (2)N/AServicio de distribucion Region Caribe occidentalIMPLESEG S.A.S."},{"$f":"B1364&H1364","v":"SD-04-C2-S2-G0.16392"},{"$f":"G1364","v":"IMPLESEG S.A.S."},"Und",{"$f":"C1364&D1364&E1364&F1364&G1364","v":"DOS (2)DOS (2)N/AServicio de distribucion Region Caribe occidentalIMPLESEG S.A.S."},{"$f":"H1364","v":0.16391999999999998}]
[{"$f":"\"ate01-\"&B1365&\" \"&C1365&\" \"&D1365&\" \"&E1365","v":"ate01-SD-04-C2-S2-G DOS (2) DOS (2) N/A"},"SD-04-C2-S2-G","DOS (2)","DOS (2)","N/A","Servicio de distribucion Region Caribe occidental","JM GRUPO",0.14752800000000002,{"$f":"B1365&G1365","v":"SD-04-C2-S2-GJM GRUPO"},{"$f":"C1365&D1365&E1365&F1365","v":"DOS (2)DOS (2)N/AServicio de distribucion Region Caribe occidental"},{"$f":"H1365","v":0.14752800000000002},{"$f":"C1365&D1365&E1365&F1365&G1365","v":"DOS (2)DOS (2)N/AServicio de distribucion Region Caribe occidentalJM GRUPO"},{"$f":"B1365&H1365","v":"SD-04-C2-S2-G0.147528"},{"$f":"G1365","v":"JM GRUPO"},"Und",{"$f":"C1365&D1365&E1365&F1365&G1365","v":"DOS (2)DOS (2)N/AServicio de distribucion Region Caribe occidentalJM GRUPO"},{"$f":"H1365","v":0.14752800000000002}]
[{"$f":"\"ate01-\"&B1366&\" \"&C1366&\" \"&D1366&\" \"&E1366","v":"ate01-SD-04-C2-S2-G DOS (2) DOS (2) N/A"},"SD-04-C2-S2-G","DOS (2)","DOS (2)","N/A","Servicio de distribucion Region Caribe occidental","UT EMERGENCIAS 2021",0.14752800000000002,{"$f":"B1366&G1366","v":"SD-04-C2-S2-GUT EMERGENCIAS 2021"},{"$f":"C1366&D1366&E1366&F1366","v":"DOS (2)DOS (2)N/AServicio de distribucion Region Caribe occidental"},{"$f":"H1366","v":0.14752800000000002},{"$f":"C1366&D1366&E1366&F1366&G1366","v":"DOS (2)DOS (2)N/AServicio de distribucion Region Caribe occidentalUT EMERGENCIAS 2021"},{"$f":"B1366&H1366","v":"SD-04-C2-S2-G0.147528"},{"$f":"G1366","v":"UT EMERGENCIAS 2021"},"Und",{"$f":"C1366&D1366&E1366&F1366&G1366","v":"DOS (2)DOS (2)N/AServicio de distribucion Region Caribe occidentalUT EMERGENCIAS 2021"},{"$f":"H1366","v":0.14752800000000002}]
[{"$f":"\"ate01-\"&B1367&\" \"&C1367&\" \"&D1367&\" \"&E1367","v":"ate01-SD-04-C2-S2-G DOS (2) DOS (2) N/A"},"SD-04-C2-S2-G","DOS (2)","DOS (2)","N/A","Servicio de distribucion Region Caribe occidental","INCOLDEXT S.A.S.",0.14752800000000002,{"$f":"B1367&G1367","v":"SD-04-C2-S2-GINCOLDEXT S.A.S."},{"$f":"C1367&D1367&E1367&F1367","v":"DOS (2)DOS (2)N/AServicio de distribucion Region Caribe occidental"},{"$f":"H1367","v":0.14752800000000002},{"$f":"C1367&D1367&E1367&F1367&G1367","v":"DOS (2)DOS (2)N/AServicio de distribucion Region Caribe occidentalINCOLDEXT S.A.S."},{"$f":"B1367&H1367","v":"SD-04-C2-S2-G0.147528"},{"$f":"G1367","v":"INCOLDEXT S.A.S."},"Und",{"$f":"C1367&D1367&E1367&F1367&G1367","v":"DOS (2)DOS (2)N/AServicio de distribucion Region Caribe occidentalINCOLDEXT S.A.S."},{"$f":"H1367","v":0.14752800000000002}]
[{"$f":"\"ate01-\"&B1368&\" \"&C1368&\" \"&D1368&\" \"&E1368","v":"ate01-SD-04-C2-S2-G DOS (2) DOS (2) N/A"},"SD-04-C2-S2-G","DOS (2)","DOS (2)","N/A","Servicio de distribucion Region Caribe occidental","YUBARTA S.A.S.",0.14752800000000002,{"$f":"B1368&G1368","v":"SD-04-C2-S2-GYUBARTA S.A.S."},{"$f":"C1368&D1368&E1368&F1368","v":"DOS (2)DOS (2)N/AServicio de distribucion Region Caribe occidental"},{"$f":"H1368","v":0.14752800000000002},{"$f":"C1368&D1368&E1368&F1368&G1368","v":"DOS (2)DOS (2)N/AServicio de distribucion Region Caribe occidentalYUBARTA S.A.S."},{"$f":"B1368&H1368","v":"SD-04-C2-S2-G0.147528"},{"$f":"G1368","v":"YUBARTA S.A.S."},"Und",{"$f":"C1368&D1368&E1368&F1368&G1368","v":"DOS (2)DOS (2)N/AServicio de distribucion Region Caribe occidentalYUBARTA S.A.S."},{"$f":"H1368","v":0.14752800000000002}]
[{"$f":"\"ate01-\"&B1369&\" \"&C1369&\" \"&D1369&\" \"&E1369","v":"ate01-SD-04-C2-S2-G DOS (2) DOS (2) N/A"},"SD-04-C2-S2-G","DOS (2)","DOS (2)","N/A","Servicio de distribucion Region Caribe occidental","MIGUEL ANGEL VALLEJO BURGOS",0.14752800000000002,{"$f":"B1369&G1369","v":"SD-04-C2-S2-GMIGUEL ANGEL VALLEJO BURGOS"},{"$f":"C1369&D1369&E1369&F1369","v":"DOS (2)DOS (2)N/AServicio de distribucion Region Caribe occidental"},{"$f":"H1369","v":0.14752800000000002},{"$f":"C1369&D1369&E1369&F1369&G1369","v":"DOS (2)DOS (2)N/AServicio de distribucion Region Caribe occidentalMIGUEL ANGEL VALLEJO BURGOS"},{"$f":"B1369&H1369","v":"SD-04-C2-S2-G0.147528"},{"$f":"G1369","v":"MIGUEL ANGEL VALLEJO BURGOS"},"Und",{"$f":"C1369&D1369&E1369&F1369&G1369","v":"DOS (2)DOS (2)N/AServicio de distribucion Region Caribe occidentalMIGUEL ANGEL VALLEJO BURGOS"},{"$f":"H1369","v":0.14752800000000002}]
[{"$f":"\"ate01-\"&B1370&\" \"&C1370&\" \"&D1370&\" \"&E1370","v":"ate01-SD-04-C3-S-G TRES (3) N/A N/A"},"SD-04-C3-S-G","TRES (3)","N/A","N/A","Servicio de distribucion Region Caribe occidental","JM GRUPO",0.14752800000000002,{"$f":"B1370&G1370","v":"SD-04-C3-S-GJM GRUPO"},{"$f":"C1370&D1370&E1370&F1370","v":"TRES (3)N/AN/AServicio de distribucion Region Caribe occidental"},{"$f":"H1370","v":0.14752800000000002},{"$f":"C1370&D1370&E1370&F1370&G1370","v":"TRES (3)N/AN/AServicio de distribucion Region Caribe occidentalJM GRUPO"},{"$f":"B1370&H1370","v":"SD-04-C3-S-G0.147528"},{"$f":"G1370","v":"JM GRUPO"},"Und",{"$f":"C1370&D1370&E1370&F1370&G1370","v":"TRES (3)N/AN/AServicio de distribucion Region Caribe occidentalJM GRUPO"},{"$f":"H1370","v":0.14752800000000002}]
[{"$f":"\"ate01-\"&B1371&\" \"&C1371&\" \"&D1371&\" \"&E1371","v":"ate01-SD-04-C3-S-G TRES (3) N/A N/A"},"SD-04-C3-S-G","TRES (3)","N/A","N/A","Servicio de distribucion Region Caribe occidental","INVERSIONES SARHEM DE COLOMBIA S.A.S.",0.185776,{"$f":"B1371&G1371","v":"SD-04-C3-S-GINVERSIONES SARHEM DE COLOMBIA S.A.S."},{"$f":"C1371&D1371&E1371&F1371","v":"TRES (3)N/AN/AServicio de distribucion Region Caribe occidental"},{"$f":"H1371","v":0.185776},{"$f":"C1371&D1371&E1371&F1371&G1371","v":"TRES (3)N/AN/AServicio de distribucion Region Caribe occidentalINVERSIONES SARHEM DE COLOMBIA S.A.S."},{"$f":"B1371&H1371","v":"SD-04-C3-S-G0.185776"},{"$f":"G1371","v":"INVERSIONES SARHEM DE COLOMBIA S.A.S."},"Und",{"$f":"C1371&D1371&E1371&F1371&G1371","v":"TRES (3)N/AN/AServicio de distribucion Region Caribe occidentalINVERSIONES SARHEM DE COLOMBIA S.A.S."},{"$f":"H1371","v":0.185776}]
[{"$f":"\"ate01-\"&B1372&\" \"&C1372&\" \"&D1372&\" \"&E1372","v":"ate01-SD-04-C3-S-G TRES (3) N/A N/A"},"SD-04-C3-S-G","TRES (3)","N/A","N/A","Servicio de distribucion Region Caribe occidental","C I WARRIORS COMPANY S.A.S.",0.14752800000000002,{"$f":"B1372&G1372","v":"SD-04-C3-S-GC I WARRIORS COMPANY S.A.S."},{"$f":"C1372&D1372&E1372&F1372","v":"TRES (3)N/AN/AServicio de distribucion Region Caribe occidental"},{"$f":"H1372","v":0.14752800000000002},{"$f":"C1372&D1372&E1372&F1372&G1372","v":"TRES (3)N/AN/AServicio de distribucion Region Caribe occidentalC I WARRIORS COMPANY S.A.S."},{"$f":"B1372&H1372","v":"SD-04-C3-S-G0.147528"},{"$f":"G1372","v":"C I WARRIORS COMPANY S.A.S."},"Und",{"$f":"C1372&D1372&E1372&F1372&G1372","v":"TRES (3)N/AN/AServicio de distribucion Region Caribe occidentalC I WARRIORS COMPANY S.A.S."},{"$f":"H1372","v":0.14752800000000002}]
[{"$f":"\"ate01-\"&B1373&\" \"&C1373&\" \"&D1373&\" \"&E1373","v":"ate01-SD-04-C3-S-G TRES (3) N/A N/A"},"SD-04-C3-S-G","TRES (3)","N/A","N/A","Servicio de distribucion Region Caribe occidental","LIMINA S.A.S.",0.185776,{"$f":"B1373&G1373","v":"SD-04-C3-S-GLIMINA S.A.S."},{"$f":"C1373&D1373&E1373&F1373","v":"TRES (3)N/AN/AServicio de distribucion Region Caribe occidental"},{"$f":"H1373","v":0.185776},{"$f":"C1373&D1373&E1373&F1373&G1373","v":"TRES (3)N/AN/AServicio de distribucion Region Caribe occidentalLIMINA S.A.S."},{"$f":"B1373&H1373","v":"SD-04-C3-S-G0.185776"},{"$f":"G1373","v":"LIMINA S.A.S."},"Und",{"$f":"C1373&D1373&E1373&F1373&G1373","v":"TRES (3)N/AN/AServicio de distribucion Region Caribe occidentalLIMINA S.A.S."},{"$f":"H1373","v":0.185776}]
[{"$f":"\"ate01-\"&B1374&\" \"&C1374&\" \"&D1374&\" \"&E1374","v":"ate01-SD-04-C3-S-G TRES (3) N/A N/A"},"SD-04-C3-S-G","TRES (3)","N/A","N/A","Servicio de distribucion Region Caribe occidental","YUBARTA S.A.S.",0.14752800000000002,{"$f":"B1374&G1374","v":"SD-04-C3-S-GYUBARTA S.A.S."},{"$f":"C1374&D1374&E1374&F1374","v":"TRES (3)N/AN/AServicio de distribucion Region Caribe occidental"},{"$f":"H1374","v":0.14752800000000002},{"$f":"C1374&D1374&E1374&F1374&G1374","v":"TRES (3)N/AN/AServicio de distribucion Region Caribe occidentalYUBARTA S.A.S."},{"$f":"B1374&H1374","v":"SD-04-C3-S-G0.147528"},{"$f":"G1374","v":"YUBARTA S.A.S."},"Und",{"$f":"C1374&D1374&E1374&F1374&G1374","v":"TRES (3)N/AN/AServicio de distribucion Region Caribe occidentalYUBARTA S.A.S."},{"$f":"H1374","v":0.14752800000000002}]
[{"$f":"\"ate01-\"&B1375&\" \"&C1375&\" \"&D1375&\" \"&E1375","v":"ate01-SD-04-C3-S-G TRES (3) N/A N/A"},"SD-04-C3-S-G","TRES (3)","N/A","N/A","Servicio de distribucion Region Caribe occidental","COLOMBIANA DE TEXTILES POR MAYOR S.A.",0.14752800000000002,{"$f":"B1375&G1375","v":"SD-04-C3-S-GCOLOMBIANA DE TEXTILES POR MAYOR S.A."},{"$f":"C1375&D1375&E1375&F1375","v":"TRES (3)N/AN/AServicio de distribucion Region Caribe occidental"},{"$f":"H1375","v":0.14752800000000002},{"$f":"C1375&D1375&E1375&F1375&G1375","v":"TRES (3)N/AN/AServicio de distribucion Region Caribe occidentalCOLOMBIANA DE TEXTILES POR MAYOR S.A."},{"$f":"B1375&H1375","v":"SD-04-C3-S-G0.147528"},{"$f":"G1375","v":"COLOMBIANA DE TEXTILES POR MAYOR S.A."},"Und",{"$f":"C1375&D1375&E1375&F1375&G1375","v":"TRES (3)N/AN/AServicio de distribucion Region Caribe occidentalCOLOMBIANA DE TEXTILES POR MAYOR S.A."},{"$f":"H1375","v":0.14752800000000002}]
[{"$f":"\"ate01-\"&B1376&\" \"&C1376&\" \"&D1376&\" \"&E1376","v":"ate01-SD-04-C3-S-G TRES (3) N/A N/A"},"SD-04-C3-S-G","TRES (3)","N/A","N/A","Servicio de distribucion Region Caribe occidental","MIGUEL ANGEL VALLEJO BURGOS",0.14752800000000002,{"$f":"B1376&G1376","v":"SD-04-C3-S-GMIGUEL ANGEL VALLEJO BURGOS"},{"$f":"C1376&D1376&E1376&F1376","v":"TRES (3)N/AN/AServicio de distribucion Region Caribe occidental"},{"$f":"H1376","v":0.14752800000000002},{"$f":"C1376&D1376&E1376&F1376&G1376","v":"TRES (3)N/AN/AServicio de distribucion Region Caribe occidentalMIGUEL ANGEL VALLEJO BURGOS"},{"$f":"B1376&H1376","v":"SD-04-C3-S-G0.147528"},{"$f":"G1376","v":"MIGUEL ANGEL VALLEJO BURGOS"},"Und",{"$f":"C1376&D1376&E1376&F1376&G1376","v":"TRES (3)N/AN/AServicio de distribucion Region Caribe occidentalMIGUEL ANGEL VALLEJO BURGOS"},{"$f":"H1376","v":0.14752800000000002}]
[{"$f":"\"ate01-\"&B1377&\" \"&C1377&\" \"&D1377&\" \"&E1377","v":"ate01-SD-04-C3-S-G TRES (3) N/A N/A"},"SD-04-C3-S-G","TRES (3)","N/A","N/A","Servicio de distribucion Region Caribe occidental","INVALCA",0.14752800000000002,{"$f":"B1377&G1377","v":"SD-04-C3-S-GINVALCA"},{"$f":"C1377&D1377&E1377&F1377","v":"TRES (3)N/AN/AServicio de distribucion Region Caribe occidental"},{"$f":"H1377","v":0.14752800000000002},{"$f":"C1377&D1377&E1377&F1377&G1377","v":"TRES (3)N/AN/AServicio de distribucion Region Caribe occidentalINVALCA"},{"$f":"B1377&H1377","v":"SD-04-C3-S-G0.147528"},{"$f":"G1377","v":"INVALCA"},"Und",{"$f":"C1377&D1377&E1377&F1377&G1377","v":"TRES (3)N/AN/AServicio de distribucion Region Caribe occidentalINVALCA"},{"$f":"H1377","v":0.14752800000000002}]
[{"$f":"\"ate01-\"&B1378&\" \"&C1378&\" \"&D1378&\" \"&E1378","v":"ate01-SD-04-C4-S3-GA CUATRO (4) TRES (3) A"},"SD-04-C4-S3-GA","CUATRO (4)","TRES (3)","A","Servicio de distribucion Region Caribe occidental","JM GRUPO",0.14752800000000002,{"$f":"B1378&G1378","v":"SD-04-C4-S3-GAJM GRUPO"},{"$f":"C1378&D1378&E1378&F1378","v":"CUATRO (4)TRES (3)AServicio de distribucion Region Caribe occidental"},{"$f":"H1378","v":0.14752800000000002},{"$f":"C1378&D1378&E1378&F1378&G1378","v":"CUATRO (4)TRES (3)AServicio de distribucion Region Caribe occidentalJM GRUPO"},{"$f":"B1378&H1378","v":"SD-04-C4-S3-GA0.147528"},{"$f":"G1378","v":"JM GRUPO"},"Und",{"$f":"C1378&D1378&E1378&F1378&G1378","v":"CUATRO (4)TRES (3)AServicio de distribucion Region Caribe occidentalJM GRUPO"},{"$f":"H1378","v":0.14752800000000002}]
[{"$f":"\"ate01-\"&B1379&\" \"&C1379&\" \"&D1379&\" \"&E1379","v":"ate01-SD-04-C4-S3-GA CUATRO (4) TRES (3) A"},"SD-04-C4-S3-GA","CUATRO (4)","TRES (3)","A","Servicio de distribucion Region Caribe occidental","UT EMERGENCIAS 2021",0.14752800000000002,{"$f":"B1379&G1379","v":"SD-04-C4-S3-GAUT EMERGENCIAS 2021"},{"$f":"C1379&D1379&E1379&F1379","v":"CUATRO (4)TRES (3)AServicio de distribucion Region Caribe occidental"},{"$f":"H1379","v":0.14752800000000002},{"$f":"C1379&D1379&E1379&F1379&G1379","v":"CUATRO (4)TRES (3)AServicio de distribucion Region Caribe occidentalUT EMERGENCIAS 2021"},{"$f":"B1379&H1379","v":"SD-04-C4-S3-GA0.147528"},{"$f":"G1379","v":"UT EMERGENCIAS 2021"},"Und",{"$f":"C1379&D1379&E1379&F1379&G1379","v":"CUATRO (4)TRES (3)AServicio de distribucion Region Caribe occidentalUT EMERGENCIAS 2021"},{"$f":"H1379","v":0.14752800000000002}]
[{"$f":"\"ate01-\"&B1380&\" \"&C1380&\" \"&D1380&\" \"&E1380","v":"ate01-SD-04-C4-S3-GA CUATRO (4) TRES (3) A"},"SD-04-C4-S3-GA","CUATRO (4)","TRES (3)","A","Servicio de distribucion Region Caribe occidental","UNION TEMPORAL AYGEMA",0.14752800000000002,{"$f":"B1380&G1380","v":"SD-04-C4-S3-GAUNION TEMPORAL AYGEMA"},{"$f":"C1380&D1380&E1380&F1380","v":"CUATRO (4)TRES (3)AServicio de distribucion Region Caribe occidental"},{"$f":"H1380","v":0.14752800000000002},{"$f":"C1380&D1380&E1380&F1380&G1380","v":"CUATRO (4)TRES (3)AServicio de distribucion Region Caribe occidentalUNION TEMPORAL AYGEMA"},{"$f":"B1380&H1380","v":"SD-04-C4-S3-GA0.147528"},{"$f":"G1380","v":"UNION TEMPORAL AYGEMA"},"Und",{"$f":"C1380&D1380&E1380&F1380&G1380","v":"CUATRO (4)TRES (3)AServicio de distribucion Region Caribe occidentalUNION TEMPORAL AYGEMA"},{"$f":"H1380","v":0.14752800000000002}]
[{"$f":"\"ate01-\"&B1381&\" \"&C1381&\" \"&D1381&\" \"&E1381","v":"ate01-SD-04-C4-S3-GA CUATRO (4) TRES (3) A"},"SD-04-C4-S3-GA","CUATRO (4)","TRES (3)","A","Servicio de distribucion Region Caribe occidental","COLOMBIANA DE TEXTILES POR MAYOR S.A.",0.14752800000000002,{"$f":"B1381&G1381","v":"SD-04-C4-S3-GACOLOMBIANA DE TEXTILES POR MAYOR S.A."},{"$f":"C1381&D1381&E1381&F1381","v":"CUATRO (4)TRES (3)AServicio de distribucion Region Caribe occidental"},{"$f":"H1381","v":0.14752800000000002},{"$f":"C1381&D1381&E1381&F1381&G1381","v":"CUATRO (4)TRES (3)AServicio de distribucion Region Caribe occidentalCOLOMBIANA DE TEXTILES POR MAYOR S.A."},{"$f":"B1381&H1381","v":"SD-04-C4-S3-GA0.147528"},{"$f":"G1381","v":"COLOMBIANA DE TEXTILES POR MAYOR S.A."},"Und",{"$f":"C1381&D1381&E1381&F1381&G1381","v":"CUATRO (4)TRES (3)AServicio de distribucion Region Caribe occidentalCOLOMBIANA DE TEXTILES POR MAYOR S.A."},{"$f":"H1381","v":0.14752800000000002}]
[{"$f":"\"ate01-\"&B1382&\" \"&C1382&\" \"&D1382&\" \"&E1382","v":"ate01-SD-04-C4-S3-GC CUATRO (4) TRES (3) C"},"SD-04-C4-S3-GC","CUATRO (4)","TRES (3)","C","Servicio de distribucion Region Caribe occidental","JM GRUPO",0.14752800000000002,{"$f":"B1382&G1382","v":"SD-04-C4-S3-GCJM GRUPO"},{"$f":"C1382&D1382&E1382&F1382","v":"CUATRO (4)TRES (3)CServicio de distribucion Region Caribe occidental"},{"$f":"H1382","v":0.14752800000000002},{"$f":"C1382&D1382&E1382&F1382&G1382","v":"CUATRO (4)TRES (3)CServicio de distribucion Region Caribe occidentalJM GRUPO"},{"$f":"B1382&H1382","v":"SD-04-C4-S3-GC0.147528"},{"$f":"G1382","v":"JM GRUPO"},"Und",{"$f":"C1382&D1382&E1382&F1382&G1382","v":"CUATRO (4)TRES (3)CServicio de distribucion Region Caribe occidentalJM GRUPO"},{"$f":"H1382","v":0.14752800000000002}]
[{"$f":"\"ate01-\"&B1383&\" \"&C1383&\" \"&D1383&\" \"&E1383","v":"ate01-SD-04-C4-S3-GC CUATRO (4) TRES (3) C"},"SD-04-C4-S3-GC","CUATRO (4)","TRES (3)","C","Servicio de distribucion Region Caribe occidental","UNION TEMPORAL AYGEMA",0.14752800000000002,{"$f":"B1383&G1383","v":"SD-04-C4-S3-GCUNION TEMPORAL AYGEMA"},{"$f":"C1383&D1383&E1383&F1383","v":"CUATRO (4)TRES (3)CServicio de distribucion Region Caribe occidental"},{"$f":"H1383","v":0.14752800000000002},{"$f":"C1383&D1383&E1383&F1383&G1383","v":"CUATRO (4)TRES (3)CServicio de distribucion Region Caribe occidentalUNION TEMPORAL AYGEMA"},{"$f":"B1383&H1383","v":"SD-04-C4-S3-GC0.147528"},{"$f":"G1383","v":"UNION TEMPORAL AYGEMA"},"Und",{"$f":"C1383&D1383&E1383&F1383&G1383","v":"CUATRO (4)TRES (3)CServicio de distribucion Region Caribe occidentalUNION TEMPORAL AYGEMA"},{"$f":"H1383","v":0.14752800000000002}]
[{"$f":"\"ate01-\"&B1384&\" \"&C1384&\" \"&D1384&\" \"&E1384","v":"ate01-SD-04-C4-S3-GC CUATRO (4) TRES (3) C"},"SD-04-C4-S3-GC","CUATRO (4)","TRES (3)","C","Servicio de distribucion Region Caribe occidental","SUPRISA S.A.S.",0.15,{"$f":"B1384&G1384","v":"SD-04-C4-S3-GCSUPRISA S.A.S."},{"$f":"C1384&D1384&E1384&F1384","v":"CUATRO (4)TRES (3)CServicio de distribucion Region Caribe occidental"},{"$f":"H1384","v":0.15},{"$f":"C1384&D1384&E1384&F1384&G1384","v":"CUATRO (4)TRES (3)CServicio de distribucion Region Caribe occidentalSUPRISA S.A.S."},{"$f":"B1384&H1384","v":"SD-04-C4-S3-GC0.15"},{"$f":"G1384","v":"SUPRISA S.A.S."},"Und",{"$f":"C1384&D1384&E1384&F1384&G1384","v":"CUATRO (4)TRES (3)CServicio de distribucion Region Caribe occidentalSUPRISA S.A.S."},{"$f":"H1384","v":0.15}]
[{"$f":"\"ate01-\"&B1385&\" \"&C1385&\" \"&D1385&\" \"&E1385","v":"ate01-SD-04-C4-S3-GC CUATRO (4) TRES (3) C"},"SD-04-C4-S3-GC","CUATRO (4)","TRES (3)","C","Servicio de distribucion Region Caribe occidental","MIGUEL ANGEL VALLEJO BURGOS",0.14752800000000002,{"$f":"B1385&G1385","v":"SD-04-C4-S3-GCMIGUEL ANGEL VALLEJO BURGOS"},{"$f":"C1385&D1385&E1385&F1385","v":"CUATRO (4)TRES (3)CServicio de distribucion Region Caribe occidental"},{"$f":"H1385","v":0.14752800000000002},{"$f":"C1385&D1385&E1385&F1385&G1385","v":"CUATRO (4)TRES (3)CServicio de distribucion Region Caribe occidentalMIGUEL ANGEL VALLEJO BURGOS"},{"$f":"B1385&H1385","v":"SD-04-C4-S3-GC0.147528"},{"$f":"G1385","v":"MIGUEL ANGEL VALLEJO BURGOS"},"Und",{"$f":"C1385&D1385&E1385&F1385&G1385","v":"CUATRO (4)TRES (3)CServicio de distribucion Region Caribe occidentalMIGUEL ANGEL VALLEJO BURGOS"},{"$f":"H1385","v":0.14752800000000002}]
[{"$f":"\"ate01-\"&B1386&\" \"&C1386&\" \"&D1386&\" \"&E1386","v":"ate01-SD-04-C4-S3-GD CUATRO (4) TRES (3) D"},"SD-04-C4-S3-GD","CUATRO (4)","TRES (3)","D","Servicio de distribucion Region Caribe occidental","IMPLESEG S.A.S.",0.16391999999999998,{"$f":"B1386&G1386","v":"SD-04-C4-S3-GDIMPLESEG S.A.S."},{"$f":"C1386&D1386&E1386&F1386","v":"CUATRO (4)TRES (3)DServicio de distribucion Region Caribe occidental"},{"$f":"H1386","v":0.16391999999999998},{"$f":"C1386&D1386&E1386&F1386&G1386","v":"CUATRO (4)TRES (3)DServicio de distribucion Region Caribe occidentalIMPLESEG S.A.S."},{"$f":"B1386&H1386","v":"SD-04-C4-S3-GD0.16392"},{"$f":"G1386","v":"IMPLESEG S.A.S."},"Und",{"$f":"C1386&D1386&E1386&F1386&G1386","v":"CUATRO (4)TRES (3)DServicio de distribucion Region Caribe occidentalIMPLESEG S.A.S."},{"$f":"H1386","v":0.16391999999999998}]
[{"$f":"\"ate01-\"&B1387&\" \"&C1387&\" \"&D1387&\" \"&E1387","v":"ate01-SD-04-C4-S3-GD CUATRO (4) TRES (3) D"},"SD-04-C4-S3-GD","CUATRO (4)","TRES (3)","D","Servicio de distribucion Region Caribe occidental","JM GRUPO",0.14752800000000002,{"$f":"B1387&G1387","v":"SD-04-C4-S3-GDJM GRUPO"},{"$f":"C1387&D1387&E1387&F1387","v":"CUATRO (4)TRES (3)DServicio de distribucion Region Caribe occidental"},{"$f":"H1387","v":0.14752800000000002},{"$f":"C1387&D1387&E1387&F1387&G1387","v":"CUATRO (4)TRES (3)DServicio de distribucion Region Caribe occidentalJM GRUPO"},{"$f":"B1387&H1387","v":"SD-04-C4-S3-GD0.147528"},{"$f":"G1387","v":"JM GRUPO"},"Und",{"$f":"C1387&D1387&E1387&F1387&G1387","v":"CUATRO (4)TRES (3)DServicio de distribucion Region Caribe occidentalJM GRUPO"},{"$f":"H1387","v":0.14752800000000002}]
[{"$f":"\"ate01-\"&B1388&\" \"&C1388&\" \"&D1388&\" \"&E1388","v":"ate01-SD-04-C4-S3-GD CUATRO (4) TRES (3) D"},"SD-04-C4-S3-GD","CUATRO (4)","TRES (3)","D","Servicio de distribucion Region Caribe occidental","SUMIMAS S.A.S.",0.13,{"$f":"B1388&G1388","v":"SD-04-C4-S3-GDSUMIMAS S.A.S."},{"$f":"C1388&D1388&E1388&F1388","v":"CUATRO (4)TRES (3)DServicio de distribucion Region Caribe occidental"},{"$f":"H1388","v":0.13},{"$f":"C1388&D1388&E1388&F1388&G1388","v":"CUATRO (4)TRES (3)DServicio de distribucion Region Caribe occidentalSUMIMAS S.A.S."},{"$f":"B1388&H1388","v":"SD-04-C4-S3-GD0.13"},{"$f":"G1388","v":"SUMIMAS S.A.S."},"Und",{"$f":"C1388&D1388&E1388&F1388&G1388","v":"CUATRO (4)TRES (3)DServicio de distribucion Region Caribe occidentalSUMIMAS S.A.S."},{"$f":"H1388","v":0.13}]
[{"$f":"\"ate01-\"&B1389&\" \"&C1389&\" \"&D1389&\" \"&E1389","v":"ate01-SD-04-C4-S3-GD CUATRO (4) TRES (3) D"},"SD-04-C4-S3-GD","CUATRO (4)","TRES (3)","D","Servicio de distribucion Region Caribe occidental","UT EMERGENCIAS 2021",0.14752800000000002,{"$f":"B1389&G1389","v":"SD-04-C4-S3-GDUT EMERGENCIAS 2021"},{"$f":"C1389&D1389&E1389&F1389","v":"CUATRO (4)TRES (3)DServicio de distribucion Region Caribe occidental"},{"$f":"H1389","v":0.14752800000000002},{"$f":"C1389&D1389&E1389&F1389&G1389","v":"CUATRO (4)TRES (3)DServicio de distribucion Region Caribe occidentalUT EMERGENCIAS 2021"},{"$f":"B1389&H1389","v":"SD-04-C4-S3-GD0.147528"},{"$f":"G1389","v":"UT EMERGENCIAS 2021"},"Und",{"$f":"C1389&D1389&E1389&F1389&G1389","v":"CUATRO (4)TRES (3)DServicio de distribucion Region Caribe occidentalUT EMERGENCIAS 2021"},{"$f":"H1389","v":0.14752800000000002}]
[{"$f":"\"ate01-\"&B1390&\" \"&C1390&\" \"&D1390&\" \"&E1390","v":"ate01-SD-04-C4-S3-GD CUATRO (4) TRES (3) D"},"SD-04-C4-S3-GD","CUATRO (4)","TRES (3)","D","Servicio de distribucion Region Caribe occidental","INCOLDEXT S.A.S.",0.14752800000000002,{"$f":"B1390&G1390","v":"SD-04-C4-S3-GDINCOLDEXT S.A.S."},{"$f":"C1390&D1390&E1390&F1390","v":"CUATRO (4)TRES (3)DServicio de distribucion Region Caribe occidental"},{"$f":"H1390","v":0.14752800000000002},{"$f":"C1390&D1390&E1390&F1390&G1390","v":"CUATRO (4)TRES (3)DServicio de distribucion Region Caribe occidentalINCOLDEXT S.A.S."},{"$f":"B1390&H1390","v":"SD-04-C4-S3-GD0.147528"},{"$f":"G1390","v":"INCOLDEXT S.A.S."},"Und",{"$f":"C1390&D1390&E1390&F1390&G1390","v":"CUATRO (4)TRES (3)DServicio de distribucion Region Caribe occidentalINCOLDEXT S.A.S."},{"$f":"H1390","v":0.14752800000000002}]
[{"$f":"\"ate01-\"&B1391&\" \"&C1391&\" \"&D1391&\" \"&E1391","v":"ate01-SD-04-C4-S3-GD CUATRO (4) TRES (3) D"},"SD-04-C4-S3-GD","CUATRO (4)","TRES (3)","D","Servicio de distribucion Region Caribe occidental","UNION TEMPORAL AYGEMA",0.14752800000000002,{"$f":"B1391&G1391","v":"SD-04-C4-S3-GDUNION TEMPORAL AYGEMA"},{"$f":"C1391&D1391&E1391&F1391","v":"CUATRO (4)TRES (3)DServicio de distribucion Region Caribe occidental"},{"$f":"H1391","v":0.14752800000000002},{"$f":"C1391&D1391&E1391&F1391&G1391","v":"CUATRO (4)TRES (3)DServicio de distribucion Region Caribe occidentalUNION TEMPORAL AYGEMA"},{"$f":"B1391&H1391","v":"SD-04-C4-S3-GD0.147528"},{"$f":"G1391","v":"UNION TEMPORAL AYGEMA"},"Und",{"$f":"C1391&D1391&E1391&F1391&G1391","v":"CUATRO (4)TRES (3)DServicio de distribucion Region Caribe occidentalUNION TEMPORAL AYGEMA"},{"$f":"H1391","v":0.14752800000000002}]
[{"$f":"\"ate01-\"&B1392&\" \"&C1392&\" \"&D1392&\" \"&E1392","v":"ate01-SD-04-C4-S3-GD CUATRO (4) TRES (3) D"},"SD-04-C4-S3-GD","CUATRO (4)","TRES (3)","D","Servicio de distribucion Region Caribe occidental","COMERCIALIZADORA DINPRO S.A.S.",0.14752800000000002,{"$f":"B1392&G1392","v":"SD-04-C4-S3-GDCOMERCIALIZADORA DINPRO S.A.S."},{"$f":"C1392&D1392&E1392&F1392","v":"CUATRO (4)TRES (3)DServicio de distribucion Region Caribe occidental"},{"$f":"H1392","v":0.14752800000000002},{"$f":"C1392&D1392&E1392&F1392&G1392","v":"CUATRO (4)TRES (3)DServicio de distribucion Region Caribe occidentalCOMERCIALIZADORA DINPRO S.A.S."},{"$f":"B1392&H1392","v":"SD-04-C4-S3-GD0.147528"},{"$f":"G1392","v":"COMERCIALIZADORA DINPRO S.A.S."},"Und",{"$f":"C1392&D1392&E1392&F1392&G1392","v":"CUATRO (4)TRES (3)DServicio de distribucion Region Caribe occidentalCOMERCIALIZADORA DINPRO S.A.S."},{"$f":"H1392","v":0.14752800000000002}]
[{"$f":"\"ate01-\"&B1393&\" \"&C1393&\" \"&D1393&\" \"&E1393","v":"ate01-SD-04-C4-S3-GD CUATRO (4) TRES (3) D"},"SD-04-C4-S3-GD","CUATRO (4)","TRES (3)","D","Servicio de distribucion Region Caribe occidental","LIMINA S.A.S.",0.185776,{"$f":"B1393&G1393","v":"SD-04-C4-S3-GDLIMINA S.A.S."},{"$f":"C1393&D1393&E1393&F1393","v":"CUATRO (4)TRES (3)DServicio de distribucion Region Caribe occidental"},{"$f":"H1393","v":0.185776},{"$f":"C1393&D1393&E1393&F1393&G1393","v":"CUATRO (4)TRES (3)DServicio de distribucion Region Caribe occidentalLIMINA S.A.S."},{"$f":"B1393&H1393","v":"SD-04-C4-S3-GD0.185776"},{"$f":"G1393","v":"LIMINA S.A.S."},"Und",{"$f":"C1393&D1393&E1393&F1393&G1393","v":"CUATRO (4)TRES (3)DServicio de distribucion Region Caribe occidentalLIMINA S.A.S."},{"$f":"H1393","v":0.185776}]
[{"$f":"\"ate01-\"&B1394&\" \"&C1394&\" \"&D1394&\" \"&E1394","v":"ate01-SD-04-C4-S3-GD CUATRO (4) TRES (3) D"},"SD-04-C4-S3-GD","CUATRO (4)","TRES (3)","D","Servicio de distribucion Region Caribe occidental","INMADICA ANDINA",8.7424000000000002E-2,{"$f":"B1394&G1394","v":"SD-04-C4-S3-GDINMADICA ANDINA"},{"$f":"C1394&D1394&E1394&F1394","v":"CUATRO (4)TRES (3)DServicio de distribucion Region Caribe occidental"},{"$f":"H1394","v":8.7424000000000002E-2},{"$f":"C1394&D1394&E1394&F1394&G1394","v":"CUATRO (4)TRES (3)DServicio de distribucion Region Caribe occidentalINMADICA ANDINA"},{"$f":"B1394&H1394","v":"SD-04-C4-S3-GD0.087424"},{"$f":"G1394","v":"INMADICA ANDINA"},"Und",{"$f":"C1394&D1394&E1394&F1394&G1394","v":"CUATRO (4)TRES (3)DServicio de distribucion Region Caribe occidentalINMADICA ANDINA"},{"$f":"H1394","v":8.7424000000000002E-2}]
[{"$f":"\"ate01-\"&B1395&\" \"&C1395&\" \"&D1395&\" \"&E1395","v":"ate01-SD-04-C4-S3-GD CUATRO (4) TRES (3) D"},"SD-04-C4-S3-GD","CUATRO (4)","TRES (3)","D","Servicio de distribucion Region Caribe occidental","COLOMBIANA DE TEXTILES POR MAYOR S.A.",0.14752800000000002,{"$f":"B1395&G1395","v":"SD-04-C4-S3-GDCOLOMBIANA DE TEXTILES POR MAYOR S.A."},{"$f":"C1395&D1395&E1395&F1395","v":"CUATRO (4)TRES (3)DServicio de distribucion Region Caribe occidental"},{"$f":"H1395","v":0.14752800000000002},{"$f":"C1395&D1395&E1395&F1395&G1395","v":"CUATRO (4)TRES (3)DServicio de distribucion Region Caribe occidentalCOLOMBIANA DE TEXTILES POR MAYOR S.A."},{"$f":"B1395&H1395","v":"SD-04-C4-S3-GD0.147528"},{"$f":"G1395","v":"COLOMBIANA DE TEXTILES POR MAYOR S.A."},"Und",{"$f":"C1395&D1395&E1395&F1395&G1395","v":"CUATRO (4)TRES (3)DServicio de distribucion Region Caribe occidentalCOLOMBIANA DE TEXTILES POR MAYOR S.A."},{"$f":"H1395","v":0.14752800000000002}]
[{"$f":"\"ate01-\"&B1396&\" \"&C1396&\" \"&D1396&\" \"&E1396","v":"ate01-SD-04-C4-S3-GD CUATRO (4) TRES (3) D"},"SD-04-C4-S3-GD","CUATRO (4)","TRES (3)","D","Servicio de distribucion Region Caribe occidental","MIGUEL ANGEL VALLEJO BURGOS",0.14752800000000002,{"$f":"B1396&G1396","v":"SD-04-C4-S3-GDMIGUEL ANGEL VALLEJO BURGOS"},{"$f":"C1396&D1396&E1396&F1396","v":"CUATRO (4)TRES (3)DServicio de distribucion Region Caribe occidental"},{"$f":"H1396","v":0.14752800000000002},{"$f":"C1396&D1396&E1396&F1396&G1396","v":"CUATRO (4)TRES (3)DServicio de distribucion Region Caribe occidentalMIGUEL ANGEL VALLEJO BURGOS"},{"$f":"B1396&H1396","v":"SD-04-C4-S3-GD0.147528"},{"$f":"G1396","v":"MIGUEL ANGEL VALLEJO BURGOS"},"Und",{"$f":"C1396&D1396&E1396&F1396&G1396","v":"CUATRO (4)TRES (3)DServicio de distribucion Region Caribe occidentalMIGUEL ANGEL VALLEJO BURGOS"},{"$f":"H1396","v":0.14752800000000002}]
[{"$f":"\"ate01-\"&B1397&\" \"&C1397&\" \"&D1397&\" \"&E1397","v":"ate01-SD-04-C4-S3-GE CUATRO (4) TRES (3) E"},"SD-04-C4-S3-GE","CUATRO (4)","TRES (3)","E","Servicio de distribucion Region Caribe occidental","JM GRUPO",0.14752800000000002,{"$f":"B1397&G1397","v":"SD-04-C4-S3-GEJM GRUPO"},{"$f":"C1397&D1397&E1397&F1397","v":"CUATRO (4)TRES (3)EServicio de distribucion Region Caribe occidental"},{"$f":"H1397","v":0.14752800000000002},{"$f":"C1397&D1397&E1397&F1397&G1397","v":"CUATRO (4)TRES (3)EServicio de distribucion Region Caribe occidentalJM GRUPO"},{"$f":"B1397&H1397","v":"SD-04-C4-S3-GE0.147528"},{"$f":"G1397","v":"JM GRUPO"},"Und",{"$f":"C1397&D1397&E1397&F1397&G1397","v":"CUATRO (4)TRES (3)EServicio de distribucion Region Caribe occidentalJM GRUPO"},{"$f":"H1397","v":0.14752800000000002}]
[{"$f":"\"ate01-\"&B1398&\" \"&C1398&\" \"&D1398&\" \"&E1398","v":"ate01-SD-04-C4-S3-GE CUATRO (4) TRES (3) E"},"SD-04-C4-S3-GE","CUATRO (4)","TRES (3)","E","Servicio de distribucion Region Caribe occidental","INVERSIONES SARHEM DE COLOMBIA S.A.S.",0.185776,{"$f":"B1398&G1398","v":"SD-04-C4-S3-GEINVERSIONES SARHEM DE COLOMBIA S.A.S."},{"$f":"C1398&D1398&E1398&F1398","v":"CUATRO (4)TRES (3)EServicio de distribucion Region Caribe occidental"},{"$f":"H1398","v":0.185776},{"$f":"C1398&D1398&E1398&F1398&G1398","v":"CUATRO (4)TRES (3)EServicio de distribucion Region Caribe occidentalINVERSIONES SARHEM DE COLOMBIA S.A.S."},{"$f":"B1398&H1398","v":"SD-04-C4-S3-GE0.185776"},{"$f":"G1398","v":"INVERSIONES SARHEM DE COLOMBIA S.A.S."},"Und",{"$f":"C1398&D1398&E1398&F1398&G1398","v":"CUATRO (4)TRES (3)EServicio de distribucion Region Caribe occidentalINVERSIONES SARHEM DE COLOMBIA S.A.S."},{"$f":"H1398","v":0.185776}]
[{"$f":"\"ate01-\"&B1399&\" \"&C1399&\" \"&D1399&\" \"&E1399","v":"ate01-SD-04-C4-S3-GE CUATRO (4) TRES (3) E"},"SD-04-C4-S3-GE","CUATRO (4)","TRES (3)","E","Servicio de distribucion Region Caribe occidental","UT EMERGENCIAS 2021",0.14752800000000002,{"$f":"B1399&G1399","v":"SD-04-C4-S3-GEUT EMERGENCIAS 2021"},{"$f":"C1399&D1399&E1399&F1399","v":"CUATRO (4)TRES (3)EServicio de distribucion Region Caribe occidental"},{"$f":"H1399","v":0.14752800000000002},{"$f":"C1399&D1399&E1399&F1399&G1399","v":"CUATRO (4)TRES (3)EServicio de distribucion Region Caribe occidentalUT EMERGENCIAS 2021"},{"$f":"B1399&H1399","v":"SD-04-C4-S3-GE0.147528"},{"$f":"G1399","v":"UT EMERGENCIAS 2021"},"Und",{"$f":"C1399&D1399&E1399&F1399&G1399","v":"CUATRO (4)TRES (3)EServicio de distribucion Region Caribe occidentalUT EMERGENCIAS 2021"},{"$f":"H1399","v":0.14752800000000002}]
[{"$f":"\"ate01-\"&B1400&\" \"&C1400&\" \"&D1400&\" \"&E1400","v":"ate01-SD-04-C4-S3-GE CUATRO (4) TRES (3) E"},"SD-04-C4-S3-GE","CUATRO (4)","TRES (3)","E","Servicio de distribucion Region Caribe occidental","LIMINA S.A.S.",0.185776,{"$f":"B1400&G1400","v":"SD-04-C4-S3-GELIMINA S.A.S."},{"$f":"C1400&D1400&E1400&F1400","v":"CUATRO (4)TRES (3)EServicio de distribucion Region Caribe occidental"},{"$f":"H1400","v":0.185776},{"$f":"C1400&D1400&E1400&F1400&G1400","v":"CUATRO (4)TRES (3)EServicio de distribucion Region Caribe occidentalLIMINA S.A.S."},{"$f":"B1400&H1400","v":"SD-04-C4-S3-GE0.185776"},{"$f":"G1400","v":"LIMINA S.A.S."},"Und",{"$f":"C1400&D1400&E1400&F1400&G1400","v":"CUATRO (4)TRES (3)EServicio de distribucion Region Caribe occidentalLIMINA S.A.S."},{"$f":"H1400","v":0.185776}]
[{"$f":"\"ate01-\"&B1401&\" \"&C1401&\" \"&D1401&\" \"&E1401","v":"ate01-SD-04-C4-S3-GE CUATRO (4) TRES (3) E"},"SD-04-C4-S3-GE","CUATRO (4)","TRES (3)","E","Servicio de distribucion Region Caribe occidental","COLOMBIANA DE TEXTILES POR MAYOR S.A.",0.14752800000000002,{"$f":"B1401&G1401","v":"SD-04-C4-S3-GECOLOMBIANA DE TEXTILES POR MAYOR S.A."},{"$f":"C1401&D1401&E1401&F1401","v":"CUATRO (4)TRES (3)EServicio de distribucion Region Caribe occidental"},{"$f":"H1401","v":0.14752800000000002},{"$f":"C1401&D1401&E1401&F1401&G1401","v":"CUATRO (4)TRES (3)EServicio de distribucion Region Caribe occidentalCOLOMBIANA DE TEXTILES POR MAYOR S.A."},{"$f":"B1401&H1401","v":"SD-04-C4-S3-GE0.147528"},{"$f":"G1401","v":"COLOMBIANA DE TEXTILES POR MAYOR S.A."},"Und",{"$f":"C1401&D1401&E1401&F1401&G1401","v":"CUATRO (4)TRES (3)EServicio de distribucion Region Caribe occidentalCOLOMBIANA DE TEXTILES POR MAYOR S.A."},{"$f":"H1401","v":0.14752800000000002}]
[{"$f":"\"ate01-\"&B1402&\" \"&C1402&\" \"&D1402&\" \"&E1402","v":"ate01-SD-04-C4-S3-GE CUATRO (4) TRES (3) E"},"SD-04-C4-S3-GE","CUATRO (4)","TRES (3)","E","Servicio de distribucion Region Caribe occidental","MIGUEL ANGEL VALLEJO BURGOS",0.14752800000000002,{"$f":"B1402&G1402","v":"SD-04-C4-S3-GEMIGUEL ANGEL VALLEJO BURGOS"},{"$f":"C1402&D1402&E1402&F1402","v":"CUATRO (4)TRES (3)EServicio de distribucion Region Caribe occidental"},{"$f":"H1402","v":0.14752800000000002},{"$f":"C1402&D1402&E1402&F1402&G1402","v":"CUATRO (4)TRES (3)EServicio de distribucion Region Caribe occidentalMIGUEL ANGEL VALLEJO BURGOS"},{"$f":"B1402&H1402","v":"SD-04-C4-S3-GE0.147528"},{"$f":"G1402","v":"MIGUEL ANGEL VALLEJO BURGOS"},"Und",{"$f":"C1402&D1402&E1402&F1402&G1402","v":"CUATRO (4)TRES (3)EServicio de distribucion Region Caribe occidentalMIGUEL ANGEL VALLEJO BURGOS"},{"$f":"H1402","v":0.14752800000000002}]
[{"$f":"\"ate01-\"&B1403&\" \"&C1403&\" \"&D1403&\" \"&E1403","v":"ate01-SD-04-C4-S4-GA CUATRO (4) CUATRO (4) A"},"SD-04-C4-S4-GA","CUATRO (4)","CUATRO (4)","A","Servicio de distribucion Region Caribe occidental","JM GRUPO",0.14752800000000002,{"$f":"B1403&G1403","v":"SD-04-C4-S4-GAJM GRUPO"},{"$f":"C1403&D1403&E1403&F1403","v":"CUATRO (4)CUATRO (4)AServicio de distribucion Region Caribe occidental"},{"$f":"H1403","v":0.14752800000000002},{"$f":"C1403&D1403&E1403&F1403&G1403","v":"CUATRO (4)CUATRO (4)AServicio de distribucion Region Caribe occidentalJM GRUPO"},{"$f":"B1403&H1403","v":"SD-04-C4-S4-GA0.147528"},{"$f":"G1403","v":"JM GRUPO"},"Und",{"$f":"C1403&D1403&E1403&F1403&G1403","v":"CUATRO (4)CUATRO (4)AServicio de distribucion Region Caribe occidentalJM GRUPO"},{"$f":"H1403","v":0.14752800000000002}]
[{"$f":"\"ate01-\"&B1404&\" \"&C1404&\" \"&D1404&\" \"&E1404","v":"ate01-SD-04-C4-S4-GA CUATRO (4) CUATRO (4) A"},"SD-04-C4-S4-GA","CUATRO (4)","CUATRO (4)","A","Servicio de distribucion Region Caribe occidental","SUMIMAS S.A.S.",0.142064,{"$f":"B1404&G1404","v":"SD-04-C4-S4-GASUMIMAS S.A.S."},{"$f":"C1404&D1404&E1404&F1404","v":"CUATRO (4)CUATRO (4)AServicio de distribucion Region Caribe occidental"},{"$f":"H1404","v":0.142064},{"$f":"C1404&D1404&E1404&F1404&G1404","v":"CUATRO (4)CUATRO (4)AServicio de distribucion Region Caribe occidentalSUMIMAS S.A.S."},{"$f":"B1404&H1404","v":"SD-04-C4-S4-GA0.142064"},{"$f":"G1404","v":"SUMIMAS S.A.S."},"Und",{"$f":"C1404&D1404&E1404&F1404&G1404","v":"CUATRO (4)CUATRO (4)AServicio de distribucion Region Caribe occidentalSUMIMAS S.A.S."},{"$f":"H1404","v":0.142064}]
[{"$f":"\"ate01-\"&B1405&\" \"&C1405&\" \"&D1405&\" \"&E1405","v":"ate01-SD-04-C4-S4-GA CUATRO (4) CUATRO (4) A"},"SD-04-C4-S4-GA","CUATRO (4)","CUATRO (4)","A","Servicio de distribucion Region Caribe occidental","UNION TEMPORAL AYGEMA",0.14752800000000002,{"$f":"B1405&G1405","v":"SD-04-C4-S4-GAUNION TEMPORAL AYGEMA"},{"$f":"C1405&D1405&E1405&F1405","v":"CUATRO (4)CUATRO (4)AServicio de distribucion Region Caribe occidental"},{"$f":"H1405","v":0.14752800000000002},{"$f":"C1405&D1405&E1405&F1405&G1405","v":"CUATRO (4)CUATRO (4)AServicio de distribucion Region Caribe occidentalUNION TEMPORAL AYGEMA"},{"$f":"B1405&H1405","v":"SD-04-C4-S4-GA0.147528"},{"$f":"G1405","v":"UNION TEMPORAL AYGEMA"},"Und",{"$f":"C1405&D1405&E1405&F1405&G1405","v":"CUATRO (4)CUATRO (4)AServicio de distribucion Region Caribe occidentalUNION TEMPORAL AYGEMA"},{"$f":"H1405","v":0.14752800000000002}]
[{"$f":"\"ate01-\"&B1406&\" \"&C1406&\" \"&D1406&\" \"&E1406","v":"ate01-SD-04-C4-S4-GA CUATRO (4) CUATRO (4) A"},"SD-04-C4-S4-GA","CUATRO (4)","CUATRO (4)","A","Servicio de distribucion Region Caribe occidental","UT SS 2021- CCENEG- 041-01-2021",0.14752800000000002,{"$f":"B1406&G1406","v":"SD-04-C4-S4-GAUT SS 2021- CCENEG- 041-01-2021"},{"$f":"C1406&D1406&E1406&F1406","v":"CUATRO (4)CUATRO (4)AServicio de distribucion Region Caribe occidental"},{"$f":"H1406","v":0.14752800000000002},{"$f":"C1406&D1406&E1406&F1406&G1406","v":"CUATRO (4)CUATRO (4)AServicio de distribucion Region Caribe occidentalUT SS 2021- CCENEG- 041-01-2021"},{"$f":"B1406&H1406","v":"SD-04-C4-S4-GA0.147528"},{"$f":"G1406","v":"UT SS 2021- CCENEG- 041-01-2021"},"Und",{"$f":"C1406&D1406&E1406&F1406&G1406","v":"CUATRO (4)CUATRO (4)AServicio de distribucion Region Caribe occidentalUT SS 2021- CCENEG- 041-01-2021"},{"$f":"H1406","v":0.14752800000000002}]
[{"$f":"\"ate01-\"&B1407&\" \"&C1407&\" \"&D1407&\" \"&E1407","v":"ate01-SD-04-C4-S4-GA CUATRO (4) CUATRO (4) A"},"SD-04-C4-S4-GA","CUATRO (4)","CUATRO (4)","A","Servicio de distribucion Region Caribe occidental","COLOMBIANA DE TEXTILES POR MAYOR S.A.",0.14752800000000002,{"$f":"B1407&G1407","v":"SD-04-C4-S4-GACOLOMBIANA DE TEXTILES POR MAYOR S.A."},{"$f":"C1407&D1407&E1407&F1407","v":"CUATRO (4)CUATRO (4)AServicio de distribucion Region Caribe occidental"},{"$f":"H1407","v":0.14752800000000002},{"$f":"C1407&D1407&E1407&F1407&G1407","v":"CUATRO (4)CUATRO (4)AServicio de distribucion Region Caribe occidentalCOLOMBIANA DE TEXTILES POR MAYOR S.A."},{"$f":"B1407&H1407","v":"SD-04-C4-S4-GA0.147528"},{"$f":"G1407","v":"COLOMBIANA DE TEXTILES POR MAYOR S.A."},"Und",{"$f":"C1407&D1407&E1407&F1407&G1407","v":"CUATRO (4)CUATRO (4)AServicio de distribucion Region Caribe occidentalCOLOMBIANA DE TEXTILES POR MAYOR S.A."},{"$f":"H1407","v":0.14752800000000002}]
[{"$f":"\"ate01-\"&B1408&\" \"&C1408&\" \"&D1408&\" \"&E1408","v":"ate01-SD-04-C4-S4-GB CUATRO (4) CUATRO (4) B"},"SD-04-C4-S4-GB","CUATRO (4)","CUATRO (4)","B","Servicio de distribucion Region Caribe occidental","JM GRUPO",0.14752800000000002,{"$f":"B1408&G1408","v":"SD-04-C4-S4-GBJM GRUPO"},{"$f":"C1408&D1408&E1408&F1408","v":"CUATRO (4)CUATRO (4)BServicio de distribucion Region Caribe occidental"},{"$f":"H1408","v":0.14752800000000002},{"$f":"C1408&D1408&E1408&F1408&G1408","v":"CUATRO (4)CUATRO (4)BServicio de distribucion Region Caribe occidentalJM GRUPO"},{"$f":"B1408&H1408","v":"SD-04-C4-S4-GB0.147528"},{"$f":"G1408","v":"JM GRUPO"},"Und",{"$f":"C1408&D1408&E1408&F1408&G1408","v":"CUATRO (4)CUATRO (4)BServicio de distribucion Region Caribe occidentalJM GRUPO"},{"$f":"H1408","v":0.14752800000000002}]
[{"$f":"\"ate01-\"&B1409&\" \"&C1409&\" \"&D1409&\" \"&E1409","v":"ate01-SD-04-C4-S4-GB CUATRO (4) CUATRO (4) B"},"SD-04-C4-S4-GB","CUATRO (4)","CUATRO (4)","B","Servicio de distribucion Region Caribe occidental","SUMIMAS S.A.S.",0.142064,{"$f":"B1409&G1409","v":"SD-04-C4-S4-GBSUMIMAS S.A.S."},{"$f":"C1409&D1409&E1409&F1409","v":"CUATRO (4)CUATRO (4)BServicio de distribucion Region Caribe occidental"},{"$f":"H1409","v":0.142064},{"$f":"C1409&D1409&E1409&F1409&G1409","v":"CUATRO (4)CUATRO (4)BServicio de distribucion Region Caribe occidentalSUMIMAS S.A.S."},{"$f":"B1409&H1409","v":"SD-04-C4-S4-GB0.142064"},{"$f":"G1409","v":"SUMIMAS S.A.S."},"Und",{"$f":"C1409&D1409&E1409&F1409&G1409","v":"CUATRO (4)CUATRO (4)BServicio de distribucion Region Caribe occidentalSUMIMAS S.A.S."},{"$f":"H1409","v":0.142064}]
[{"$f":"\"ate01-\"&B1410&\" \"&C1410&\" \"&D1410&\" \"&E1410","v":"ate01-SD-04-C4-S4-GB CUATRO (4) CUATRO (4) B"},"SD-04-C4-S4-GB","CUATRO (4)","CUATRO (4)","B","Servicio de distribucion Region Caribe occidental","UNION TEMPORAL AYGEMA",0.14752800000000002,{"$f":"B1410&G1410","v":"SD-04-C4-S4-GBUNION TEMPORAL AYGEMA"},{"$f":"C1410&D1410&E1410&F1410","v":"CUATRO (4)CUATRO (4)BServicio de distribucion Region Caribe occidental"},{"$f":"H1410","v":0.14752800000000002},{"$f":"C1410&D1410&E1410&F1410&G1410","v":"CUATRO (4)CUATRO (4)BServicio de distribucion Region Caribe occidentalUNION TEMPORAL AYGEMA"},{"$f":"B1410&H1410","v":"SD-04-C4-S4-GB0.147528"},{"$f":"G1410","v":"UNION TEMPORAL AYGEMA"},"Und",{"$f":"C1410&D1410&E1410&F1410&G1410","v":"CUATRO (4)CUATRO (4)BServicio de distribucion Region Caribe occidentalUNION TEMPORAL AYGEMA"},{"$f":"H1410","v":0.14752800000000002}]
[{"$f":"\"ate01-\"&B1411&\" \"&C1411&\" \"&D1411&\" \"&E1411","v":"ate01-SD-04-C4-S4-GB CUATRO (4) CUATRO (4) B"},"SD-04-C4-S4-GB","CUATRO (4)","CUATRO (4)","B","Servicio de distribucion Region Caribe occidental","PLASTICOS MQ S.A.S.",0.39340799999999998,{"$f":"B1411&G1411","v":"SD-04-C4-S4-GBPLASTICOS MQ S.A.S."},{"$f":"C1411&D1411&E1411&F1411","v":"CUATRO (4)CUATRO (4)BServicio de distribucion Region Caribe occidental"},{"$f":"H1411","v":0.39340799999999998},{"$f":"C1411&D1411&E1411&F1411&G1411","v":"CUATRO (4)CUATRO (4)BServicio de distribucion Region Caribe occidentalPLASTICOS MQ S.A.S."},{"$f":"B1411&H1411","v":"SD-04-C4-S4-GB0.393408"},{"$f":"G1411","v":"PLASTICOS MQ S.A.S."},"Und",{"$f":"C1411&D1411&E1411&F1411&G1411","v":"CUATRO (4)CUATRO (4)BServicio de distribucion Region Caribe occidentalPLASTICOS MQ S.A.S."},{"$f":"H1411","v":0.39340799999999998}]
[{"$f":"\"ate01-\"&B1412&\" \"&C1412&\" \"&D1412&\" \"&E1412","v":"ate01-SD-04-C4-S4-GB CUATRO (4) CUATRO (4) B"},"SD-04-C4-S4-GB","CUATRO (4)","CUATRO (4)","B","Servicio de distribucion Region Caribe occidental","SUPRISA S.A.S.",0.16391999999999998,{"$f":"B1412&G1412","v":"SD-04-C4-S4-GBSUPRISA S.A.S."},{"$f":"C1412&D1412&E1412&F1412","v":"CUATRO (4)CUATRO (4)BServicio de distribucion Region Caribe occidental"},{"$f":"H1412","v":0.16391999999999998},{"$f":"C1412&D1412&E1412&F1412&G1412","v":"CUATRO (4)CUATRO (4)BServicio de distribucion Region Caribe occidentalSUPRISA S.A.S."},{"$f":"B1412&H1412","v":"SD-04-C4-S4-GB0.16392"},{"$f":"G1412","v":"SUPRISA S.A.S."},"Und",{"$f":"C1412&D1412&E1412&F1412&G1412","v":"CUATRO (4)CUATRO (4)BServicio de distribucion Region Caribe occidentalSUPRISA S.A.S."},{"$f":"H1412","v":0.16391999999999998}]
[{"$f":"\"ate01-\"&B1413&\" \"&C1413&\" \"&D1413&\" \"&E1413","v":"ate01-SD-04-C4-S4-GB CUATRO (4) CUATRO (4) B"},"SD-04-C4-S4-GB","CUATRO (4)","CUATRO (4)","B","Servicio de distribucion Region Caribe occidental","MIGUEL ANGEL VALLEJO BURGOS",0.14752800000000002,{"$f":"B1413&G1413","v":"SD-04-C4-S4-GBMIGUEL ANGEL VALLEJO BURGOS"},{"$f":"C1413&D1413&E1413&F1413","v":"CUATRO (4)CUATRO (4)BServicio de distribucion Region Caribe occidental"},{"$f":"H1413","v":0.14752800000000002},{"$f":"C1413&D1413&E1413&F1413&G1413","v":"CUATRO (4)CUATRO (4)BServicio de distribucion Region Caribe occidentalMIGUEL ANGEL VALLEJO BURGOS"},{"$f":"B1413&H1413","v":"SD-04-C4-S4-GB0.147528"},{"$f":"G1413","v":"MIGUEL ANGEL VALLEJO BURGOS"},"Und",{"$f":"C1413&D1413&E1413&F1413&G1413","v":"CUATRO (4)CUATRO (4)BServicio de distribucion Region Caribe occidentalMIGUEL ANGEL VALLEJO BURGOS"},{"$f":"H1413","v":0.14752800000000002}]
[{"$f":"\"ate01-\"&B1414&\" \"&C1414&\" \"&D1414&\" \"&E1414","v":"ate01-SD-04-C4-S4-GC CUATRO (4) CUATRO (4) C"},"SD-04-C4-S4-GC","CUATRO (4)","CUATRO (4)","C","Servicio de distribucion Region Caribe occidental","SUMIMAS S.A.S.",0.142064,{"$f":"B1414&G1414","v":"SD-04-C4-S4-GCSUMIMAS S.A.S."},{"$f":"C1414&D1414&E1414&F1414","v":"CUATRO (4)CUATRO (4)CServicio de distribucion Region Caribe occidental"},{"$f":"H1414","v":0.142064},{"$f":"C1414&D1414&E1414&F1414&G1414","v":"CUATRO (4)CUATRO (4)CServicio de distribucion Region Caribe occidentalSUMIMAS S.A.S."},{"$f":"B1414&H1414","v":"SD-04-C4-S4-GC0.142064"},{"$f":"G1414","v":"SUMIMAS S.A.S."},"Und",{"$f":"C1414&D1414&E1414&F1414&G1414","v":"CUATRO (4)CUATRO (4)CServicio de distribucion Region Caribe occidentalSUMIMAS S.A.S."},{"$f":"H1414","v":0.142064}]
[{"$f":"\"ate01-\"&B1415&\" \"&C1415&\" \"&D1415&\" \"&E1415","v":"ate01-SD-04-C4-S4-GC CUATRO (4) CUATRO (4) C"},"SD-04-C4-S4-GC","CUATRO (4)","CUATRO (4)","C","Servicio de distribucion Region Caribe occidental","UNION TEMPORAL AYGEMA",0.14752800000000002,{"$f":"B1415&G1415","v":"SD-04-C4-S4-GCUNION TEMPORAL AYGEMA"},{"$f":"C1415&D1415&E1415&F1415","v":"CUATRO (4)CUATRO (4)CServicio de distribucion Region Caribe occidental"},{"$f":"H1415","v":0.14752800000000002},{"$f":"C1415&D1415&E1415&F1415&G1415","v":"CUATRO (4)CUATRO (4)CServicio de distribucion Region Caribe occidentalUNION TEMPORAL AYGEMA"},{"$f":"B1415&H1415","v":"SD-04-C4-S4-GC0.147528"},{"$f":"G1415","v":"UNION TEMPORAL AYGEMA"},"Und",{"$f":"C1415&D1415&E1415&F1415&G1415","v":"CUATRO (4)CUATRO (4)CServicio de distribucion Region Caribe occidentalUNION TEMPORAL AYGEMA"},{"$f":"H1415","v":0.14752800000000002}]
[{"$f":"\"ate01-\"&B1416&\" \"&C1416&\" \"&D1416&\" \"&E1416","v":"ate01-SD-04-C4-S4-GC CUATRO (4) CUATRO (4) C"},"SD-04-C4-S4-GC","CUATRO (4)","CUATRO (4)","C","Servicio de distribucion Region Caribe occidental","UT SS 2021- CCENEG- 041-01-2021",0.14752800000000002,{"$f":"B1416&G1416","v":"SD-04-C4-S4-GCUT SS 2021- CCENEG- 041-01-2021"},{"$f":"C1416&D1416&E1416&F1416","v":"CUATRO (4)CUATRO (4)CServicio de distribucion Region Caribe occidental"},{"$f":"H1416","v":0.14752800000000002},{"$f":"C1416&D1416&E1416&F1416&G1416","v":"CUATRO (4)CUATRO (4)CServicio de distribucion Region Caribe occidentalUT SS 2021- CCENEG- 041-01-2021"},{"$f":"B1416&H1416","v":"SD-04-C4-S4-GC0.147528"},{"$f":"G1416","v":"UT SS 2021- CCENEG- 041-01-2021"},"Und",{"$f":"C1416&D1416&E1416&F1416&G1416","v":"CUATRO (4)CUATRO (4)CServicio de distribucion Region Caribe occidentalUT SS 2021- CCENEG- 041-01-2021"},{"$f":"H1416","v":0.14752800000000002}]
[{"$f":"\"ate01-\"&B1417&\" \"&C1417&\" \"&D1417&\" \"&E1417","v":"ate01-SD-04-C4-S4-GC CUATRO (4) CUATRO (4) C"},"SD-04-C4-S4-GC","CUATRO (4)","CUATRO (4)","C","Servicio de distribucion Region Caribe occidental","SUPRISA S.A.S.",0.16391999999999998,{"$f":"B1417&G1417","v":"SD-04-C4-S4-GCSUPRISA S.A.S."},{"$f":"C1417&D1417&E1417&F1417","v":"CUATRO (4)CUATRO (4)CServicio de distribucion Region Caribe occidental"},{"$f":"H1417","v":0.16391999999999998},{"$f":"C1417&D1417&E1417&F1417&G1417","v":"CUATRO (4)CUATRO (4)CServicio de distribucion Region Caribe occidentalSUPRISA S.A.S."},{"$f":"B1417&H1417","v":"SD-04-C4-S4-GC0.16392"},{"$f":"G1417","v":"SUPRISA S.A.S."},"Und",{"$f":"C1417&D1417&E1417&F1417&G1417","v":"CUATRO (4)CUATRO (4)CServicio de distribucion Region Caribe occidentalSUPRISA S.A.S."},{"$f":"H1417","v":0.16391999999999998}]
[{"$f":"\"ate01-\"&B1418&\" \"&C1418&\" \"&D1418&\" \"&E1418","v":"ate01-SD-04-C4-S4-GC CUATRO (4) CUATRO (4) C"},"SD-04-C4-S4-GC","CUATRO (4)","CUATRO (4)","C","Servicio de distribucion Region Caribe occidental","COMERCIALIZADORA DINPRO S.A.S.",0.14752800000000002,{"$f":"B1418&G1418","v":"SD-04-C4-S4-GCCOMERCIALIZADORA DINPRO S.A.S."},{"$f":"C1418&D1418&E1418&F1418","v":"CUATRO (4)CUATRO (4)CServicio de distribucion Region Caribe occidental"},{"$f":"H1418","v":0.14752800000000002},{"$f":"C1418&D1418&E1418&F1418&G1418","v":"CUATRO (4)CUATRO (4)CServicio de distribucion Region Caribe occidentalCOMERCIALIZADORA DINPRO S.A.S."},{"$f":"B1418&H1418","v":"SD-04-C4-S4-GC0.147528"},{"$f":"G1418","v":"COMERCIALIZADORA DINPRO S.A.S."},"Und",{"$f":"C1418&D1418&E1418&F1418&G1418","v":"CUATRO (4)CUATRO (4)CServicio de distribucion Region Caribe occidentalCOMERCIALIZADORA DINPRO S.A.S."},{"$f":"H1418","v":0.14752800000000002}]
[{"$f":"\"ate01-\"&B1419&\" \"&C1419&\" \"&D1419&\" \"&E1419","v":"ate01-SD-04-C4-S4-GC CUATRO (4) CUATRO (4) C"},"SD-04-C4-S4-GC","CUATRO (4)","CUATRO (4)","C","Servicio de distribucion Region Caribe occidental","MIGUEL ANGEL VALLEJO BURGOS",0.14752800000000002,{"$f":"B1419&G1419","v":"SD-04-C4-S4-GCMIGUEL ANGEL VALLEJO BURGOS"},{"$f":"C1419&D1419&E1419&F1419","v":"CUATRO (4)CUATRO (4)CServicio de distribucion Region Caribe occidental"},{"$f":"H1419","v":0.14752800000000002},{"$f":"C1419&D1419&E1419&F1419&G1419","v":"CUATRO (4)CUATRO (4)CServicio de distribucion Region Caribe occidentalMIGUEL ANGEL VALLEJO BURGOS"},{"$f":"B1419&H1419","v":"SD-04-C4-S4-GC0.147528"},{"$f":"G1419","v":"MIGUEL ANGEL VALLEJO BURGOS"},"Und",{"$f":"C1419&D1419&E1419&F1419&G1419","v":"CUATRO (4)CUATRO (4)CServicio de distribucion Region Caribe occidentalMIGUEL ANGEL VALLEJO BURGOS"},{"$f":"H1419","v":0.14752800000000002}]
[{"$f":"\"ate01-\"&B1420&\" \"&C1420&\" \"&D1420&\" \"&E1420","v":"ate01-SD-04-C4-S4-GD CUATRO (4) CUATRO (4) D"},"SD-04-C4-S4-GD","CUATRO (4)","CUATRO (4)","D","Servicio de distribucion Region Caribe occidental","JM GRUPO",0.14752800000000002,{"$f":"B1420&G1420","v":"SD-04-C4-S4-GDJM GRUPO"},{"$f":"C1420&D1420&E1420&F1420","v":"CUATRO (4)CUATRO (4)DServicio de distribucion Region Caribe occidental"},{"$f":"H1420","v":0.14752800000000002},{"$f":"C1420&D1420&E1420&F1420&G1420","v":"CUATRO (4)CUATRO (4)DServicio de distribucion Region Caribe occidentalJM GRUPO"},{"$f":"B1420&H1420","v":"SD-04-C4-S4-GD0.147528"},{"$f":"G1420","v":"JM GRUPO"},"Und",{"$f":"C1420&D1420&E1420&F1420&G1420","v":"CUATRO (4)CUATRO (4)DServicio de distribucion Region Caribe occidentalJM GRUPO"},{"$f":"H1420","v":0.14752800000000002}]
[{"$f":"\"ate01-\"&B1421&\" \"&C1421&\" \"&D1421&\" \"&E1421","v":"ate01-SD-04-C4-S4-GD CUATRO (4) CUATRO (4) D"},"SD-04-C4-S4-GD","CUATRO (4)","CUATRO (4)","D","Servicio de distribucion Region Caribe occidental","SUMIMAS S.A.S.",0.142064,{"$f":"B1421&G1421","v":"SD-04-C4-S4-GDSUMIMAS S.A.S."},{"$f":"C1421&D1421&E1421&F1421","v":"CUATRO (4)CUATRO (4)DServicio de distribucion Region Caribe occidental"},{"$f":"H1421","v":0.142064},{"$f":"C1421&D1421&E1421&F1421&G1421","v":"CUATRO (4)CUATRO (4)DServicio de distribucion Region Caribe occidentalSUMIMAS S.A.S."},{"$f":"B1421&H1421","v":"SD-04-C4-S4-GD0.142064"},{"$f":"G1421","v":"SUMIMAS S.A.S."},"Und",{"$f":"C1421&D1421&E1421&F1421&G1421","v":"CUATRO (4)CUATRO (4)DServicio de distribucion Region Caribe occidentalSUMIMAS S.A.S."},{"$f":"H1421","v":0.142064}]
[{"$f":"\"ate01-\"&B1422&\" \"&C1422&\" \"&D1422&\" \"&E1422","v":"ate01-SD-04-C4-S4-GD CUATRO (4) CUATRO (4) D"},"SD-04-C4-S4-GD","CUATRO (4)","CUATRO (4)","D","Servicio de distribucion Region Caribe occidental","UT SS 2021- CCENEG- 041-01-2021",0.14752800000000002,{"$f":"B1422&G1422","v":"SD-04-C4-S4-GDUT SS 2021- CCENEG- 041-01-2021"},{"$f":"C1422&D1422&E1422&F1422","v":"CUATRO (4)CUATRO (4)DServicio de distribucion Region Caribe occidental"},{"$f":"H1422","v":0.14752800000000002},{"$f":"C1422&D1422&E1422&F1422&G1422","v":"CUATRO (4)CUATRO (4)DServicio de distribucion Region Caribe occidentalUT SS 2021- CCENEG- 041-01-2021"},{"$f":"B1422&H1422","v":"SD-04-C4-S4-GD0.147528"},{"$f":"G1422","v":"UT SS 2021- CCENEG- 041-01-2021"},"Und",{"$f":"C1422&D1422&E1422&F1422&G1422","v":"CUATRO (4)CUATRO (4)DServicio de distribucion Region Caribe occidentalUT SS 2021- CCENEG- 041-01-2021"},{"$f":"H1422","v":0.14752800000000002}]
[{"$f":"\"ate01-\"&B1423&\" \"&C1423&\" \"&D1423&\" \"&E1423","v":"ate01-SD-04-C4-S4-GE CUATRO (4) CUATRO (4) E"},"SD-04-C4-S4-GE","CUATRO (4)","CUATRO (4)","E","Servicio de distribucion Region Caribe occidental","C I WARRIORS COMPANY S.A.S.",0.14752800000000002,{"$f":"B1423&G1423","v":"SD-04-C4-S4-GEC I WARRIORS COMPANY S.A.S."},{"$f":"C1423&D1423&E1423&F1423","v":"CUATRO (4)CUATRO (4)EServicio de distribucion Region Caribe occidental"},{"$f":"H1423","v":0.14752800000000002},{"$f":"C1423&D1423&E1423&F1423&G1423","v":"CUATRO (4)CUATRO (4)EServicio de distribucion Region Caribe occidentalC I WARRIORS COMPANY S.A.S."},{"$f":"B1423&H1423","v":"SD-04-C4-S4-GE0.147528"},{"$f":"G1423","v":"C I WARRIORS COMPANY S.A.S."},"Und",{"$f":"C1423&D1423&E1423&F1423&G1423","v":"CUATRO (4)CUATRO (4)EServicio de distribucion Region Caribe occidentalC I WARRIORS COMPANY S.A.S."},{"$f":"H1423","v":0.14752800000000002}]
[{"$f":"\"ate01-\"&B1424&\" \"&C1424&\" \"&D1424&\" \"&E1424","v":"ate01-SD-04-C4-S4-GE CUATRO (4) CUATRO (4) E"},"SD-04-C4-S4-GE","CUATRO (4)","CUATRO (4)","E","Servicio de distribucion Region Caribe occidental","SUMIMAS S.A.S.",0.142064,{"$f":"B1424&G1424","v":"SD-04-C4-S4-GESUMIMAS S.A.S."},{"$f":"C1424&D1424&E1424&F1424","v":"CUATRO (4)CUATRO (4)EServicio de distribucion Region Caribe occidental"},{"$f":"H1424","v":0.142064},{"$f":"C1424&D1424&E1424&F1424&G1424","v":"CUATRO (4)CUATRO (4)EServicio de distribucion Region Caribe occidentalSUMIMAS S.A.S."},{"$f":"B1424&H1424","v":"SD-04-C4-S4-GE0.142064"},{"$f":"G1424","v":"SUMIMAS S.A.S."},"Und",{"$f":"C1424&D1424&E1424&F1424&G1424","v":"CUATRO (4)CUATRO (4)EServicio de distribucion Region Caribe occidentalSUMIMAS S.A.S."},{"$f":"H1424","v":0.142064}]
[{"$f":"\"ate01-\"&B1425&\" \"&C1425&\" \"&D1425&\" \"&E1425","v":"ate01-SD-04-C4-S4-GE CUATRO (4) CUATRO (4) E"},"SD-04-C4-S4-GE","CUATRO (4)","CUATRO (4)","E","Servicio de distribucion Region Caribe occidental","UT EMERGENCIAS 2021",0.14752800000000002,{"$f":"B1425&G1425","v":"SD-04-C4-S4-GEUT EMERGENCIAS 2021"},{"$f":"C1425&D1425&E1425&F1425","v":"CUATRO (4)CUATRO (4)EServicio de distribucion Region Caribe occidental"},{"$f":"H1425","v":0.14752800000000002},{"$f":"C1425&D1425&E1425&F1425&G1425","v":"CUATRO (4)CUATRO (4)EServicio de distribucion Region Caribe occidentalUT EMERGENCIAS 2021"},{"$f":"B1425&H1425","v":"SD-04-C4-S4-GE0.147528"},{"$f":"G1425","v":"UT EMERGENCIAS 2021"},"Und",{"$f":"C1425&D1425&E1425&F1425&G1425","v":"CUATRO (4)CUATRO (4)EServicio de distribucion Region Caribe occidentalUT EMERGENCIAS 2021"},{"$f":"H1425","v":0.14752800000000002}]
[{"$f":"\"ate01-\"&B1426&\" \"&C1426&\" \"&D1426&\" \"&E1426","v":"ate01-SD-04-C4-S4-GE CUATRO (4) CUATRO (4) E"},"SD-04-C4-S4-GE","CUATRO (4)","CUATRO (4)","E","Servicio de distribucion Region Caribe occidental","UNION TEMPORAL AYGEMA",0.14752800000000002,{"$f":"B1426&G1426","v":"SD-04-C4-S4-GEUNION TEMPORAL AYGEMA"},{"$f":"C1426&D1426&E1426&F1426","v":"CUATRO (4)CUATRO (4)EServicio de distribucion Region Caribe occidental"},{"$f":"H1426","v":0.14752800000000002},{"$f":"C1426&D1426&E1426&F1426&G1426","v":"CUATRO (4)CUATRO (4)EServicio de distribucion Region Caribe occidentalUNION TEMPORAL AYGEMA"},{"$f":"B1426&H1426","v":"SD-04-C4-S4-GE0.147528"},{"$f":"G1426","v":"UNION TEMPORAL AYGEMA"},"Und",{"$f":"C1426&D1426&E1426&F1426&G1426","v":"CUATRO (4)CUATRO (4)EServicio de distribucion Region Caribe occidentalUNION TEMPORAL AYGEMA"},{"$f":"H1426","v":0.14752800000000002}]
[{"$f":"\"ate01-\"&B1427&\" \"&C1427&\" \"&D1427&\" \"&E1427","v":"ate01-SD-04-C4-S4-GE CUATRO (4) CUATRO (4) E"},"SD-04-C4-S4-GE","CUATRO (4)","CUATRO (4)","E","Servicio de distribucion Region Caribe occidental","UT OFICON",0.14752800000000002,{"$f":"B1427&G1427","v":"SD-04-C4-S4-GEUT OFICON"},{"$f":"C1427&D1427&E1427&F1427","v":"CUATRO (4)CUATRO (4)EServicio de distribucion Region Caribe occidental"},{"$f":"H1427","v":0.14752800000000002},{"$f":"C1427&D1427&E1427&F1427&G1427","v":"CUATRO (4)CUATRO (4)EServicio de distribucion Region Caribe occidentalUT OFICON"},{"$f":"B1427&H1427","v":"SD-04-C4-S4-GE0.147528"},{"$f":"G1427","v":"UT OFICON"},"Und",{"$f":"C1427&D1427&E1427&F1427&G1427","v":"CUATRO (4)CUATRO (4)EServicio de distribucion Region Caribe occidentalUT OFICON"},{"$f":"H1427","v":0.14752800000000002}]
[{"$f":"\"ate01-\"&B1428&\" \"&C1428&\" \"&D1428&\" \"&E1428","v":"ate01-SD-04-C4-S4-GE CUATRO (4) CUATRO (4) E"},"SD-04-C4-S4-GE","CUATRO (4)","CUATRO (4)","E","Servicio de distribucion Region Caribe occidental","MIGUEL ANGEL VALLEJO BURGOS",0.14752800000000002,{"$f":"B1428&G1428","v":"SD-04-C4-S4-GEMIGUEL ANGEL VALLEJO BURGOS"},{"$f":"C1428&D1428&E1428&F1428","v":"CUATRO (4)CUATRO (4)EServicio de distribucion Region Caribe occidental"},{"$f":"H1428","v":0.14752800000000002},{"$f":"C1428&D1428&E1428&F1428&G1428","v":"CUATRO (4)CUATRO (4)EServicio de distribucion Region Caribe occidentalMIGUEL ANGEL VALLEJO BURGOS"},{"$f":"B1428&H1428","v":"SD-04-C4-S4-GE0.147528"},{"$f":"G1428","v":"MIGUEL ANGEL VALLEJO BURGOS"},"Und",{"$f":"C1428&D1428&E1428&F1428&G1428","v":"CUATRO (4)CUATRO (4)EServicio de distribucion Region Caribe occidentalMIGUEL ANGEL VALLEJO BURGOS"},{"$f":"H1428","v":0.14752800000000002}]
[{"$f":"\"ate01-\"&B1429&\" \"&C1429&\" \"&D1429&\" \"&E1429","v":"ate01-SD-04-C4-S4-GE CUATRO (4) CUATRO (4) E"},"SD-04-C4-S4-GE","CUATRO (4)","CUATRO (4)","E","Servicio de distribucion Region Caribe occidental","INVALCA",0.14752800000000002,{"$f":"B1429&G1429","v":"SD-04-C4-S4-GEINVALCA"},{"$f":"C1429&D1429&E1429&F1429","v":"CUATRO (4)CUATRO (4)EServicio de distribucion Region Caribe occidental"},{"$f":"H1429","v":0.14752800000000002},{"$f":"C1429&D1429&E1429&F1429&G1429","v":"CUATRO (4)CUATRO (4)EServicio de distribucion Region Caribe occidentalINVALCA"},{"$f":"B1429&H1429","v":"SD-04-C4-S4-GE0.147528"},{"$f":"G1429","v":"INVALCA"},"Und",{"$f":"C1429&D1429&E1429&F1429&G1429","v":"CUATRO (4)CUATRO (4)EServicio de distribucion Region Caribe occidentalINVALCA"},{"$f":"H1429","v":0.14752800000000002}]
[{"$f":"\"ate01-\"&B1430&\" \"&C1430&\" \"&D1430&\" \"&E1430","v":"ate01-SD-05-C1-S-G UNO (1) N/A N/A"},"SD-05-C1-S-G","UNO (1)","N/A","N/A","Servicio de distribucion Region Orinoquia","IMPLESEG S.A.S.",0.41526400000000002,{"$f":"B1430&G1430","v":"SD-05-C1-S-GIMPLESEG S.A.S."},{"$f":"C1430&D1430&E1430&F1430","v":"UNO (1)N/AN/AServicio de distribucion Region Orinoquia"},{"$f":"H1430","v":0.41526400000000002},{"$f":"C1430&D1430&E1430&F1430&G1430","v":"UNO (1)N/AN/AServicio de distribucion Region OrinoquiaIMPLESEG S.A.S."},{"$f":"B1430&H1430","v":"SD-05-C1-S-G0.415264"},{"$f":"G1430","v":"IMPLESEG S.A.S."},"Und",{"$f":"C1430&D1430&E1430&F1430&G1430","v":"UNO (1)N/AN/AServicio de distribucion Region OrinoquiaIMPLESEG S.A.S."},{"$f":"H1430","v":0.41526400000000002}]
[{"$f":"\"ate01-\"&B1431&\" \"&C1431&\" \"&D1431&\" \"&E1431","v":"ate01-SD-05-C1-S-G UNO (1) N/A N/A"},"SD-05-C1-S-G","UNO (1)","N/A","N/A","Servicio de distribucion Region Orinoquia","JM GRUPO",0.14752800000000002,{"$f":"B1431&G1431","v":"SD-05-C1-S-GJM GRUPO"},{"$f":"C1431&D1431&E1431&F1431","v":"UNO (1)N/AN/AServicio de distribucion Region Orinoquia"},{"$f":"H1431","v":0.14752800000000002},{"$f":"C1431&D1431&E1431&F1431&G1431","v":"UNO (1)N/AN/AServicio de distribucion Region OrinoquiaJM GRUPO"},{"$f":"B1431&H1431","v":"SD-05-C1-S-G0.147528"},{"$f":"G1431","v":"JM GRUPO"},"Und",{"$f":"C1431&D1431&E1431&F1431&G1431","v":"UNO (1)N/AN/AServicio de distribucion Region OrinoquiaJM GRUPO"},{"$f":"H1431","v":0.14752800000000002}]
[{"$f":"\"ate01-\"&B1432&\" \"&C1432&\" \"&D1432&\" \"&E1432","v":"ate01-SD-05-C2-S1-G DOS (2) UNO (1) N/A"},"SD-05-C2-S1-G","DOS (2)","UNO (1)","N/A","Servicio de distribucion Region Orinoquia","JM GRUPO",0.14752800000000002,{"$f":"B1432&G1432","v":"SD-05-C2-S1-GJM GRUPO"},{"$f":"C1432&D1432&E1432&F1432","v":"DOS (2)UNO (1)N/AServicio de distribucion Region Orinoquia"},{"$f":"H1432","v":0.14752800000000002},{"$f":"C1432&D1432&E1432&F1432&G1432","v":"DOS (2)UNO (1)N/AServicio de distribucion Region OrinoquiaJM GRUPO"},{"$f":"B1432&H1432","v":"SD-05-C2-S1-G0.147528"},{"$f":"G1432","v":"JM GRUPO"},"Und",{"$f":"C1432&D1432&E1432&F1432&G1432","v":"DOS (2)UNO (1)N/AServicio de distribucion Region OrinoquiaJM GRUPO"},{"$f":"H1432","v":0.14752800000000002}]
[{"$f":"\"ate01-\"&B1433&\" \"&C1433&\" \"&D1433&\" \"&E1433","v":"ate01-SD-05-C2-S1-G DOS (2) UNO (1) N/A"},"SD-05-C2-S1-G","DOS (2)","UNO (1)","N/A","Servicio de distribucion Region Orinoquia","INCOLDEXT S.A.S.",0.142064,{"$f":"B1433&G1433","v":"SD-05-C2-S1-GINCOLDEXT S.A.S."},{"$f":"C1433&D1433&E1433&F1433","v":"DOS (2)UNO (1)N/AServicio de distribucion Region Orinoquia"},{"$f":"H1433","v":0.142064},{"$f":"C1433&D1433&E1433&F1433&G1433","v":"DOS (2)UNO (1)N/AServicio de distribucion Region OrinoquiaINCOLDEXT S.A.S."},{"$f":"B1433&H1433","v":"SD-05-C2-S1-G0.142064"},{"$f":"G1433","v":"INCOLDEXT S.A.S."},"Und",{"$f":"C1433&D1433&E1433&F1433&G1433","v":"DOS (2)UNO (1)N/AServicio de distribucion Region OrinoquiaINCOLDEXT S.A.S."},{"$f":"H1433","v":0.142064}]
[{"$f":"\"ate01-\"&B1434&\" \"&C1434&\" \"&D1434&\" \"&E1434","v":"ate01-SD-05-C2-S1-G DOS (2) UNO (1) N/A"},"SD-05-C2-S1-G","DOS (2)","UNO (1)","N/A","Servicio de distribucion Region Orinoquia","RES-Q SOLUTIONS",0.142064,{"$f":"B1434&G1434","v":"SD-05-C2-S1-GRES-Q SOLUTIONS"},{"$f":"C1434&D1434&E1434&F1434","v":"DOS (2)UNO (1)N/AServicio de distribucion Region Orinoquia"},{"$f":"H1434","v":0.142064},{"$f":"C1434&D1434&E1434&F1434&G1434","v":"DOS (2)UNO (1)N/AServicio de distribucion Region OrinoquiaRES-Q SOLUTIONS"},{"$f":"B1434&H1434","v":"SD-05-C2-S1-G0.142064"},{"$f":"G1434","v":"RES-Q SOLUTIONS"},"Und",{"$f":"C1434&D1434&E1434&F1434&G1434","v":"DOS (2)UNO (1)N/AServicio de distribucion Region OrinoquiaRES-Q SOLUTIONS"},{"$f":"H1434","v":0.142064}]
[{"$f":"\"ate01-\"&B1435&\" \"&C1435&\" \"&D1435&\" \"&E1435","v":"ate01-SD-05-C2-S1-G DOS (2) UNO (1) N/A"},"SD-05-C2-S1-G","DOS (2)","UNO (1)","N/A","Servicio de distribucion Region Orinoquia","INVERSION Y HOGAR S.A.S.",0.185776,{"$f":"B1435&G1435","v":"SD-05-C2-S1-GINVERSION Y HOGAR S.A.S."},{"$f":"C1435&D1435&E1435&F1435","v":"DOS (2)UNO (1)N/AServicio de distribucion Region Orinoquia"},{"$f":"H1435","v":0.185776},{"$f":"C1435&D1435&E1435&F1435&G1435","v":"DOS (2)UNO (1)N/AServicio de distribucion Region OrinoquiaINVERSION Y HOGAR S.A.S."},{"$f":"B1435&H1435","v":"SD-05-C2-S1-G0.185776"},{"$f":"G1435","v":"INVERSION Y HOGAR S.A.S."},"Und",{"$f":"C1435&D1435&E1435&F1435&G1435","v":"DOS (2)UNO (1)N/AServicio de distribucion Region OrinoquiaINVERSION Y HOGAR S.A.S."},{"$f":"H1435","v":0.185776}]
[{"$f":"\"ate01-\"&B1436&\" \"&C1436&\" \"&D1436&\" \"&E1436","v":"ate01-SD-05-C2-S2-G DOS (2) DOS (2) N/A"},"SD-05-C2-S2-G","DOS (2)","DOS (2)","N/A","Servicio de distribucion Region Orinoquia","IMPLESEG S.A.S.",0.16391999999999998,{"$f":"B1436&G1436","v":"SD-05-C2-S2-GIMPLESEG S.A.S."},{"$f":"C1436&D1436&E1436&F1436","v":"DOS (2)DOS (2)N/AServicio de distribucion Region Orinoquia"},{"$f":"H1436","v":0.16391999999999998},{"$f":"C1436&D1436&E1436&F1436&G1436","v":"DOS (2)DOS (2)N/AServicio de distribucion Region OrinoquiaIMPLESEG S.A.S."},{"$f":"B1436&H1436","v":"SD-05-C2-S2-G0.16392"},{"$f":"G1436","v":"IMPLESEG S.A.S."},"Und",{"$f":"C1436&D1436&E1436&F1436&G1436","v":"DOS (2)DOS (2)N/AServicio de distribucion Region OrinoquiaIMPLESEG S.A.S."},{"$f":"H1436","v":0.16391999999999998}]
[{"$f":"\"ate01-\"&B1437&\" \"&C1437&\" \"&D1437&\" \"&E1437","v":"ate01-SD-05-C2-S2-G DOS (2) DOS (2) N/A"},"SD-05-C2-S2-G","DOS (2)","DOS (2)","N/A","Servicio de distribucion Region Orinoquia","JM GRUPO",0.14752800000000002,{"$f":"B1437&G1437","v":"SD-05-C2-S2-GJM GRUPO"},{"$f":"C1437&D1437&E1437&F1437","v":"DOS (2)DOS (2)N/AServicio de distribucion Region Orinoquia"},{"$f":"H1437","v":0.14752800000000002},{"$f":"C1437&D1437&E1437&F1437&G1437","v":"DOS (2)DOS (2)N/AServicio de distribucion Region OrinoquiaJM GRUPO"},{"$f":"B1437&H1437","v":"SD-05-C2-S2-G0.147528"},{"$f":"G1437","v":"JM GRUPO"},"Und",{"$f":"C1437&D1437&E1437&F1437&G1437","v":"DOS (2)DOS (2)N/AServicio de distribucion Region OrinoquiaJM GRUPO"},{"$f":"H1437","v":0.14752800000000002}]
[{"$f":"\"ate01-\"&B1438&\" \"&C1438&\" \"&D1438&\" \"&E1438","v":"ate01-SD-05-C2-S2-G DOS (2) DOS (2) N/A"},"SD-05-C2-S2-G","DOS (2)","DOS (2)","N/A","Servicio de distribucion Region Orinoquia","UT EMERGENCIAS 2021",0.14752800000000002,{"$f":"B1438&G1438","v":"SD-05-C2-S2-GUT EMERGENCIAS 2021"},{"$f":"C1438&D1438&E1438&F1438","v":"DOS (2)DOS (2)N/AServicio de distribucion Region Orinoquia"},{"$f":"H1438","v":0.14752800000000002},{"$f":"C1438&D1438&E1438&F1438&G1438","v":"DOS (2)DOS (2)N/AServicio de distribucion Region OrinoquiaUT EMERGENCIAS 2021"},{"$f":"B1438&H1438","v":"SD-05-C2-S2-G0.147528"},{"$f":"G1438","v":"UT EMERGENCIAS 2021"},"Und",{"$f":"C1438&D1438&E1438&F1438&G1438","v":"DOS (2)DOS (2)N/AServicio de distribucion Region OrinoquiaUT EMERGENCIAS 2021"},{"$f":"H1438","v":0.14752800000000002}]
[{"$f":"\"ate01-\"&B1439&\" \"&C1439&\" \"&D1439&\" \"&E1439","v":"ate01-SD-05-C2-S2-G DOS (2) DOS (2) N/A"},"SD-05-C2-S2-G","DOS (2)","DOS (2)","N/A","Servicio de distribucion Region Orinoquia","INCOLDEXT S.A.S.",0.14752800000000002,{"$f":"B1439&G1439","v":"SD-05-C2-S2-GINCOLDEXT S.A.S."},{"$f":"C1439&D1439&E1439&F1439","v":"DOS (2)DOS (2)N/AServicio de distribucion Region Orinoquia"},{"$f":"H1439","v":0.14752800000000002},{"$f":"C1439&D1439&E1439&F1439&G1439","v":"DOS (2)DOS (2)N/AServicio de distribucion Region OrinoquiaINCOLDEXT S.A.S."},{"$f":"B1439&H1439","v":"SD-05-C2-S2-G0.147528"},{"$f":"G1439","v":"INCOLDEXT S.A.S."},"Und",{"$f":"C1439&D1439&E1439&F1439&G1439","v":"DOS (2)DOS (2)N/AServicio de distribucion Region OrinoquiaINCOLDEXT S.A.S."},{"$f":"H1439","v":0.14752800000000002}]
[{"$f":"\"ate01-\"&B1440&\" \"&C1440&\" \"&D1440&\" \"&E1440","v":"ate01-SD-05-C2-S2-G DOS (2) DOS (2) N/A"},"SD-05-C2-S2-G","DOS (2)","DOS (2)","N/A","Servicio de distribucion Region Orinoquia","YUBARTA S.A.S.",0.14752800000000002,{"$f":"B1440&G1440","v":"SD-05-C2-S2-GYUBARTA S.A.S."},{"$f":"C1440&D1440&E1440&F1440","v":"DOS (2)DOS (2)N/AServicio de distribucion Region Orinoquia"},{"$f":"H1440","v":0.14752800000000002},{"$f":"C1440&D1440&E1440&F1440&G1440","v":"DOS (2)DOS (2)N/AServicio de distribucion Region OrinoquiaYUBARTA S.A.S."},{"$f":"B1440&H1440","v":"SD-05-C2-S2-G0.147528"},{"$f":"G1440","v":"YUBARTA S.A.S."},"Und",{"$f":"C1440&D1440&E1440&F1440&G1440","v":"DOS (2)DOS (2)N/AServicio de distribucion Region OrinoquiaYUBARTA S.A.S."},{"$f":"H1440","v":0.14752800000000002}]
[{"$f":"\"ate01-\"&B1441&\" \"&C1441&\" \"&D1441&\" \"&E1441","v":"ate01-SD-05-C2-S2-G DOS (2) DOS (2) N/A"},"SD-05-C2-S2-G","DOS (2)","DOS (2)","N/A","Servicio de distribucion Region Orinoquia","MIGUEL ANGEL VALLEJO BURGOS",0.14752800000000002,{"$f":"B1441&G1441","v":"SD-05-C2-S2-GMIGUEL ANGEL VALLEJO BURGOS"},{"$f":"C1441&D1441&E1441&F1441","v":"DOS (2)DOS (2)N/AServicio de distribucion Region Orinoquia"},{"$f":"H1441","v":0.14752800000000002},{"$f":"C1441&D1441&E1441&F1441&G1441","v":"DOS (2)DOS (2)N/AServicio de distribucion Region OrinoquiaMIGUEL ANGEL VALLEJO BURGOS"},{"$f":"B1441&H1441","v":"SD-05-C2-S2-G0.147528"},{"$f":"G1441","v":"MIGUEL ANGEL VALLEJO BURGOS"},"Und",{"$f":"C1441&D1441&E1441&F1441&G1441","v":"DOS (2)DOS (2)N/AServicio de distribucion Region OrinoquiaMIGUEL ANGEL VALLEJO BURGOS"},{"$f":"H1441","v":0.14752800000000002}]
[{"$f":"\"ate01-\"&B1442&\" \"&C1442&\" \"&D1442&\" \"&E1442","v":"ate01-SD-05-C3-S-G TRES (3) N/A N/A"},"SD-05-C3-S-G","TRES (3)","N/A","N/A","Servicio de distribucion Region Orinoquia","JM GRUPO",0.14752800000000002,{"$f":"B1442&G1442","v":"SD-05-C3-S-GJM GRUPO"},{"$f":"C1442&D1442&E1442&F1442","v":"TRES (3)N/AN/AServicio de distribucion Region Orinoquia"},{"$f":"H1442","v":0.14752800000000002},{"$f":"C1442&D1442&E1442&F1442&G1442","v":"TRES (3)N/AN/AServicio de distribucion Region OrinoquiaJM GRUPO"},{"$f":"B1442&H1442","v":"SD-05-C3-S-G0.147528"},{"$f":"G1442","v":"JM GRUPO"},"Und",{"$f":"C1442&D1442&E1442&F1442&G1442","v":"TRES (3)N/AN/AServicio de distribucion Region OrinoquiaJM GRUPO"},{"$f":"H1442","v":0.14752800000000002}]
[{"$f":"\"ate01-\"&B1443&\" \"&C1443&\" \"&D1443&\" \"&E1443","v":"ate01-SD-05-C3-S-G TRES (3) N/A N/A"},"SD-05-C3-S-G","TRES (3)","N/A","N/A","Servicio de distribucion Region Orinoquia","INVERSIONES SARHEM DE COLOMBIA S.A.S.",0.185776,{"$f":"B1443&G1443","v":"SD-05-C3-S-GINVERSIONES SARHEM DE COLOMBIA S.A.S."},{"$f":"C1443&D1443&E1443&F1443","v":"TRES (3)N/AN/AServicio de distribucion Region Orinoquia"},{"$f":"H1443","v":0.185776},{"$f":"C1443&D1443&E1443&F1443&G1443","v":"TRES (3)N/AN/AServicio de distribucion Region OrinoquiaINVERSIONES SARHEM DE COLOMBIA S.A.S."},{"$f":"B1443&H1443","v":"SD-05-C3-S-G0.185776"},{"$f":"G1443","v":"INVERSIONES SARHEM DE COLOMBIA S.A.S."},"Und",{"$f":"C1443&D1443&E1443&F1443&G1443","v":"TRES (3)N/AN/AServicio de distribucion Region OrinoquiaINVERSIONES SARHEM DE COLOMBIA S.A.S."},{"$f":"H1443","v":0.185776}]
[{"$f":"\"ate01-\"&B1444&\" \"&C1444&\" \"&D1444&\" \"&E1444","v":"ate01-SD-05-C3-S-G TRES (3) N/A N/A"},"SD-05-C3-S-G","TRES (3)","N/A","N/A","Servicio de distribucion Region Orinoquia","C I WARRIORS COMPANY S.A.S.",0.14752800000000002,{"$f":"B1444&G1444","v":"SD-05-C3-S-GC I WARRIORS COMPANY S.A.S."},{"$f":"C1444&D1444&E1444&F1444","v":"TRES (3)N/AN/AServicio de distribucion Region Orinoquia"},{"$f":"H1444","v":0.14752800000000002},{"$f":"C1444&D1444&E1444&F1444&G1444","v":"TRES (3)N/AN/AServicio de distribucion Region OrinoquiaC I WARRIORS COMPANY S.A.S."},{"$f":"B1444&H1444","v":"SD-05-C3-S-G0.147528"},{"$f":"G1444","v":"C I WARRIORS COMPANY S.A.S."},"Und",{"$f":"C1444&D1444&E1444&F1444&G1444","v":"TRES (3)N/AN/AServicio de distribucion Region OrinoquiaC I WARRIORS COMPANY S.A.S."},{"$f":"H1444","v":0.14752800000000002}]
[{"$f":"\"ate01-\"&B1445&\" \"&C1445&\" \"&D1445&\" \"&E1445","v":"ate01-SD-05-C3-S-G TRES (3) N/A N/A"},"SD-05-C3-S-G","TRES (3)","N/A","N/A","Servicio de distribucion Region Orinoquia","LIMINA S.A.S.",0.185776,{"$f":"B1445&G1445","v":"SD-05-C3-S-GLIMINA S.A.S."},{"$f":"C1445&D1445&E1445&F1445","v":"TRES (3)N/AN/AServicio de distribucion Region Orinoquia"},{"$f":"H1445","v":0.185776},{"$f":"C1445&D1445&E1445&F1445&G1445","v":"TRES (3)N/AN/AServicio de distribucion Region OrinoquiaLIMINA S.A.S."},{"$f":"B1445&H1445","v":"SD-05-C3-S-G0.185776"},{"$f":"G1445","v":"LIMINA S.A.S."},"Und",{"$f":"C1445&D1445&E1445&F1445&G1445","v":"TRES (3)N/AN/AServicio de distribucion Region OrinoquiaLIMINA S.A.S."},{"$f":"H1445","v":0.185776}]
[{"$f":"\"ate01-\"&B1446&\" \"&C1446&\" \"&D1446&\" \"&E1446","v":"ate01-SD-05-C3-S-G TRES (3) N/A N/A"},"SD-05-C3-S-G","TRES (3)","N/A","N/A","Servicio de distribucion Region Orinoquia","YUBARTA S.A.S.",0.14752800000000002,{"$f":"B1446&G1446","v":"SD-05-C3-S-GYUBARTA S.A.S."},{"$f":"C1446&D1446&E1446&F1446","v":"TRES (3)N/AN/AServicio de distribucion Region Orinoquia"},{"$f":"H1446","v":0.14752800000000002},{"$f":"C1446&D1446&E1446&F1446&G1446","v":"TRES (3)N/AN/AServicio de distribucion Region OrinoquiaYUBARTA S.A.S."},{"$f":"B1446&H1446","v":"SD-05-C3-S-G0.147528"},{"$f":"G1446","v":"YUBARTA S.A.S."},"Und",{"$f":"C1446&D1446&E1446&F1446&G1446","v":"TRES (3)N/AN/AServicio de distribucion Region OrinoquiaYUBARTA S.A.S."},{"$f":"H1446","v":0.14752800000000002}]
[{"$f":"\"ate01-\"&B1447&\" \"&C1447&\" \"&D1447&\" \"&E1447","v":"ate01-SD-05-C3-S-G TRES (3) N/A N/A"},"SD-05-C3-S-G","TRES (3)","N/A","N/A","Servicio de distribucion Region Orinoquia","COLOMBIANA DE TEXTILES POR MAYOR S.A.",0.14752800000000002,{"$f":"B1447&G1447","v":"SD-05-C3-S-GCOLOMBIANA DE TEXTILES POR MAYOR S.A."},{"$f":"C1447&D1447&E1447&F1447","v":"TRES (3)N/AN/AServicio de distribucion Region Orinoquia"},{"$f":"H1447","v":0.14752800000000002},{"$f":"C1447&D1447&E1447&F1447&G1447","v":"TRES (3)N/AN/AServicio de distribucion Region OrinoquiaCOLOMBIANA DE TEXTILES POR MAYOR S.A."},{"$f":"B1447&H1447","v":"SD-05-C3-S-G0.147528"},{"$f":"G1447","v":"COLOMBIANA DE TEXTILES POR MAYOR S.A."},"Und",{"$f":"C1447&D1447&E1447&F1447&G1447","v":"TRES (3)N/AN/AServicio de distribucion Region OrinoquiaCOLOMBIANA DE TEXTILES POR MAYOR S.A."},{"$f":"H1447","v":0.14752800000000002}]
[{"$f":"\"ate01-\"&B1448&\" \"&C1448&\" \"&D1448&\" \"&E1448","v":"ate01-SD-05-C3-S-G TRES (3) N/A N/A"},"SD-05-C3-S-G","TRES (3)","N/A","N/A","Servicio de distribucion Region Orinoquia","MIGUEL ANGEL VALLEJO BURGOS",0.14752800000000002,{"$f":"B1448&G1448","v":"SD-05-C3-S-GMIGUEL ANGEL VALLEJO BURGOS"},{"$f":"C1448&D1448&E1448&F1448","v":"TRES (3)N/AN/AServicio de distribucion Region Orinoquia"},{"$f":"H1448","v":0.14752800000000002},{"$f":"C1448&D1448&E1448&F1448&G1448","v":"TRES (3)N/AN/AServicio de distribucion Region OrinoquiaMIGUEL ANGEL VALLEJO BURGOS"},{"$f":"B1448&H1448","v":"SD-05-C3-S-G0.147528"},{"$f":"G1448","v":"MIGUEL ANGEL VALLEJO BURGOS"},"Und",{"$f":"C1448&D1448&E1448&F1448&G1448","v":"TRES (3)N/AN/AServicio de distribucion Region OrinoquiaMIGUEL ANGEL VALLEJO BURGOS"},{"$f":"H1448","v":0.14752800000000002}]
[{"$f":"\"ate01-\"&B1449&\" \"&C1449&\" \"&D1449&\" \"&E1449","v":"ate01-SD-05-C3-S-G TRES (3) N/A N/A"},"SD-05-C3-S-G","TRES (3)","N/A","N/A","Servicio de distribucion Region Orinoquia","INVALCA",0.14752800000000002,{"$f":"B1449&G1449","v":"SD-05-C3-S-GINVALCA"},{"$f":"C1449&D1449&E1449&F1449","v":"TRES (3)N/AN/AServicio de distribucion Region Orinoquia"},{"$f":"H1449","v":0.14752800000000002},{"$f":"C1449&D1449&E1449&F1449&G1449","v":"TRES (3)N/AN/AServicio de distribucion Region OrinoquiaINVALCA"},{"$f":"B1449&H1449","v":"SD-05-C3-S-G0.147528"},{"$f":"G1449","v":"INVALCA"},"Und",{"$f":"C1449&D1449&E1449&F1449&G1449","v":"TRES (3)N/AN/AServicio de distribucion Region OrinoquiaINVALCA"},{"$f":"H1449","v":0.14752800000000002}]
[{"$f":"\"ate01-\"&B1450&\" \"&C1450&\" \"&D1450&\" \"&E1450","v":"ate01-SD-05-C4-S3-GA CUATRO (4) TRES (3) A"},"SD-05-C4-S3-GA","CUATRO (4)","TRES (3)","A","Servicio de distribucion Region Orinoquia","JM GRUPO",0.14752800000000002,{"$f":"B1450&G1450","v":"SD-05-C4-S3-GAJM GRUPO"},{"$f":"C1450&D1450&E1450&F1450","v":"CUATRO (4)TRES (3)AServicio de distribucion Region Orinoquia"},{"$f":"H1450","v":0.14752800000000002},{"$f":"C1450&D1450&E1450&F1450&G1450","v":"CUATRO (4)TRES (3)AServicio de distribucion Region OrinoquiaJM GRUPO"},{"$f":"B1450&H1450","v":"SD-05-C4-S3-GA0.147528"},{"$f":"G1450","v":"JM GRUPO"},"Und",{"$f":"C1450&D1450&E1450&F1450&G1450","v":"CUATRO (4)TRES (3)AServicio de distribucion Region OrinoquiaJM GRUPO"},{"$f":"H1450","v":0.14752800000000002}]
[{"$f":"\"ate01-\"&B1451&\" \"&C1451&\" \"&D1451&\" \"&E1451","v":"ate01-SD-05-C4-S3-GA CUATRO (4) TRES (3) A"},"SD-05-C4-S3-GA","CUATRO (4)","TRES (3)","A","Servicio de distribucion Region Orinoquia","UT EMERGENCIAS 2021",0.14752800000000002,{"$f":"B1451&G1451","v":"SD-05-C4-S3-GAUT EMERGENCIAS 2021"},{"$f":"C1451&D1451&E1451&F1451","v":"CUATRO (4)TRES (3)AServicio de distribucion Region Orinoquia"},{"$f":"H1451","v":0.14752800000000002},{"$f":"C1451&D1451&E1451&F1451&G1451","v":"CUATRO (4)TRES (3)AServicio de distribucion Region OrinoquiaUT EMERGENCIAS 2021"},{"$f":"B1451&H1451","v":"SD-05-C4-S3-GA0.147528"},{"$f":"G1451","v":"UT EMERGENCIAS 2021"},"Und",{"$f":"C1451&D1451&E1451&F1451&G1451","v":"CUATRO (4)TRES (3)AServicio de distribucion Region OrinoquiaUT EMERGENCIAS 2021"},{"$f":"H1451","v":0.14752800000000002}]
[{"$f":"\"ate01-\"&B1452&\" \"&C1452&\" \"&D1452&\" \"&E1452","v":"ate01-SD-05-C4-S3-GA CUATRO (4) TRES (3) A"},"SD-05-C4-S3-GA","CUATRO (4)","TRES (3)","A","Servicio de distribucion Region Orinoquia","UNION TEMPORAL AYGEMA",0.14752800000000002,{"$f":"B1452&G1452","v":"SD-05-C4-S3-GAUNION TEMPORAL AYGEMA"},{"$f":"C1452&D1452&E1452&F1452","v":"CUATRO (4)TRES (3)AServicio de distribucion Region Orinoquia"},{"$f":"H1452","v":0.14752800000000002},{"$f":"C1452&D1452&E1452&F1452&G1452","v":"CUATRO (4)TRES (3)AServicio de distribucion Region OrinoquiaUNION TEMPORAL AYGEMA"},{"$f":"B1452&H1452","v":"SD-05-C4-S3-GA0.147528"},{"$f":"G1452","v":"UNION TEMPORAL AYGEMA"},"Und",{"$f":"C1452&D1452&E1452&F1452&G1452","v":"CUATRO (4)TRES (3)AServicio de distribucion Region OrinoquiaUNION TEMPORAL AYGEMA"},{"$f":"H1452","v":0.14752800000000002}]
[{"$f":"\"ate01-\"&B1453&\" \"&C1453&\" \"&D1453&\" \"&E1453","v":"ate01-SD-05-C4-S3-GA CUATRO (4) TRES (3) A"},"SD-05-C4-S3-GA","CUATRO (4)","TRES (3)","A","Servicio de distribucion Region Orinoquia","COLOMBIANA DE TEXTILES POR MAYOR S.A.",0.14752800000000002,{"$f":"B1453&G1453","v":"SD-05-C4-S3-GACOLOMBIANA DE TEXTILES POR MAYOR S.A."},{"$f":"C1453&D1453&E1453&F1453","v":"CUATRO (4)TRES (3)AServicio de distribucion Region Orinoquia"},{"$f":"H1453","v":0.14752800000000002},{"$f":"C1453&D1453&E1453&F1453&G1453","v":"CUATRO (4)TRES (3)AServicio de distribucion Region OrinoquiaCOLOMBIANA DE TEXTILES POR MAYOR S.A."},{"$f":"B1453&H1453","v":"SD-05-C4-S3-GA0.147528"},{"$f":"G1453","v":"COLOMBIANA DE TEXTILES POR MAYOR S.A."},"Und",{"$f":"C1453&D1453&E1453&F1453&G1453","v":"CUATRO (4)TRES (3)AServicio de distribucion Region OrinoquiaCOLOMBIANA DE TEXTILES POR MAYOR S.A."},{"$f":"H1453","v":0.14752800000000002}]
[{"$f":"\"ate01-\"&B1454&\" \"&C1454&\" \"&D1454&\" \"&E1454","v":"ate01-SD-05-C4-S3-GC CUATRO (4) TRES (3) C"},"SD-05-C4-S3-GC","CUATRO (4)","TRES (3)","C","Servicio de distribucion Region Orinoquia","JM GRUPO",0.14752800000000002,{"$f":"B1454&G1454","v":"SD-05-C4-S3-GCJM GRUPO"},{"$f":"C1454&D1454&E1454&F1454","v":"CUATRO (4)TRES (3)CServicio de distribucion Region Orinoquia"},{"$f":"H1454","v":0.14752800000000002},{"$f":"C1454&D1454&E1454&F1454&G1454","v":"CUATRO (4)TRES (3)CServicio de distribucion Region OrinoquiaJM GRUPO"},{"$f":"B1454&H1454","v":"SD-05-C4-S3-GC0.147528"},{"$f":"G1454","v":"JM GRUPO"},"Und",{"$f":"C1454&D1454&E1454&F1454&G1454","v":"CUATRO (4)TRES (3)CServicio de distribucion Region OrinoquiaJM GRUPO"},{"$f":"H1454","v":0.14752800000000002}]
[{"$f":"\"ate01-\"&B1455&\" \"&C1455&\" \"&D1455&\" \"&E1455","v":"ate01-SD-05-C4-S3-GC CUATRO (4) TRES (3) C"},"SD-05-C4-S3-GC","CUATRO (4)","TRES (3)","C","Servicio de distribucion Region Orinoquia","UNION TEMPORAL AYGEMA",0.14752800000000002,{"$f":"B1455&G1455","v":"SD-05-C4-S3-GCUNION TEMPORAL AYGEMA"},{"$f":"C1455&D1455&E1455&F1455","v":"CUATRO (4)TRES (3)CServicio de distribucion Region Orinoquia"},{"$f":"H1455","v":0.14752800000000002},{"$f":"C1455&D1455&E1455&F1455&G1455","v":"CUATRO (4)TRES (3)CServicio de distribucion Region OrinoquiaUNION TEMPORAL AYGEMA"},{"$f":"B1455&H1455","v":"SD-05-C4-S3-GC0.147528"},{"$f":"G1455","v":"UNION TEMPORAL AYGEMA"},"Und",{"$f":"C1455&D1455&E1455&F1455&G1455","v":"CUATRO (4)TRES (3)CServicio de distribucion Region OrinoquiaUNION TEMPORAL AYGEMA"},{"$f":"H1455","v":0.14752800000000002}]
[{"$f":"\"ate01-\"&B1456&\" \"&C1456&\" \"&D1456&\" \"&E1456","v":"ate01-SD-05-C4-S3-GC CUATRO (4) TRES (3) C"},"SD-05-C4-S3-GC","CUATRO (4)","TRES (3)","C","Servicio de distribucion Region Orinoquia","SUPRISA S.A.S.",0.2,{"$f":"B1456&G1456","v":"SD-05-C4-S3-GCSUPRISA S.A.S."},{"$f":"C1456&D1456&E1456&F1456","v":"CUATRO (4)TRES (3)CServicio de distribucion Region Orinoquia"},{"$f":"H1456","v":0.2},{"$f":"C1456&D1456&E1456&F1456&G1456","v":"CUATRO (4)TRES (3)CServicio de distribucion Region OrinoquiaSUPRISA S.A.S."},{"$f":"B1456&H1456","v":"SD-05-C4-S3-GC0.2"},{"$f":"G1456","v":"SUPRISA S.A.S."},"Und",{"$f":"C1456&D1456&E1456&F1456&G1456","v":"CUATRO (4)TRES (3)CServicio de distribucion Region OrinoquiaSUPRISA S.A.S."},{"$f":"H1456","v":0.2}]
[{"$f":"\"ate01-\"&B1457&\" \"&C1457&\" \"&D1457&\" \"&E1457","v":"ate01-SD-05-C4-S3-GC CUATRO (4) TRES (3) C"},"SD-05-C4-S3-GC","CUATRO (4)","TRES (3)","C","Servicio de distribucion Region Orinoquia","MIGUEL ANGEL VALLEJO BURGOS",0.14752800000000002,{"$f":"B1457&G1457","v":"SD-05-C4-S3-GCMIGUEL ANGEL VALLEJO BURGOS"},{"$f":"C1457&D1457&E1457&F1457","v":"CUATRO (4)TRES (3)CServicio de distribucion Region Orinoquia"},{"$f":"H1457","v":0.14752800000000002},{"$f":"C1457&D1457&E1457&F1457&G1457","v":"CUATRO (4)TRES (3)CServicio de distribucion Region OrinoquiaMIGUEL ANGEL VALLEJO BURGOS"},{"$f":"B1457&H1457","v":"SD-05-C4-S3-GC0.147528"},{"$f":"G1457","v":"MIGUEL ANGEL VALLEJO BURGOS"},"Und",{"$f":"C1457&D1457&E1457&F1457&G1457","v":"CUATRO (4)TRES (3)CServicio de distribucion Region OrinoquiaMIGUEL ANGEL VALLEJO BURGOS"},{"$f":"H1457","v":0.14752800000000002}]
[{"$f":"\"ate01-\"&B1458&\" \"&C1458&\" \"&D1458&\" \"&E1458","v":"ate01-SD-05-C4-S3-GD CUATRO (4) TRES (3) D"},"SD-05-C4-S3-GD","CUATRO (4)","TRES (3)","D","Servicio de distribucion Region Orinoquia","IMPLESEG S.A.S.",0.16391999999999998,{"$f":"B1458&G1458","v":"SD-05-C4-S3-GDIMPLESEG S.A.S."},{"$f":"C1458&D1458&E1458&F1458","v":"CUATRO (4)TRES (3)DServicio de distribucion Region Orinoquia"},{"$f":"H1458","v":0.16391999999999998},{"$f":"C1458&D1458&E1458&F1458&G1458","v":"CUATRO (4)TRES (3)DServicio de distribucion Region OrinoquiaIMPLESEG S.A.S."},{"$f":"B1458&H1458","v":"SD-05-C4-S3-GD0.16392"},{"$f":"G1458","v":"IMPLESEG S.A.S."},"Und",{"$f":"C1458&D1458&E1458&F1458&G1458","v":"CUATRO (4)TRES (3)DServicio de distribucion Region OrinoquiaIMPLESEG S.A.S."},{"$f":"H1458","v":0.16391999999999998}]
[{"$f":"\"ate01-\"&B1459&\" \"&C1459&\" \"&D1459&\" \"&E1459","v":"ate01-SD-05-C4-S3-GD CUATRO (4) TRES (3) D"},"SD-05-C4-S3-GD","CUATRO (4)","TRES (3)","D","Servicio de distribucion Region Orinoquia","JM GRUPO",0.14752800000000002,{"$f":"B1459&G1459","v":"SD-05-C4-S3-GDJM GRUPO"},{"$f":"C1459&D1459&E1459&F1459","v":"CUATRO (4)TRES (3)DServicio de distribucion Region Orinoquia"},{"$f":"H1459","v":0.14752800000000002},{"$f":"C1459&D1459&E1459&F1459&G1459","v":"CUATRO (4)TRES (3)DServicio de distribucion Region OrinoquiaJM GRUPO"},{"$f":"B1459&H1459","v":"SD-05-C4-S3-GD0.147528"},{"$f":"G1459","v":"JM GRUPO"},"Und",{"$f":"C1459&D1459&E1459&F1459&G1459","v":"CUATRO (4)TRES (3)DServicio de distribucion Region OrinoquiaJM GRUPO"},{"$f":"H1459","v":0.14752800000000002}]
[{"$f":"\"ate01-\"&B1460&\" \"&C1460&\" \"&D1460&\" \"&E1460","v":"ate01-SD-05-C4-S3-GD CUATRO (4) TRES (3) D"},"SD-05-C4-S3-GD","CUATRO (4)","TRES (3)","D","Servicio de distribucion Region Orinoquia","SUMIMAS S.A.S.",0.13,{"$f":"B1460&G1460","v":"SD-05-C4-S3-GDSUMIMAS S.A.S."},{"$f":"C1460&D1460&E1460&F1460","v":"CUATRO (4)TRES (3)DServicio de distribucion Region Orinoquia"},{"$f":"H1460","v":0.13},{"$f":"C1460&D1460&E1460&F1460&G1460","v":"CUATRO (4)TRES (3)DServicio de distribucion Region OrinoquiaSUMIMAS S.A.S."},{"$f":"B1460&H1460","v":"SD-05-C4-S3-GD0.13"},{"$f":"G1460","v":"SUMIMAS S.A.S."},"Und",{"$f":"C1460&D1460&E1460&F1460&G1460","v":"CUATRO (4)TRES (3)DServicio de distribucion Region OrinoquiaSUMIMAS S.A.S."},{"$f":"H1460","v":0.13}]
[{"$f":"\"ate01-\"&B1461&\" \"&C1461&\" \"&D1461&\" \"&E1461","v":"ate01-SD-05-C4-S3-GD CUATRO (4) TRES (3) D"},"SD-05-C4-S3-GD","CUATRO (4)","TRES (3)","D","Servicio de distribucion Region Orinoquia","UT EMERGENCIAS 2021",0.14752800000000002,{"$f":"B1461&G1461","v":"SD-05-C4-S3-GDUT EMERGENCIAS 2021"},{"$f":"C1461&D1461&E1461&F1461","v":"CUATRO (4)TRES (3)DServicio de distribucion Region Orinoquia"},{"$f":"H1461","v":0.14752800000000002},{"$f":"C1461&D1461&E1461&F1461&G1461","v":"CUATRO (4)TRES (3)DServicio de distribucion Region OrinoquiaUT EMERGENCIAS 2021"},{"$f":"B1461&H1461","v":"SD-05-C4-S3-GD0.147528"},{"$f":"G1461","v":"UT EMERGENCIAS 2021"},"Und",{"$f":"C1461&D1461&E1461&F1461&G1461","v":"CUATRO (4)TRES (3)DServicio de distribucion Region OrinoquiaUT EMERGENCIAS 2021"},{"$f":"H1461","v":0.14752800000000002}]
[{"$f":"\"ate01-\"&B1462&\" \"&C1462&\" \"&D1462&\" \"&E1462","v":"ate01-SD-05-C4-S3-GD CUATRO (4) TRES (3) D"},"SD-05-C4-S3-GD","CUATRO (4)","TRES (3)","D","Servicio de distribucion Region Orinoquia","INCOLDEXT S.A.S.",0.14752800000000002,{"$f":"B1462&G1462","v":"SD-05-C4-S3-GDINCOLDEXT S.A.S."},{"$f":"C1462&D1462&E1462&F1462","v":"CUATRO (4)TRES (3)DServicio de distribucion Region Orinoquia"},{"$f":"H1462","v":0.14752800000000002},{"$f":"C1462&D1462&E1462&F1462&G1462","v":"CUATRO (4)TRES (3)DServicio de distribucion Region OrinoquiaINCOLDEXT S.A.S."},{"$f":"B1462&H1462","v":"SD-05-C4-S3-GD0.147528"},{"$f":"G1462","v":"INCOLDEXT S.A.S."},"Und",{"$f":"C1462&D1462&E1462&F1462&G1462","v":"CUATRO (4)TRES (3)DServicio de distribucion Region OrinoquiaINCOLDEXT S.A.S."},{"$f":"H1462","v":0.14752800000000002}]
[{"$f":"\"ate01-\"&B1463&\" \"&C1463&\" \"&D1463&\" \"&E1463","v":"ate01-SD-05-C4-S3-GD CUATRO (4) TRES (3) D"},"SD-05-C4-S3-GD","CUATRO (4)","TRES (3)","D","Servicio de distribucion Region Orinoquia","UNION TEMPORAL AYGEMA",0.14752800000000002,{"$f":"B1463&G1463","v":"SD-05-C4-S3-GDUNION TEMPORAL AYGEMA"},{"$f":"C1463&D1463&E1463&F1463","v":"CUATRO (4)TRES (3)DServicio de distribucion Region Orinoquia"},{"$f":"H1463","v":0.14752800000000002},{"$f":"C1463&D1463&E1463&F1463&G1463","v":"CUATRO (4)TRES (3)DServicio de distribucion Region OrinoquiaUNION TEMPORAL AYGEMA"},{"$f":"B1463&H1463","v":"SD-05-C4-S3-GD0.147528"},{"$f":"G1463","v":"UNION TEMPORAL AYGEMA"},"Und",{"$f":"C1463&D1463&E1463&F1463&G1463","v":"CUATRO (4)TRES (3)DServicio de distribucion Region OrinoquiaUNION TEMPORAL AYGEMA"},{"$f":"H1463","v":0.14752800000000002}]
[{"$f":"\"ate01-\"&B1464&\" \"&C1464&\" \"&D1464&\" \"&E1464","v":"ate01-SD-05-C4-S3-GD CUATRO (4) TRES (3) D"},"SD-05-C4-S3-GD","CUATRO (4)","TRES (3)","D","Servicio de distribucion Region Orinoquia","COMERCIALIZADORA DINPRO S.A.S.",0.14752800000000002,{"$f":"B1464&G1464","v":"SD-05-C4-S3-GDCOMERCIALIZADORA DINPRO S.A.S."},{"$f":"C1464&D1464&E1464&F1464","v":"CUATRO (4)TRES (3)DServicio de distribucion Region Orinoquia"},{"$f":"H1464","v":0.14752800000000002},{"$f":"C1464&D1464&E1464&F1464&G1464","v":"CUATRO (4)TRES (3)DServicio de distribucion Region OrinoquiaCOMERCIALIZADORA DINPRO S.A.S."},{"$f":"B1464&H1464","v":"SD-05-C4-S3-GD0.147528"},{"$f":"G1464","v":"COMERCIALIZADORA DINPRO S.A.S."},"Und",{"$f":"C1464&D1464&E1464&F1464&G1464","v":"CUATRO (4)TRES (3)DServicio de distribucion Region OrinoquiaCOMERCIALIZADORA DINPRO S.A.S."},{"$f":"H1464","v":0.14752800000000002}]
[{"$f":"\"ate01-\"&B1465&\" \"&C1465&\" \"&D1465&\" \"&E1465","v":"ate01-SD-05-C4-S3-GD CUATRO (4) TRES (3) D"},"SD-05-C4-S3-GD","CUATRO (4)","TRES (3)","D","Servicio de distribucion Region Orinoquia","LIMINA S.A.S.",0.185776,{"$f":"B1465&G1465","v":"SD-05-C4-S3-GDLIMINA S.A.S."},{"$f":"C1465&D1465&E1465&F1465","v":"CUATRO (4)TRES (3)DServicio de distribucion Region Orinoquia"},{"$f":"H1465","v":0.185776},{"$f":"C1465&D1465&E1465&F1465&G1465","v":"CUATRO (4)TRES (3)DServicio de distribucion Region OrinoquiaLIMINA S.A.S."},{"$f":"B1465&H1465","v":"SD-05-C4-S3-GD0.185776"},{"$f":"G1465","v":"LIMINA S.A.S."},"Und",{"$f":"C1465&D1465&E1465&F1465&G1465","v":"CUATRO (4)TRES (3)DServicio de distribucion Region OrinoquiaLIMINA S.A.S."},{"$f":"H1465","v":0.185776}]
[{"$f":"\"ate01-\"&B1466&\" \"&C1466&\" \"&D1466&\" \"&E1466","v":"ate01-SD-05-C4-S3-GD CUATRO (4) TRES (3) D"},"SD-05-C4-S3-GD","CUATRO (4)","TRES (3)","D","Servicio de distribucion Region Orinoquia","INMADICA ANDINA",8.7424000000000002E-2,{"$f":"B1466&G1466","v":"SD-05-C4-S3-GDINMADICA ANDINA"},{"$f":"C1466&D1466&E1466&F1466","v":"CUATRO (4)TRES (3)DServicio de distribucion Region Orinoquia"},{"$f":"H1466","v":8.7424000000000002E-2},{"$f":"C1466&D1466&E1466&F1466&G1466","v":"CUATRO (4)TRES (3)DServicio de distribucion Region OrinoquiaINMADICA ANDINA"},{"$f":"B1466&H1466","v":"SD-05-C4-S3-GD0.087424"},{"$f":"G1466","v":"INMADICA ANDINA"},"Und",{"$f":"C1466&D1466&E1466&F1466&G1466","v":"CUATRO (4)TRES (3)DServicio de distribucion Region OrinoquiaINMADICA ANDINA"},{"$f":"H1466","v":8.7424000000000002E-2}]
[{"$f":"\"ate01-\"&B1467&\" \"&C1467&\" \"&D1467&\" \"&E1467","v":"ate01-SD-05-C4-S3-GD CUATRO (4) TRES (3) D"},"SD-05-C4-S3-GD","CUATRO (4)","TRES (3)","D","Servicio de distribucion Region Orinoquia","COLOMBIANA DE TEXTILES POR MAYOR S.A.",0.14752800000000002,{"$f":"B1467&G1467","v":"SD-05-C4-S3-GDCOLOMBIANA DE TEXTILES POR MAYOR S.A."},{"$f":"C1467&D1467&E1467&F1467","v":"CUATRO (4)TRES (3)DServicio de distribucion Region Orinoquia"},{"$f":"H1467","v":0.14752800000000002},{"$f":"C1467&D1467&E1467&F1467&G1467","v":"CUATRO (4)TRES (3)DServicio de distribucion Region OrinoquiaCOLOMBIANA DE TEXTILES POR MAYOR S.A."},{"$f":"B1467&H1467","v":"SD-05-C4-S3-GD0.147528"},{"$f":"G1467","v":"COLOMBIANA DE TEXTILES POR MAYOR S.A."},"Und",{"$f":"C1467&D1467&E1467&F1467&G1467","v":"CUATRO (4)TRES (3)DServicio de distribucion Region OrinoquiaCOLOMBIANA DE TEXTILES POR MAYOR S.A."},{"$f":"H1467","v":0.14752800000000002}]
[{"$f":"\"ate01-\"&B1468&\" \"&C1468&\" \"&D1468&\" \"&E1468","v":"ate01-SD-05-C4-S3-GD CUATRO (4) TRES (3) D"},"SD-05-C4-S3-GD","CUATRO (4)","TRES (3)","D","Servicio de distribucion Region Orinoquia","MIGUEL ANGEL VALLEJO BURGOS",0.14752800000000002,{"$f":"B1468&G1468","v":"SD-05-C4-S3-GDMIGUEL ANGEL VALLEJO BURGOS"},{"$f":"C1468&D1468&E1468&F1468","v":"CUATRO (4)TRES (3)DServicio de distribucion Region Orinoquia"},{"$f":"H1468","v":0.14752800000000002},{"$f":"C1468&D1468&E1468&F1468&G1468","v":"CUATRO (4)TRES (3)DServicio de distribucion Region OrinoquiaMIGUEL ANGEL VALLEJO BURGOS"},{"$f":"B1468&H1468","v":"SD-05-C4-S3-GD0.147528"},{"$f":"G1468","v":"MIGUEL ANGEL VALLEJO BURGOS"},"Und",{"$f":"C1468&D1468&E1468&F1468&G1468","v":"CUATRO (4)TRES (3)DServicio de distribucion Region OrinoquiaMIGUEL ANGEL VALLEJO BURGOS"},{"$f":"H1468","v":0.14752800000000002}]
[{"$f":"\"ate01-\"&B1469&\" \"&C1469&\" \"&D1469&\" \"&E1469","v":"ate01-SD-05-C4-S3-GE CUATRO (4) TRES (3) E"},"SD-05-C4-S3-GE","CUATRO (4)","TRES (3)","E","Servicio de distribucion Region Orinoquia","JM GRUPO",0.14752800000000002,{"$f":"B1469&G1469","v":"SD-05-C4-S3-GEJM GRUPO"},{"$f":"C1469&D1469&E1469&F1469","v":"CUATRO (4)TRES (3)EServicio de distribucion Region Orinoquia"},{"$f":"H1469","v":0.14752800000000002},{"$f":"C1469&D1469&E1469&F1469&G1469","v":"CUATRO (4)TRES (3)EServicio de distribucion Region OrinoquiaJM GRUPO"},{"$f":"B1469&H1469","v":"SD-05-C4-S3-GE0.147528"},{"$f":"G1469","v":"JM GRUPO"},"Und",{"$f":"C1469&D1469&E1469&F1469&G1469","v":"CUATRO (4)TRES (3)EServicio de distribucion Region OrinoquiaJM GRUPO"},{"$f":"H1469","v":0.14752800000000002}]
[{"$f":"\"ate01-\"&B1470&\" \"&C1470&\" \"&D1470&\" \"&E1470","v":"ate01-SD-05-C4-S3-GE CUATRO (4) TRES (3) E"},"SD-05-C4-S3-GE","CUATRO (4)","TRES (3)","E","Servicio de distribucion Region Orinoquia","INVERSIONES SARHEM DE COLOMBIA S.A.S.",0.185776,{"$f":"B1470&G1470","v":"SD-05-C4-S3-GEINVERSIONES SARHEM DE COLOMBIA S.A.S."},{"$f":"C1470&D1470&E1470&F1470","v":"CUATRO (4)TRES (3)EServicio de distribucion Region Orinoquia"},{"$f":"H1470","v":0.185776},{"$f":"C1470&D1470&E1470&F1470&G1470","v":"CUATRO (4)TRES (3)EServicio de distribucion Region OrinoquiaINVERSIONES SARHEM DE COLOMBIA S.A.S."},{"$f":"B1470&H1470","v":"SD-05-C4-S3-GE0.185776"},{"$f":"G1470","v":"INVERSIONES SARHEM DE COLOMBIA S.A.S."},"Und",{"$f":"C1470&D1470&E1470&F1470&G1470","v":"CUATRO (4)TRES (3)EServicio de distribucion Region OrinoquiaINVERSIONES SARHEM DE COLOMBIA S.A.S."},{"$f":"H1470","v":0.185776}]
[{"$f":"\"ate01-\"&B1471&\" \"&C1471&\" \"&D1471&\" \"&E1471","v":"ate01-SD-05-C4-S3-GE CUATRO (4) TRES (3) E"},"SD-05-C4-S3-GE","CUATRO (4)","TRES (3)","E","Servicio de distribucion Region Orinoquia","UT EMERGENCIAS 2021",0.14752800000000002,{"$f":"B1471&G1471","v":"SD-05-C4-S3-GEUT EMERGENCIAS 2021"},{"$f":"C1471&D1471&E1471&F1471","v":"CUATRO (4)TRES (3)EServicio de distribucion Region Orinoquia"},{"$f":"H1471","v":0.14752800000000002},{"$f":"C1471&D1471&E1471&F1471&G1471","v":"CUATRO (4)TRES (3)EServicio de distribucion Region OrinoquiaUT EMERGENCIAS 2021"},{"$f":"B1471&H1471","v":"SD-05-C4-S3-GE0.147528"},{"$f":"G1471","v":"UT EMERGENCIAS 2021"},"Und",{"$f":"C1471&D1471&E1471&F1471&G1471","v":"CUATRO (4)TRES (3)EServicio de distribucion Region OrinoquiaUT EMERGENCIAS 2021"},{"$f":"H1471","v":0.14752800000000002}]
[{"$f":"\"ate01-\"&B1472&\" \"&C1472&\" \"&D1472&\" \"&E1472","v":"ate01-SD-05-C4-S3-GE CUATRO (4) TRES (3) E"},"SD-05-C4-S3-GE","CUATRO (4)","TRES (3)","E","Servicio de distribucion Region Orinoquia","LIMINA S.A.S.",0.185776,{"$f":"B1472&G1472","v":"SD-05-C4-S3-GELIMINA S.A.S."},{"$f":"C1472&D1472&E1472&F1472","v":"CUATRO (4)TRES (3)EServicio de distribucion Region Orinoquia"},{"$f":"H1472","v":0.185776},{"$f":"C1472&D1472&E1472&F1472&G1472","v":"CUATRO (4)TRES (3)EServicio de distribucion Region OrinoquiaLIMINA S.A.S."},{"$f":"B1472&H1472","v":"SD-05-C4-S3-GE0.185776"},{"$f":"G1472","v":"LIMINA S.A.S."},"Und",{"$f":"C1472&D1472&E1472&F1472&G1472","v":"CUATRO (4)TRES (3)EServicio de distribucion Region OrinoquiaLIMINA S.A.S."},{"$f":"H1472","v":0.185776}]
[{"$f":"\"ate01-\"&B1473&\" \"&C1473&\" \"&D1473&\" \"&E1473","v":"ate01-SD-05-C4-S3-GE CUATRO (4) TRES (3) E"},"SD-05-C4-S3-GE","CUATRO (4)","TRES (3)","E","Servicio de distribucion Region Orinoquia","COLOMBIANA DE TEXTILES POR MAYOR S.A.",0.14752800000000002,{"$f":"B1473&G1473","v":"SD-05-C4-S3-GECOLOMBIANA DE TEXTILES POR MAYOR S.A."},{"$f":"C1473&D1473&E1473&F1473","v":"CUATRO (4)TRES (3)EServicio de distribucion Region Orinoquia"},{"$f":"H1473","v":0.14752800000000002},{"$f":"C1473&D1473&E1473&F1473&G1473","v":"CUATRO (4)TRES (3)EServicio de distribucion Region OrinoquiaCOLOMBIANA DE TEXTILES POR MAYOR S.A."},{"$f":"B1473&H1473","v":"SD-05-C4-S3-GE0.147528"},{"$f":"G1473","v":"COLOMBIANA DE TEXTILES POR MAYOR S.A."},"Und",{"$f":"C1473&D1473&E1473&F1473&G1473","v":"CUATRO (4)TRES (3)EServicio de distribucion Region OrinoquiaCOLOMBIANA DE TEXTILES POR MAYOR S.A."},{"$f":"H1473","v":0.14752800000000002}]
[{"$f":"\"ate01-\"&B1474&\" \"&C1474&\" \"&D1474&\" \"&E1474","v":"ate01-SD-05-C4-S3-GE CUATRO (4) TRES (3) E"},"SD-05-C4-S3-GE","CUATRO (4)","TRES (3)","E","Servicio de distribucion Region Orinoquia","MIGUEL ANGEL VALLEJO BURGOS",0.14752800000000002,{"$f":"B1474&G1474","v":"SD-05-C4-S3-GEMIGUEL ANGEL VALLEJO BURGOS"},{"$f":"C1474&D1474&E1474&F1474","v":"CUATRO (4)TRES (3)EServicio de distribucion Region Orinoquia"},{"$f":"H1474","v":0.14752800000000002},{"$f":"C1474&D1474&E1474&F1474&G1474","v":"CUATRO (4)TRES (3)EServicio de distribucion Region OrinoquiaMIGUEL ANGEL VALLEJO BURGOS"},{"$f":"B1474&H1474","v":"SD-05-C4-S3-GE0.147528"},{"$f":"G1474","v":"MIGUEL ANGEL VALLEJO BURGOS"},"Und",{"$f":"C1474&D1474&E1474&F1474&G1474","v":"CUATRO (4)TRES (3)EServicio de distribucion Region OrinoquiaMIGUEL ANGEL VALLEJO BURGOS"},{"$f":"H1474","v":0.14752800000000002}]
[{"$f":"\"ate01-\"&B1475&\" \"&C1475&\" \"&D1475&\" \"&E1475","v":"ate01-SD-05-C4-S4-GA CUATRO (4) CUATRO (4) A"},"SD-05-C4-S4-GA","CUATRO (4)","CUATRO (4)","A","Servicio de distribucion Region Orinoquia","JM GRUPO",0.14752800000000002,{"$f":"B1475&G1475","v":"SD-05-C4-S4-GAJM GRUPO"},{"$f":"C1475&D1475&E1475&F1475","v":"CUATRO (4)CUATRO (4)AServicio de distribucion Region Orinoquia"},{"$f":"H1475","v":0.14752800000000002},{"$f":"C1475&D1475&E1475&F1475&G1475","v":"CUATRO (4)CUATRO (4)AServicio de distribucion Region OrinoquiaJM GRUPO"},{"$f":"B1475&H1475","v":"SD-05-C4-S4-GA0.147528"},{"$f":"G1475","v":"JM GRUPO"},"Und",{"$f":"C1475&D1475&E1475&F1475&G1475","v":"CUATRO (4)CUATRO (4)AServicio de distribucion Region OrinoquiaJM GRUPO"},{"$f":"H1475","v":0.14752800000000002}]
[{"$f":"\"ate01-\"&B1476&\" \"&C1476&\" \"&D1476&\" \"&E1476","v":"ate01-SD-05-C4-S4-GA CUATRO (4) CUATRO (4) A"},"SD-05-C4-S4-GA","CUATRO (4)","CUATRO (4)","A","Servicio de distribucion Region Orinoquia","SUMIMAS S.A.S.",0.142064,{"$f":"B1476&G1476","v":"SD-05-C4-S4-GASUMIMAS S.A.S."},{"$f":"C1476&D1476&E1476&F1476","v":"CUATRO (4)CUATRO (4)AServicio de distribucion Region Orinoquia"},{"$f":"H1476","v":0.142064},{"$f":"C1476&D1476&E1476&F1476&G1476","v":"CUATRO (4)CUATRO (4)AServicio de distribucion Region OrinoquiaSUMIMAS S.A.S."},{"$f":"B1476&H1476","v":"SD-05-C4-S4-GA0.142064"},{"$f":"G1476","v":"SUMIMAS S.A.S."},"Und",{"$f":"C1476&D1476&E1476&F1476&G1476","v":"CUATRO (4)CUATRO (4)AServicio de distribucion Region OrinoquiaSUMIMAS S.A.S."},{"$f":"H1476","v":0.142064}]
[{"$f":"\"ate01-\"&B1477&\" \"&C1477&\" \"&D1477&\" \"&E1477","v":"ate01-SD-05-C4-S4-GA CUATRO (4) CUATRO (4) A"},"SD-05-C4-S4-GA","CUATRO (4)","CUATRO (4)","A","Servicio de distribucion Region Orinoquia","UNION TEMPORAL AYGEMA",0.14752800000000002,{"$f":"B1477&G1477","v":"SD-05-C4-S4-GAUNION TEMPORAL AYGEMA"},{"$f":"C1477&D1477&E1477&F1477","v":"CUATRO (4)CUATRO (4)AServicio de distribucion Region Orinoquia"},{"$f":"H1477","v":0.14752800000000002},{"$f":"C1477&D1477&E1477&F1477&G1477","v":"CUATRO (4)CUATRO (4)AServicio de distribucion Region OrinoquiaUNION TEMPORAL AYGEMA"},{"$f":"B1477&H1477","v":"SD-05-C4-S4-GA0.147528"},{"$f":"G1477","v":"UNION TEMPORAL AYGEMA"},"Und",{"$f":"C1477&D1477&E1477&F1477&G1477","v":"CUATRO (4)CUATRO (4)AServicio de distribucion Region OrinoquiaUNION TEMPORAL AYGEMA"},{"$f":"H1477","v":0.14752800000000002}]
[{"$f":"\"ate01-\"&B1478&\" \"&C1478&\" \"&D1478&\" \"&E1478","v":"ate01-SD-05-C4-S4-GA CUATRO (4) CUATRO (4) A"},"SD-05-C4-S4-GA","CUATRO (4)","CUATRO (4)","A","Servicio de distribucion Region Orinoquia","UT SS 2021- CCENEG- 041-01-2021",0.14752800000000002,{"$f":"B1478&G1478","v":"SD-05-C4-S4-GAUT SS 2021- CCENEG- 041-01-2021"},{"$f":"C1478&D1478&E1478&F1478","v":"CUATRO (4)CUATRO (4)AServicio de distribucion Region Orinoquia"},{"$f":"H1478","v":0.14752800000000002},{"$f":"C1478&D1478&E1478&F1478&G1478","v":"CUATRO (4)CUATRO (4)AServicio de distribucion Region OrinoquiaUT SS 2021- CCENEG- 041-01-2021"},{"$f":"B1478&H1478","v":"SD-05-C4-S4-GA0.147528"},{"$f":"G1478","v":"UT SS 2021- CCENEG- 041-01-2021"},"Und",{"$f":"C1478&D1478&E1478&F1478&G1478","v":"CUATRO (4)CUATRO (4)AServicio de distribucion Region OrinoquiaUT SS 2021- CCENEG- 041-01-2021"},{"$f":"H1478","v":0.14752800000000002}]
[{"$f":"\"ate01-\"&B1479&\" \"&C1479&\" \"&D1479&\" \"&E1479","v":"ate01-SD-05-C4-S4-GA CUATRO (4) CUATRO (4) A"},"SD-05-C4-S4-GA","CUATRO (4)","CUATRO (4)","A","Servicio de distribucion Region Orinoquia","COLOMBIANA DE TEXTILES POR MAYOR S.A.",0.14752800000000002,{"$f":"B1479&G1479","v":"SD-05-C4-S4-GACOLOMBIANA DE TEXTILES POR MAYOR S.A."},{"$f":"C1479&D1479&E1479&F1479","v":"CUATRO (4)CUATRO (4)AServicio de distribucion Region Orinoquia"},{"$f":"H1479","v":0.14752800000000002},{"$f":"C1479&D1479&E1479&F1479&G1479","v":"CUATRO (4)CUATRO (4)AServicio de distribucion Region OrinoquiaCOLOMBIANA DE TEXTILES POR MAYOR S.A."},{"$f":"B1479&H1479","v":"SD-05-C4-S4-GA0.147528"},{"$f":"G1479","v":"COLOMBIANA DE TEXTILES POR MAYOR S.A."},"Und",{"$f":"C1479&D1479&E1479&F1479&G1479","v":"CUATRO (4)CUATRO (4)AServicio de distribucion Region OrinoquiaCOLOMBIANA DE TEXTILES POR MAYOR S.A."},{"$f":"H1479","v":0.14752800000000002}]
[{"$f":"\"ate01-\"&B1480&\" \"&C1480&\" \"&D1480&\" \"&E1480","v":"ate01-SD-05-C4-S4-GB CUATRO (4) CUATRO (4) B"},"SD-05-C4-S4-GB","CUATRO (4)","CUATRO (4)","B","Servicio de distribucion Region Orinoquia","JM GRUPO",0.14752800000000002,{"$f":"B1480&G1480","v":"SD-05-C4-S4-GBJM GRUPO"},{"$f":"C1480&D1480&E1480&F1480","v":"CUATRO (4)CUATRO (4)BServicio de distribucion Region Orinoquia"},{"$f":"H1480","v":0.14752800000000002},{"$f":"C1480&D1480&E1480&F1480&G1480","v":"CUATRO (4)CUATRO (4)BServicio de distribucion Region OrinoquiaJM GRUPO"},{"$f":"B1480&H1480","v":"SD-05-C4-S4-GB0.147528"},{"$f":"G1480","v":"JM GRUPO"},"Und",{"$f":"C1480&D1480&E1480&F1480&G1480","v":"CUATRO (4)CUATRO (4)BServicio de distribucion Region OrinoquiaJM GRUPO"},{"$f":"H1480","v":0.14752800000000002}]
[{"$f":"\"ate01-\"&B1481&\" \"&C1481&\" \"&D1481&\" \"&E1481","v":"ate01-SD-05-C4-S4-GB CUATRO (4) CUATRO (4) B"},"SD-05-C4-S4-GB","CUATRO (4)","CUATRO (4)","B","Servicio de distribucion Region Orinoquia","SUMIMAS S.A.S.",0.142064,{"$f":"B1481&G1481","v":"SD-05-C4-S4-GBSUMIMAS S.A.S."},{"$f":"C1481&D1481&E1481&F1481","v":"CUATRO (4)CUATRO (4)BServicio de distribucion Region Orinoquia"},{"$f":"H1481","v":0.142064},{"$f":"C1481&D1481&E1481&F1481&G1481","v":"CUATRO (4)CUATRO (4)BServicio de distribucion Region OrinoquiaSUMIMAS S.A.S."},{"$f":"B1481&H1481","v":"SD-05-C4-S4-GB0.142064"},{"$f":"G1481","v":"SUMIMAS S.A.S."},"Und",{"$f":"C1481&D1481&E1481&F1481&G1481","v":"CUATRO (4)CUATRO (4)BServicio de distribucion Region OrinoquiaSUMIMAS S.A.S."},{"$f":"H1481","v":0.142064}]
[{"$f":"\"ate01-\"&B1482&\" \"&C1482&\" \"&D1482&\" \"&E1482","v":"ate01-SD-05-C4-S4-GB CUATRO (4) CUATRO (4) B"},"SD-05-C4-S4-GB","CUATRO (4)","CUATRO (4)","B","Servicio de distribucion Region Orinoquia","UNION TEMPORAL AYGEMA",0.14752800000000002,{"$f":"B1482&G1482","v":"SD-05-C4-S4-GBUNION TEMPORAL AYGEMA"},{"$f":"C1482&D1482&E1482&F1482","v":"CUATRO (4)CUATRO (4)BServicio de distribucion Region Orinoquia"},{"$f":"H1482","v":0.14752800000000002},{"$f":"C1482&D1482&E1482&F1482&G1482","v":"CUATRO (4)CUATRO (4)BServicio de distribucion Region OrinoquiaUNION TEMPORAL AYGEMA"},{"$f":"B1482&H1482","v":"SD-05-C4-S4-GB0.147528"},{"$f":"G1482","v":"UNION TEMPORAL AYGEMA"},"Und",{"$f":"C1482&D1482&E1482&F1482&G1482","v":"CUATRO (4)CUATRO (4)BServicio de distribucion Region OrinoquiaUNION TEMPORAL AYGEMA"},{"$f":"H1482","v":0.14752800000000002}]
[{"$f":"\"ate01-\"&B1483&\" \"&C1483&\" \"&D1483&\" \"&E1483","v":"ate01-SD-05-C4-S4-GB CUATRO (4) CUATRO (4) B"},"SD-05-C4-S4-GB","CUATRO (4)","CUATRO (4)","B","Servicio de distribucion Region Orinoquia","PLASTICOS MQ S.A.S.",0.40433599999999997,{"$f":"B1483&G1483","v":"SD-05-C4-S4-GBPLASTICOS MQ S.A.S."},{"$f":"C1483&D1483&E1483&F1483","v":"CUATRO (4)CUATRO (4)BServicio de distribucion Region Orinoquia"},{"$f":"H1483","v":0.40433599999999997},{"$f":"C1483&D1483&E1483&F1483&G1483","v":"CUATRO (4)CUATRO (4)BServicio de distribucion Region OrinoquiaPLASTICOS MQ S.A.S."},{"$f":"B1483&H1483","v":"SD-05-C4-S4-GB0.404336"},{"$f":"G1483","v":"PLASTICOS MQ S.A.S."},"Und",{"$f":"C1483&D1483&E1483&F1483&G1483","v":"CUATRO (4)CUATRO (4)BServicio de distribucion Region OrinoquiaPLASTICOS MQ S.A.S."},{"$f":"H1483","v":0.40433599999999997}]
[{"$f":"\"ate01-\"&B1484&\" \"&C1484&\" \"&D1484&\" \"&E1484","v":"ate01-SD-05-C4-S4-GB CUATRO (4) CUATRO (4) B"},"SD-05-C4-S4-GB","CUATRO (4)","CUATRO (4)","B","Servicio de distribucion Region Orinoquia","SUPRISA S.A.S.",0.21856,{"$f":"B1484&G1484","v":"SD-05-C4-S4-GBSUPRISA S.A.S."},{"$f":"C1484&D1484&E1484&F1484","v":"CUATRO (4)CUATRO (4)BServicio de distribucion Region Orinoquia"},{"$f":"H1484","v":0.21856},{"$f":"C1484&D1484&E1484&F1484&G1484","v":"CUATRO (4)CUATRO (4)BServicio de distribucion Region OrinoquiaSUPRISA S.A.S."},{"$f":"B1484&H1484","v":"SD-05-C4-S4-GB0.21856"},{"$f":"G1484","v":"SUPRISA S.A.S."},"Und",{"$f":"C1484&D1484&E1484&F1484&G1484","v":"CUATRO (4)CUATRO (4)BServicio de distribucion Region OrinoquiaSUPRISA S.A.S."},{"$f":"H1484","v":0.21856}]
[{"$f":"\"ate01-\"&B1485&\" \"&C1485&\" \"&D1485&\" \"&E1485","v":"ate01-SD-05-C4-S4-GB CUATRO (4) CUATRO (4) B"},"SD-05-C4-S4-GB","CUATRO (4)","CUATRO (4)","B","Servicio de distribucion Region Orinoquia","MIGUEL ANGEL VALLEJO BURGOS",0.14752800000000002,{"$f":"B1485&G1485","v":"SD-05-C4-S4-GBMIGUEL ANGEL VALLEJO BURGOS"},{"$f":"C1485&D1485&E1485&F1485","v":"CUATRO (4)CUATRO (4)BServicio de distribucion Region Orinoquia"},{"$f":"H1485","v":0.14752800000000002},{"$f":"C1485&D1485&E1485&F1485&G1485","v":"CUATRO (4)CUATRO (4)BServicio de distribucion Region OrinoquiaMIGUEL ANGEL VALLEJO BURGOS"},{"$f":"B1485&H1485","v":"SD-05-C4-S4-GB0.147528"},{"$f":"G1485","v":"MIGUEL ANGEL VALLEJO BURGOS"},"Und",{"$f":"C1485&D1485&E1485&F1485&G1485","v":"CUATRO (4)CUATRO (4)BServicio de distribucion Region OrinoquiaMIGUEL ANGEL VALLEJO BURGOS"},{"$f":"H1485","v":0.14752800000000002}]
[{"$f":"\"ate01-\"&B1486&\" \"&C1486&\" \"&D1486&\" \"&E1486","v":"ate01-SD-05-C4-S4-GC CUATRO (4) CUATRO (4) C"},"SD-05-C4-S4-GC","CUATRO (4)","CUATRO (4)","C","Servicio de distribucion Region Orinoquia","SUMIMAS S.A.S.",0.142064,{"$f":"B1486&G1486","v":"SD-05-C4-S4-GCSUMIMAS S.A.S."},{"$f":"C1486&D1486&E1486&F1486","v":"CUATRO (4)CUATRO (4)CServicio de distribucion Region Orinoquia"},{"$f":"H1486","v":0.142064},{"$f":"C1486&D1486&E1486&F1486&G1486","v":"CUATRO (4)CUATRO (4)CServicio de distribucion Region OrinoquiaSUMIMAS S.A.S."},{"$f":"B1486&H1486","v":"SD-05-C4-S4-GC0.142064"},{"$f":"G1486","v":"SUMIMAS S.A.S."},"Und",{"$f":"C1486&D1486&E1486&F1486&G1486","v":"CUATRO (4)CUATRO (4)CServicio de distribucion Region OrinoquiaSUMIMAS S.A.S."},{"$f":"H1486","v":0.142064}]
[{"$f":"\"ate01-\"&B1487&\" \"&C1487&\" \"&D1487&\" \"&E1487","v":"ate01-SD-05-C4-S4-GC CUATRO (4) CUATRO (4) C"},"SD-05-C4-S4-GC","CUATRO (4)","CUATRO (4)","C","Servicio de distribucion Region Orinoquia","UNION TEMPORAL AYGEMA",0.14752800000000002,{"$f":"B1487&G1487","v":"SD-05-C4-S4-GCUNION TEMPORAL AYGEMA"},{"$f":"C1487&D1487&E1487&F1487","v":"CUATRO (4)CUATRO (4)CServicio de distribucion Region Orinoquia"},{"$f":"H1487","v":0.14752800000000002},{"$f":"C1487&D1487&E1487&F1487&G1487","v":"CUATRO (4)CUATRO (4)CServicio de distribucion Region OrinoquiaUNION TEMPORAL AYGEMA"},{"$f":"B1487&H1487","v":"SD-05-C4-S4-GC0.147528"},{"$f":"G1487","v":"UNION TEMPORAL AYGEMA"},"Und",{"$f":"C1487&D1487&E1487&F1487&G1487","v":"CUATRO (4)CUATRO (4)CServicio de distribucion Region OrinoquiaUNION TEMPORAL AYGEMA"},{"$f":"H1487","v":0.14752800000000002}]
[{"$f":"\"ate01-\"&B1488&\" \"&C1488&\" \"&D1488&\" \"&E1488","v":"ate01-SD-05-C4-S4-GC CUATRO (4) CUATRO (4) C"},"SD-05-C4-S4-GC","CUATRO (4)","CUATRO (4)","C","Servicio de distribucion Region Orinoquia","UT SS 2021- CCENEG- 041-01-2021",0.14752800000000002,{"$f":"B1488&G1488","v":"SD-05-C4-S4-GCUT SS 2021- CCENEG- 041-01-2021"},{"$f":"C1488&D1488&E1488&F1488","v":"CUATRO (4)CUATRO (4)CServicio de distribucion Region Orinoquia"},{"$f":"H1488","v":0.14752800000000002},{"$f":"C1488&D1488&E1488&F1488&G1488","v":"CUATRO (4)CUATRO (4)CServicio de distribucion Region OrinoquiaUT SS 2021- CCENEG- 041-01-2021"},{"$f":"B1488&H1488","v":"SD-05-C4-S4-GC0.147528"},{"$f":"G1488","v":"UT SS 2021- CCENEG- 041-01-2021"},"Und",{"$f":"C1488&D1488&E1488&F1488&G1488","v":"CUATRO (4)CUATRO (4)CServicio de distribucion Region OrinoquiaUT SS 2021- CCENEG- 041-01-2021"},{"$f":"H1488","v":0.14752800000000002}]
[{"$f":"\"ate01-\"&B1489&\" \"&C1489&\" \"&D1489&\" \"&E1489","v":"ate01-SD-05-C4-S4-GC CUATRO (4) CUATRO (4) C"},"SD-05-C4-S4-GC","CUATRO (4)","CUATRO (4)","C","Servicio de distribucion Region Orinoquia","SUPRISA S.A.S.",0.21856,{"$f":"B1489&G1489","v":"SD-05-C4-S4-GCSUPRISA S.A.S."},{"$f":"C1489&D1489&E1489&F1489","v":"CUATRO (4)CUATRO (4)CServicio de distribucion Region Orinoquia"},{"$f":"H1489","v":0.21856},{"$f":"C1489&D1489&E1489&F1489&G1489","v":"CUATRO (4)CUATRO (4)CServicio de distribucion Region OrinoquiaSUPRISA S.A.S."},{"$f":"B1489&H1489","v":"SD-05-C4-S4-GC0.21856"},{"$f":"G1489","v":"SUPRISA S.A.S."},"Und",{"$f":"C1489&D1489&E1489&F1489&G1489","v":"CUATRO (4)CUATRO (4)CServicio de distribucion Region OrinoquiaSUPRISA S.A.S."},{"$f":"H1489","v":0.21856}]
[{"$f":"\"ate01-\"&B1490&\" \"&C1490&\" \"&D1490&\" \"&E1490","v":"ate01-SD-05-C4-S4-GC CUATRO (4) CUATRO (4) C"},"SD-05-C4-S4-GC","CUATRO (4)","CUATRO (4)","C","Servicio de distribucion Region Orinoquia","COMERCIALIZADORA DINPRO S.A.S.",0.14752800000000002,{"$f":"B1490&G1490","v":"SD-05-C4-S4-GCCOMERCIALIZADORA DINPRO S.A.S."},{"$f":"C1490&D1490&E1490&F1490","v":"CUATRO (4)CUATRO (4)CServicio de distribucion Region Orinoquia"},{"$f":"H1490","v":0.14752800000000002},{"$f":"C1490&D1490&E1490&F1490&G1490","v":"CUATRO (4)CUATRO (4)CServicio de distribucion Region OrinoquiaCOMERCIALIZADORA DINPRO S.A.S."},{"$f":"B1490&H1490","v":"SD-05-C4-S4-GC0.147528"},{"$f":"G1490","v":"COMERCIALIZADORA DINPRO S.A.S."},"Und",{"$f":"C1490&D1490&E1490&F1490&G1490","v":"CUATRO (4)CUATRO (4)CServicio de distribucion Region OrinoquiaCOMERCIALIZADORA DINPRO S.A.S."},{"$f":"H1490","v":0.14752800000000002}]
[{"$f":"\"ate01-\"&B1491&\" \"&C1491&\" \"&D1491&\" \"&E1491","v":"ate01-SD-05-C4-S4-GC CUATRO (4) CUATRO (4) C"},"SD-05-C4-S4-GC","CUATRO (4)","CUATRO (4)","C","Servicio de distribucion Region Orinoquia","MIGUEL ANGEL VALLEJO BURGOS",0.14752800000000002,{"$f":"B1491&G1491","v":"SD-05-C4-S4-GCMIGUEL ANGEL VALLEJO BURGOS"},{"$f":"C1491&D1491&E1491&F1491","v":"CUATRO (4)CUATRO (4)CServicio de distribucion Region Orinoquia"},{"$f":"H1491","v":0.14752800000000002},{"$f":"C1491&D1491&E1491&F1491&G1491","v":"CUATRO (4)CUATRO (4)CServicio de distribucion Region OrinoquiaMIGUEL ANGEL VALLEJO BURGOS"},{"$f":"B1491&H1491","v":"SD-05-C4-S4-GC0.147528"},{"$f":"G1491","v":"MIGUEL ANGEL VALLEJO BURGOS"},"Und",{"$f":"C1491&D1491&E1491&F1491&G1491","v":"CUATRO (4)CUATRO (4)CServicio de distribucion Region OrinoquiaMIGUEL ANGEL VALLEJO BURGOS"},{"$f":"H1491","v":0.14752800000000002}]
[{"$f":"\"ate01-\"&B1492&\" \"&C1492&\" \"&D1492&\" \"&E1492","v":"ate01-SD-05-C4-S4-GD CUATRO (4) CUATRO (4) D"},"SD-05-C4-S4-GD","CUATRO (4)","CUATRO (4)","D","Servicio de distribucion Region Orinoquia","JM GRUPO",0.14752800000000002,{"$f":"B1492&G1492","v":"SD-05-C4-S4-GDJM GRUPO"},{"$f":"C1492&D1492&E1492&F1492","v":"CUATRO (4)CUATRO (4)DServicio de distribucion Region Orinoquia"},{"$f":"H1492","v":0.14752800000000002},{"$f":"C1492&D1492&E1492&F1492&G1492","v":"CUATRO (4)CUATRO (4)DServicio de distribucion Region OrinoquiaJM GRUPO"},{"$f":"B1492&H1492","v":"SD-05-C4-S4-GD0.147528"},{"$f":"G1492","v":"JM GRUPO"},"Und",{"$f":"C1492&D1492&E1492&F1492&G1492","v":"CUATRO (4)CUATRO (4)DServicio de distribucion Region OrinoquiaJM GRUPO"},{"$f":"H1492","v":0.14752800000000002}]
[{"$f":"\"ate01-\"&B1493&\" \"&C1493&\" \"&D1493&\" \"&E1493","v":"ate01-SD-05-C4-S4-GD CUATRO (4) CUATRO (4) D"},"SD-05-C4-S4-GD","CUATRO (4)","CUATRO (4)","D","Servicio de distribucion Region Orinoquia","SUMIMAS S.A.S.",0.142064,{"$f":"B1493&G1493","v":"SD-05-C4-S4-GDSUMIMAS S.A.S."},{"$f":"C1493&D1493&E1493&F1493","v":"CUATRO (4)CUATRO (4)DServicio de distribucion Region Orinoquia"},{"$f":"H1493","v":0.142064},{"$f":"C1493&D1493&E1493&F1493&G1493","v":"CUATRO (4)CUATRO (4)DServicio de distribucion Region OrinoquiaSUMIMAS S.A.S."},{"$f":"B1493&H1493","v":"SD-05-C4-S4-GD0.142064"},{"$f":"G1493","v":"SUMIMAS S.A.S."},"Und",{"$f":"C1493&D1493&E1493&F1493&G1493","v":"CUATRO (4)CUATRO (4)DServicio de distribucion Region OrinoquiaSUMIMAS S.A.S."},{"$f":"H1493","v":0.142064}]
[{"$f":"\"ate01-\"&B1494&\" \"&C1494&\" \"&D1494&\" \"&E1494","v":"ate01-SD-05-C4-S4-GD CUATRO (4) CUATRO (4) D"},"SD-05-C4-S4-GD","CUATRO (4)","CUATRO (4)","D","Servicio de distribucion Region Orinoquia","UT SS 2021- CCENEG- 041-01-2021",0.14752800000000002,{"$f":"B1494&G1494","v":"SD-05-C4-S4-GDUT SS 2021- CCENEG- 041-01-2021"},{"$f":"C1494&D1494&E1494&F1494","v":"CUATRO (4)CUATRO (4)DServicio de distribucion Region Orinoquia"},{"$f":"H1494","v":0.14752800000000002},{"$f":"C1494&D1494&E1494&F1494&G1494","v":"CUATRO (4)CUATRO (4)DServicio de distribucion Region OrinoquiaUT SS 2021- CCENEG- 041-01-2021"},{"$f":"B1494&H1494","v":"SD-05-C4-S4-GD0.147528"},{"$f":"G1494","v":"UT SS 2021- CCENEG- 041-01-2021"},"Und",{"$f":"C1494&D1494&E1494&F1494&G1494","v":"CUATRO (4)CUATRO (4)DServicio de distribucion Region OrinoquiaUT SS 2021- CCENEG- 041-01-2021"},{"$f":"H1494","v":0.14752800000000002}]
[{"$f":"\"ate01-\"&B1495&\" \"&C1495&\" \"&D1495&\" \"&E1495","v":"ate01-SD-05-C4-S4-GE CUATRO (4) CUATRO (4) E"},"SD-05-C4-S4-GE","CUATRO (4)","CUATRO (4)","E","Servicio de distribucion Region Orinoquia","C I WARRIORS COMPANY S.A.S.",0.14752800000000002,{"$f":"B1495&G1495","v":"SD-05-C4-S4-GEC I WARRIORS COMPANY S.A.S."},{"$f":"C1495&D1495&E1495&F1495","v":"CUATRO (4)CUATRO (4)EServicio de distribucion Region Orinoquia"},{"$f":"H1495","v":0.14752800000000002},{"$f":"C1495&D1495&E1495&F1495&G1495","v":"CUATRO (4)CUATRO (4)EServicio de distribucion Region OrinoquiaC I WARRIORS COMPANY S.A.S."},{"$f":"B1495&H1495","v":"SD-05-C4-S4-GE0.147528"},{"$f":"G1495","v":"C I WARRIORS COMPANY S.A.S."},"Und",{"$f":"C1495&D1495&E1495&F1495&G1495","v":"CUATRO (4)CUATRO (4)EServicio de distribucion Region OrinoquiaC I WARRIORS COMPANY S.A.S."},{"$f":"H1495","v":0.14752800000000002}]
[{"$f":"\"ate01-\"&B1496&\" \"&C1496&\" \"&D1496&\" \"&E1496","v":"ate01-SD-05-C4-S4-GE CUATRO (4) CUATRO (4) E"},"SD-05-C4-S4-GE","CUATRO (4)","CUATRO (4)","E","Servicio de distribucion Region Orinoquia","SUMIMAS S.A.S.",0.142064,{"$f":"B1496&G1496","v":"SD-05-C4-S4-GESUMIMAS S.A.S."},{"$f":"C1496&D1496&E1496&F1496","v":"CUATRO (4)CUATRO (4)EServicio de distribucion Region Orinoquia"},{"$f":"H1496","v":0.142064},{"$f":"C1496&D1496&E1496&F1496&G1496","v":"CUATRO (4)CUATRO (4)EServicio de distribucion Region OrinoquiaSUMIMAS S.A.S."},{"$f":"B1496&H1496","v":"SD-05-C4-S4-GE0.142064"},{"$f":"G1496","v":"SUMIMAS S.A.S."},"Und",{"$f":"C1496&D1496&E1496&F1496&G1496","v":"CUATRO (4)CUATRO (4)EServicio de distribucion Region OrinoquiaSUMIMAS S.A.S."},{"$f":"H1496","v":0.142064}]
[{"$f":"\"ate01-\"&B1497&\" \"&C1497&\" \"&D1497&\" \"&E1497","v":"ate01-SD-05-C4-S4-GE CUATRO (4) CUATRO (4) E"},"SD-05-C4-S4-GE","CUATRO (4)","CUATRO (4)","E","Servicio de distribucion Region Orinoquia","UT EMERGENCIAS 2021",0.14752800000000002,{"$f":"B1497&G1497","v":"SD-05-C4-S4-GEUT EMERGENCIAS 2021"},{"$f":"C1497&D1497&E1497&F1497","v":"CUATRO (4)CUATRO (4)EServicio de distribucion Region Orinoquia"},{"$f":"H1497","v":0.14752800000000002},{"$f":"C1497&D1497&E1497&F1497&G1497","v":"CUATRO (4)CUATRO (4)EServicio de distribucion Region OrinoquiaUT EMERGENCIAS 2021"},{"$f":"B1497&H1497","v":"SD-05-C4-S4-GE0.147528"},{"$f":"G1497","v":"UT EMERGENCIAS 2021"},"Und",{"$f":"C1497&D1497&E1497&F1497&G1497","v":"CUATRO (4)CUATRO (4)EServicio de distribucion Region OrinoquiaUT EMERGENCIAS 2021"},{"$f":"H1497","v":0.14752800000000002}]
[{"$f":"\"ate01-\"&B1498&\" \"&C1498&\" \"&D1498&\" \"&E1498","v":"ate01-SD-05-C4-S4-GE CUATRO (4) CUATRO (4) E"},"SD-05-C4-S4-GE","CUATRO (4)","CUATRO (4)","E","Servicio de distribucion Region Orinoquia","UNION TEMPORAL AYGEMA",0.14752800000000002,{"$f":"B1498&G1498","v":"SD-05-C4-S4-GEUNION TEMPORAL AYGEMA"},{"$f":"C1498&D1498&E1498&F1498","v":"CUATRO (4)CUATRO (4)EServicio de distribucion Region Orinoquia"},{"$f":"H1498","v":0.14752800000000002},{"$f":"C1498&D1498&E1498&F1498&G1498","v":"CUATRO (4)CUATRO (4)EServicio de distribucion Region OrinoquiaUNION TEMPORAL AYGEMA"},{"$f":"B1498&H1498","v":"SD-05-C4-S4-GE0.147528"},{"$f":"G1498","v":"UNION TEMPORAL AYGEMA"},"Und",{"$f":"C1498&D1498&E1498&F1498&G1498","v":"CUATRO (4)CUATRO (4)EServicio de distribucion Region OrinoquiaUNION TEMPORAL AYGEMA"},{"$f":"H1498","v":0.14752800000000002}]
[{"$f":"\"ate01-\"&B1499&\" \"&C1499&\" \"&D1499&\" \"&E1499","v":"ate01-SD-05-C4-S4-GE CUATRO (4) CUATRO (4) E"},"SD-05-C4-S4-GE","CUATRO (4)","CUATRO (4)","E","Servicio de distribucion Region Orinoquia","UT OFICON",0.14752800000000002,{"$f":"B1499&G1499","v":"SD-05-C4-S4-GEUT OFICON"},{"$f":"C1499&D1499&E1499&F1499","v":"CUATRO (4)CUATRO (4)EServicio de distribucion Region Orinoquia"},{"$f":"H1499","v":0.14752800000000002},{"$f":"C1499&D1499&E1499&F1499&G1499","v":"CUATRO (4)CUATRO (4)EServicio de distribucion Region OrinoquiaUT OFICON"},{"$f":"B1499&H1499","v":"SD-05-C4-S4-GE0.147528"},{"$f":"G1499","v":"UT OFICON"},"Und",{"$f":"C1499&D1499&E1499&F1499&G1499","v":"CUATRO (4)CUATRO (4)EServicio de distribucion Region OrinoquiaUT OFICON"},{"$f":"H1499","v":0.14752800000000002}]
[{"$f":"\"ate01-\"&B1500&\" \"&C1500&\" \"&D1500&\" \"&E1500","v":"ate01-SD-05-C4-S4-GE CUATRO (4) CUATRO (4) E"},"SD-05-C4-S4-GE","CUATRO (4)","CUATRO (4)","E","Servicio de distribucion Region Orinoquia","MIGUEL ANGEL VALLEJO BURGOS",0.14752800000000002,{"$f":"B1500&G1500","v":"SD-05-C4-S4-GEMIGUEL ANGEL VALLEJO BURGOS"},{"$f":"C1500&D1500&E1500&F1500","v":"CUATRO (4)CUATRO (4)EServicio de distribucion Region Orinoquia"},{"$f":"H1500","v":0.14752800000000002},{"$f":"C1500&D1500&E1500&F1500&G1500","v":"CUATRO (4)CUATRO (4)EServicio de distribucion Region OrinoquiaMIGUEL ANGEL VALLEJO BURGOS"},{"$f":"B1500&H1500","v":"SD-05-C4-S4-GE0.147528"},{"$f":"G1500","v":"MIGUEL ANGEL VALLEJO BURGOS"},"Und",{"$f":"C1500&D1500&E1500&F1500&G1500","v":"CUATRO (4)CUATRO (4)EServicio de distribucion Region OrinoquiaMIGUEL ANGEL VALLEJO BURGOS"},{"$f":"H1500","v":0.14752800000000002}]
[{"$f":"\"ate01-\"&B1501&\" \"&C1501&\" \"&D1501&\" \"&E1501","v":"ate01-SD-05-C4-S4-GE CUATRO (4) CUATRO (4) E"},"SD-05-C4-S4-GE","CUATRO (4)","CUATRO (4)","E","Servicio de distribucion Region Orinoquia","INVALCA",0.14752800000000002,{"$f":"B1501&G1501","v":"SD-05-C4-S4-GEINVALCA"},{"$f":"C1501&D1501&E1501&F1501","v":"CUATRO (4)CUATRO (4)EServicio de distribucion Region Orinoquia"},{"$f":"H1501","v":0.14752800000000002},{"$f":"C1501&D1501&E1501&F1501&G1501","v":"CUATRO (4)CUATRO (4)EServicio de distribucion Region OrinoquiaINVALCA"},{"$f":"B1501&H1501","v":"SD-05-C4-S4-GE0.147528"},{"$f":"G1501","v":"INVALCA"},"Und",{"$f":"C1501&D1501&E1501&F1501&G1501","v":"CUATRO (4)CUATRO (4)EServicio de distribucion Region OrinoquiaINVALCA"},{"$f":"H1501","v":0.14752800000000002}]
[{"$f":"\"ate01-\"&B1502&\" \"&C1502&\" \"&D1502&\" \"&E1502","v":"ate01-SD-06-C1-S-G UNO (1) N/A N/A"},"SD-06-C1-S-G","UNO (1)","N/A","N/A","Servicio de distribucion Region Resto del pais","IMPLESEG S.A.S.",0.185776,{"$f":"B1502&G1502","v":"SD-06-C1-S-GIMPLESEG S.A.S."},{"$f":"C1502&D1502&E1502&F1502","v":"UNO (1)N/AN/AServicio de distribucion Region Resto del pais"},{"$f":"H1502","v":0.185776},{"$f":"C1502&D1502&E1502&F1502&G1502","v":"UNO (1)N/AN/AServicio de distribucion Region Resto del paisIMPLESEG S.A.S."},{"$f":"B1502&H1502","v":"SD-06-C1-S-G0.185776"},{"$f":"G1502","v":"IMPLESEG S.A.S."},"Und",{"$f":"C1502&D1502&E1502&F1502&G1502","v":"UNO (1)N/AN/AServicio de distribucion Region Resto del paisIMPLESEG S.A.S."},{"$f":"H1502","v":0.185776}]
[{"$f":"\"ate01-\"&B1503&\" \"&C1503&\" \"&D1503&\" \"&E1503","v":"ate01-SD-06-C1-S-G UNO (1) N/A N/A"},"SD-06-C1-S-G","UNO (1)","N/A","N/A","Servicio de distribucion Region Resto del pais","JM GRUPO",0.14752800000000002,{"$f":"B1503&G1503","v":"SD-06-C1-S-GJM GRUPO"},{"$f":"C1503&D1503&E1503&F1503","v":"UNO (1)N/AN/AServicio de distribucion Region Resto del pais"},{"$f":"H1503","v":0.14752800000000002},{"$f":"C1503&D1503&E1503&F1503&G1503","v":"UNO (1)N/AN/AServicio de distribucion Region Resto del paisJM GRUPO"},{"$f":"B1503&H1503","v":"SD-06-C1-S-G0.147528"},{"$f":"G1503","v":"JM GRUPO"},"Und",{"$f":"C1503&D1503&E1503&F1503&G1503","v":"UNO (1)N/AN/AServicio de distribucion Region Resto del paisJM GRUPO"},{"$f":"H1503","v":0.14752800000000002}]
[{"$f":"\"ate01-\"&B1504&\" \"&C1504&\" \"&D1504&\" \"&E1504","v":"ate01-SD-06-C2-S1-G DOS (2) UNO (1) N/A"},"SD-06-C2-S1-G","DOS (2)","UNO (1)","N/A","Servicio de distribucion Region Resto del pais","JM GRUPO",0.14752800000000002,{"$f":"B1504&G1504","v":"SD-06-C2-S1-GJM GRUPO"},{"$f":"C1504&D1504&E1504&F1504","v":"DOS (2)UNO (1)N/AServicio de distribucion Region Resto del pais"},{"$f":"H1504","v":0.14752800000000002},{"$f":"C1504&D1504&E1504&F1504&G1504","v":"DOS (2)UNO (1)N/AServicio de distribucion Region Resto del paisJM GRUPO"},{"$f":"B1504&H1504","v":"SD-06-C2-S1-G0.147528"},{"$f":"G1504","v":"JM GRUPO"},"Und",{"$f":"C1504&D1504&E1504&F1504&G1504","v":"DOS (2)UNO (1)N/AServicio de distribucion Region Resto del paisJM GRUPO"},{"$f":"H1504","v":0.14752800000000002}]
[{"$f":"\"ate01-\"&B1505&\" \"&C1505&\" \"&D1505&\" \"&E1505","v":"ate01-SD-06-C2-S1-G DOS (2) UNO (1) N/A"},"SD-06-C2-S1-G","DOS (2)","UNO (1)","N/A","Servicio de distribucion Region Resto del pais","INCOLDEXT S.A.S.",0.142064,{"$f":"B1505&G1505","v":"SD-06-C2-S1-GINCOLDEXT S.A.S."},{"$f":"C1505&D1505&E1505&F1505","v":"DOS (2)UNO (1)N/AServicio de distribucion Region Resto del pais"},{"$f":"H1505","v":0.142064},{"$f":"C1505&D1505&E1505&F1505&G1505","v":"DOS (2)UNO (1)N/AServicio de distribucion Region Resto del paisINCOLDEXT S.A.S."},{"$f":"B1505&H1505","v":"SD-06-C2-S1-G0.142064"},{"$f":"G1505","v":"INCOLDEXT S.A.S."},"Und",{"$f":"C1505&D1505&E1505&F1505&G1505","v":"DOS (2)UNO (1)N/AServicio de distribucion Region Resto del paisINCOLDEXT S.A.S."},{"$f":"H1505","v":0.142064}]
[{"$f":"\"ate01-\"&B1506&\" \"&C1506&\" \"&D1506&\" \"&E1506","v":"ate01-SD-06-C2-S1-G DOS (2) UNO (1) N/A"},"SD-06-C2-S1-G","DOS (2)","UNO (1)","N/A","Servicio de distribucion Region Resto del pais","RES-Q SOLUTIONS",0.142064,{"$f":"B1506&G1506","v":"SD-06-C2-S1-GRES-Q SOLUTIONS"},{"$f":"C1506&D1506&E1506&F1506","v":"DOS (2)UNO (1)N/AServicio de distribucion Region Resto del pais"},{"$f":"H1506","v":0.142064},{"$f":"C1506&D1506&E1506&F1506&G1506","v":"DOS (2)UNO (1)N/AServicio de distribucion Region Resto del paisRES-Q SOLUTIONS"},{"$f":"B1506&H1506","v":"SD-06-C2-S1-G0.142064"},{"$f":"G1506","v":"RES-Q SOLUTIONS"},"Und",{"$f":"C1506&D1506&E1506&F1506&G1506","v":"DOS (2)UNO (1)N/AServicio de distribucion Region Resto del paisRES-Q SOLUTIONS"},{"$f":"H1506","v":0.142064}]
[{"$f":"\"ate01-\"&B1507&\" \"&C1507&\" \"&D1507&\" \"&E1507","v":"ate01-SD-06-C2-S1-G DOS (2) UNO (1) N/A"},"SD-06-C2-S1-G","DOS (2)","UNO (1)","N/A","Servicio de distribucion Region Resto del pais","INVERSION Y HOGAR S.A.S.",0.185776,{"$f":"B1507&G1507","v":"SD-06-C2-S1-GINVERSION Y HOGAR S.A.S."},{"$f":"C1507&D1507&E1507&F1507","v":"DOS (2)UNO (1)N/AServicio de distribucion Region Resto del pais"},{"$f":"H1507","v":0.185776},{"$f":"C1507&D1507&E1507&F1507&G1507","v":"DOS (2)UNO (1)N/AServicio de distribucion Region Resto del paisINVERSION Y HOGAR S.A.S."},{"$f":"B1507&H1507","v":"SD-06-C2-S1-G0.185776"},{"$f":"G1507","v":"INVERSION Y HOGAR S.A.S."},"Und",{"$f":"C1507&D1507&E1507&F1507&G1507","v":"DOS (2)UNO (1)N/AServicio de distribucion Region Resto del paisINVERSION Y HOGAR S.A.S."},{"$f":"H1507","v":0.185776}]
[{"$f":"\"ate01-\"&B1508&\" \"&C1508&\" \"&D1508&\" \"&E1508","v":"ate01-SD-06-C2-S2-G DOS (2) DOS (2) N/A"},"SD-06-C2-S2-G","DOS (2)","DOS (2)","N/A","Servicio de distribucion Region Resto del pais","IMPLESEG S.A.S.",0.10928,{"$f":"B1508&G1508","v":"SD-06-C2-S2-GIMPLESEG S.A.S."},{"$f":"C1508&D1508&E1508&F1508","v":"DOS (2)DOS (2)N/AServicio de distribucion Region Resto del pais"},{"$f":"H1508","v":0.10928},{"$f":"C1508&D1508&E1508&F1508&G1508","v":"DOS (2)DOS (2)N/AServicio de distribucion Region Resto del paisIMPLESEG S.A.S."},{"$f":"B1508&H1508","v":"SD-06-C2-S2-G0.10928"},{"$f":"G1508","v":"IMPLESEG S.A.S."},"Und",{"$f":"C1508&D1508&E1508&F1508&G1508","v":"DOS (2)DOS (2)N/AServicio de distribucion Region Resto del paisIMPLESEG S.A.S."},{"$f":"H1508","v":0.10928}]
[{"$f":"\"ate01-\"&B1509&\" \"&C1509&\" \"&D1509&\" \"&E1509","v":"ate01-SD-06-C2-S2-G DOS (2) DOS (2) N/A"},"SD-06-C2-S2-G","DOS (2)","DOS (2)","N/A","Servicio de distribucion Region Resto del pais","JM GRUPO",0.14752800000000002,{"$f":"B1509&G1509","v":"SD-06-C2-S2-GJM GRUPO"},{"$f":"C1509&D1509&E1509&F1509","v":"DOS (2)DOS (2)N/AServicio de distribucion Region Resto del pais"},{"$f":"H1509","v":0.14752800000000002},{"$f":"C1509&D1509&E1509&F1509&G1509","v":"DOS (2)DOS (2)N/AServicio de distribucion Region Resto del paisJM GRUPO"},{"$f":"B1509&H1509","v":"SD-06-C2-S2-G0.147528"},{"$f":"G1509","v":"JM GRUPO"},"Und",{"$f":"C1509&D1509&E1509&F1509&G1509","v":"DOS (2)DOS (2)N/AServicio de distribucion Region Resto del paisJM GRUPO"},{"$f":"H1509","v":0.14752800000000002}]
[{"$f":"\"ate01-\"&B1510&\" \"&C1510&\" \"&D1510&\" \"&E1510","v":"ate01-SD-06-C2-S2-G DOS (2) DOS (2) N/A"},"SD-06-C2-S2-G","DOS (2)","DOS (2)","N/A","Servicio de distribucion Region Resto del pais","UT EMERGENCIAS 2021",0.14752800000000002,{"$f":"B1510&G1510","v":"SD-06-C2-S2-GUT EMERGENCIAS 2021"},{"$f":"C1510&D1510&E1510&F1510","v":"DOS (2)DOS (2)N/AServicio de distribucion Region Resto del pais"},{"$f":"H1510","v":0.14752800000000002},{"$f":"C1510&D1510&E1510&F1510&G1510","v":"DOS (2)DOS (2)N/AServicio de distribucion Region Resto del paisUT EMERGENCIAS 2021"},{"$f":"B1510&H1510","v":"SD-06-C2-S2-G0.147528"},{"$f":"G1510","v":"UT EMERGENCIAS 2021"},"Und",{"$f":"C1510&D1510&E1510&F1510&G1510","v":"DOS (2)DOS (2)N/AServicio de distribucion Region Resto del paisUT EMERGENCIAS 2021"},{"$f":"H1510","v":0.14752800000000002}]
[{"$f":"\"ate01-\"&B1511&\" \"&C1511&\" \"&D1511&\" \"&E1511","v":"ate01-SD-06-C2-S2-G DOS (2) DOS (2) N/A"},"SD-06-C2-S2-G","DOS (2)","DOS (2)","N/A","Servicio de distribucion Region Resto del pais","INCOLDEXT S.A.S.",0.14752800000000002,{"$f":"B1511&G1511","v":"SD-06-C2-S2-GINCOLDEXT S.A.S."},{"$f":"C1511&D1511&E1511&F1511","v":"DOS (2)DOS (2)N/AServicio de distribucion Region Resto del pais"},{"$f":"H1511","v":0.14752800000000002},{"$f":"C1511&D1511&E1511&F1511&G1511","v":"DOS (2)DOS (2)N/AServicio de distribucion Region Resto del paisINCOLDEXT S.A.S."},{"$f":"B1511&H1511","v":"SD-06-C2-S2-G0.147528"},{"$f":"G1511","v":"INCOLDEXT S.A.S."},"Und",{"$f":"C1511&D1511&E1511&F1511&G1511","v":"DOS (2)DOS (2)N/AServicio de distribucion Region Resto del paisINCOLDEXT S.A.S."},{"$f":"H1511","v":0.14752800000000002}]
[{"$f":"\"ate01-\"&B1512&\" \"&C1512&\" \"&D1512&\" \"&E1512","v":"ate01-SD-06-C2-S2-G DOS (2) DOS (2) N/A"},"SD-06-C2-S2-G","DOS (2)","DOS (2)","N/A","Servicio de distribucion Region Resto del pais","YUBARTA S.A.S.",0.14752800000000002,{"$f":"B1512&G1512","v":"SD-06-C2-S2-GYUBARTA S.A.S."},{"$f":"C1512&D1512&E1512&F1512","v":"DOS (2)DOS (2)N/AServicio de distribucion Region Resto del pais"},{"$f":"H1512","v":0.14752800000000002},{"$f":"C1512&D1512&E1512&F1512&G1512","v":"DOS (2)DOS (2)N/AServicio de distribucion Region Resto del paisYUBARTA S.A.S."},{"$f":"B1512&H1512","v":"SD-06-C2-S2-G0.147528"},{"$f":"G1512","v":"YUBARTA S.A.S."},"Und",{"$f":"C1512&D1512&E1512&F1512&G1512","v":"DOS (2)DOS (2)N/AServicio de distribucion Region Resto del paisYUBARTA S.A.S."},{"$f":"H1512","v":0.14752800000000002}]
[{"$f":"\"ate01-\"&B1513&\" \"&C1513&\" \"&D1513&\" \"&E1513","v":"ate01-SD-06-C2-S2-G DOS (2) DOS (2) N/A"},"SD-06-C2-S2-G","DOS (2)","DOS (2)","N/A","Servicio de distribucion Region Resto del pais","MIGUEL ANGEL VALLEJO BURGOS",0.14752800000000002,{"$f":"B1513&G1513","v":"SD-06-C2-S2-GMIGUEL ANGEL VALLEJO BURGOS"},{"$f":"C1513&D1513&E1513&F1513","v":"DOS (2)DOS (2)N/AServicio de distribucion Region Resto del pais"},{"$f":"H1513","v":0.14752800000000002},{"$f":"C1513&D1513&E1513&F1513&G1513","v":"DOS (2)DOS (2)N/AServicio de distribucion Region Resto del paisMIGUEL ANGEL VALLEJO BURGOS"},{"$f":"B1513&H1513","v":"SD-06-C2-S2-G0.147528"},{"$f":"G1513","v":"MIGUEL ANGEL VALLEJO BURGOS"},"Und",{"$f":"C1513&D1513&E1513&F1513&G1513","v":"DOS (2)DOS (2)N/AServicio de distribucion Region Resto del paisMIGUEL ANGEL VALLEJO BURGOS"},{"$f":"H1513","v":0.14752800000000002}]
[{"$f":"\"ate01-\"&B1514&\" \"&C1514&\" \"&D1514&\" \"&E1514","v":"ate01-SD-06-C3-S-G TRES (3) N/A N/A"},"SD-06-C3-S-G","TRES (3)","N/A","N/A","Servicio de distribucion Region Resto del pais","JM GRUPO",0.14752800000000002,{"$f":"B1514&G1514","v":"SD-06-C3-S-GJM GRUPO"},{"$f":"C1514&D1514&E1514&F1514","v":"TRES (3)N/AN/AServicio de distribucion Region Resto del pais"},{"$f":"H1514","v":0.14752800000000002},{"$f":"C1514&D1514&E1514&F1514&G1514","v":"TRES (3)N/AN/AServicio de distribucion Region Resto del paisJM GRUPO"},{"$f":"B1514&H1514","v":"SD-06-C3-S-G0.147528"},{"$f":"G1514","v":"JM GRUPO"},"Und",{"$f":"C1514&D1514&E1514&F1514&G1514","v":"TRES (3)N/AN/AServicio de distribucion Region Resto del paisJM GRUPO"},{"$f":"H1514","v":0.14752800000000002}]
[{"$f":"\"ate01-\"&B1515&\" \"&C1515&\" \"&D1515&\" \"&E1515","v":"ate01-SD-06-C3-S-G TRES (3) N/A N/A"},"SD-06-C3-S-G","TRES (3)","N/A","N/A","Servicio de distribucion Region Resto del pais","INVERSIONES SARHEM DE COLOMBIA S.A.S.",0.185776,{"$f":"B1515&G1515","v":"SD-06-C3-S-GINVERSIONES SARHEM DE COLOMBIA S.A.S."},{"$f":"C1515&D1515&E1515&F1515","v":"TRES (3)N/AN/AServicio de distribucion Region Resto del pais"},{"$f":"H1515","v":0.185776},{"$f":"C1515&D1515&E1515&F1515&G1515","v":"TRES (3)N/AN/AServicio de distribucion Region Resto del paisINVERSIONES SARHEM DE COLOMBIA S.A.S."},{"$f":"B1515&H1515","v":"SD-06-C3-S-G0.185776"},{"$f":"G1515","v":"INVERSIONES SARHEM DE COLOMBIA S.A.S."},"Und",{"$f":"C1515&D1515&E1515&F1515&G1515","v":"TRES (3)N/AN/AServicio de distribucion Region Resto del paisINVERSIONES SARHEM DE COLOMBIA S.A.S."},{"$f":"H1515","v":0.185776}]
[{"$f":"\"ate01-\"&B1516&\" \"&C1516&\" \"&D1516&\" \"&E1516","v":"ate01-SD-06-C3-S-G TRES (3) N/A N/A"},"SD-06-C3-S-G","TRES (3)","N/A","N/A","Servicio de distribucion Region Resto del pais","C I WARRIORS COMPANY S.A.S.",0.14752800000000002,{"$f":"B1516&G1516","v":"SD-06-C3-S-GC I WARRIORS COMPANY S.A.S."},{"$f":"C1516&D1516&E1516&F1516","v":"TRES (3)N/AN/AServicio de distribucion Region Resto del pais"},{"$f":"H1516","v":0.14752800000000002},{"$f":"C1516&D1516&E1516&F1516&G1516","v":"TRES (3)N/AN/AServicio de distribucion Region Resto del paisC I WARRIORS COMPANY S.A.S."},{"$f":"B1516&H1516","v":"SD-06-C3-S-G0.147528"},{"$f":"G1516","v":"C I WARRIORS COMPANY S.A.S."},"Und",{"$f":"C1516&D1516&E1516&F1516&G1516","v":"TRES (3)N/AN/AServicio de distribucion Region Resto del paisC I WARRIORS COMPANY S.A.S."},{"$f":"H1516","v":0.14752800000000002}]
[{"$f":"\"ate01-\"&B1517&\" \"&C1517&\" \"&D1517&\" \"&E1517","v":"ate01-SD-06-C3-S-G TRES (3) N/A N/A"},"SD-06-C3-S-G","TRES (3)","N/A","N/A","Servicio de distribucion Region Resto del pais","LIMINA S.A.S.",0.14752800000000002,{"$f":"B1517&G1517","v":"SD-06-C3-S-GLIMINA S.A.S."},{"$f":"C1517&D1517&E1517&F1517","v":"TRES (3)N/AN/AServicio de distribucion Region Resto del pais"},{"$f":"H1517","v":0.14752800000000002},{"$f":"C1517&D1517&E1517&F1517&G1517","v":"TRES (3)N/AN/AServicio de distribucion Region Resto del paisLIMINA S.A.S."},{"$f":"B1517&H1517","v":"SD-06-C3-S-G0.147528"},{"$f":"G1517","v":"LIMINA S.A.S."},"Und",{"$f":"C1517&D1517&E1517&F1517&G1517","v":"TRES (3)N/AN/AServicio de distribucion Region Resto del paisLIMINA S.A.S."},{"$f":"H1517","v":0.14752800000000002}]
[{"$f":"\"ate01-\"&B1518&\" \"&C1518&\" \"&D1518&\" \"&E1518","v":"ate01-SD-06-C3-S-G TRES (3) N/A N/A"},"SD-06-C3-S-G","TRES (3)","N/A","N/A","Servicio de distribucion Region Resto del pais","YUBARTA S.A.S.",0.14752800000000002,{"$f":"B1518&G1518","v":"SD-06-C3-S-GYUBARTA S.A.S."},{"$f":"C1518&D1518&E1518&F1518","v":"TRES (3)N/AN/AServicio de distribucion Region Resto del pais"},{"$f":"H1518","v":0.14752800000000002},{"$f":"C1518&D1518&E1518&F1518&G1518","v":"TRES (3)N/AN/AServicio de distribucion Region Resto del paisYUBARTA S.A.S."},{"$f":"B1518&H1518","v":"SD-06-C3-S-G0.147528"},{"$f":"G1518","v":"YUBARTA S.A.S."},"Und",{"$f":"C1518&D1518&E1518&F1518&G1518","v":"TRES (3)N/AN/AServicio de distribucion Region Resto del paisYUBARTA S.A.S."},{"$f":"H1518","v":0.14752800000000002}]
[{"$f":"\"ate01-\"&B1519&\" \"&C1519&\" \"&D1519&\" \"&E1519","v":"ate01-SD-06-C3-S-G TRES (3) N/A N/A"},"SD-06-C3-S-G","TRES (3)","N/A","N/A","Servicio de distribucion Region Resto del pais","COLOMBIANA DE TEXTILES POR MAYOR S.A.",0.14752800000000002,{"$f":"B1519&G1519","v":"SD-06-C3-S-GCOLOMBIANA DE TEXTILES POR MAYOR S.A."},{"$f":"C1519&D1519&E1519&F1519","v":"TRES (3)N/AN/AServicio de distribucion Region Resto del pais"},{"$f":"H1519","v":0.14752800000000002},{"$f":"C1519&D1519&E1519&F1519&G1519","v":"TRES (3)N/AN/AServicio de distribucion Region Resto del paisCOLOMBIANA DE TEXTILES POR MAYOR S.A."},{"$f":"B1519&H1519","v":"SD-06-C3-S-G0.147528"},{"$f":"G1519","v":"COLOMBIANA DE TEXTILES POR MAYOR S.A."},"Und",{"$f":"C1519&D1519&E1519&F1519&G1519","v":"TRES (3)N/AN/AServicio de distribucion Region Resto del paisCOLOMBIANA DE TEXTILES POR MAYOR S.A."},{"$f":"H1519","v":0.14752800000000002}]
[{"$f":"\"ate01-\"&B1520&\" \"&C1520&\" \"&D1520&\" \"&E1520","v":"ate01-SD-06-C3-S-G TRES (3) N/A N/A"},"SD-06-C3-S-G","TRES (3)","N/A","N/A","Servicio de distribucion Region Resto del pais","MIGUEL ANGEL VALLEJO BURGOS",0.14752800000000002,{"$f":"B1520&G1520","v":"SD-06-C3-S-GMIGUEL ANGEL VALLEJO BURGOS"},{"$f":"C1520&D1520&E1520&F1520","v":"TRES (3)N/AN/AServicio de distribucion Region Resto del pais"},{"$f":"H1520","v":0.14752800000000002},{"$f":"C1520&D1520&E1520&F1520&G1520","v":"TRES (3)N/AN/AServicio de distribucion Region Resto del paisMIGUEL ANGEL VALLEJO BURGOS"},{"$f":"B1520&H1520","v":"SD-06-C3-S-G0.147528"},{"$f":"G1520","v":"MIGUEL ANGEL VALLEJO BURGOS"},"Und",{"$f":"C1520&D1520&E1520&F1520&G1520","v":"TRES (3)N/AN/AServicio de distribucion Region Resto del paisMIGUEL ANGEL VALLEJO BURGOS"},{"$f":"H1520","v":0.14752800000000002}]
[{"$f":"\"ate01-\"&B1521&\" \"&C1521&\" \"&D1521&\" \"&E1521","v":"ate01-SD-06-C3-S-G TRES (3) N/A N/A"},"SD-06-C3-S-G","TRES (3)","N/A","N/A","Servicio de distribucion Region Resto del pais","INVALCA",0.14752800000000002,{"$f":"B1521&G1521","v":"SD-06-C3-S-GINVALCA"},{"$f":"C1521&D1521&E1521&F1521","v":"TRES (3)N/AN/AServicio de distribucion Region Resto del pais"},{"$f":"H1521","v":0.14752800000000002},{"$f":"C1521&D1521&E1521&F1521&G1521","v":"TRES (3)N/AN/AServicio de distribucion Region Resto del paisINVALCA"},{"$f":"B1521&H1521","v":"SD-06-C3-S-G0.147528"},{"$f":"G1521","v":"INVALCA"},"Und",{"$f":"C1521&D1521&E1521&F1521&G1521","v":"TRES (3)N/AN/AServicio de distribucion Region Resto del paisINVALCA"},{"$f":"H1521","v":0.14752800000000002}]
[{"$f":"\"ate01-\"&B1522&\" \"&C1522&\" \"&D1522&\" \"&E1522","v":"ate01-SD-06-C4-S3-GA CUATRO (4) TRES (3) A"},"SD-06-C4-S3-GA","CUATRO (4)","TRES (3)","A","Servicio de distribucion Region Resto del pais","JM GRUPO",0.14752800000000002,{"$f":"B1522&G1522","v":"SD-06-C4-S3-GAJM GRUPO"},{"$f":"C1522&D1522&E1522&F1522","v":"CUATRO (4)TRES (3)AServicio de distribucion Region Resto del pais"},{"$f":"H1522","v":0.14752800000000002},{"$f":"C1522&D1522&E1522&F1522&G1522","v":"CUATRO (4)TRES (3)AServicio de distribucion Region Resto del paisJM GRUPO"},{"$f":"B1522&H1522","v":"SD-06-C4-S3-GA0.147528"},{"$f":"G1522","v":"JM GRUPO"},"Und",{"$f":"C1522&D1522&E1522&F1522&G1522","v":"CUATRO (4)TRES (3)AServicio de distribucion Region Resto del paisJM GRUPO"},{"$f":"H1522","v":0.14752800000000002}]
[{"$f":"\"ate01-\"&B1523&\" \"&C1523&\" \"&D1523&\" \"&E1523","v":"ate01-SD-06-C4-S3-GA CUATRO (4) TRES (3) A"},"SD-06-C4-S3-GA","CUATRO (4)","TRES (3)","A","Servicio de distribucion Region Resto del pais","UT EMERGENCIAS 2021",0.14752800000000002,{"$f":"B1523&G1523","v":"SD-06-C4-S3-GAUT EMERGENCIAS 2021"},{"$f":"C1523&D1523&E1523&F1523","v":"CUATRO (4)TRES (3)AServicio de distribucion Region Resto del pais"},{"$f":"H1523","v":0.14752800000000002},{"$f":"C1523&D1523&E1523&F1523&G1523","v":"CUATRO (4)TRES (3)AServicio de distribucion Region Resto del paisUT EMERGENCIAS 2021"},{"$f":"B1523&H1523","v":"SD-06-C4-S3-GA0.147528"},{"$f":"G1523","v":"UT EMERGENCIAS 2021"},"Und",{"$f":"C1523&D1523&E1523&F1523&G1523","v":"CUATRO (4)TRES (3)AServicio de distribucion Region Resto del paisUT EMERGENCIAS 2021"},{"$f":"H1523","v":0.14752800000000002}]
[{"$f":"\"ate01-\"&B1524&\" \"&C1524&\" \"&D1524&\" \"&E1524","v":"ate01-SD-06-C4-S3-GA CUATRO (4) TRES (3) A"},"SD-06-C4-S3-GA","CUATRO (4)","TRES (3)","A","Servicio de distribucion Region Resto del pais","UNION TEMPORAL AYGEMA",0.14752800000000002,{"$f":"B1524&G1524","v":"SD-06-C4-S3-GAUNION TEMPORAL AYGEMA"},{"$f":"C1524&D1524&E1524&F1524","v":"CUATRO (4)TRES (3)AServicio de distribucion Region Resto del pais"},{"$f":"H1524","v":0.14752800000000002},{"$f":"C1524&D1524&E1524&F1524&G1524","v":"CUATRO (4)TRES (3)AServicio de distribucion Region Resto del paisUNION TEMPORAL AYGEMA"},{"$f":"B1524&H1524","v":"SD-06-C4-S3-GA0.147528"},{"$f":"G1524","v":"UNION TEMPORAL AYGEMA"},"Und",{"$f":"C1524&D1524&E1524&F1524&G1524","v":"CUATRO (4)TRES (3)AServicio de distribucion Region Resto del paisUNION TEMPORAL AYGEMA"},{"$f":"H1524","v":0.14752800000000002}]
[{"$f":"\"ate01-\"&B1525&\" \"&C1525&\" \"&D1525&\" \"&E1525","v":"ate01-SD-06-C4-S3-GA CUATRO (4) TRES (3) A"},"SD-06-C4-S3-GA","CUATRO (4)","TRES (3)","A","Servicio de distribucion Region Resto del pais","COLOMBIANA DE TEXTILES POR MAYOR S.A.",0.14752800000000002,{"$f":"B1525&G1525","v":"SD-06-C4-S3-GACOLOMBIANA DE TEXTILES POR MAYOR S.A."},{"$f":"C1525&D1525&E1525&F1525","v":"CUATRO (4)TRES (3)AServicio de distribucion Region Resto del pais"},{"$f":"H1525","v":0.14752800000000002},{"$f":"C1525&D1525&E1525&F1525&G1525","v":"CUATRO (4)TRES (3)AServicio de distribucion Region Resto del paisCOLOMBIANA DE TEXTILES POR MAYOR S.A."},{"$f":"B1525&H1525","v":"SD-06-C4-S3-GA0.147528"},{"$f":"G1525","v":"COLOMBIANA DE TEXTILES POR MAYOR S.A."},"Und",{"$f":"C1525&D1525&E1525&F1525&G1525","v":"CUATRO (4)TRES (3)AServicio de distribucion Region Resto del paisCOLOMBIANA DE TEXTILES POR MAYOR S.A."},{"$f":"H1525","v":0.14752800000000002}]
[{"$f":"\"ate01-\"&B1526&\" \"&C1526&\" \"&D1526&\" \"&E1526","v":"ate01-SD-06-C4-S3-GC CUATRO (4) TRES (3) C"},"SD-06-C4-S3-GC","CUATRO (4)","TRES (3)","C","Servicio de distribucion Region Resto del pais","JM GRUPO",0.14752800000000002,{"$f":"B1526&G1526","v":"SD-06-C4-S3-GCJM GRUPO"},{"$f":"C1526&D1526&E1526&F1526","v":"CUATRO (4)TRES (3)CServicio de distribucion Region Resto del pais"},{"$f":"H1526","v":0.14752800000000002},{"$f":"C1526&D1526&E1526&F1526&G1526","v":"CUATRO (4)TRES (3)CServicio de distribucion Region Resto del paisJM GRUPO"},{"$f":"B1526&H1526","v":"SD-06-C4-S3-GC0.147528"},{"$f":"G1526","v":"JM GRUPO"},"Und",{"$f":"C1526&D1526&E1526&F1526&G1526","v":"CUATRO (4)TRES (3)CServicio de distribucion Region Resto del paisJM GRUPO"},{"$f":"H1526","v":0.14752800000000002}]
[{"$f":"\"ate01-\"&B1527&\" \"&C1527&\" \"&D1527&\" \"&E1527","v":"ate01-SD-06-C4-S3-GC CUATRO (4) TRES (3) C"},"SD-06-C4-S3-GC","CUATRO (4)","TRES (3)","C","Servicio de distribucion Region Resto del pais","UNION TEMPORAL AYGEMA",0.14752800000000002,{"$f":"B1527&G1527","v":"SD-06-C4-S3-GCUNION TEMPORAL AYGEMA"},{"$f":"C1527&D1527&E1527&F1527","v":"CUATRO (4)TRES (3)CServicio de distribucion Region Resto del pais"},{"$f":"H1527","v":0.14752800000000002},{"$f":"C1527&D1527&E1527&F1527&G1527","v":"CUATRO (4)TRES (3)CServicio de distribucion Region Resto del paisUNION TEMPORAL AYGEMA"},{"$f":"B1527&H1527","v":"SD-06-C4-S3-GC0.147528"},{"$f":"G1527","v":"UNION TEMPORAL AYGEMA"},"Und",{"$f":"C1527&D1527&E1527&F1527&G1527","v":"CUATRO (4)TRES (3)CServicio de distribucion Region Resto del paisUNION TEMPORAL AYGEMA"},{"$f":"H1527","v":0.14752800000000002}]
[{"$f":"\"ate01-\"&B1528&\" \"&C1528&\" \"&D1528&\" \"&E1528","v":"ate01-SD-06-C4-S3-GC CUATRO (4) TRES (3) C"},"SD-06-C4-S3-GC","CUATRO (4)","TRES (3)","C","Servicio de distribucion Region Resto del pais","SUPRISA S.A.S.",0.12,{"$f":"B1528&G1528","v":"SD-06-C4-S3-GCSUPRISA S.A.S."},{"$f":"C1528&D1528&E1528&F1528","v":"CUATRO (4)TRES (3)CServicio de distribucion Region Resto del pais"},{"$f":"H1528","v":0.12},{"$f":"C1528&D1528&E1528&F1528&G1528","v":"CUATRO (4)TRES (3)CServicio de distribucion Region Resto del paisSUPRISA S.A.S."},{"$f":"B1528&H1528","v":"SD-06-C4-S3-GC0.12"},{"$f":"G1528","v":"SUPRISA S.A.S."},"Und",{"$f":"C1528&D1528&E1528&F1528&G1528","v":"CUATRO (4)TRES (3)CServicio de distribucion Region Resto del paisSUPRISA S.A.S."},{"$f":"H1528","v":0.12}]
[{"$f":"\"ate01-\"&B1529&\" \"&C1529&\" \"&D1529&\" \"&E1529","v":"ate01-SD-06-C4-S3-GC CUATRO (4) TRES (3) C"},"SD-06-C4-S3-GC","CUATRO (4)","TRES (3)","C","Servicio de distribucion Region Resto del pais","MIGUEL ANGEL VALLEJO BURGOS",0.14752800000000002,{"$f":"B1529&G1529","v":"SD-06-C4-S3-GCMIGUEL ANGEL VALLEJO BURGOS"},{"$f":"C1529&D1529&E1529&F1529","v":"CUATRO (4)TRES (3)CServicio de distribucion Region Resto del pais"},{"$f":"H1529","v":0.14752800000000002},{"$f":"C1529&D1529&E1529&F1529&G1529","v":"CUATRO (4)TRES (3)CServicio de distribucion Region Resto del paisMIGUEL ANGEL VALLEJO BURGOS"},{"$f":"B1529&H1529","v":"SD-06-C4-S3-GC0.147528"},{"$f":"G1529","v":"MIGUEL ANGEL VALLEJO BURGOS"},"Und",{"$f":"C1529&D1529&E1529&F1529&G1529","v":"CUATRO (4)TRES (3)CServicio de distribucion Region Resto del paisMIGUEL ANGEL VALLEJO BURGOS"},{"$f":"H1529","v":0.14752800000000002}]
[{"$f":"\"ate01-\"&B1530&\" \"&C1530&\" \"&D1530&\" \"&E1530","v":"ate01-SD-06-C4-S3-GD CUATRO (4) TRES (3) D"},"SD-06-C4-S3-GD","CUATRO (4)","TRES (3)","D","Servicio de distribucion Region Resto del pais","IMPLESEG S.A.S.",0.10928,{"$f":"B1530&G1530","v":"SD-06-C4-S3-GDIMPLESEG S.A.S."},{"$f":"C1530&D1530&E1530&F1530","v":"CUATRO (4)TRES (3)DServicio de distribucion Region Resto del pais"},{"$f":"H1530","v":0.10928},{"$f":"C1530&D1530&E1530&F1530&G1530","v":"CUATRO (4)TRES (3)DServicio de distribucion Region Resto del paisIMPLESEG S.A.S."},{"$f":"B1530&H1530","v":"SD-06-C4-S3-GD0.10928"},{"$f":"G1530","v":"IMPLESEG S.A.S."},"Und",{"$f":"C1530&D1530&E1530&F1530&G1530","v":"CUATRO (4)TRES (3)DServicio de distribucion Region Resto del paisIMPLESEG S.A.S."},{"$f":"H1530","v":0.10928}]
[{"$f":"\"ate01-\"&B1531&\" \"&C1531&\" \"&D1531&\" \"&E1531","v":"ate01-SD-06-C4-S3-GD CUATRO (4) TRES (3) D"},"SD-06-C4-S3-GD","CUATRO (4)","TRES (3)","D","Servicio de distribucion Region Resto del pais","JM GRUPO",0.14752800000000002,{"$f":"B1531&G1531","v":"SD-06-C4-S3-GDJM GRUPO"},{"$f":"C1531&D1531&E1531&F1531","v":"CUATRO (4)TRES (3)DServicio de distribucion Region Resto del pais"},{"$f":"H1531","v":0.14752800000000002},{"$f":"C1531&D1531&E1531&F1531&G1531","v":"CUATRO (4)TRES (3)DServicio de distribucion Region Resto del paisJM GRUPO"},{"$f":"B1531&H1531","v":"SD-06-C4-S3-GD0.147528"},{"$f":"G1531","v":"JM GRUPO"},"Und",{"$f":"C1531&D1531&E1531&F1531&G1531","v":"CUATRO (4)TRES (3)DServicio de distribucion Region Resto del paisJM GRUPO"},{"$f":"H1531","v":0.14752800000000002}]
[{"$f":"\"ate01-\"&B1532&\" \"&C1532&\" \"&D1532&\" \"&E1532","v":"ate01-SD-06-C4-S3-GD CUATRO (4) TRES (3) D"},"SD-06-C4-S3-GD","CUATRO (4)","TRES (3)","D","Servicio de distribucion Region Resto del pais","SUMIMAS S.A.S.",0.13,{"$f":"B1532&G1532","v":"SD-06-C4-S3-GDSUMIMAS S.A.S."},{"$f":"C1532&D1532&E1532&F1532","v":"CUATRO (4)TRES (3)DServicio de distribucion Region Resto del pais"},{"$f":"H1532","v":0.13},{"$f":"C1532&D1532&E1532&F1532&G1532","v":"CUATRO (4)TRES (3)DServicio de distribucion Region Resto del paisSUMIMAS S.A.S."},{"$f":"B1532&H1532","v":"SD-06-C4-S3-GD0.13"},{"$f":"G1532","v":"SUMIMAS S.A.S."},"Und",{"$f":"C1532&D1532&E1532&F1532&G1532","v":"CUATRO (4)TRES (3)DServicio de distribucion Region Resto del paisSUMIMAS S.A.S."},{"$f":"H1532","v":0.13}]
[{"$f":"\"ate01-\"&B1533&\" \"&C1533&\" \"&D1533&\" \"&E1533","v":"ate01-SD-06-C4-S3-GD CUATRO (4) TRES (3) D"},"SD-06-C4-S3-GD","CUATRO (4)","TRES (3)","D","Servicio de distribucion Region Resto del pais","UT EMERGENCIAS 2021",0.14752800000000002,{"$f":"B1533&G1533","v":"SD-06-C4-S3-GDUT EMERGENCIAS 2021"},{"$f":"C1533&D1533&E1533&F1533","v":"CUATRO (4)TRES (3)DServicio de distribucion Region Resto del pais"},{"$f":"H1533","v":0.14752800000000002},{"$f":"C1533&D1533&E1533&F1533&G1533","v":"CUATRO (4)TRES (3)DServicio de distribucion Region Resto del paisUT EMERGENCIAS 2021"},{"$f":"B1533&H1533","v":"SD-06-C4-S3-GD0.147528"},{"$f":"G1533","v":"UT EMERGENCIAS 2021"},"Und",{"$f":"C1533&D1533&E1533&F1533&G1533","v":"CUATRO (4)TRES (3)DServicio de distribucion Region Resto del paisUT EMERGENCIAS 2021"},{"$f":"H1533","v":0.14752800000000002}]
[{"$f":"\"ate01-\"&B1534&\" \"&C1534&\" \"&D1534&\" \"&E1534","v":"ate01-SD-06-C4-S3-GD CUATRO (4) TRES (3) D"},"SD-06-C4-S3-GD","CUATRO (4)","TRES (3)","D","Servicio de distribucion Region Resto del pais","INCOLDEXT S.A.S.",0.14752800000000002,{"$f":"B1534&G1534","v":"SD-06-C4-S3-GDINCOLDEXT S.A.S."},{"$f":"C1534&D1534&E1534&F1534","v":"CUATRO (4)TRES (3)DServicio de distribucion Region Resto del pais"},{"$f":"H1534","v":0.14752800000000002},{"$f":"C1534&D1534&E1534&F1534&G1534","v":"CUATRO (4)TRES (3)DServicio de distribucion Region Resto del paisINCOLDEXT S.A.S."},{"$f":"B1534&H1534","v":"SD-06-C4-S3-GD0.147528"},{"$f":"G1534","v":"INCOLDEXT S.A.S."},"Und",{"$f":"C1534&D1534&E1534&F1534&G1534","v":"CUATRO (4)TRES (3)DServicio de distribucion Region Resto del paisINCOLDEXT S.A.S."},{"$f":"H1534","v":0.14752800000000002}]
[{"$f":"\"ate01-\"&B1535&\" \"&C1535&\" \"&D1535&\" \"&E1535","v":"ate01-SD-06-C4-S3-GD CUATRO (4) TRES (3) D"},"SD-06-C4-S3-GD","CUATRO (4)","TRES (3)","D","Servicio de distribucion Region Resto del pais","UNION TEMPORAL AYGEMA",0.14752800000000002,{"$f":"B1535&G1535","v":"SD-06-C4-S3-GDUNION TEMPORAL AYGEMA"},{"$f":"C1535&D1535&E1535&F1535","v":"CUATRO (4)TRES (3)DServicio de distribucion Region Resto del pais"},{"$f":"H1535","v":0.14752800000000002},{"$f":"C1535&D1535&E1535&F1535&G1535","v":"CUATRO (4)TRES (3)DServicio de distribucion Region Resto del paisUNION TEMPORAL AYGEMA"},{"$f":"B1535&H1535","v":"SD-06-C4-S3-GD0.147528"},{"$f":"G1535","v":"UNION TEMPORAL AYGEMA"},"Und",{"$f":"C1535&D1535&E1535&F1535&G1535","v":"CUATRO (4)TRES (3)DServicio de distribucion Region Resto del paisUNION TEMPORAL AYGEMA"},{"$f":"H1535","v":0.14752800000000002}]
[{"$f":"\"ate01-\"&B1536&\" \"&C1536&\" \"&D1536&\" \"&E1536","v":"ate01-SD-06-C4-S3-GD CUATRO (4) TRES (3) D"},"SD-06-C4-S3-GD","CUATRO (4)","TRES (3)","D","Servicio de distribucion Region Resto del pais","COMERCIALIZADORA DINPRO S.A.S.",0.14752800000000002,{"$f":"B1536&G1536","v":"SD-06-C4-S3-GDCOMERCIALIZADORA DINPRO S.A.S."},{"$f":"C1536&D1536&E1536&F1536","v":"CUATRO (4)TRES (3)DServicio de distribucion Region Resto del pais"},{"$f":"H1536","v":0.14752800000000002},{"$f":"C1536&D1536&E1536&F1536&G1536","v":"CUATRO (4)TRES (3)DServicio de distribucion Region Resto del paisCOMERCIALIZADORA DINPRO S.A.S."},{"$f":"B1536&H1536","v":"SD-06-C4-S3-GD0.147528"},{"$f":"G1536","v":"COMERCIALIZADORA DINPRO S.A.S."},"Und",{"$f":"C1536&D1536&E1536&F1536&G1536","v":"CUATRO (4)TRES (3)DServicio de distribucion Region Resto del paisCOMERCIALIZADORA DINPRO S.A.S."},{"$f":"H1536","v":0.14752800000000002}]
[{"$f":"\"ate01-\"&B1537&\" \"&C1537&\" \"&D1537&\" \"&E1537","v":"ate01-SD-06-C4-S3-GD CUATRO (4) TRES (3) D"},"SD-06-C4-S3-GD","CUATRO (4)","TRES (3)","D","Servicio de distribucion Region Resto del pais","LIMINA S.A.S.",0.14752800000000002,{"$f":"B1537&G1537","v":"SD-06-C4-S3-GDLIMINA S.A.S."},{"$f":"C1537&D1537&E1537&F1537","v":"CUATRO (4)TRES (3)DServicio de distribucion Region Resto del pais"},{"$f":"H1537","v":0.14752800000000002},{"$f":"C1537&D1537&E1537&F1537&G1537","v":"CUATRO (4)TRES (3)DServicio de distribucion Region Resto del paisLIMINA S.A.S."},{"$f":"B1537&H1537","v":"SD-06-C4-S3-GD0.147528"},{"$f":"G1537","v":"LIMINA S.A.S."},"Und",{"$f":"C1537&D1537&E1537&F1537&G1537","v":"CUATRO (4)TRES (3)DServicio de distribucion Region Resto del paisLIMINA S.A.S."},{"$f":"H1537","v":0.14752800000000002}]
[{"$f":"\"ate01-\"&B1538&\" \"&C1538&\" \"&D1538&\" \"&E1538","v":"ate01-SD-06-C4-S3-GD CUATRO (4) TRES (3) D"},"SD-06-C4-S3-GD","CUATRO (4)","TRES (3)","D","Servicio de distribucion Region Resto del pais","INMADICA ANDINA",8.7424000000000002E-2,{"$f":"B1538&G1538","v":"SD-06-C4-S3-GDINMADICA ANDINA"},{"$f":"C1538&D1538&E1538&F1538","v":"CUATRO (4)TRES (3)DServicio de distribucion Region Resto del pais"},{"$f":"H1538","v":8.7424000000000002E-2},{"$f":"C1538&D1538&E1538&F1538&G1538","v":"CUATRO (4)TRES (3)DServicio de distribucion Region Resto del paisINMADICA ANDINA"},{"$f":"B1538&H1538","v":"SD-06-C4-S3-GD0.087424"},{"$f":"G1538","v":"INMADICA ANDINA"},"Und",{"$f":"C1538&D1538&E1538&F1538&G1538","v":"CUATRO (4)TRES (3)DServicio de distribucion Region Resto del paisINMADICA ANDINA"},{"$f":"H1538","v":8.7424000000000002E-2}]
[{"$f":"\"ate01-\"&B1539&\" \"&C1539&\" \"&D1539&\" \"&E1539","v":"ate01-SD-06-C4-S3-GD CUATRO (4) TRES (3) D"},"SD-06-C4-S3-GD","CUATRO (4)","TRES (3)","D","Servicio de distribucion Region Resto del pais","COLOMBIANA DE TEXTILES POR MAYOR S.A.",0.14752800000000002,{"$f":"B1539&G1539","v":"SD-06-C4-S3-GDCOLOMBIANA DE TEXTILES POR MAYOR S.A."},{"$f":"C1539&D1539&E1539&F1539","v":"CUATRO (4)TRES (3)DServicio de distribucion Region Resto del pais"},{"$f":"H1539","v":0.14752800000000002},{"$f":"C1539&D1539&E1539&F1539&G1539","v":"CUATRO (4)TRES (3)DServicio de distribucion Region Resto del paisCOLOMBIANA DE TEXTILES POR MAYOR S.A."},{"$f":"B1539&H1539","v":"SD-06-C4-S3-GD0.147528"},{"$f":"G1539","v":"COLOMBIANA DE TEXTILES POR MAYOR S.A."},"Und",{"$f":"C1539&D1539&E1539&F1539&G1539","v":"CUATRO (4)TRES (3)DServicio de distribucion Region Resto del paisCOLOMBIANA DE TEXTILES POR MAYOR S.A."},{"$f":"H1539","v":0.14752800000000002}]
[{"$f":"\"ate01-\"&B1540&\" \"&C1540&\" \"&D1540&\" \"&E1540","v":"ate01-SD-06-C4-S3-GD CUATRO (4) TRES (3) D"},"SD-06-C4-S3-GD","CUATRO (4)","TRES (3)","D","Servicio de distribucion Region Resto del pais","MIGUEL ANGEL VALLEJO BURGOS",0.14752800000000002,{"$f":"B1540&G1540","v":"SD-06-C4-S3-GDMIGUEL ANGEL VALLEJO BURGOS"},{"$f":"C1540&D1540&E1540&F1540","v":"CUATRO (4)TRES (3)DServicio de distribucion Region Resto del pais"},{"$f":"H1540","v":0.14752800000000002},{"$f":"C1540&D1540&E1540&F1540&G1540","v":"CUATRO (4)TRES (3)DServicio de distribucion Region Resto del paisMIGUEL ANGEL VALLEJO BURGOS"},{"$f":"B1540&H1540","v":"SD-06-C4-S3-GD0.147528"},{"$f":"G1540","v":"MIGUEL ANGEL VALLEJO BURGOS"},"Und",{"$f":"C1540&D1540&E1540&F1540&G1540","v":"CUATRO (4)TRES (3)DServicio de distribucion Region Resto del paisMIGUEL ANGEL VALLEJO BURGOS"},{"$f":"H1540","v":0.14752800000000002}]
[{"$f":"\"ate01-\"&B1541&\" \"&C1541&\" \"&D1541&\" \"&E1541","v":"ate01-SD-06-C4-S3-GE CUATRO (4) TRES (3) E"},"SD-06-C4-S3-GE","CUATRO (4)","TRES (3)","E","Servicio de distribucion Region Resto del pais","JM GRUPO",0.14752800000000002,{"$f":"B1541&G1541","v":"SD-06-C4-S3-GEJM GRUPO"},{"$f":"C1541&D1541&E1541&F1541","v":"CUATRO (4)TRES (3)EServicio de distribucion Region Resto del pais"},{"$f":"H1541","v":0.14752800000000002},{"$f":"C1541&D1541&E1541&F1541&G1541","v":"CUATRO (4)TRES (3)EServicio de distribucion Region Resto del paisJM GRUPO"},{"$f":"B1541&H1541","v":"SD-06-C4-S3-GE0.147528"},{"$f":"G1541","v":"JM GRUPO"},"Und",{"$f":"C1541&D1541&E1541&F1541&G1541","v":"CUATRO (4)TRES (3)EServicio de distribucion Region Resto del paisJM GRUPO"},{"$f":"H1541","v":0.14752800000000002}]
[{"$f":"\"ate01-\"&B1542&\" \"&C1542&\" \"&D1542&\" \"&E1542","v":"ate01-SD-06-C4-S3-GE CUATRO (4) TRES (3) E"},"SD-06-C4-S3-GE","CUATRO (4)","TRES (3)","E","Servicio de distribucion Region Resto del pais","INVERSIONES SARHEM DE COLOMBIA S.A.S.",0.185776,{"$f":"B1542&G1542","v":"SD-06-C4-S3-GEINVERSIONES SARHEM DE COLOMBIA S.A.S."},{"$f":"C1542&D1542&E1542&F1542","v":"CUATRO (4)TRES (3)EServicio de distribucion Region Resto del pais"},{"$f":"H1542","v":0.185776},{"$f":"C1542&D1542&E1542&F1542&G1542","v":"CUATRO (4)TRES (3)EServicio de distribucion Region Resto del paisINVERSIONES SARHEM DE COLOMBIA S.A.S."},{"$f":"B1542&H1542","v":"SD-06-C4-S3-GE0.185776"},{"$f":"G1542","v":"INVERSIONES SARHEM DE COLOMBIA S.A.S."},"Und",{"$f":"C1542&D1542&E1542&F1542&G1542","v":"CUATRO (4)TRES (3)EServicio de distribucion Region Resto del paisINVERSIONES SARHEM DE COLOMBIA S.A.S."},{"$f":"H1542","v":0.185776}]
[{"$f":"\"ate01-\"&B1543&\" \"&C1543&\" \"&D1543&\" \"&E1543","v":"ate01-SD-06-C4-S3-GE CUATRO (4) TRES (3) E"},"SD-06-C4-S3-GE","CUATRO (4)","TRES (3)","E","Servicio de distribucion Region Resto del pais","UT EMERGENCIAS 2021",0.14752800000000002,{"$f":"B1543&G1543","v":"SD-06-C4-S3-GEUT EMERGENCIAS 2021"},{"$f":"C1543&D1543&E1543&F1543","v":"CUATRO (4)TRES (3)EServicio de distribucion Region Resto del pais"},{"$f":"H1543","v":0.14752800000000002},{"$f":"C1543&D1543&E1543&F1543&G1543","v":"CUATRO (4)TRES (3)EServicio de distribucion Region Resto del paisUT EMERGENCIAS 2021"},{"$f":"B1543&H1543","v":"SD-06-C4-S3-GE0.147528"},{"$f":"G1543","v":"UT EMERGENCIAS 2021"},"Und",{"$f":"C1543&D1543&E1543&F1543&G1543","v":"CUATRO (4)TRES (3)EServicio de distribucion Region Resto del paisUT EMERGENCIAS 2021"},{"$f":"H1543","v":0.14752800000000002}]
[{"$f":"\"ate01-\"&B1544&\" \"&C1544&\" \"&D1544&\" \"&E1544","v":"ate01-SD-06-C4-S3-GE CUATRO (4) TRES (3) E"},"SD-06-C4-S3-GE","CUATRO (4)","TRES (3)","E","Servicio de distribucion Region Resto del pais","LIMINA S.A.S.",0.14752800000000002,{"$f":"B1544&G1544","v":"SD-06-C4-S3-GELIMINA S.A.S."},{"$f":"C1544&D1544&E1544&F1544","v":"CUATRO (4)TRES (3)EServicio de distribucion Region Resto del pais"},{"$f":"H1544","v":0.14752800000000002},{"$f":"C1544&D1544&E1544&F1544&G1544","v":"CUATRO (4)TRES (3)EServicio de distribucion Region Resto del paisLIMINA S.A.S."},{"$f":"B1544&H1544","v":"SD-06-C4-S3-GE0.147528"},{"$f":"G1544","v":"LIMINA S.A.S."},"Und",{"$f":"C1544&D1544&E1544&F1544&G1544","v":"CUATRO (4)TRES (3)EServicio de distribucion Region Resto del paisLIMINA S.A.S."},{"$f":"H1544","v":0.14752800000000002}]
[{"$f":"\"ate01-\"&B1545&\" \"&C1545&\" \"&D1545&\" \"&E1545","v":"ate01-SD-06-C4-S3-GE CUATRO (4) TRES (3) E"},"SD-06-C4-S3-GE","CUATRO (4)","TRES (3)","E","Servicio de distribucion Region Resto del pais","COLOMBIANA DE TEXTILES POR MAYOR S.A.",0.14752800000000002,{"$f":"B1545&G1545","v":"SD-06-C4-S3-GECOLOMBIANA DE TEXTILES POR MAYOR S.A."},{"$f":"C1545&D1545&E1545&F1545","v":"CUATRO (4)TRES (3)EServicio de distribucion Region Resto del pais"},{"$f":"H1545","v":0.14752800000000002},{"$f":"C1545&D1545&E1545&F1545&G1545","v":"CUATRO (4)TRES (3)EServicio de distribucion Region Resto del paisCOLOMBIANA DE TEXTILES POR MAYOR S.A."},{"$f":"B1545&H1545","v":"SD-06-C4-S3-GE0.147528"},{"$f":"G1545","v":"COLOMBIANA DE TEXTILES POR MAYOR S.A."},"Und",{"$f":"C1545&D1545&E1545&F1545&G1545","v":"CUATRO (4)TRES (3)EServicio de distribucion Region Resto del paisCOLOMBIANA DE TEXTILES POR MAYOR S.A."},{"$f":"H1545","v":0.14752800000000002}]
[{"$f":"\"ate01-\"&B1546&\" \"&C1546&\" \"&D1546&\" \"&E1546","v":"ate01-SD-06-C4-S3-GE CUATRO (4) TRES (3) E"},"SD-06-C4-S3-GE","CUATRO (4)","TRES (3)","E","Servicio de distribucion Region Resto del pais","MIGUEL ANGEL VALLEJO BURGOS",0.14752800000000002,{"$f":"B1546&G1546","v":"SD-06-C4-S3-GEMIGUEL ANGEL VALLEJO BURGOS"},{"$f":"C1546&D1546&E1546&F1546","v":"CUATRO (4)TRES (3)EServicio de distribucion Region Resto del pais"},{"$f":"H1546","v":0.14752800000000002},{"$f":"C1546&D1546&E1546&F1546&G1546","v":"CUATRO (4)TRES (3)EServicio de distribucion Region Resto del paisMIGUEL ANGEL VALLEJO BURGOS"},{"$f":"B1546&H1546","v":"SD-06-C4-S3-GE0.147528"},{"$f":"G1546","v":"MIGUEL ANGEL VALLEJO BURGOS"},"Und",{"$f":"C1546&D1546&E1546&F1546&G1546","v":"CUATRO (4)TRES (3)EServicio de distribucion Region Resto del paisMIGUEL ANGEL VALLEJO BURGOS"},{"$f":"H1546","v":0.14752800000000002}]
[{"$f":"\"ate01-\"&B1547&\" \"&C1547&\" \"&D1547&\" \"&E1547","v":"ate01-SD-06-C4-S4-GA CUATRO (4) CUATRO (4) A"},"SD-06-C4-S4-GA","CUATRO (4)","CUATRO (4)","A","Servicio de distribucion Region Resto del pais","JM GRUPO",0.14752800000000002,{"$f":"B1547&G1547","v":"SD-06-C4-S4-GAJM GRUPO"},{"$f":"C1547&D1547&E1547&F1547","v":"CUATRO (4)CUATRO (4)AServicio de distribucion Region Resto del pais"},{"$f":"H1547","v":0.14752800000000002},{"$f":"C1547&D1547&E1547&F1547&G1547","v":"CUATRO (4)CUATRO (4)AServicio de distribucion Region Resto del paisJM GRUPO"},{"$f":"B1547&H1547","v":"SD-06-C4-S4-GA0.147528"},{"$f":"G1547","v":"JM GRUPO"},"Und",{"$f":"C1547&D1547&E1547&F1547&G1547","v":"CUATRO (4)CUATRO (4)AServicio de distribucion Region Resto del paisJM GRUPO"},{"$f":"H1547","v":0.14752800000000002}]
[{"$f":"\"ate01-\"&B1548&\" \"&C1548&\" \"&D1548&\" \"&E1548","v":"ate01-SD-06-C4-S4-GA CUATRO (4) CUATRO (4) A"},"SD-06-C4-S4-GA","CUATRO (4)","CUATRO (4)","A","Servicio de distribucion Region Resto del pais","SUMIMAS S.A.S.",0.142064,{"$f":"B1548&G1548","v":"SD-06-C4-S4-GASUMIMAS S.A.S."},{"$f":"C1548&D1548&E1548&F1548","v":"CUATRO (4)CUATRO (4)AServicio de distribucion Region Resto del pais"},{"$f":"H1548","v":0.142064},{"$f":"C1548&D1548&E1548&F1548&G1548","v":"CUATRO (4)CUATRO (4)AServicio de distribucion Region Resto del paisSUMIMAS S.A.S."},{"$f":"B1548&H1548","v":"SD-06-C4-S4-GA0.142064"},{"$f":"G1548","v":"SUMIMAS S.A.S."},"Und",{"$f":"C1548&D1548&E1548&F1548&G1548","v":"CUATRO (4)CUATRO (4)AServicio de distribucion Region Resto del paisSUMIMAS S.A.S."},{"$f":"H1548","v":0.142064}]
[{"$f":"\"ate01-\"&B1549&\" \"&C1549&\" \"&D1549&\" \"&E1549","v":"ate01-SD-06-C4-S4-GA CUATRO (4) CUATRO (4) A"},"SD-06-C4-S4-GA","CUATRO (4)","CUATRO (4)","A","Servicio de distribucion Region Resto del pais","UNION TEMPORAL AYGEMA",0.14752800000000002,{"$f":"B1549&G1549","v":"SD-06-C4-S4-GAUNION TEMPORAL AYGEMA"},{"$f":"C1549&D1549&E1549&F1549","v":"CUATRO (4)CUATRO (4)AServicio de distribucion Region Resto del pais"},{"$f":"H1549","v":0.14752800000000002},{"$f":"C1549&D1549&E1549&F1549&G1549","v":"CUATRO (4)CUATRO (4)AServicio de distribucion Region Resto del paisUNION TEMPORAL AYGEMA"},{"$f":"B1549&H1549","v":"SD-06-C4-S4-GA0.147528"},{"$f":"G1549","v":"UNION TEMPORAL AYGEMA"},"Und",{"$f":"C1549&D1549&E1549&F1549&G1549","v":"CUATRO (4)CUATRO (4)AServicio de distribucion Region Resto del paisUNION TEMPORAL AYGEMA"},{"$f":"H1549","v":0.14752800000000002}]
[{"$f":"\"ate01-\"&B1550&\" \"&C1550&\" \"&D1550&\" \"&E1550","v":"ate01-SD-06-C4-S4-GA CUATRO (4) CUATRO (4) A"},"SD-06-C4-S4-GA","CUATRO (4)","CUATRO (4)","A","Servicio de distribucion Region Resto del pais","UT SS 2021- CCENEG- 041-01-2021",0.14752800000000002,{"$f":"B1550&G1550","v":"SD-06-C4-S4-GAUT SS 2021- CCENEG- 041-01-2021"},{"$f":"C1550&D1550&E1550&F1550","v":"CUATRO (4)CUATRO (4)AServicio de distribucion Region Resto del pais"},{"$f":"H1550","v":0.14752800000000002},{"$f":"C1550&D1550&E1550&F1550&G1550","v":"CUATRO (4)CUATRO (4)AServicio de distribucion Region Resto del paisUT SS 2021- CCENEG- 041-01-2021"},{"$f":"B1550&H1550","v":"SD-06-C4-S4-GA0.147528"},{"$f":"G1550","v":"UT SS 2021- CCENEG- 041-01-2021"},"Und",{"$f":"C1550&D1550&E1550&F1550&G1550","v":"CUATRO (4)CUATRO (4)AServicio de distribucion Region Resto del paisUT SS 2021- CCENEG- 041-01-2021"},{"$f":"H1550","v":0.14752800000000002}]
[{"$f":"\"ate01-\"&B1551&\" \"&C1551&\" \"&D1551&\" \"&E1551","v":"ate01-SD-06-C4-S4-GA CUATRO (4) CUATRO (4) A"},"SD-06-C4-S4-GA","CUATRO (4)","CUATRO (4)","A","Servicio de distribucion Region Resto del pais","COLOMBIANA DE TEXTILES POR MAYOR S.A.",0.14752800000000002,{"$f":"B1551&G1551","v":"SD-06-C4-S4-GACOLOMBIANA DE TEXTILES POR MAYOR S.A."},{"$f":"C1551&D1551&E1551&F1551","v":"CUATRO (4)CUATRO (4)AServicio de distribucion Region Resto del pais"},{"$f":"H1551","v":0.14752800000000002},{"$f":"C1551&D1551&E1551&F1551&G1551","v":"CUATRO (4)CUATRO (4)AServicio de distribucion Region Resto del paisCOLOMBIANA DE TEXTILES POR MAYOR S.A."},{"$f":"B1551&H1551","v":"SD-06-C4-S4-GA0.147528"},{"$f":"G1551","v":"COLOMBIANA DE TEXTILES POR MAYOR S.A."},"Und",{"$f":"C1551&D1551&E1551&F1551&G1551","v":"CUATRO (4)CUATRO (4)AServicio de distribucion Region Resto del paisCOLOMBIANA DE TEXTILES POR MAYOR S.A."},{"$f":"H1551","v":0.14752800000000002}]
[{"$f":"\"ate01-\"&B1552&\" \"&C1552&\" \"&D1552&\" \"&E1552","v":"ate01-SD-06-C4-S4-GB CUATRO (4) CUATRO (4) B"},"SD-06-C4-S4-GB","CUATRO (4)","CUATRO (4)","B","Servicio de distribucion Region Resto del pais","JM GRUPO",0.14752800000000002,{"$f":"B1552&G1552","v":"SD-06-C4-S4-GBJM GRUPO"},{"$f":"C1552&D1552&E1552&F1552","v":"CUATRO (4)CUATRO (4)BServicio de distribucion Region Resto del pais"},{"$f":"H1552","v":0.14752800000000002},{"$f":"C1552&D1552&E1552&F1552&G1552","v":"CUATRO (4)CUATRO (4)BServicio de distribucion Region Resto del paisJM GRUPO"},{"$f":"B1552&H1552","v":"SD-06-C4-S4-GB0.147528"},{"$f":"G1552","v":"JM GRUPO"},"Und",{"$f":"C1552&D1552&E1552&F1552&G1552","v":"CUATRO (4)CUATRO (4)BServicio de distribucion Region Resto del paisJM GRUPO"},{"$f":"H1552","v":0.14752800000000002}]
[{"$f":"\"ate01-\"&B1553&\" \"&C1553&\" \"&D1553&\" \"&E1553","v":"ate01-SD-06-C4-S4-GB CUATRO (4) CUATRO (4) B"},"SD-06-C4-S4-GB","CUATRO (4)","CUATRO (4)","B","Servicio de distribucion Region Resto del pais","SUMIMAS S.A.S.",0.142064,{"$f":"B1553&G1553","v":"SD-06-C4-S4-GBSUMIMAS S.A.S."},{"$f":"C1553&D1553&E1553&F1553","v":"CUATRO (4)CUATRO (4)BServicio de distribucion Region Resto del pais"},{"$f":"H1553","v":0.142064},{"$f":"C1553&D1553&E1553&F1553&G1553","v":"CUATRO (4)CUATRO (4)BServicio de distribucion Region Resto del paisSUMIMAS S.A.S."},{"$f":"B1553&H1553","v":"SD-06-C4-S4-GB0.142064"},{"$f":"G1553","v":"SUMIMAS S.A.S."},"Und",{"$f":"C1553&D1553&E1553&F1553&G1553","v":"CUATRO (4)CUATRO (4)BServicio de distribucion Region Resto del paisSUMIMAS S.A.S."},{"$f":"H1553","v":0.142064}]
[{"$f":"\"ate01-\"&B1554&\" \"&C1554&\" \"&D1554&\" \"&E1554","v":"ate01-SD-06-C4-S4-GB CUATRO (4) CUATRO (4) B"},"SD-06-C4-S4-GB","CUATRO (4)","CUATRO (4)","B","Servicio de distribucion Region Resto del pais","UNION TEMPORAL AYGEMA",0.14752800000000002,{"$f":"B1554&G1554","v":"SD-06-C4-S4-GBUNION TEMPORAL AYGEMA"},{"$f":"C1554&D1554&E1554&F1554","v":"CUATRO (4)CUATRO (4)BServicio de distribucion Region Resto del pais"},{"$f":"H1554","v":0.14752800000000002},{"$f":"C1554&D1554&E1554&F1554&G1554","v":"CUATRO (4)CUATRO (4)BServicio de distribucion Region Resto del paisUNION TEMPORAL AYGEMA"},{"$f":"B1554&H1554","v":"SD-06-C4-S4-GB0.147528"},{"$f":"G1554","v":"UNION TEMPORAL AYGEMA"},"Und",{"$f":"C1554&D1554&E1554&F1554&G1554","v":"CUATRO (4)CUATRO (4)BServicio de distribucion Region Resto del paisUNION TEMPORAL AYGEMA"},{"$f":"H1554","v":0.14752800000000002}]
[{"$f":"\"ate01-\"&B1555&\" \"&C1555&\" \"&D1555&\" \"&E1555","v":"ate01-SD-06-C4-S4-GB CUATRO (4) CUATRO (4) B"},"SD-06-C4-S4-GB","CUATRO (4)","CUATRO (4)","B","Servicio de distribucion Region Resto del pais","PLASTICOS MQ S.A.S.",0.174848,{"$f":"B1555&G1555","v":"SD-06-C4-S4-GBPLASTICOS MQ S.A.S."},{"$f":"C1555&D1555&E1555&F1555","v":"CUATRO (4)CUATRO (4)BServicio de distribucion Region Resto del pais"},{"$f":"H1555","v":0.174848},{"$f":"C1555&D1555&E1555&F1555&G1555","v":"CUATRO (4)CUATRO (4)BServicio de distribucion Region Resto del paisPLASTICOS MQ S.A.S."},{"$f":"B1555&H1555","v":"SD-06-C4-S4-GB0.174848"},{"$f":"G1555","v":"PLASTICOS MQ S.A.S."},"Und",{"$f":"C1555&D1555&E1555&F1555&G1555","v":"CUATRO (4)CUATRO (4)BServicio de distribucion Region Resto del paisPLASTICOS MQ S.A.S."},{"$f":"H1555","v":0.174848}]
[{"$f":"\"ate01-\"&B1556&\" \"&C1556&\" \"&D1556&\" \"&E1556","v":"ate01-SD-06-C4-S4-GB CUATRO (4) CUATRO (4) B"},"SD-06-C4-S4-GB","CUATRO (4)","CUATRO (4)","B","Servicio de distribucion Region Resto del pais","SUPRISA S.A.S.",0.131136,{"$f":"B1556&G1556","v":"SD-06-C4-S4-GBSUPRISA S.A.S."},{"$f":"C1556&D1556&E1556&F1556","v":"CUATRO (4)CUATRO (4)BServicio de distribucion Region Resto del pais"},{"$f":"H1556","v":0.131136},{"$f":"C1556&D1556&E1556&F1556&G1556","v":"CUATRO (4)CUATRO (4)BServicio de distribucion Region Resto del paisSUPRISA S.A.S."},{"$f":"B1556&H1556","v":"SD-06-C4-S4-GB0.131136"},{"$f":"G1556","v":"SUPRISA S.A.S."},"Und",{"$f":"C1556&D1556&E1556&F1556&G1556","v":"CUATRO (4)CUATRO (4)BServicio de distribucion Region Resto del paisSUPRISA S.A.S."},{"$f":"H1556","v":0.131136}]
[{"$f":"\"ate01-\"&B1557&\" \"&C1557&\" \"&D1557&\" \"&E1557","v":"ate01-SD-06-C4-S4-GB CUATRO (4) CUATRO (4) B"},"SD-06-C4-S4-GB","CUATRO (4)","CUATRO (4)","B","Servicio de distribucion Region Resto del pais","MIGUEL ANGEL VALLEJO BURGOS",0.14752800000000002,{"$f":"B1557&G1557","v":"SD-06-C4-S4-GBMIGUEL ANGEL VALLEJO BURGOS"},{"$f":"C1557&D1557&E1557&F1557","v":"CUATRO (4)CUATRO (4)BServicio de distribucion Region Resto del pais"},{"$f":"H1557","v":0.14752800000000002},{"$f":"C1557&D1557&E1557&F1557&G1557","v":"CUATRO (4)CUATRO (4)BServicio de distribucion Region Resto del paisMIGUEL ANGEL VALLEJO BURGOS"},{"$f":"B1557&H1557","v":"SD-06-C4-S4-GB0.147528"},{"$f":"G1557","v":"MIGUEL ANGEL VALLEJO BURGOS"},"Und",{"$f":"C1557&D1557&E1557&F1557&G1557","v":"CUATRO (4)CUATRO (4)BServicio de distribucion Region Resto del paisMIGUEL ANGEL VALLEJO BURGOS"},{"$f":"H1557","v":0.14752800000000002}]
[{"$f":"\"ate01-\"&B1558&\" \"&C1558&\" \"&D1558&\" \"&E1558","v":"ate01-SD-06-C4-S4-GC CUATRO (4) CUATRO (4) C"},"SD-06-C4-S4-GC","CUATRO (4)","CUATRO (4)","C","Servicio de distribucion Region Resto del pais","SUMIMAS S.A.S.",0.142064,{"$f":"B1558&G1558","v":"SD-06-C4-S4-GCSUMIMAS S.A.S."},{"$f":"C1558&D1558&E1558&F1558","v":"CUATRO (4)CUATRO (4)CServicio de distribucion Region Resto del pais"},{"$f":"H1558","v":0.142064},{"$f":"C1558&D1558&E1558&F1558&G1558","v":"CUATRO (4)CUATRO (4)CServicio de distribucion Region Resto del paisSUMIMAS S.A.S."},{"$f":"B1558&H1558","v":"SD-06-C4-S4-GC0.142064"},{"$f":"G1558","v":"SUMIMAS S.A.S."},"Und",{"$f":"C1558&D1558&E1558&F1558&G1558","v":"CUATRO (4)CUATRO (4)CServicio de distribucion Region Resto del paisSUMIMAS S.A.S."},{"$f":"H1558","v":0.142064}]
[{"$f":"\"ate01-\"&B1559&\" \"&C1559&\" \"&D1559&\" \"&E1559","v":"ate01-SD-06-C4-S4-GC CUATRO (4) CUATRO (4) C"},"SD-06-C4-S4-GC","CUATRO (4)","CUATRO (4)","C","Servicio de distribucion Region Resto del pais","UNION TEMPORAL AYGEMA",0.14752800000000002,{"$f":"B1559&G1559","v":"SD-06-C4-S4-GCUNION TEMPORAL AYGEMA"},{"$f":"C1559&D1559&E1559&F1559","v":"CUATRO (4)CUATRO (4)CServicio de distribucion Region Resto del pais"},{"$f":"H1559","v":0.14752800000000002},{"$f":"C1559&D1559&E1559&F1559&G1559","v":"CUATRO (4)CUATRO (4)CServicio de distribucion Region Resto del paisUNION TEMPORAL AYGEMA"},{"$f":"B1559&H1559","v":"SD-06-C4-S4-GC0.147528"},{"$f":"G1559","v":"UNION TEMPORAL AYGEMA"},"Und",{"$f":"C1559&D1559&E1559&F1559&G1559","v":"CUATRO (4)CUATRO (4)CServicio de distribucion Region Resto del paisUNION TEMPORAL AYGEMA"},{"$f":"H1559","v":0.14752800000000002}]
[{"$f":"\"ate01-\"&B1560&\" \"&C1560&\" \"&D1560&\" \"&E1560","v":"ate01-SD-06-C4-S4-GC CUATRO (4) CUATRO (4) C"},"SD-06-C4-S4-GC","CUATRO (4)","CUATRO (4)","C","Servicio de distribucion Region Resto del pais","UT SS 2021- CCENEG- 041-01-2021",0.14752800000000002,{"$f":"B1560&G1560","v":"SD-06-C4-S4-GCUT SS 2021- CCENEG- 041-01-2021"},{"$f":"C1560&D1560&E1560&F1560","v":"CUATRO (4)CUATRO (4)CServicio de distribucion Region Resto del pais"},{"$f":"H1560","v":0.14752800000000002},{"$f":"C1560&D1560&E1560&F1560&G1560","v":"CUATRO (4)CUATRO (4)CServicio de distribucion Region Resto del paisUT SS 2021- CCENEG- 041-01-2021"},{"$f":"B1560&H1560","v":"SD-06-C4-S4-GC0.147528"},{"$f":"G1560","v":"UT SS 2021- CCENEG- 041-01-2021"},"Und",{"$f":"C1560&D1560&E1560&F1560&G1560","v":"CUATRO (4)CUATRO (4)CServicio de distribucion Region Resto del paisUT SS 2021- CCENEG- 041-01-2021"},{"$f":"H1560","v":0.14752800000000002}]
[{"$f":"\"ate01-\"&B1561&\" \"&C1561&\" \"&D1561&\" \"&E1561","v":"ate01-SD-06-C4-S4-GC CUATRO (4) CUATRO (4) C"},"SD-06-C4-S4-GC","CUATRO (4)","CUATRO (4)","C","Servicio de distribucion Region Resto del pais","SUPRISA S.A.S.",0.131136,{"$f":"B1561&G1561","v":"SD-06-C4-S4-GCSUPRISA S.A.S."},{"$f":"C1561&D1561&E1561&F1561","v":"CUATRO (4)CUATRO (4)CServicio de distribucion Region Resto del pais"},{"$f":"H1561","v":0.131136},{"$f":"C1561&D1561&E1561&F1561&G1561","v":"CUATRO (4)CUATRO (4)CServicio de distribucion Region Resto del paisSUPRISA S.A.S."},{"$f":"B1561&H1561","v":"SD-06-C4-S4-GC0.131136"},{"$f":"G1561","v":"SUPRISA S.A.S."},"Und",{"$f":"C1561&D1561&E1561&F1561&G1561","v":"CUATRO (4)CUATRO (4)CServicio de distribucion Region Resto del paisSUPRISA S.A.S."},{"$f":"H1561","v":0.131136}]
[{"$f":"\"ate01-\"&B1562&\" \"&C1562&\" \"&D1562&\" \"&E1562","v":"ate01-SD-06-C4-S4-GC CUATRO (4) CUATRO (4) C"},"SD-06-C4-S4-GC","CUATRO (4)","CUATRO (4)","C","Servicio de distribucion Region Resto del pais","COMERCIALIZADORA DINPRO S.A.S.",0.14752800000000002,{"$f":"B1562&G1562","v":"SD-06-C4-S4-GCCOMERCIALIZADORA DINPRO S.A.S."},{"$f":"C1562&D1562&E1562&F1562","v":"CUATRO (4)CUATRO (4)CServicio de distribucion Region Resto del pais"},{"$f":"H1562","v":0.14752800000000002},{"$f":"C1562&D1562&E1562&F1562&G1562","v":"CUATRO (4)CUATRO (4)CServicio de distribucion Region Resto del paisCOMERCIALIZADORA DINPRO S.A.S."},{"$f":"B1562&H1562","v":"SD-06-C4-S4-GC0.147528"},{"$f":"G1562","v":"COMERCIALIZADORA DINPRO S.A.S."},"Und",{"$f":"C1562&D1562&E1562&F1562&G1562","v":"CUATRO (4)CUATRO (4)CServicio de distribucion Region Resto del paisCOMERCIALIZADORA DINPRO S.A.S."},{"$f":"H1562","v":0.14752800000000002}]
[{"$f":"\"ate01-\"&B1563&\" \"&C1563&\" \"&D1563&\" \"&E1563","v":"ate01-SD-06-C4-S4-GC CUATRO (4) CUATRO (4) C"},"SD-06-C4-S4-GC","CUATRO (4)","CUATRO (4)","C","Servicio de distribucion Region Resto del pais","MIGUEL ANGEL VALLEJO BURGOS",0.14752800000000002,{"$f":"B1563&G1563","v":"SD-06-C4-S4-GCMIGUEL ANGEL VALLEJO BURGOS"},{"$f":"C1563&D1563&E1563&F1563","v":"CUATRO (4)CUATRO (4)CServicio de distribucion Region Resto del pais"},{"$f":"H1563","v":0.14752800000000002},{"$f":"C1563&D1563&E1563&F1563&G1563","v":"CUATRO (4)CUATRO (4)CServicio de distribucion Region Resto del paisMIGUEL ANGEL VALLEJO BURGOS"},{"$f":"B1563&H1563","v":"SD-06-C4-S4-GC0.147528"},{"$f":"G1563","v":"MIGUEL ANGEL VALLEJO BURGOS"},"Und",{"$f":"C1563&D1563&E1563&F1563&G1563","v":"CUATRO (4)CUATRO (4)CServicio de distribucion Region Resto del paisMIGUEL ANGEL VALLEJO BURGOS"},{"$f":"H1563","v":0.14752800000000002}]
[{"$f":"\"ate01-\"&B1564&\" \"&C1564&\" \"&D1564&\" \"&E1564","v":"ate01-SD-06-C4-S4-GD CUATRO (4) CUATRO (4) D"},"SD-06-C4-S4-GD","CUATRO (4)","CUATRO (4)","D","Servicio de distribucion Region Resto del pais","JM GRUPO",0.14752800000000002,{"$f":"B1564&G1564","v":"SD-06-C4-S4-GDJM GRUPO"},{"$f":"C1564&D1564&E1564&F1564","v":"CUATRO (4)CUATRO (4)DServicio de distribucion Region Resto del pais"},{"$f":"H1564","v":0.14752800000000002},{"$f":"C1564&D1564&E1564&F1564&G1564","v":"CUATRO (4)CUATRO (4)DServicio de distribucion Region Resto del paisJM GRUPO"},{"$f":"B1564&H1564","v":"SD-06-C4-S4-GD0.147528"},{"$f":"G1564","v":"JM GRUPO"},"Und",{"$f":"C1564&D1564&E1564&F1564&G1564","v":"CUATRO (4)CUATRO (4)DServicio de distribucion Region Resto del paisJM GRUPO"},{"$f":"H1564","v":0.14752800000000002}]
[{"$f":"\"ate01-\"&B1565&\" \"&C1565&\" \"&D1565&\" \"&E1565","v":"ate01-SD-06-C4-S4-GD CUATRO (4) CUATRO (4) D"},"SD-06-C4-S4-GD","CUATRO (4)","CUATRO (4)","D","Servicio de distribucion Region Resto del pais","SUMIMAS S.A.S.",0.142064,{"$f":"B1565&G1565","v":"SD-06-C4-S4-GDSUMIMAS S.A.S."},{"$f":"C1565&D1565&E1565&F1565","v":"CUATRO (4)CUATRO (4)DServicio de distribucion Region Resto del pais"},{"$f":"H1565","v":0.142064},{"$f":"C1565&D1565&E1565&F1565&G1565","v":"CUATRO (4)CUATRO (4)DServicio de distribucion Region Resto del paisSUMIMAS S.A.S."},{"$f":"B1565&H1565","v":"SD-06-C4-S4-GD0.142064"},{"$f":"G1565","v":"SUMIMAS S.A.S."},"Und",{"$f":"C1565&D1565&E1565&F1565&G1565","v":"CUATRO (4)CUATRO (4)DServicio de distribucion Region Resto del paisSUMIMAS S.A.S."},{"$f":"H1565","v":0.142064}]
[{"$f":"\"ate01-\"&B1566&\" \"&C1566&\" \"&D1566&\" \"&E1566","v":"ate01-SD-06-C4-S4-GD CUATRO (4) CUATRO (4) D"},"SD-06-C4-S4-GD","CUATRO (4)","CUATRO (4)","D","Servicio de distribucion Region Resto del pais","UT SS 2021- CCENEG- 041-01-2021",0.14752800000000002,{"$f":"B1566&G1566","v":"SD-06-C4-S4-GDUT SS 2021- CCENEG- 041-01-2021"},{"$f":"C1566&D1566&E1566&F1566","v":"CUATRO (4)CUATRO (4)DServicio de distribucion Region Resto del pais"},{"$f":"H1566","v":0.14752800000000002},{"$f":"C1566&D1566&E1566&F1566&G1566","v":"CUATRO (4)CUATRO (4)DServicio de distribucion Region Resto del paisUT SS 2021- CCENEG- 041-01-2021"},{"$f":"B1566&H1566","v":"SD-06-C4-S4-GD0.147528"},{"$f":"G1566","v":"UT SS 2021- CCENEG- 041-01-2021"},"Und",{"$f":"C1566&D1566&E1566&F1566&G1566","v":"CUATRO (4)CUATRO (4)DServicio de distribucion Region Resto del paisUT SS 2021- CCENEG- 041-01-2021"},{"$f":"H1566","v":0.14752800000000002}]
[{"$f":"\"ate01-\"&B1567&\" \"&C1567&\" \"&D1567&\" \"&E1567","v":"ate01-SD-06-C4-S4-GE CUATRO (4) CUATRO (4) E"},"SD-06-C4-S4-GE","CUATRO (4)","CUATRO (4)","E","Servicio de distribucion Region Resto del pais","C I WARRIORS COMPANY S.A.S.",0.14752800000000002,{"$f":"B1567&G1567","v":"SD-06-C4-S4-GEC I WARRIORS COMPANY S.A.S."},{"$f":"C1567&D1567&E1567&F1567","v":"CUATRO (4)CUATRO (4)EServicio de distribucion Region Resto del pais"},{"$f":"H1567","v":0.14752800000000002},{"$f":"C1567&D1567&E1567&F1567&G1567","v":"CUATRO (4)CUATRO (4)EServicio de distribucion Region Resto del paisC I WARRIORS COMPANY S.A.S."},{"$f":"B1567&H1567","v":"SD-06-C4-S4-GE0.147528"},{"$f":"G1567","v":"C I WARRIORS COMPANY S.A.S."},"Und",{"$f":"C1567&D1567&E1567&F1567&G1567","v":"CUATRO (4)CUATRO (4)EServicio de distribucion Region Resto del paisC I WARRIORS COMPANY S.A.S."},{"$f":"H1567","v":0.14752800000000002}]
[{"$f":"\"ate01-\"&B1568&\" \"&C1568&\" \"&D1568&\" \"&E1568","v":"ate01-SD-06-C4-S4-GE CUATRO (4) CUATRO (4) E"},"SD-06-C4-S4-GE","CUATRO (4)","CUATRO (4)","E","Servicio de distribucion Region Resto del pais","SUMIMAS S.A.S.",0.142064,{"$f":"B1568&G1568","v":"SD-06-C4-S4-GESUMIMAS S.A.S."},{"$f":"C1568&D1568&E1568&F1568","v":"CUATRO (4)CUATRO (4)EServicio de distribucion Region Resto del pais"},{"$f":"H1568","v":0.142064},{"$f":"C1568&D1568&E1568&F1568&G1568","v":"CUATRO (4)CUATRO (4)EServicio de distribucion Region Resto del paisSUMIMAS S.A.S."},{"$f":"B1568&H1568","v":"SD-06-C4-S4-GE0.142064"},{"$f":"G1568","v":"SUMIMAS S.A.S."},"Und",{"$f":"C1568&D1568&E1568&F1568&G1568","v":"CUATRO (4)CUATRO (4)EServicio de distribucion Region Resto del paisSUMIMAS S.A.S."},{"$f":"H1568","v":0.142064}]
[{"$f":"\"ate01-\"&B1569&\" \"&C1569&\" \"&D1569&\" \"&E1569","v":"ate01-SD-06-C4-S4-GE CUATRO (4) CUATRO (4) E"},"SD-06-C4-S4-GE","CUATRO (4)","CUATRO (4)","E","Servicio de distribucion Region Resto del pais","UT EMERGENCIAS 2021",0.14752800000000002,{"$f":"B1569&G1569","v":"SD-06-C4-S4-GEUT EMERGENCIAS 2021"},{"$f":"C1569&D1569&E1569&F1569","v":"CUATRO (4)CUATRO (4)EServicio de distribucion Region Resto del pais"},{"$f":"H1569","v":0.14752800000000002},{"$f":"C1569&D1569&E1569&F1569&G1569","v":"CUATRO (4)CUATRO (4)EServicio de distribucion Region Resto del paisUT EMERGENCIAS 2021"},{"$f":"B1569&H1569","v":"SD-06-C4-S4-GE0.147528"},{"$f":"G1569","v":"UT EMERGENCIAS 2021"},"Und",{"$f":"C1569&D1569&E1569&F1569&G1569","v":"CUATRO (4)CUATRO (4)EServicio de distribucion Region Resto del paisUT EMERGENCIAS 2021"},{"$f":"H1569","v":0.14752800000000002}]
[{"$f":"\"ate01-\"&B1570&\" \"&C1570&\" \"&D1570&\" \"&E1570","v":"ate01-SD-06-C4-S4-GE CUATRO (4) CUATRO (4) E"},"SD-06-C4-S4-GE","CUATRO (4)","CUATRO (4)","E","Servicio de distribucion Region Resto del pais","UNION TEMPORAL AYGEMA",0.14752800000000002,{"$f":"B1570&G1570","v":"SD-06-C4-S4-GEUNION TEMPORAL AYGEMA"},{"$f":"C1570&D1570&E1570&F1570","v":"CUATRO (4)CUATRO (4)EServicio de distribucion Region Resto del pais"},{"$f":"H1570","v":0.14752800000000002},{"$f":"C1570&D1570&E1570&F1570&G1570","v":"CUATRO (4)CUATRO (4)EServicio de distribucion Region Resto del paisUNION TEMPORAL AYGEMA"},{"$f":"B1570&H1570","v":"SD-06-C4-S4-GE0.147528"},{"$f":"G1570","v":"UNION TEMPORAL AYGEMA"},"Und",{"$f":"C1570&D1570&E1570&F1570&G1570","v":"CUATRO (4)CUATRO (4)EServicio de distribucion Region Resto del paisUNION TEMPORAL AYGEMA"},{"$f":"H1570","v":0.14752800000000002}]
[{"$f":"\"ate01-\"&B1571&\" \"&C1571&\" \"&D1571&\" \"&E1571","v":"ate01-SD-06-C4-S4-GE CUATRO (4) CUATRO (4) E"},"SD-06-C4-S4-GE","CUATRO (4)","CUATRO (4)","E","Servicio de distribucion Region Resto del pais","UT OFICON",0.14752800000000002,{"$f":"B1571&G1571","v":"SD-06-C4-S4-GEUT OFICON"},{"$f":"C1571&D1571&E1571&F1571","v":"CUATRO (4)CUATRO (4)EServicio de distribucion Region Resto del pais"},{"$f":"H1571","v":0.14752800000000002},{"$f":"C1571&D1571&E1571&F1571&G1571","v":"CUATRO (4)CUATRO (4)EServicio de distribucion Region Resto del paisUT OFICON"},{"$f":"B1571&H1571","v":"SD-06-C4-S4-GE0.147528"},{"$f":"G1571","v":"UT OFICON"},"Und",{"$f":"C1571&D1571&E1571&F1571&G1571","v":"CUATRO (4)CUATRO (4)EServicio de distribucion Region Resto del paisUT OFICON"},{"$f":"H1571","v":0.14752800000000002}]
[{"$f":"\"ate01-\"&B1572&\" \"&C1572&\" \"&D1572&\" \"&E1572","v":"ate01-SD-06-C4-S4-GE CUATRO (4) CUATRO (4) E"},"SD-06-C4-S4-GE","CUATRO (4)","CUATRO (4)","E","Servicio de distribucion Region Resto del pais","MIGUEL ANGEL VALLEJO BURGOS",0.14752800000000002,{"$f":"B1572&G1572","v":"SD-06-C4-S4-GEMIGUEL ANGEL VALLEJO BURGOS"},{"$f":"C1572&D1572&E1572&F1572","v":"CUATRO (4)CUATRO (4)EServicio de distribucion Region Resto del pais"},{"$f":"H1572","v":0.14752800000000002},{"$f":"C1572&D1572&E1572&F1572&G1572","v":"CUATRO (4)CUATRO (4)EServicio de distribucion Region Resto del paisMIGUEL ANGEL VALLEJO BURGOS"},{"$f":"B1572&H1572","v":"SD-06-C4-S4-GE0.147528"},{"$f":"G1572","v":"MIGUEL ANGEL VALLEJO BURGOS"},"Und",{"$f":"C1572&D1572&E1572&F1572&G1572","v":"CUATRO (4)CUATRO (4)EServicio de distribucion Region Resto del paisMIGUEL ANGEL VALLEJO BURGOS"},{"$f":"H1572","v":0.14752800000000002}]
[{"$f":"\"ate01-\"&B1573&\" \"&C1573&\" \"&D1573&\" \"&E1573","v":"ate01-SD-06-C4-S4-GE CUATRO (4) CUATRO (4) E"},"SD-06-C4-S4-GE","CUATRO (4)","CUATRO (4)","E","Servicio de distribucion Region Resto del pais","INVALCA",0.14752800000000002,{"$f":"B1573&G1573","v":"SD-06-C4-S4-GEINVALCA"},{"$f":"C1573&D1573&E1573&F1573","v":"CUATRO (4)CUATRO (4)EServicio de distribucion Region Resto del pais"},{"$f":"H1573","v":0.14752800000000002},{"$f":"C1573&D1573&E1573&F1573&G1573","v":"CUATRO (4)CUATRO (4)EServicio de distribucion Region Resto del paisINVALCA"},{"$f":"B1573&H1573","v":"SD-06-C4-S4-GE0.147528"},{"$f":"G1573","v":"INVALCA"},"Und",{"$f":"C1573&D1573&E1573&F1573&G1573","v":"CUATRO (4)CUATRO (4)EServicio de distribucion Region Resto del paisINVALCA"},{"$f":"H1573","v":0.14752800000000002}]
[]
[null,null,null,null,null,null,null,null,null,null,null,{"$f":"C1575&D1575&E1575&F1575&G1575","v":""}]
[1,2,3,4,5,6,7,8,9,10,11,12,13]

{"sheet":"Hoja1","index":12,"n_rows":30,"n_cols":3,"rows_kept":30,"cut":false,"hidden":true,"merged":[]}
["Proveedor","Nombre en la TVEC","Contrato en la TVEC"]
["001. OFIX SAS","OFIX SAS","CCE-166-AMP-2021-1"]
["002. COMERCIALIZADORA MUNDIAL ","COMERCIALIZADORA MUNDIAL","CCE-166-AMP-2021-2"]
["003. PRODUCTORA Y COMERCIALIZADORA CELMAX LTDA","PRODUCTORA Y COMERCIALIZADORA CELMAX LTDA","CCE-166-AMP-2021-3"]
["004. SUMIMAS","Sumimas S.A.S.","CCE-166-AMP-2021-4"]
["005. DINAMICA","DINAMICA","CCE-166-AMP-2021-5"]
["006. NUEVA ERA SOLUCIONES SAS","Nueva Era Soluciones S.A.S.","CCE-166-AMP-2021-6"]
["007. NELLY CARMENSA FIGUEROA ANACONA","NELLY CARMENSA FIGUEROA ANACONA","CCE-166-AMP-2021-7"]
["008. GRUPO INVERSIONES Y SOLUCIONES SAS ","GRUPO INVERSIONES Y SOLUCIONES","CCE-166-AMP-2021-8"]
["009. COMPAÑÍA DE DISTRIBUCION FERRETERA SAS COMFERRETERA","COMPAÑÍA DE DISTRIBUCIÓN FERRETERA SAS COMFERRETERA","CCE-166-AMP-2021-9"]
["010. GRUPO EMPRESARIAL MADEX SAS","GRUPO EMPRESARIAL MADEX S.A.S.","CCE-166-AMP-2021-10"]
["011. OFI BEST SAS","Ofibest S.A.S","CCE-166-AMP-2021-11"]
["012. DIOMER ARISTIZABAL DUQUE","DIOMER ARISTIZABAL DUQUE","CCE-166-AMP-2021-12"]
["013. COMPUTEL SYSTEM SAS","Computel System SAS","CCE-166-AMP-2021-13"]
["014. HARDWARE ASESORIAS SOFTWARE LTDA ","HARDWARE ASESORIAS SOFTWARE LTDA","CCE-166-AMP-2021-14"]
["015. UNIPLES","Uniples","CCE-166-AMP-2021-15"]
["017. COMERCIALIZADORA SERLE.COM SAS","Comercializadora Serle.com_S.A.S","CCE-166-AMP-2021-16"]
["018. TECNOPHONE COLOMBIA SAS","Tecnophone Colombia S.A.S.","CCE-166-AMP-2021-17"]
["019. AGROSUMINISTROS DE COLOMBIA SAS","AGROSUMINISTROS DE COLOMBIA SAS","CCE-166-AMP-2021-18"]
["020. YUBARTA SAS","YUBARTA S.A.S.","CCE-166-AMP-2021-19"]
["022. AGENCIA GRUPO BRAND SAS","AGENCIA GRUPO BRAND SAS","CCE-166-AMP-2021-20"]
["023. ABOVE SAS","ABOVE SAS","CCE-166-AMP-2021-21"]
["028. UNION TEMPORAL PEDAGOGICOS 2021","UNIÓN TEMPORAL PEDAGÓGICOS 2021","CCE-166-AMP-2021-22"]
["029. COMERCIALIZADORA LA GEMA SAS","COMERCIALIZADORA LA GEMA SAS","CCE-166-AMP-2021-23"]
["030. VENTA EQUIPO SAS","VENTA EQUIPOS SAS","CCE-166-AMP-2021-24"]
["031. DEICY BRAVO JOJOA","DEICY BRAVO JOJOA","CCE-166-AMP-2021-25"]
["032. COMERCIALIZADORA VINARTA SAS","Comercializadora Vinarta S.A.S","CCE-166-AMP-2021-26"]
["033. CPT EXPRESS SAS","CPT EXPRESS SAS","CCE-166-AMP-2021-27"]
["034. JM GRUPO EMPRESARIAL SAS","JM GRUPO EMPRESARIAL S.A.S","CCE-166-AMP-2021-28"]
["036. DIDACTICOS PINOCHO SA","DIDACTICOS PINOCHO S.A.","CCE-166-AMP-2021-29"]

{"sheet":"Hoja2","index":13,"n_rows":32,"n_cols":5,"rows_kept":32,"cut":false,"hidden":true,"merged":[]}
[]
[]
[null,"#","Proveedor","Numero Contrato","Nombre Contrato"]
[null,1,"OFIX SAS","CCE-166-AMP-2021-1","SUMINISTRO MATERIAL PEDAGOGICO -OFIX SAS"]
[null,2,"COMERCIALIZADORA MUNDIAL","CCE-166-AMP-2021-2","SUMINISTRO MATERIAL PEDAGOGICO -COMERCIALIZADORA MUNDIAL"]
[null,3,"PRODUCTORA Y COMERCIALIZADORA CELMAX LTDA","CCE-166-AMP-2021-3","SUMINISTRO MATERIAL PEDAGOGICO -PRODUCTORA Y COMERCIALIZADORA CELMAX LTDA"]
[null,4,"Sumimas S.A.S.","CCE-166-AMP-2021-4","SUMINISTRO MATERIAL PEDAGOGICO -Sumimas S.A.S."]
[null,5,"DINAMICA","CCE-166-AMP-2021-5","SUMINISTRO MATERIAL PEDAGOGICO -DINAMICA"]
[null,6,"Nueva Era Soluciones S.A.S.","CCE-166-AMP-2021-6","SUMINISTRO MATERIAL PEDAGOGICO -Nueva Era Soluciones S.A.S."]
[null,7,"NELLY CARMENSA FIGUEROA ANACONA","CCE-166-AMP-2021-7","SUMINISTRO MATERIAL PEDAGOGICO -NELLY CARMENSA FIGUEROA ANACONA"]
[null,8,"GRUPO INVERSIONES Y SOLUCIONES","CCE-166-AMP-2021-8","SUMINISTRO MATERIAL PEDAGOGICO -GRUPO INVERSIONES Y SOLUCIONES"]
[null,9,"COMPAÑÍA DE DISTRIBUCIÓN FERRETERA SAS COMFERRETERA","CCE-166-AMP-2021-9","SUMINISTRO MATERIAL PEDAGOGICO -COMPAÑÍA DE DISTRIBUCIÓN FERRETERA SAS COMFERRETERA"]
[null,10,"GRUPO EMPRESARIAL MADEX S.A.S.","CCE-166-AMP-2021-10","SUMINISTRO MATERIAL PEDAGOGICO -GRUPO EMPRESARIAL MADEX S.A.S."]
[null,11,"Ofibest S.A.S","CCE-166-AMP-2021-11","SUMINISTRO MATERIAL PEDAGOGICO -Ofibest S.A.S"]
[null,12,"DIOMER ARISTIZABAL DUQUE","CCE-166-AMP-2021-12","SUMINISTRO MATERIAL PEDAGOGICO -DIOMER ARISTIZABAL DUQUE"]
[null,13,"Computel System SAS","CCE-166-AMP-2021-13","SUMINISTRO MATERIAL PEDAGOGICO -Computel System SAS"]
[null,14,"HARDWARE ASESORIAS SOFTWARE LTDA","CCE-166-AMP-2021-14","SUMINISTRO MATERIAL PEDAGOGICO -HARDWARE ASESORIAS SOFTWARE LTDA"]
[null,15,"Uniples","CCE-166-AMP-2021-15","SUMINISTRO MATERIAL PEDAGOGICO -Uniples"]
[null,16,"Comercializadora Serle.com_S.A.S","CCE-166-AMP-2021-16","SUMINISTRO MATERIAL PEDAGOGICO -Comercializadora Serle.com_S.A.S"]
[null,17,"Tecnophone Colombia S.A.S.","CCE-166-AMP-2021-17","SUMINISTRO MATERIAL PEDAGOGICO -Tecnophone Colombia S.A.S."]
[null,18,"AGROSUMINISTROS DE COLOMBIA SAS","CCE-166-AMP-2021-18","SUMINISTRO MATERIAL PEDAGOGICO -AGROSUMINISTROS DE COLOMBIA SAS"]
[null,19,"YUBARTA S.A.S.","CCE-166-AMP-2021-19","SUMINISTRO MATERIAL PEDAGOGICO -YUBARTA S.A.S."]
[null,20,"AGENCIA GRUPO BRAND SAS","CCE-166-AMP-2021-20","SUMINISTRO MATERIAL PEDAGOGICO -AGENCIA GRUPO BRAND SAS"]
[null,21,"ABOVE SAS","CCE-166-AMP-2021-21","SUMINISTRO MATERIAL PEDAGOGICO -ABOVE SAS"]
[null,22,"UNIÓN TEMPORAL PEDAGÓGICOS 2021","CCE-166-AMP-2021-22","SUMINISTRO MATERIAL PEDAGOGICO -UNIÓN TEMPORAL PEDAGÓGICOS 2021"]
[null,23,"COMERCIALIZADORA LA GEMA SAS","CCE-166-AMP-2021-23","SUMINISTRO MATERIAL PEDAGOGICO -COMERCIALIZADORA LA GEMA SAS"]
[null,24,"VENTA EQUIPOS SAS","CCE-166-AMP-2021-24","SUMINISTRO MATERIAL PEDAGOGICO -VENTA EQUIPOS SAS"]
[null,25,"DEICY BRAVO JOJOA","CCE-166-AMP-2021-25","SUMINISTRO MATERIAL PEDAGOGICO -DEICY BRAVO JOJOA"]
[null,26,"Comercializadora Vinarta S.A.S","CCE-166-AMP-2021-26","SUMINISTRO MATERIAL PEDAGOGICO -Comercializadora Vinarta S.A.S"]
[null,27,"CPT EXPRESS SAS","CCE-166-AMP-2021-27","SUMINISTRO MATERIAL PEDAGOGICO -CPT EXPRESS SAS"]
[null,28,"JM GRUPO EMPRESARIAL S.A.S","CCE-166-AMP-2021-28","SUMINISTRO MATERIAL PEDAGOGICO -JM GRUPO EMPRESARIAL S.A.S"]
[null,29,"DIDACTICOS PINOCHO S.A.","CCE-166-AMP-2021-29","SUMINISTRO MATERIAL PEDAGOGICO -DIDACTICOS PINOCHO S.A."]

{"sheet":"TempCalculos","index":14,"n_rows":0,"n_cols":0,"rows_kept":0,"cut":false,"hidden":true,"merged":[]}

{"sheet":"DatosCCE","index":15,"n_rows":7,"n_cols":2,"rows_kept":7,"cut":false,"hidden":true,"merged":[]}
["Campo","Valor"]
["INGRESO AL PRODUCTOR USD/GLN",1.133]
["IVA USD/GLN",0.05]
["TRM Promedio semanal",3666.3119999999994]
["IMPUESTO AL CARBONO\n$/GLN",170]
["IVA $/GLN",0.19]
["INGRESO AL PRODUCTOR AV GAS",7612.66]

{"sheet":"Parametros","index":16,"n_rows":10,"n_cols":4,"rows_kept":10,"cut":false,"hidden":true,"merged":[[0,1,0,3],[1,1,1,3]]}
["Directorio",{"$f":"Evaluar!C2","v":0}]
["Nombre de la Pestaña","OfertaEconomica"]
["Separar por Segmento","UNICA"]
["Nombre del Proveedor","UNICA","F",19]
["AG1-244Total","UNICA","R",24]
["FE3-262Total","UNICA","R",25]
["FE3-295Total","UNICA","R",26]
["AG1-244","UNICA","O",24]
["FE3-262","UNICA","O",25]
["FE3-295","UNICA","O",26]

{"sheet":"ConsolidadoEva","index":17,"n_rows":7,"n_cols":8,"rows_kept":7,"cut":false,"hidden":true,"merged":[]}
["Nombre del Proveedor","AG1-244Total","FE3-262Total","FE3-295Total","AG1-244","FE3-262","FE3-295","PATH"]
["AGROSUMINISTROS DE COLOMBIA SAS",975800,2100350,7699300,8200,17650,64700,"C:\\Users\\Michel\\Desktop\\Material Pedagogico\\Definitivos\\Simulador Material Pedagogico\\cotizaciones\\Agrosuministros.xlsm"]
["COMPAÑÍA DE DISTRIBUCIÓN FERRETERA SAS COMFERRETERA",0,2284800,1428000,{"$error":"#N/A"},19200,12000,"C:\\Users\\Michel\\Desktop\\Material Pedagogico\\Definitivos\\Simulador Material Pedagogico\\cotizaciones\\Compañia de distribucion ferretera.xlsm"]
["DEICY BRAVO JOJOA",0,1425025,674968,{"$error":"#N/A"},11975,5672,"C:\\Users\\Michel\\Desktop\\Material Pedagogico\\Definitivos\\Simulador Material Pedagogico\\cotizaciones\\Daicy Bravo.xlsm"]
["GRUPO INVERSIONES Y SOLUCIONES",3422440,0,0,28760,{"$error":"#N/A"},{"$error":"#N/A"},"C:\\Users\\Michel\\Desktop\\Material Pedagogico\\Definitivos\\Simulador Material Pedagogico\\cotizaciones\\Grupo inversiones y soluciones.xlsm"]
["JM GRUPO EMPRESARIAL S.A.S",1190000,490042,2648940,10000,4118,22260,"C:\\Users\\Michel\\Desktop\\Material Pedagogico\\Definitivos\\Simulador Material Pedagogico\\cotizaciones\\JM Grupo Empresarial.xlsm"]
["UNIÓN TEMPORAL PEDAGÓGICOS 2021",0,2380000,2142000,{"$error":"#N/A"},20000,18000,"C:\\Users\\Michel\\Desktop\\Material Pedagogico\\Definitivos\\Simulador Material Pedagogico\\cotizaciones\\Union temporal pedagogicos.xlsm"]

{"sheet":"Empates","index":18,"n_rows":4,"n_cols":10,"rows_kept":4,"cut":false,"hidden":true,"merged":[]}
["Alimentos","AlimentosxGE","AGROSUMINISTROS DE COLOMBIA SAS","COMPAÑÍA DE DISTRIBUCIÓN FERRETERA SAS COMFERRETERA","DEICY BRAVO JOJOA","GRUPO INVERSIONES Y SOLUCIONES","JM GRUPO EMPRESARIAL S.A.S","UNIÓN TEMPORAL PEDAGÓGICOS 2021","Minimo","Empates"]
["AG1-244","AG1",{"$f":"SUMIFS(CalculosEva!C:C,CalculosEva!$B:$B,Empates!$B2&\"Total\")","v":975800},{"$f":"SUMIFS(CalculosEva!D:D,CalculosEva!$B:$B,Empates!$B2&\"Total\")","v":0},{"$f":"SUMIFS(CalculosEva!E:E,CalculosEva!$B:$B,Empates!$B2&\"Total\")","v":0},{"$f":"SUMIFS(CalculosEva!F:F,CalculosEva!$B:$B,Empates!$B2&\"Total\")","v":3422440},{"$f":"SUMIFS(CalculosEva!G:G,CalculosEva!$B:$B,Empates!$B2&\"Total\")","v":1190000},{"$f":"SUMIFS(CalculosEva!H:H,CalculosEva!$B:$B,Empates!$B2&\"Total\")","v":0},{"$f":"MIN(IF($B2:H2>0,$B2:H2))","v":975800},{"$f":"COUNTIF($C2:H2,I2)","v":1}]
["FE3-262","FE3",{"$f":"SUMIFS(CalculosEva!C:C,CalculosEva!$B:$B,Empates!$B3&\"Total\")","v":9799650},{"$f":"SUMIFS(CalculosEva!D:D,CalculosEva!$B:$B,Empates!$B3&\"Total\")","v":3712800},{"$f":"SUMIFS(CalculosEva!E:E,CalculosEva!$B:$B,Empates!$B3&\"Total\")","v":2099993},{"$f":"SUMIFS(CalculosEva!F:F,CalculosEva!$B:$B,Empates!$B3&\"Total\")","v":0},{"$f":"SUMIFS(CalculosEva!G:G,CalculosEva!$B:$B,Empates!$B3&\"Total\")","v":3138982},{"$f":"SUMIFS(CalculosEva!H:H,CalculosEva!$B:$B,Empates!$B3&\"Total\")","v":4522000},{"$f":"MIN(IF($B3:H3>0,$B3:H3))","v":2099993},{"$f":"COUNTIF($C3:H3,I3)","v":1}]
["FE3-295","FE3",{"$f":"SUMIFS(CalculosEva!C:C,CalculosEva!$B:$B,Empates!$B4&\"Total\")","v":9799650},{"$f":"SUMIFS(CalculosEva!D:D,CalculosEva!$B:$B,Empates!$B4&\"Total\")","v":3712800},{"$f":"SUMIFS(CalculosEva!E:E,CalculosEva!$B:$B,Empates!$B4&\"Total\")","v":2099993},{"$f":"SUMIFS(CalculosEva!F:F,CalculosEva!$B:$B,Empates!$B4&\"Total\")","v":0},{"$f":"SUMIFS(CalculosEva!G:G,CalculosEva!$B:$B,Empates!$B4&\"Total\")","v":3138982},{"$f":"SUMIFS(CalculosEva!H:H,CalculosEva!$B:$B,Empates!$B4&\"Total\")","v":4522000},{"$f":"MIN(IF($B4:H4>0,$B4:H4))","v":2099993},{"$f":"COUNTIF($C4:H4,I4)","v":1}]

{"sheet":"CalculosEva","index":19,"n_rows":8,"n_cols":8,"rows_kept":8,"cut":false,"hidden":true,"merged":[]}
["Alimentos","AlimentosxGE","AGROSUMINISTROS DE COLOMBIA SAS","COMPAÑÍA DE DISTRIBUCIÓN FERRETERA SAS COMFERRETERA","DEICY BRAVO JOJOA","GRUPO INVERSIONES Y SOLUCIONES","JM GRUPO EMPRESARIAL S.A.S","UNIÓN TEMPORAL PEDAGÓGICOS 2021"]
[{"$error":"#N/A"},"AG1Total",975800,null,null,3422440,1190000]
[{"$error":"#N/A"},"FE3Total",2100350,2284800,1425025,null,490042,2380000]
[{"$error":"#N/A"},"FE3Total",7699300,1428000,674968,null,2648940,2142000]
["AG1-244","AG1",8200,null,null,28760,10000]
["FE3-262","FE3",17650,19200,11975,null,4118,20000]
["FE3-295","FE3",64700,12000,5672,null,22260,18000]
[null,"PATH","C:\\Users\\Michel\\Desktop\\Material Pedagogico\\Definitivos\\Simulador Material Pedagogico\\cotizaciones\\Agrosuministros.xlsm","C:\\Users\\Michel\\Desktop\\Material Pedagogico\\Definitivos\\Simulador Material Pedagogico\\cotizaciones\\Compañia de distribucion ferretera.xlsm","C:\\Users\\Michel\\Desktop\\Material Pedagogico\\Definitivos\\Simulador Material Pedagogico\\cotizaciones\\Daicy Bravo.xlsm","C:\\Users\\Michel\\Desktop\\Material Pedagogico\\Definitivos\\Simulador Material Pedagogico\\cotizaciones\\Grupo inversiones y soluciones.xlsm","C:\\Users\\Michel\\Desktop\\Material Pedagogico\\Definitivos\\Simulador Material Pedagogico\\cotizaciones\\JM Grupo Empresarial.xlsm","C:\\Users\\Michel\\Desktop\\Material Pedagogico\\Definitivos\\Simulador Material Pedagogico\\cotizaciones\\Union temporal pedagogicos.xlsm"]

{"sheet":"ListasEmpates","index":20,"n_rows":0,"n_cols":0,"rows_kept":0,"cut":false,"hidden":true,"merged":[]}

{"sheet":"ListasAutomaticas","index":21,"n_rows":138,"n_cols":2469,"rows_kept":138,"cut":false,"hidden":true,"merged":[]}
["GAlimentos","1Segmento","1Grupo","1Articulos","1Regiones","2DetalleModalidad","2Puntosdetanqueo","2Regiones","3DetalleModalidad","3Puntosdetanqueo","3Regiones","4DetalleModalidad","4Puntosdetanqueo","4Regiones","5DetalleModalidad","5Puntosdetanqueo","5Regiones","6DetalleModalidad","6Puntosdetanqueo","6Regiones","7DetalleModalidad","7Puntosdetanqueo","7Regiones","8DetalleModalidad","8Puntosdetanqueo","8Regiones","9DetalleModalidad","9Puntosdetanqueo","9Regiones","10DetalleModalidad","10Puntosdetanqueo","10Regiones","11DetalleModalidad","11Puntosdetanqueo","11Regiones","12DetalleModalidad","12Puntosdetanqueo","12Regiones","13DetalleModalidad","13Puntosdetanqueo","13Regiones","14DetalleModalidad","14Puntosdetanqueo","15Modalidad","15DetalleModalidad","15Puntosdetanqueo","16Modalidad","16DetalleModalidad","16Puntosdetanqueo","17Modalidad","17DetalleModalidad","17Puntosdetanqueo","18Modalidad","18DetalleModalidad","18Puntosdetanqueo","19Modalidad","19DetalleModalidad","19Puntosdetanqueo","20Modalidad","20DetalleModalidad","20Puntosdetanqueo","21Modalidad","21DetalleModalidad","21Puntosdetanqueo","22Modalidad","22DetalleModalidad","22Puntosdetanqueo","23Modalidad","23DetalleModalidad","23Puntosdetanqueo","24Modalidad","24DetalleModalidad","24Puntosdetanqueo","25Modalidad","25DetalleModalidad","25Puntosdetanqueo","26Modalidad","26DetalleModalidad","26Puntosdetanqueo","27Modalidad","27DetalleModalidad","27Puntosdetanqueo","28Modalidad","28DetalleModalidad","28Puntosdetanqueo","29Modalidad","29DetalleModalidad","29Puntosdetanqueo","30Modalidad","30DetalleModalidad","30Puntosdetanqueo",null,null,null,null,null,null,null,null,null,null,null,null,null,null,null,null,null,null,null,null,null,null,null,null,null,null,null,null,null,null,null,null,null,null,null,null,null,null,null,null,null,null,null,null,null,null,null,null,null,null,null,null,null,null,null,null,null,null,null,null,null,null,null,null,null,null,null,null,null,null,null,null,null,null,null,null,null,null,null,null,null,null,null,null,null,null,null,null,null,null,null,null,null,null,null,null,null,null,null,null,null,null,null,null,null,null,null,null,null,null,null,null,null,null,null,null,null,null,null,null,null,null,null,null,null,null,null,null,null,null,null,null,null,null,null,null,null,null,null,null,null,null,null,null,null,null,null,null,null,null,null,null,null,null,null,null,null,null,null,null,null,null,null,null,null,null,null,null,null,null,null,null,null,null,null,null,null,null,null,null,null,null,null,null,null,null,null,null,null,null,null,null,null,null,null,null,null,null,null,null,null,null,null,null,null,null,null,null,null,null,null,null,null,null,null,null,null,null,null,null,null,null,null,null,null,null,null,null,null,null,null,null,null,null,null,null,null,null,null,null,null,null,null,null,null,null,null,null,null,null,null,null,null,null,null,null,null,null,null,null,null,null,null,null,null,null,null,null,null,null,null,null,null,null,null,null,null,null,null,null,null,null,null,null,null,null,null,null,null,null,null,null,null,null,null,null,null,null,null,null,null,null,null,null,null,null,null,null,null,null,null,null,null,null,null,null,null,null,null,null,null,null,null,null,null,null,null,null,null,null,null,null,null,null,null,null,null,null,null,null,null,null,null,null,null,null,null,null,null,null,null,null,null,null,null,null,null,null,null,null,null,null,null,null,null,null,null,null,null,null,null,null,null,null,null,null,null,null,null,null,null,null,null,null,null,null,null,null,null,null,null,null,null,null,null,null,null,null,null,null,null,null,null,null,null,null,null,null,null,null,null,null,null,null,null,null,null,null,null,null,null,null,null,null,null,null,null,null,null,null,null,null,null,null,null,null,null,null,null,null,null,null,null,null,null,null,null,null,null,null,null,null,null,null,null,null,null,null,null,null,null,null,null,null,null,null,null,null,null,null,null,null,null,null,null,null,null,null,null,null,null,null,null,null,null,null,null,null,null,null,null,null,null,null,null,null,null,null,null,null,null,null,null,null,null,null,null,null,null,null,null,null,null,null,null,null,null,null,null,null,null,null,null,null,null,null,null,null,null,null,null,null,null,null,null,null,null,null,null,null,null,null,null,null,null,null,null,null,null,null,null,null,null,null,null,null,null,null,null,null,null,null,null,null,null,null,null,null,null,null,null,null,null,null,null,null,null,null,null,null,null,null,null,null,null,null,null,null,null,null,null,null,null,null,null,null,null,null,null,null,null,null,null,null,null,null,null,null,null,null,null,null,null,null,null,null,null,null,null,null,null,null,null,null,null,null,null,null,null,null,null,null,null,null,null,null,null,null,null,null,null,null,null,null,null,null,null,null,null,null,null,null,null,null,null,null,null,null,null,null,null,null,null,null,null,null,null,null,null,null,null,null,null,null,null,null,null,null,null,null,null,null,null,null,null,null,null,null,null,null,null,null,null,null,null,null,null,null,null,null,null,null,null,null,null,null,null,null,null,null,null,null,null,null,null,null,null,null,null,null,null,null,null,null,null,null,null,null,null,null,null,null,null,null,null,null,null,null,null,null,null,null,null,null,null,null,null,null,null,null,null,null,null,null,null,null,null,null,null,null,null,null,null,null,null,null,null,null,null,null,null,null,null,null,null,null,null,null,null,null,null,null,null,null,null,null,null,null,null,null,null,null,null,null,null,null,null,null,null,null,null,null,null,null,null,null,null,null,null,null,null,null,null,null,null,null,null,null,null,null,null,null,null,null,null,null,null,null,null,null,null,null,null,null,null,null,null,null,null,null,null,null,null,null,null,null,null,null,null,null,null,null,null,null,null,null,null,null,null,null,null,null,null,null,null,null,null,null,null,null,null,null,null,null,null,null,null,null,null,null,null,null,null,null,null,null,null,null,null,null,null,null,null,null,null,null,null,null,null,null,null,null,null,null,null,null,null,null,null,null,null,null,null,null,null,null,null,null,null,null,null,null,null,null,null,null,null,null,null,null,null,null,null,null,null,null,null,null,null,null,null,null,null,null,null,null,null,null,null,null,null,null,null,null,null,null,null,null,null,null,null,null,null,null,null,null,null,null,null,null,null,null,null,null,null,null,null,null,null,null,null,null,null,null,null,null,null,null,null,null,null,null,null,null,null,null,null,null,null,null,null,null,null,null,null,null,null,null,null,null,null,null,null,null,null,null,null,null,null,null,null,null,null,null,null,null,null,null,null,null,null,null,null,null,null,null,null,null,null,null,null,null,null,null,null,null,null,null,null,null,null,null,null,null,null,null,null,null,null,null,null,null,null,null,null,null,null,null,null,null,null,null,null,null,null,null,null,null,null,null,null,null,null,null,null,null,null,null,null,null,null,null,null,null,null,null,null,null,null,null,null,null,null,null,null,null,null,null,null,null,null,null,null,null,null,null,null,null,null,null,null,null,null,null,null,null,null,null,null,null,null,null,null,null,null,null,null,null,null,null,null,null,null,null,null,null,null,null,null,null,null,null,null,null,null,null,null,null,null,null,null,null,null,null,null,null,null,null,null,null,null,null,null,null,null,null,null,null,null,null,null,null,null,null,null,null,null,null,null,null,null,null,null,null,null,null,null,null,null,null,null,null,null,null,null,null,null,null,null,null,null,null,null,null,null,null,null,null,null,null,null,null,null,null,null,null,null,null,null,null,null,null,null,null,null,null,null,null,null,null,null,null,null,null,null,null,null,null,null,null,null,null,null,null,null,null,null,null,null,null,null,null,null,null,null,null,null,null,null,null,null,null,null,null,null,null,null,null,null,null,null,null,null,null,null,null,null,null,null,null,null,null,null,null,null,null,null,null,null,null,null,null,null,null,null,null,null,null,null,null,null,null,null,null,null,null,null,null,null,null,null,null,null,null,null,null,null,null,null,null,null,null,null,null,null,null,null,null,null,null,null,null,null,null,null,null,null,null,null,null,null,null,null,null,null,null,null,null,null,null,null,null,null,null,null,null,null,null,null,null,null,null,null,null,null,null,null,null,null,null,null,null,null,null,null,null,null,null,null,null,null,null,null,null,null,null,null,null,null,null,null,null,null,null,null,null,null,null,null,null,null,null,null,null,null,null,null,null,null,null,null,null,null,null,null,null,null,null,null,null,null,null,null,null,null,null,null,null,null,null,null,null,null,null,null,null,null,null,null,null,null,null,null,null,null,null,null,null,null,null,null,null,null,null,null,null,null,null,null,null,null,null,null,null,null,null,null,null,null,null,null,null,null,null,null,null,null,null,null,null,null,null,null,null,null,null,null,null,null,null,null,null,null,null,null,null,null,null,null,null,null,null,null,null,null,null,null,null,null,null,null,null,null,null,null,null,null,null,null,null,null,null,null,null,null,null,null,null,null,null,null,null,null,null,null,null,null,null,null,null,null,null,null,null,null,null,null,null,null,null,null,null,null,null,null,null,null,null,null,null,null,null,null,null,null,null,null,null,null,null,null,null,null,null,null,null,null,null,null,null,null,null,null,null,null,null,null,null,null,null,null,null,null,null,null,null,null,null,null,null,null,null,null,null,null,null,null,null,null,null,null,null,null,null,null,null,null,null,null,null,null,null,null,null,null,null,null,null,null,null,null,null,null,null,null,null,null,null,null,null,null,null,null,null,null,null,null,null,null,null,null,null,null,null,null,null,null,null,null,null,null,null,null,null,null,null,null,null,null,null,null,null,null,null,null,null,null,null,null,null,null,null,null,null,null,null,null,null,null,null,null,null,null,null,null,null,null,null,null,null,null,null,null,null,null,null,null,null,null,null,null,null,null,null,null,null,null,null,null,null,null,null,null,null,null,null,null,null,null,null,null,null,null,null,null,null,null,null,null,null,null,null,null,null,null,null,null,null,null,null,null,null,null,null,null,null,null,null,null,null,null,null,null,null,null,null,null,null,null,null,null,null,null,null,null,null,null,null,null,null,null,null,null,null,null,null,null,null,null,null,null,null,null,null,null,null,null,null,null,null,null,null,null,null,null,null,null,null,null,null,null,null,null,null,null,null,null,null,null,null,null,null,null,null,null,null,null,null,null,null,null,null,null,null,null,null,null,null,null,null,null,null,null,null,null,null,null,null,null,null,null,null,null,null,null,null,null,null,null,null,null,null,null,null,null,null,null,null,null,null,null,null,null,null,null,null,null,null,null,null,null,null,null,null,null,null,null,null,null,null,null,null,null,null,null,null,null,null,null,null,null,null,null,null,null,null,null,null,null,null,null,null,null,null,null,null,null,null,null,null,null,null,null,null,null,null,null,null,null,null,null,null,null,null,null,null,null,null,null,null,null,null,null,null,null,null,null,null,null,null,null,null,null,null,null,null,null,null,null,null,null,null,null,null,null,null,null,null,null,null,null,null,null,null,null,null,null,null,null,null,null,null,null,null,null,null,null,null,null,null,null,null,null,null,null,null,null,null,null,null,null,null,null,null,null,null,null,null,null,null,null,null,null,null,null,null,null,null,null,null,null,null,null,null,null,null,null,null,null,null,null,null,null,null,null,null,null,null,null,null,null,null,null,null,null,null,null,null,null,null,null,null,null,null,null,null,null,null,null,null,null,null,null,null,null,null,null,null,null,null,null,null,null,null,null,null,null,null,null,null,null,null,null,null,null,null,null,null,null,null,null,null,null,null,null,null,null,null,null,null,null,null,null,null,null,null,null,null,null,null,null,null,null,null,null,null,null,null,null,null,null,null,null,null,null,null,null,null,null,null,null,null,null,null,null,null,null,null,null,null,null,null,null,null,null,null,null,null,null,null,null,null,null,null,null,null,null,null,null,null,null,null,null,null,null,null,null,null,null,null,null,null,null,null,null,null,null,null,null,null,null,null,null,null,null,null,null,null,null,null,null,null,null,null,null,null,null,null,null,null,null,null,null,null,null,null,null,null,null,null,null,null,null,null,null,null,null,null,null,null,null,null,null,null,null,null,null,null,null,null,null,null,null,null,null,null,null,null,null,null,null,null,null,null,null,null,null,null,null,null,null,null,null,null,null,null,null,null,null,null,null,null,null,null,null,null,null,null,null,null,null,null,null,null,null,null,null,null,null,null,null,null,null,null,null,null,null,null,null,null,null,null,null,null,null,null,null,null,null,null,null,null,null,null,null,null,null,null,null,null,null,null,null,null,null,null,null,null,null,null,null,null,null,null,null,null,null,null,null,null,null,null,null,null,null,null,null,null,null,null,null,null,null,null,null,null,null,null,null,null,null,null,null,null,null,null,null,null,null,null,null,null,null,null,null,null,"823Alimentos","823Segmento"]
["AGUA","N/A","N/A","APLICACIÓN DE ESQUEMA DE PINTURA EXTINTOR PORTATIL / UNIDAD","Servicio de distribucion Region Caribe central","N/A","Carpa para 10 personas. ","Servicio de distribucion Region Caribe central","117 CINTA DE ENMASCARAR","Comando Aéreo de Combate No. 2 Apiay - Meta","Servicio de distribucion Region Caribe central","110 CAJA DE LAPIZ","Comando Aéreo de Combate No. 3 - CACOM-3 - Malambo - Atlántico","Servicio de distribucion Region Caribe central","107 PARQUÉS","Comando Aéreo de Combate No. 4 - CACOM-4 - Melgar - Tolima","Servicio de distribucion Region Caribe central","204 KIT DE FISICA ENERGIA SOLAR","Comando Aéreo de Combate No. 5 - CACOM-5 - Rionegro - Antioquia","Servicio de distribucion Region Caribe central","119 MULTITOMA","Batallón de los Servicios No. 3","Servicio de distribucion Region Caribe central","A Granel en Unidad Militar o de Policía JET A1","Batallón de Servicios No. 16","Servicio de distribucion Region Caribe central","A Granel en Unidad Militar o de Policía JET A1","Comando Aéreo de Mantenimiento - CAMAN - Madrid - Cundinamarca","Servicio de distribucion Region Caribe central","A Granel en Unidad Militar o de Policía JET A1","Aeropuerto Puerto Bolívar","Servicio de distribucion Region Caribe central","Aeropuertos y/o aeródromos al Ala JET A1","Aeropuerto Internacional Camilo Daza","Servicio de distribucion Region Caribe central","Aeropuertos y/o aeródromos al Ala JET A1","Aeropuerto Gustavo Artunduaga","Servicio de distribucion Region Caribe central","Aeropuertos y/o aeródromos al Ala JET A1","Aeropuerto Internacional Alfonso Bonilla Aragón","Servicio de distribucion Region Caribe central","Aeropuertos y/o aeródromos al Ala AV GAS","Aeropuerto Jorge Enrique González Torres","Al Ala","Aeropuertos y/o aeródromos al Ala AV GAS","Aeropuerto Internacional Rafael Núñez","Al Ala","Aeropuertos y/o aeródromos al Ala JET A1","Aeropuerto Antonio Roldán Betancourt","Al Ala","Aeropuertos y/o aeródromos al Ala JET A1","Aeropuerto Internacional Almirante Padilla","A Granel","Aeropuertos y/o aeródromos al Ala AV GAS","Aeropuerto Alfonso López Pumarejo","Al Ala","Aeropuertos y/o aeródromos al Ala AV GAS","Aeropuerto Internacional Palonegro","A Granel","Aeropuertos y/o aeródromos al Ala AV GAS","Aeropuerto Internacional Los Garzones","A Granel","Aeropuertos y/o aeródromos al Ala JET A1","Aeropuerto Santiago Pérez","A Granel","Aeropuertos y/o aeródromos al Ala AV GAS","Aeropuerto Yariguíes","Al Ala","Aeropuertos y/o aeródromos al Ala AV GAS","Aeropuerto Olaya Herrera","A Granel","Aeropuertos y/o aeródromos al Ala AV GAS","Aeropuerto Internacional Simón Bolívar","Al Ala","Aeropuertos y/o aeródromos al Ala AV GAS","Aeropuerto Internacional Matecaña","Al Ala","Aeropuertos y/o aeródromos al Ala AV GAS","Aeropuerto Vanguardia","A Granel","Aeropuertos y/o aeródromos al Ala AV GAS","Aeropuerto Internacional Ernesto Cortissoz","A Granel","Aeropuertos y/o aeródromos al Ala AV GAS","Aeropuerto Jorge Enrique González Torres","Al Ala","Aeropuertos y/o aeródromos al Ala AV GAS","Aeropuerto Olaya Herrera","A Granel","A Granel en Aeropuerto y/o aeródromos JET A1","Grupo Aero Naval del Pacífico - GANPA",null,null,null,null,null,null,null,null,null,null,null,null,null,null,null,null,null,null,null,null,null,null,null,null,null,null,null,null,null,null,null,null,null,null,null,null,null,null,null,null,null,null,null,null,null,null,null,null,null,null,null,null,null,null,null,null,null,null,null,null,null,null,null,null,null,null,null,null,null,null,null,null,null,null,null,null,null,null,null,null,null,null,null,null,null,null,null,null,null,null,null,null,null,null,null,null,null,null,null,null,null,null,null,null,null,null,null,null,null,null,null,null,null,null,null,null,null,null,null,null,null,null,null,null,null,null,null,null,null,null,null,null,null,null,null,null,null,null,null,null,null,null,null,null,null,null,null,null,null,null,null,null,null,null,null,null,null,null,null,null,null,null,null,null,null,null,null,null,null,null,null,null,null,null,null,null,null,null,null,null,null,null,null,null,null,null,null,null,null,null,null,null,null,null,null,null,null,null,null,null,null,null,null,null,null,null,null,null,null,null,null,null,null,null,null,null,null,null,null,null,null,null,null,null,null,null,null,null,null,null,null,null,null,null,null,null,null,null,null,null,null,null,null,null,null,null,null,null,null,null,null,null,null,null,null,null,null,null,null,null,null,null,null,null,null,null,null,null,null,null,null,null,null,null,null,null,null,null,null,null,null,null,null,null,null,null,null,null,null,null,null,null,null,null,null,null,null,null,null,null,null,null,null,null,null,null,null,null,null,null,null,null,null,null,null,null,null,null,null,null,null,null,null,null,null,null,null,null,null,null,null,null,null,null,null,null,null,null,null,null,null,null,null,null,null,null,null,null,null,null,null,null,null,null,null,null,null,null,null,null,null,null,null,null,null,null,null,null,null,null,null,null,null,null,null,null,null,null,null,null,null,null,null,null,null,null,null,null,null,null,null,null,null,null,null,null,null,null,null,null,null,null,null,null,null,null,null,null,null,null,null,null,null,null,null,null,null,null,null,null,null,null,null,null,null,null,null,null,null,null,null,null,null,null,null,null,null,null,null,null,null,null,null,null,null,null,null,null,null,null,null,null,null,null,null,null,null,null,null,null,null,null,null,null,null,null,null,null,null,null,null,null,null,null,null,null,null,null,null,null,null,null,null,null,null,null,null,null,null,null,null,null,null,null,null,null,null,null,null,null,null,null,null,null,null,null,null,null,null,null,null,null,null,null,null,null,null,null,null,null,null,null,null,null,null,null,null,null,null,null,null,null,null,null,null,null,null,null,null,null,null,null,null,null,null,null,null,null,null,null,null,null,null,null,null,null,null,null,null,null,null,null,null,null,null,null,null,null,null,null,null,null,null,null,null,null,null,null,null,null,null,null,null,null,null,null,null,null,null,null,null,null,null,null,null,null,null,null,null,null,null,null,null,null,null,null,null,null,null,null,null,null,null,null,null,null,null,null,null,null,null,null,null,null,null,null,null,null,null,null,null,null,null,null,null,null,null,null,null,null,null,null,null,null,null,null,null,null,null,null,null,null,null,null,null,null,null,null,null,null,null,null,null,null,null,null,null,null,null,null,null,null,null,null,null,null,null,null,null,null,null,null,null,null,null,null,null,null,null,null,null,null,null,null,null,null,null,null,null,null,null,null,null,null,null,null,null,null,null,null,null,null,null,null,null,null,null,null,null,null,null,null,null,null,null,null,null,null,null,null,null,null,null,null,null,null,null,null,null,null,null,null,null,null,null,null,null,null,null,null,null,null,null,null,null,null,null,null,null,null,null,null,null,null,null,null,null,null,null,null,null,null,null,null,null,null,null,null,null,null,null,null,null,null,null,null,null,null,null,null,null,null,null,null,null,null,null,null,null,null,null,null,null,null,null,null,null,null,null,null,null,null,null,null,null,null,null,null,null,null,null,null,null,null,null,null,null,null,null,null,null,null,null,null,null,null,null,null,null,null,null,null,null,null,null,null,null,null,null,null,null,null,null,null,null,null,null,null,null,null,null,null,null,null,null,null,null,null,null,null,null,null,null,null,null,null,null,null,null,null,null,null,null,null,null,null,null,null,null,null,null,null,null,null,null,null,null,null,null,null,null,null,null,null,null,null,null,null,null,null,null,null,null,null,null,null,null,null,null,null,null,null,null,null,null,null,null,null,null,null,null,null,null,null,null,null,null,null,null,null,null,null,null,null,null,null,null,null,null,null,null,null,null,null,null,null,null,null,null,null,null,null,null,null,null,null,null,null,null,null,null,null,null,null,null,null,null,null,null,null,null,null,null,null,null,null,null,null,null,null,null,null,null,null,null,null,null,null,null,null,null,null,null,null,null,null,null,null,null,null,null,null,null,null,null,null,null,null,null,null,null,null,null,null,null,null,null,null,null,null,null,null,null,null,null,null,null,null,null,null,null,null,null,null,null,null,null,null,null,null,null,null,null,null,null,null,null,null,null,null,null,null,null,null,null,null,null,null,null,null,null,null,null,null,null,null,null,null,null,null,null,null,null,null,null,null,null,null,null,null,null,null,null,null,null,null,null,null,null,null,null,null,null,null,null,null,null,null,null,null,null,null,null,null,null,null,null,null,null,null,null,null,null,null,null,null,null,null,null,null,null,null,null,null,null,null,null,null,null,null,null,null,null,null,null,null,null,null,null,null,null,null,null,null,null,null,null,null,null,null,null,null,null,null,null,null,null,null,null,null,null,null,null,null,null,null,null,null,null,null,null,null,null,null,null,null,null,null,null,null,null,null,null,null,null,null,null,null,null,null,null,null,null,null,null,null,null,null,null,null,null,null,null,null,null,null,null,null,null,null,null,null,null,null,null,null,null,null,null,null,null,null,null,null,null,null,null,null,null,null,null,null,null,null,null,null,null,null,null,null,null,null,null,null,null,null,null,null,null,null,null,null,null,null,null,null,null,null,null,null,null,null,null,null,null,null,null,null,null,null,null,null,null,null,null,null,null,null,null,null,null,null,null,null,null,null,null,null,null,null,null,null,null,null,null,null,null,null,null,null,null,null,null,null,null,null,null,null,null,null,null,null,null,null,null,null,null,null,null,null,null,null,null,null,null,null,null,null,null,null,null,null,null,null,null,null,null,null,null,null,null,null,null,null,null,null,null,null,null,null,null,null,null,null,null,null,null,null,null,null,null,null,null,null,null,null,null,null,null,null,null,null,null,null,null,null,null,null,null,null,null,null,null,null,null,null,null,null,null,null,null,null,null,null,null,null,null,null,null,null,null,null,null,null,null,null,null,null,null,null,null,null,null,null,null,null,null,null,null,null,null,null,null,null,null,null,null,null,null,null,null,null,null,null,null,null,null,null,null,null,null,null,null,null,null,null,null,null,null,null,null,null,null,null,null,null,null,null,null,null,null,null,null,null,null,null,null,null,null,null,null,null,null,null,null,null,null,null,null,null,null,null,null,null,null,null,null,null,null,null,null,null,null,null,null,null,null,null,null,null,null,null,null,null,null,null,null,null,null,null,null,null,null,null,null,null,null,null,null,null,null,null,null,null,null,null,null,null,null,null,null,null,null,null,null,null,null,null,null,null,null,null,null,null,null,null,null,null,null,null,null,null,null,null,null,null,null,null,null,null,null,null,null,null,null,null,null,null,null,null,null,null,null,null,null,null,null,null,null,null,null,null,null,null,null,null,null,null,null,null,null,null,null,null,null,null,null,null,null,null,null,null,null,null,null,null,null,null,null,null,null,null,null,null,null,null,null,null,null,null,null,null,null,null,null,null,null,null,null,null,null,null,null,null,null,null,null,null,null,null,null,null,null,null,null,null,null,null,null,null,null,null,null,null,null,null,null,null,null,null,null,null,null,null,null,null,null,null,null,null,null,null,null,null,null,null,null,null,null,null,null,null,null,null,null,null,null,null,null,null,null,null,null,null,null,null,null,null,null,null,null,null,null,null,null,null,null,null,null,null,null,null,null,null,null,null,null,null,null,null,null,null,null,null,null,null,null,null,null,null,null,null,null,null,null,null,null,null,null,null,null,null,null,null,null,null,null,null,null,null,null,null,null,null,null,null,null,null,null,null,null,null,null,null,null,null,null,null,null,null,null,null,null,null,null,null,null,null,null,null,null,null,null,null,null,null,null,null,null,null,null,null,null,null,null,null,null,null,null,null,null,null,null,null,null,null,null,null,null,null,null,null,null,null,null,null,null,null,null,null,null,null,null,null,null,null,null,null,null,null,null,null,null,null,null,null,null,null,null,null,null,null,null,null,null,null,null,null,null,null,null,null,null,null,null,null,null,null,null,null,null,null,null,null,null,null,null,null,null,null,null,null,null,null,null,null,null,null,null,null,null,null,null,null,null,null,null,null,null,null,null,null,null,null,null,null,null,null,null,null,null,null,null,null,null,null,null,null,null,null,null,null,null,null,null,null,null,null,null,null,null,null,null,null,null,null,null,null,null,null,null,null,null,null,null,null,null,null,null,null,null,null,null,null,null,null,null,null,null,null,null,null,null,null,null,null,null,null,null,null,null,null,null,null,null,null,null,null,null,null,null,null,null,null,null,null,null,null,null,null,null,null,null,null,null,null,null,null,null,null,null,null,null,null,null,null,null,null,null,null,null,null,null,null,null,null,null,null,null,null,null,null,null,null,null,null,null,null,null,null,null,null,null,null,null,null,null,null,null,null,null,null,null,null,null,null,null,null,null,null,null,null,null,null,null,null,null,null,null,null,null,null,null,null,null,null,null,null,null,null,null,null,null,null,null,null,null,null,null,null,null,null,null,null,null,null,null,null,null,null,null,null,null,null,null,null,null,null,null,null,null,null,null,null,null,null,null,null,null,null,null,null,null,null,null,null,null,null,null,null,null,null,null,null,null,null,null,null,null,null,null,null,null,null,null,null,null,null,null,null,null,null,null,null,null,null,null,null,null,null,null,null,null,null,null,null,null,null,null,null,null,null,null,null,null,null,null,null,null,null,null,null,null,null,null,null,null,null,null,null,null,null,null,null,null,null,null,null,null,null,null,null,null,null,null,null,null,null,null,null,null,null,null,null,null,null,null,null,null,null,null,null,null,null,null,null,null,null,null,null,null,null,null,null,null,null,null,null,null,null,null,null,null,null,null,null,null,null,null,null,null,null,null,null,null,null,null,null,null,null,null,null,null,null,null,null,null,null,null,null,null,null,null,null,null,null,null,null,null,null,null,null,null,null,null,null,null,null,null,null,null,null,null,null,null,null,null,null,null,null,null,null,null,null,null,null,null,null,null,null,null,null,null,null,null,null,null,null,null,null,null,null,null,null,null,null,null,null,null,null,null,null,null,null,null,null,null,null,null,null,null,null,null,null,null,null,null,null,null,null,null,null,null,null,null,null,null,null,null,null,null,null,null,null,null,null,null,null,null,null,null,null,null,null,null,null,null,null,null,null,null,null,null,null,null,null,"44 : Maní con Sal.",1]
["BEBIDAS LÁCTEAS",null,null,"APLICACIÓN DE ESQUEMA DE PINTURA EXTINTOR RODANTE / UNIDAD","Servicio de distribucion Region Caribe occidental",null,"Carpa para 4 personas. ","Servicio de distribucion Region Caribe occidental","122 MARCADORES PERMANENTES",null,"Servicio de distribucion Region Caribe occidental","111 CAJA DE COLORES",null,"Servicio de distribucion Region Caribe occidental","108 AJEDREZ",null,"Servicio de distribucion Region Caribe occidental","247 MICROSCOPIO ELECTRÓNICO DIGITAL",null,"Servicio de distribucion Region Caribe occidental","209 PRENSA","Escuela Militar de Aviación - EMAVI - Cali","Servicio de distribucion Region Caribe occidental",null,"Grupo Aéreo del Casanare - GACAS - Yopal - Casanare","Servicio de distribucion Region Caribe occidental",null,null,"Servicio de distribucion Region Caribe occidental",null,null,"Servicio de distribucion Region Caribe occidental",null,null,"Servicio de distribucion Region Caribe occidental",null,null,"Servicio de distribucion Region Caribe occidental",null,null,"Servicio de distribucion Region Caribe occidental","Aeropuertos y/o aeródromos al Ala JET A1",null,null,"Aeropuertos y/o aeródromos al Ala JET A1",null,null,null,null,null,null,null,"Al Ala","Aeropuertos y/o aeródromos al Ala JET A1",null,null,"Aeropuertos y/o aeródromos al Ala JET A1",null,"Al Ala","Aeropuertos y/o aeródromos al Ala JET A1",null,"Al Ala",null,null,"Al Ala","Aeropuertos y/o aeródromos al Ala JET A1",null,null,"Aeropuertos y/o aeródromos al Ala JET A1",null,"Al Ala","Aeropuertos y/o aeródromos al Ala JET A1",null,null,"Aeropuertos y/o aeródromos al Ala JET A1",null,null,"Aeropuertos y/o aeródromos al Ala JET A1",null,"Al Ala","Aeropuertos y/o aeródromos al Ala JET A1",null,"Al Ala","Aeropuertos y/o aeródromos al Ala JET A1",null,null,"Aeropuertos y/o aeródromos al Ala JET A1",null,null,null,null,null,null,null,null,null,null,null,null,null,null,null,null,null,null,null,null,null,null,null,null,null,null,null,null,null,null,null,null,null,null,null,null,null,null,null,null,null,null,null,null,null,null,null,null,null,null,null,null,null,null,null,null,null,null,null,null,null,null,null,null,null,null,null,null,null,null,null,null,null,null,null,null,null,null,null,null,null,null,null,null,null,null,null,null,null,null,null,null,null,null,null,null,null,null,null,null,null,null,null,null,null,null,null,null,null,null,null,null,null,null,null,null,null,null,null,null,null,null,null,null,null,null,null,null,null,null,null,null,null,null,null,null,null,null,null,null,null,null,null,null,null,null,null,null,null,null,null,null,null,null,null,null,null,null,null,null,null,null,null,null,null,null,null,null,null,null,null,null,null,null,null,null,null,null,null,null,null,null,null,null,null,null,null,null,null,null,null,null,null,null,null,null,null,null,null,null,null,null,null,null,null,null,null,null,null,null,null,null,null,null,null,null,null,null,null,null,null,null,null,null,null,null,null,null,null,null,null,null,null,null,null,null,null,null,null,null,null,null,null,null,null,null,null,null,null,null,null,null,null,null,null,null,null,null,null,null,null,null,null,null,null,null,null,null,null,null,null,null,null,null,null,null,null,null,null,null,null,null,null,null,null,null,null,null,null,null,null,null,null,null,null,null,null,null,null,null,null,null,null,null,null,null,null,null,null,null,null,null,null,null,null,null,null,null,null,null,null,null,null,null,null,null,null,null,null,null,null,null,null,null,null,null,null,null,null,null,null,null,null,null,null,null,null,null,null,null,null,null,null,null,null,null,null,null,null,null,null,null,null,null,null,null,null,null,null,null,null,null,null,null,null,null,null,null,null,null,null,null,null,null,null,null,null,null,null,null,null,null,null,null,null,null,null,null,null,null,null,null,null,null,null,null,null,null,null,null,null,null,null,null,null,null,null,null,null,null,null,null,null,null,null,null,null,null,null,null,null,null,null,null,null,null,null,null,null,null,null,null,null,null,null,null,null,null,null,null,null,null,null,null,null,null,null,null,null,null,null,null,null,null,null,null,null,null,null,null,null,null,null,null,null,null,null,null,null,null,null,null,null,null,null,null,null,null,null,null,null,null,null,null,null,null,null,null,null,null,null,null,null,null,null,null,null,null,null,null,null,null,null,null,null,null,null,null,null,null,null,null,null,null,null,null,null,null,null,null,null,null,null,null,null,null,null,null,null,null,null,null,null,null,null,null,null,null,null,null,null,null,null,null,null,null,null,null,null,null,null,null,null,null,null,null,null,null,null,null,null,null,null,null,null,null,null,null,null,null,null,null,null,null,null,null,null,null,null,null,null,null,null,null,null,null,null,null,null,null,null,null,null,null,null,null,null,null,null,null,null,null,null,null,null,null,null,null,null,null,null,null,null,null,null,null,null,null,null,null,null,null,null,null,null,null,null,null,null,null,null,null,null,null,null,null,null,null,null,null,null,null,null,null,null,null,null,null,null,null,null,null,null,null,null,null,null,null,null,null,null,null,null,null,null,null,null,null,null,null,null,null,null,null,null,null,null,null,null,null,null,null,null,null,null,null,null,null,null,null,null,null,null,null,null,null,null,null,null,null,null,null,null,null,null,null,null,null,null,null,null,null,null,null,null,null,null,null,null,null,null,null,null,null,null,null,null,null,null,null,null,null,null,null,null,null,null,null,null,null,null,null,null,null,null,null,null,null,null,null,null,null,null,null,null,null,null,null,null,null,null,null,null,null,null,null,null,null,null,null,null,null,null,null,null,null,null,null,null,null,null,null,null,null,null,null,null,null,null,null,null,null,null,null,null,null,null,null,null,null,null,null,null,null,null,null,null,null,null,null,null,null,null,null,null,null,null,null,null,null,null,null,null,null,null,null,null,null,null,null,null,null,null,null,null,null,null,null,null,null,null,null,null,null,null,null,null,null,null,null,null,null,null,null,null,null,null,null,null,null,null,null,null,null,null,null,null,null,null,null,null,null,null,null,null,null,null,null,null,null,null,null,null,null,null,null,null,null,null,null,null,null,null,null,null,null,null,null,null,null,null,null,null,null,null,null,null,null,null,null,null,null,null,null,null,null,null,null,null,null,null,null,null,null,null,null,null,null,null,null,null,null,null,null,null,null,null,null,null,null,null,null,null,null,null,null,null,null,null,null,null,null,null,null,null,null,null,null,null,null,null,null,null,null,null,null,null,null,null,null,null,null,null,null,null,null,null,null,null,null,null,null,null,null,null,null,null,null,null,null,null,null,null,null,null,null,null,null,null,null,null,null,null,null,null,null,null,null,null,null,null,null,null,null,null,null,null,null,null,null,null,null,null,null,null,null,null,null,null,null,null,null,null,null,null,null,null,null,null,null,null,null,null,null,null,null,null,null,null,null,null,null,null,null,null,null,null,null,null,null,null,null,null,null,null,null,null,null,null,null,null,null,null,null,null,null,null,null,null,null,null,null,null,null,null,null,null,null,null,null,null,null,null,null,null,null,null,null,null,null,null,null,null,null,null,null,null,null,null,null,null,null,null,null,null,null,null,null,null,null,null,null,null,null,null,null,null,null,null,null,null,null,null,null,null,null,null,null,null,null,null,null,null,null,null,null,null,null,null,null,null,null,null,null,null,null,null,null,null,null,null,null,null,null,null,null,null,null,null,null,null,null,null,null,null,null,null,null,null,null,null,null,null,null,null,null,null,null,null,null,null,null,null,null,null,null,null,null,null,null,null,null,null,null,null,null,null,null,null,null,null,null,null,null,null,null,null,null,null,null,null,null,null,null,null,null,null,null,null,null,null,null,null,null,null,null,null,null,null,null,null,null,null,null,null,null,null,null,null,null,null,null,null,null,null,null,null,null,null,null,null,null,null,null,null,null,null,null,null,null,null,null,null,null,null,null,null,null,null,null,null,null,null,null,null,null,null,null,null,null,null,null,null,null,null,null,null,null,null,null,null,null,null,null,null,null,null,null,null,null,null,null,null,null,null,null,null,null,null,null,null,null,null,null,null,null,null,null,null,null,null,null,null,null,null,null,null,null,null,null,null,null,null,null,null,null,null,null,null,null,null,null,null,null,null,null,null,null,null,null,null,null,null,null,null,null,null,null,null,null,null,null,null,null,null,null,null,null,null,null,null,null,null,null,null,null,null,null,null,null,null,null,null,null,null,null,null,null,null,null,null,null,null,null,null,null,null,null,null,null,null,null,null,null,null,null,null,null,null,null,null,null,null,null,null,null,null,null,null,null,null,null,null,null,null,null,null,null,null,null,null,null,null,null,null,null,null,null,null,null,null,null,null,null,null,null,null,null,null,null,null,null,null,null,null,null,null,null,null,null,null,null,null,null,null,null,null,null,null,null,null,null,null,null,null,null,null,null,null,null,null,null,null,null,null,null,null,null,null,null,null,null,null,null,null,null,null,null,null,null,null,null,null,null,null,null,null,null,null,null,null,null,null,null,null,null,null,null,null,null,null,null,null,null,null,null,null,null,null,null,null,null,null,null,null,null,null,null,null,null,null,null,null,null,null,null,null,null,null,null,null,null,null,null,null,null,null,null,null,null,null,null,null,null,null,null,null,null,null,null,null,null,null,null,null,null,null,null,null,null,null,null,null,null,null,null,null,null,null,null,null,null,null,null,null,null,null,null,null,null,null,null,null,null,null,null,null,null,null,null,null,null,null,null,null,null,null,null,null,null,null,null,null,null,null,null,null,null,null,null,null,null,null,null,null,null,null,null,null,null,null,null,null,null,null,null,null,null,null,null,null,null,null,null,null,null,null,null,null,null,null,null,null,null,null,null,null,null,null,null,null,null,null,null,null,null,null,null,null,null,null,null,null,null,null,null,null,null,null,null,null,null,null,null,null,null,null,null,null,null,null,null,null,null,null,null,null,null,null,null,null,null,null,null,null,null,null,null,null,null,null,null,null,null,null,null,null,null,null,null,null,null,null,null,null,null,null,null,null,null,null,null,null,null,null,null,null,null,null,null,null,null,null,null,null,null,null,null,null,null,null,null,null,null,null,null,null,null,null,null,null,null,null,null,null,null,null,null,null,null,null,null,null,null,null,null,null,null,null,null,null,null,null,null,null,null,null,null,null,null,null,null,null,null,null,null,null,null,null,null,null,null,null,null,null,null,null,null,null,null,null,null,null,null,null,null,null,null,null,null,null,null,null,null,null,null,null,null,null,null,null,null,null,null,null,null,null,null,null,null,null,null,null,null,null,null,null,null,null,null,null,null,null,null,null,null,null,null,null,null,null,null,null,null,null,null,null,null,null,null,null,null,null,null,null,null,null,null,null,null,null,null,null,null,null,null,null,null,null,null,null,null,null,null,null,null,null,null,null,null,null,null,null,null,null,null,null,null,null,null,null,null,null,null,null,null,null,null,null,null,null,null,null,null,null,null,null,null,null,null,null,null,null,null,null,null,null,null,null,null,null,null,null,null,null,null,null,null,null,null,null,null,null,null,null,null,null,null,null,null,null,null,null,null,null,null,null,null,null,null,null,null,null,null,null,null,null,null,null,null,null,null,null,null,null,null,null,null,null,null,null,null,null,null,null,null,null,null,null,null,null,null,null,null,null,null,null,null,null,null,null,null,null,null,null,null,null,null,null,null,null,null,null,null,null,null,null,null,null,null,null,null,null,null,null,null,null,null,null,null,null,null,null,null,null,null,null,null,null,null,null,null,null,null,null,null,null,null,null,null,null,null,null,null,null,null,null,null,null,null,null,null,null,null,null,null,null,null,null,null,null,null,null,null,null,null,null,null,null,null,null,null,null,null,null,null,null,null,null,null,null,null,null,null,null,null,null,null,null,null,null,null,null,null,null,null,null,null,null,null,null,null,null,null,null,null,null,null,null,null,null,null,null,null,null,null,null,null,null,null,null,null,null,null,null,null,null,null,null,null,null,null,null,null,null,null,null,null,null,null,null,null,null,null,null,null,null,null,null,null,null,null,null,null,null,null,null,null,null,null,null,null,null,null,null,null,null,null,null,null,null,null,null,null,null,null,null,null,null,null,null,null,null,null,null,null,null,null,null,null,null,null,null,null,null,null,null,null,null,null,null,null,null,null,null,null,null,null,null,null,null,null,null,null,null,null,null,null,null,null,null,null,null,null,null,null,null,null,null,null,null,null,null,null,null,null,null,null,null,null,null,null,null,null,null,null,null,null,null,null,null,null,null,null,null,null,null,null,null,null,null,null,null,null,null,null,null,null,null,null,null,null,null,null,null,null,null,null,null,null,null,null,null,null,null,null,null,null,null,null,null,null,null,null,null,null,null,null,null,null,null,null,null,null,null,null,null,null,null,null,null,null,null,null,null,null,null,null,null,null,null,null,null,null,null,null,null,null,null,null,"48 : Mezcla de Frutos Secos (maní de sal, almendras, uvas pasas, maíz tostado)",2]
["CEREAL EMPACADO",null,null,"AVISO O SEÑALIZACIÓN DEL EXTINTOR / UNIDAD","Servicio de distribucion Region Orinoquia",null,"Carpa para 6 personas. ","Servicio de distribucion Region Orinoquia","123 MARCADORES BORRABLES",null,"Servicio de distribucion Region Orinoquia","112 LAPIZ SANGRIA (CARBONCILLO 3GRADOS DE INTENSIDAD)",null,"Servicio de distribucion Region Orinoquia","22 TRI-DOMINO DE COLORES",null,"Servicio de distribucion Region Orinoquia","249 PAQUETE BÁSICO DE ELECTRICIDAD",null,"Servicio de distribucion Region Orinoquia","216 RODILLO ESPUMA",null,"Servicio de distribucion Region Orinoquia",null,null,"Servicio de distribucion Region Orinoquia",null,null,"Servicio de distribucion Region Orinoquia",null,null,"Servicio de distribucion Region Orinoquia",null,null,"Servicio de distribucion Region Orinoquia",null,null,"Servicio de distribucion Region Orinoquia",null,null,"Servicio de distribucion Region Orinoquia",null,null,null,null,null,null,null,null,null,null,null,null,null,null,null,null,null,null,null,null,null,null,null,null,null,null,null,null,null,null,null,null,null,null,null,null,null,null,null,"Unidad Militar o de Policía al Ala JET A1",null,null,null,null,null,null,null,null,null,null,null,null,null,null,null,null,null,null,null,null,null,null,null,null,null,null,null,null,null,null,null,null,null,null,null,null,null,null,null,null,null,null,null,null,null,null,null,null,null,null,null,null,null,null,null,null,null,null,null,null,null,null,null,null,null,null,null,null,null,null,null,null,null,null,null,null,null,null,null,null,null,null,null,null,null,null,null,null,null,null,null,null,null,null,null,null,null,null,null,null,null,null,null,null,null,null,null,null,null,null,null,null,null,null,null,null,null,null,null,null,null,null,null,null,null,null,null,null,null,null,null,null,null,null,null,null,null,null,null,null,null,null,null,null,null,null,null,null,null,null,null,null,null,null,null,null,null,null,null,null,null,null,null,null,null,null,null,null,null,null,null,null,null,null,null,null,null,null,null,null,null,null,null,null,null,null,null,null,null,null,null,null,null,null,null,null,null,null,null,null,null,null,null,null,null,null,null,null,null,null,null,null,null,null,null,null,null,null,null,null,null,null,null,null,null,null,null,null,null,null,null,null,null,null,null,null,null,null,null,null,null,null,null,null,null,null,null,null,null,null,null,null,null,null,null,null,null,null,null,null,null,null,null,null,null,null,null,null,null,null,null,null,null,null,null,null,null,null,null,null,null,null,null,null,null,null,null,null,null,null,null,null,null,null,null,null,null,null,null,null,null,null,null,null,null,null,null,null,null,null,null,null,null,null,null,null,null,null,null,null,null,null,null,null,null,null,null,null,null,null,null,null,null,null,null,null,null,null,null,null,null,null,null,null,null,null,null,null,null,null,null,null,null,null,null,null,null,null,null,null,null,null,null,null,null,null,null,null,null,null,null,null,null,null,null,null,null,null,null,null,null,null,null,null,null,null,null,null,null,null,null,null,null,null,null,null,null,null,null,null,null,null,null,null,null,null,null,null,null,null,null,null,null,null,null,null,null,null,null,null,null,null,null,null,null,null,null,null,null,null,null,null,null,null,null,null,null,null,null,null,null,null,null,null,null,null,null,null,null,null,null,null,null,null,null,null,null,null,null,null,null,null,null,null,null,null,null,null,null,null,null,null,null,null,null,null,null,null,null,null,null,null,null,null,null,null,null,null,null,null,null,null,null,null,null,null,null,null,null,null,null,null,null,null,null,null,null,null,null,null,null,null,null,null,null,null,null,null,null,null,null,null,null,null,null,null,null,null,null,null,null,null,null,null,null,null,null,null,null,null,null,null,null,null,null,null,null,null,null,null,null,null,null,null,null,null,null,null,null,null,null,null,null,null,null,null,null,null,null,null,null,null,null,null,null,null,null,null,null,null,null,null,null,null,null,null,null,null,null,null,null,null,null,null,null,null,null,null,null,null,null,null,null,null,null,null,null,null,null,null,null,null,null,null,null,null,null,null,null,null,null,null,null,null,null,null,null,null,null,null,null,null,null,null,null,null,null,null,null,null,null,null,null,null,null,null,null,null,null,null,null,null,null,null,null,null,null,null,null,null,null,null,null,null,null,null,null,null,null,null,null,null,null,null,null,null,null,null,null,null,null,null,null,null,null,null,null,null,null,null,null,null,null,null,null,null,null,null,null,null,null,null,null,null,null,null,null,null,null,null,null,null,null,null,null,null,null,null,null,null,null,null,null,null,null,null,null,null,null,null,null,null,null,null,null,null,null,null,null,null,null,null,null,null,null,null,null,null,null,null,null,null,null,null,null,null,null,null,null,null,null,null,null,null,null,null,null,null,null,null,null,null,null,null,null,null,null,null,null,null,null,null,null,null,null,null,null,null,null,null,null,null,null,null,null,null,null,null,null,null,null,null,null,null,null,null,null,null,null,null,null,null,null,null,null,null,null,null,null,null,null,null,null,null,null,null,null,null,null,null,null,null,null,null,null,null,null,null,null,null,null,null,null,null,null,null,null,null,null,null,null,null,null,null,null,null,null,null,null,null,null,null,null,null,null,null,null,null,null,null,null,null,null,null,null,null,null,null,null,null,null,null,null,null,null,null,null,null,null,null,null,null,null,null,null,null,null,null,null,null,null,null,null,null,null,null,null,null,null,null,null,null,null,null,null,null,null,null,null,null,null,null,null,null,null,null,null,null,null,null,null,null,null,null,null,null,null,null,null,null,null,null,null,null,null,null,null,null,null,null,null,null,null,null,null,null,null,null,null,null,null,null,null,null,null,null,null,null,null,null,null,null,null,null,null,null,null,null,null,null,null,null,null,null,null,null,null,null,null,null,null,null,null,null,null,null,null,null,null,null,null,null,null,null,null,null,null,null,null,null,null,null,null,null,null,null,null,null,null,null,null,null,null,null,null,null,null,null,null,null,null,null,null,null,null,null,null,null,null,null,null,null,null,null,null,null,null,null,null,null,null,null,null,null,null,null,null,null,null,null,null,null,null,null,null,null,null,null,null,null,null,null,null,null,null,null,null,null,null,null,null,null,null,null,null,null,null,null,null,null,null,null,null,null,null,null,null,null,null,null,null,null,null,null,null,null,null,null,null,null,null,null,null,null,null,null,null,null,null,null,null,null,null,null,null,null,null,null,null,null,null,null,null,null,null,null,null,null,null,null,null,null,null,null,null,null,null,null,null,null,null,null,null,null,null,null,null,null,null,null,null,null,null,null,null,null,null,null,null,null,null,null,null,null,null,null,null,null,null,null,null,null,null,null,null,null,null,null,null,null,null,null,null,null,null,null,null,null,null,null,null,null,null,null,null,null,null,null,null,null,null,null,null,null,null,null,null,null,null,null,null,null,null,null,null,null,null,null,null,null,null,null,null,null,null,null,null,null,null,null,null,null,null,null,null,null,null,null,null,null,null,null,null,null,null,null,null,null,null,null,null,null,null,null,null,null,null,null,null,null,null,null,null,null,null,null,null,null,null,null,null,null,null,null,null,null,null,null,null,null,null,null,null,null,null,null,null,null,null,null,null,null,null,null,null,null,null,null,null,null,null,null,null,null,null,null,null,null,null,null,null,null,null,null,null,null,null,null,null,null,null,null,null,null,null,null,null,null,null,null,null,null,null,null,null,null,null,null,null,null,null,null,null,null,null,null,null,null,null,null,null,null,null,null,null,null,null,null,null,null,null,null,null,null,null,null,null,null,null,null,null,null,null,null,null,null,null,null,null,null,null,null,null,null,null,null,null,null,null,null,null,null,null,null,null,null,null,null,null,null,null,null,null,null,null,null,null,null,null,null,null,null,null,null,null,null,null,null,null,null,null,null,null,null,null,null,null,null,null,null,null,null,null,null,null,null,null,null,null,null,null,null,null,null,null,null,null,null,null,null,null,null,null,null,null,null,null,null,null,null,null,null,null,null,null,null,null,null,null,null,null,null,null,null,null,null,null,null,null,null,null,null,null,null,null,null,null,null,null,null,null,null,null,null,null,null,null,null,null,null,null,null,null,null,null,null,null,null,null,null,null,null,null,null,null,null,null,null,null,null,null,null,null,null,null,null,null,null,null,null,null,null,null,null,null,null,null,null,null,null,null,null,null,null,null,null,null,null,null,null,null,null,null,null,null,null,null,null,null,null,null,null,null,null,null,null,null,null,null,null,null,null,null,null,null,null,null,null,null,null,null,null,null,null,null,null,null,null,null,null,null,null,null,null,null,null,null,null,null,null,null,null,null,null,null,null,null,null,null,null,null,null,null,null,null,null,null,null,null,null,null,null,null,null,null,null,null,null,null,null,null,null,null,null,null,null,null,null,null,null,null,null,null,null,null,null,null,null,null,null,null,null,null,null,null,null,null,null,null,null,null,null,null,null,null,null,null,null,null,null,null,null,null,null,null,null,null,null,null,null,null,null,null,null,null,null,null,null,null,null,null,null,null,null,null,null,null,null,null,null,null,null,null,null,null,null,null,null,null,null,null,null,null,null,null,null,null,null,null,null,null,null,null,null,null,null,null,null,null,null,null,null,null,null,null,null,null,null,null,null,null,null,null,null,null,null,null,null,null,null,null,null,null,null,null,null,null,null,null,null,null,null,null,null,null,null,null,null,null,null,null,null,null,null,null,null,null,null,null,null,null,null,null,null,null,null,null,null,null,null,null,null,null,null,null,null,null,null,null,null,null,null,null,null,null,null,null,null,null,null,null,null,null,null,null,null,null,null,null,null,null,null,null,null,null,null,null,null,null,null,null,null,null,null,null,null,null,null,null,null,null,null,null,null,null,null,null,null,null,null,null,null,null,null,null,null,null,null,null,null,null,null,null,null,null,null,null,null,null,null,null,null,null,null,null,null,null,null,null,null,null,null,null,null,null,null,null,null,null,null,null,null,null,null,null,null,null,null,null,null,null,null,null,null,null,null,null,null,null,null,null,null,null,null,null,null,null,null,null,null,null,null,null,null,null,null,null,null,null,null,null,null,null,null,null,null,null,null,null,null,null,null,null,null,null,null,null,null,null,null,null,null,null,null,null,null,null,null,null,null,null,null,null,null,null,null,null,null,null,null,null,null,null,null,null,null,null,null,null,null,null,null,null,null,null,null,null,null,null,null,null,null,null,null,null,null,null,null,null,null,null,null,null,null,null,null,null,null,null,null,null,null,null,null,null,null,null,null,null,null,null,null,null,null,null,null,null,null,null,null,null,null,null,null,null,null,null,null,null,null,null,null,null,null,null,null,null,null,null,null,null,null,null,null,null,null,null,null,null,null,null,null,null,null,null,null,null,null,null,null,null,null,null,null,null,null,null,null,null,null,null,null,null,null,null,null,null,null,null,null,null,null,null,null,null,null,null,null,null,null,null,null,null,null,null,null,null,null,null,null,null,null,null,null,null,null,null,null,null,null,null,null,null,null,null,null,null,null,null,null,null,null,null,null,null,null,null,null,null,null,null,null,null,null,null,null,null,null,null,null,null,null,null,null,null,null,null,null,null,null,null,null,null,null,null,null,null,null,null,null,null,null,null,null,null,null,null,null,null,null,null,null,null,null,null,null,null,null,null,null,null,null,null,null,null,null,null,null,null,null,null,null,null,null,null,null,null,null,null,null,null,null,null,null,null,null,null,null,null,null,null,null,null,null,null,null,null,null,null,null,null,null,null,null,null,null,null,null,null,null,null,null,null,null,null,null,null,null,null,null,null,null,null,null,null,null,null,null,null,null,null,null,null,null,null,null,null,null,null,null,null,null,null,null,null,null,null,null,null,null,null,null,null,null,null,null,null,null,null,null,null,null,null,null,null,null,null,null,null,null,null,null,null,null,null,null,null,null,null,null,null,null,null,null,null,null,null,null,null,null,null,null,null,null,null,null,null,null,null,null,null,null,null,null,null,null,null,null,null,null,null,null,null,null,null,null,null,null,null,null,null,null,null,null,null,null,null,null,null,null,null,null,null,null,null,null,null,null,null,null,null,null,null,null,null,null,"49 : Mix de fruta deshidratada.",3]
["FRUTA",null,null,"BOQUILLA EN POLICARBONATO DE PULVERIZACIÓN DE 1 1/2in / UNIDAD","Servicio de distribucion Region Pacifico sur",null,"Carpa para 8 personas. ","Servicio de distribucion Region Pacifico sur","125 PAPEL BOND",null,"Servicio de distribucion Region Pacifico sur","113 PAPEL EDAD MEDIA",null,"Servicio de distribucion Region Pacifico sur","252 PAR DE DADOS",null,"Servicio de distribucion Region Pacifico sur","253 MEMORIA USB CON RECURSOS DIGITALES",null,"Servicio de distribucion Region Pacifico sur","226 ESPÁTULAS PARA CERAMICA",null,"Servicio de distribucion Region Pacifico sur",null,null,"Servicio de distribucion Region Pacifico sur",null,null,"Servicio de distribucion Region Pacifico sur",null,null,"Servicio de distribucion Region Pacifico sur",null,null,"Servicio de distribucion Region Pacifico sur",null,null,"Servicio de distribucion Region Pacifico sur",null,null,"Servicio de distribucion Region Pacifico sur",null,null,null,null,null,null,null,null,null,null,null,null,null,null,null,null,null,null,null,null,null,null,null,null,null,null,null,null,null,null,null,null,null,null,null,null,null,null,null,null,null,null,null,null,null,null,null,null,null,null,null,null,null,null,null,null,null,null,null,null,null,null,null,null,null,null,null,null,null,null,null,null,null,null,null,null,null,null,null,null,null,null,null,null,null,null,null,null,null,null,null,null,null,null,null,null,null,null,null,null,null,null,null,null,null,null,null,null,null,null,null,null,null,null,null,null,null,null,null,null,null,null,null,null,null,null,null,null,null,null,null,null,null,null,null,null,null,null,null,null,null,null,null,null,null,null,null,null,null,null,null,null,null,null,null,null,null,null,null,null,null,null,null,null,null,null,null,null,null,null,null,null,null,null,null,null,null,null,null,null,null,null,null,null,null,null,null,null,null,null,null,null,null,null,null,null,null,null,null,null,null,null,null,null,null,null,null,null,null,null,null,null,null,null,null,null,null,null,null,null,null,null,null,null,null,null,null,null,null,null,null,null,null,null,null,null,null,null,null,null,null,null,null,null,null,null,null,null,null,null,null,null,null,null,null,null,null,null,null,null,null,null,null,null,null,null,null,null,null,null,null,null,null,null,null,null,null,null,null,null,null,null,null,null,null,null,null,null,null,null,null,null,null,null,null,null,null,null,null,null,null,null,null,null,null,null,null,null,null,null,null,null,null,null,null,null,null,null,null,null,null,null,null,null,null,null,null,null,null,null,null,null,null,null,null,null,null,null,null,null,null,null,null,null,null,null,null,null,null,null,null,null,null,null,null,null,null,null,null,null,null,null,null,null,null,null,null,null,null,null,null,null,null,null,null,null,null,null,null,null,null,null,null,null,null,null,null,null,null,null,null,null,null,null,null,null,null,null,null,null,null,null,null,null,null,null,null,null,null,null,null,null,null,null,null,null,null,null,null,null,null,null,null,null,null,null,null,null,null,null,null,null,null,null,null,null,null,null,null,null,null,null,null,null,null,null,null,null,null,null,null,null,null,null,null,null,null,null,null,null,null,null,null,null,null,null,null,null,null,null,null,null,null,null,null,null,null,null,null,null,null,null,null,null,null,null,null,null,null,null,null,null,null,null,null,null,null,null,null,null,null,null,null,null,null,null,null,null,null,null,null,null,null,null,null,null,null,null,null,null,null,null,null,null,null,null,null,null,null,null,null,null,null,null,null,null,null,null,null,null,null,null,null,null,null,null,null,null,null,null,null,null,null,null,null,null,null,null,null,null,null,null,null,null,null,null,null,null,null,null,null,null,null,null,null,null,null,null,null,null,null,null,null,null,null,null,null,null,null,null,null,null,null,null,null,null,null,null,null,null,null,null,null,null,null,null,null,null,null,null,null,null,null,null,null,null,null,null,null,null,null,null,null,null,null,null,null,null,null,null,null,null,null,null,null,null,null,null,null,null,null,null,null,null,null,null,null,null,null,null,null,null,null,null,null,null,null,null,null,null,null,null,null,null,null,null,null,null,null,null,null,null,null,null,null,null,null,null,null,null,null,null,null,null,null,null,null,null,null,null,null,null,null,null,null,null,null,null,null,null,null,null,null,null,null,null,null,null,null,null,null,null,null,null,null,null,null,null,null,null,null,null,null,null,null,null,null,null,null,null,null,null,null,null,null,null,null,null,null,null,null,null,null,null,null,null,null,null,null,null,null,null,null,null,null,null,null,null,null,null,null,null,null,null,null,null,null,null,null,null,null,null,null,null,null,null,null,null,null,null,null,null,null,null,null,null,null,null,null,null,null,null,null,null,null,null,null,null,null,null,null,null,null,null,null,null,null,null,null,null,null,null,null,null,null,null,null,null,null,null,null,null,null,null,null,null,null,null,null,null,null,null,null,null,null,null,null,null,null,null,null,null,null,null,null,null,null,null,null,null,null,null,null,null,null,null,null,null,null,null,null,null,null,null,null,null,null,null,null,null,null,null,null,null,null,null,null,null,null,null,null,null,null,null,null,null,null,null,null,null,null,null,null,null,null,null,null,null,null,null,null,null,null,null,null,null,null,null,null,null,null,null,null,null,null,null,null,null,null,null,null,null,null,null,null,null,null,null,null,null,null,null,null,null,null,null,null,null,null,null,null,null,null,null,null,null,null,null,null,null,null,null,null,null,null,null,null,null,null,null,null,null,null,null,null,null,null,null,null,null,null,null,null,null,null,null,null,null,null,null,null,null,null,null,null,null,null,null,null,null,null,null,null,null,null,null,null,null,null,null,null,null,null,null,null,null,null,null,null,null,null,null,null,null,null,null,null,null,null,null,null,null,null,null,null,null,null,null,null,null,null,null,null,null,null,null,null,null,null,null,null,null,null,null,null,null,null,null,null,null,null,null,null,null,null,null,null,null,null,null,null,null,null,null,null,null,null,null,null,null,null,null,null,null,null,null,null,null,null,null,null,null,null,null,null,null,null,null,null,null,null,null,null,null,null,null,null,null,null,null,null,null,null,null,null,null,null,null,null,null,null,null,null,null,null,null,null,null,null,null,null,null,null,null,null,null,null,null,null,null,null,null,null,null,null,null,null,null,null,null,null,null,null,null,null,null,null,null,null,null,null,null,null,null,null,null,null,null,null,null,null,null,null,null,null,null,null,null,null,null,null,null,null,null,null,null,null,null,null,null,null,null,null,null,null,null,null,null,null,null,null,null,null,null,null,null,null,null,null,null,null,null,null,null,null,null,null,null,null,null,null,null,null,null,null,null,null,null,null,null,null,null,null,null,null,null,null,null,null,null,null,null,null,null,null,null,null,null,null,null,null,null,null,null,null,null,null,null,null,null,null,null,null,null,null,null,null,null,null,null,null,null,null,null,null,null,null,null,null,null,null,null,null,null,null,null,null,null,null,null,null,null,null,null,null,null,null,null,null,null,null,null,null,null,null,null,null,null,null,null,null,null,null,null,null,null,null,null,null,null,null,null,null,null,null,null,null,null,null,null,null,null,null,null,null,null,null,null,null,null,null,null,null,null,null,null,null,null,null,null,null,null,null,null,null,null,null,null,null,null,null,null,null,null,null,null,null,null,null,null,null,null,null,null,null,null,null,null,null,null,null,null,null,null,null,null,null,null,null,null,null,null,null,null,null,null,null,null,null,null,null,null,null,null,null,null,null,null,null,null,null,null,null,null,null,null,null,null,null,null,null,null,null,null,null,null,null,null,null,null,null,null,null,null,null,null,null,null,null,null,null,null,null,null,null,null,null,null,null,null,null,null,null,null,null,null,null,null,null,null,null,null,null,null,null,null,null,null,null,null,null,null,null,null,null,null,null,null,null,null,null,null,null,null,null,null,null,null,null,null,null,null,null,null,null,null,null,null,null,null,null,null,null,null,null,null,null,null,null,null,null,null,null,null,null,null,null,null,null,null,null,null,null,null,null,null,null,null,null,null,null,null,null,null,null,null,null,null,null,null,null,null,null,null,null,null,null,null,null,null,null,null,null,null,null,null,null,null,null,null,null,null,null,null,null,null,null,null,null,null,null,null,null,null,null,null,null,null,null,null,null,null,null,null,null,null,null,null,null,null,null,null,null,null,null,null,null,null,null,null,null,null,null,null,null,null,null,null,null,null,null,null,null,null,null,null,null,null,null,null,null,null,null,null,null,null,null,null,null,null,null,null,null,null,null,null,null,null,null,null,null,null,null,null,null,null,null,null,null,null,null,null,null,null,null,null,null,null,null,null,null,null,null,null,null,null,null,null,null,null,null,null,null,null,null,null,null,null,null,null,null,null,null,null,null,null,null,null,null,null,null,null,null,null,null,null,null,null,null,null,null,null,null,null,null,null,null,null,null,null,null,null,null,null,null,null,null,null,null,null,null,null,null,null,null,null,null,null,null,null,null,null,null,null,null,null,null,null,null,null,null,null,null,null,null,null,null,null,null,null,null,null,null,null,null,null,null,null,null,null,null,null,null,null,null,null,null,null,null,null,null,null,null,null,null,null,null,null,null,null,null,null,null,null,null,null,null,null,null,null,null,null,null,null,null,null,null,null,null,null,null,null,null,null,null,null,null,null,null,null,null,null,null,null,null,null,null,null,null,null,null,null,null,null,null,null,null,null,null,null,null,null,null,null,null,null,null,null,null,null,null,null,null,null,null,null,null,null,null,null,null,null,null,null,null,null,null,null,null,null,null,null,null,null,null,null,null,null,null,null,null,null,null,null,null,null,null,null,null,null,null,null,null,null,null,null,null,null,null,null,null,null,null,null,null,null,null,null,null,null,null,null,null,null,null,null,null,null,null,null,null,null,null,null,null,null,null,null,null,null,null,null,null,null,null,null,null,null,null,null,null,null,null,null,null,null,null,null,null,null,null,null,null,null,null,null,null,null,null,null,null,null,null,null,null,null,null,null,null,null,null,null,null,null,null,null,null,null,null,null,null,null,null,null,null,null,null,null,null,null,null,null,null,null,null,null,null,null,null,null,null,null,null,null,null,null,null,null,null,null,null,null,null,null,null,null,null,null,null,null,null,null,null,null,null,null,null,null,null,null,null,null,null,null,null,null,null,null,null,null,null,null,null,null,null,null,null,null,null,null,null,null,null,null,null,null,null,null,null,null,null,null,null,null,null,null,null,null,null,null,null,null,null,null,null,null,null,null,null,null,null,null,null,null,null,null,null,null,null,null,null,null,null,null,null,null,null,null,null,null,null,null,null,null,null,null,null,null,null,null,null,null,null,null,null,null,null,null,null,null,null,null,null,null,null,null,null,null,null,null,null,null,null,null,null,null,null,null,null,null,null,null,null,null,null,null,null,null,null,null,null,null,null,null,null,null,null,null,null,null,null,null,null,null,null,null,null,null,null,null,null,null,null,null,null,null,null,null,null,null,null,null,null,null,null,null,null,null,null,null,null,null,null,null,null,null,null,null,null,null,null,null,null,null,null,null,null,null,null,null,null,null,null,null,null,null,null,null,null,null,null,null,null,null,null,null,null,null,null,null,null,null,null,null,null,null,null,null,null,null,null,null,null,null,null,null,null,null,null,null,null,null,null,null,null,null,null,null,null,null,null,null,null,null,null,null,null,null,null,null,null,null,null,null,null,null,null,null,null,null,null,null,null,null,null,null,null,null,null,null,null,null,null,null,null,null,null,null,null,null,null,null,null,null,null,null,null,null,null,null,null,null,null,null,null,null,null,null,null,null,null,null,null,null,null,null,null,null,null,null,null,null,null,null,null,null,null,null,null,null,null,null,null,null,null,null,null,null,null,null,null,null,null,null,null,null,null,null,null,null,null,null,null,null,null,null,null,null,null,null,null,null,null,null,null,null,null,null,null,null,null,null,null,null,null,null,null,null,null,null,null,null,null,null,null,null,null,null,null,null,null,null,null,null,null,null,null,null,null,null,null,null,null,null,null,null,null,null,null,null,null,null,null,null,null,null,null,null,null,null,null,null,null,null,null,null,null,null,null,null,null,null,null,null,null,null,"9 : Barra de Cereal con Frutas (fresa o mora o naranja o arándanos, entre otras).",4]
["FRUTA EN PORCIONES",null,null,"EXTINTOR BC 10 LIBRAS / UNIDAD","Servicio de distribucion Region Resto del pais",null,"Cobija Sencilla","Servicio de distribucion Region Resto del pais","127 BORRADOR PELUCHE TABLERO",null,"Servicio de distribucion Region Resto del pais","114 BORRADOR LAPIZ",null,"Servicio de distribucion Region Resto del pais","259 SET MULTIJUEGOS",null,"Servicio de distribucion Region Resto del pais","254 MINI VIDEO BEAM",null,"Servicio de distribucion Region Resto del pais","227 RODILLOS PARA PINTURA",null,"Servicio de distribucion Region Resto del pais",null,null,"Servicio de distribucion Region Resto del pais",null,null,"Servicio de distribucion Region Resto del pais",null,null,"Servicio de distribucion Region Resto del pais",null,null,"Servicio de distribucion Region Resto del pais",null,null,"Servicio de distribucion Region Resto del pais",null,null,"Servicio de distribucion Region Resto del pais",null,null,null,null,null,null,null,null,null,null,null,null,null,null,null,null,null,null,null,null,null,null,null,null,null,null,null,null,null,null,null,null,null,null,null,null,null,null,null,null,null,null,null,null,null,null,null,null,null,null,null,null,null,null,null,null,null,null,null,null,null,null,null,null,null,null,null,null,null,null,null,null,null,null,null,null,null,null,null,null,null,null,null,null,null,null,null,null,null,null,null,null,null,null,null,null,null,null,null,null,null,null,null,null,null,null,null,null,null,null,null,null,null,null,null,null,null,null,null,null,null,null,null,null,null,null,null,null,null,null,null,null,null,null,null,null,null,null,null,null,null,null,null,null,null,null,null,null,null,null,null,null,null,null,null,null,null,null,null,null,null,null,null,null,null,null,null,null,null,null,null,null,null,null,null,null,null,null,null,null,null,null,null,null,null,null,null,null,null,null,null,null,null,null,null,null,null,null,null,null,null,null,null,null,null,null,null,null,null,null,null,null,null,null,null,null,null,null,null,null,null,null,null,null,null,null,null,null,null,null,null,null,null,null,null,null,null,null,null,null,null,null,null,null,null,null,null,null,null,null,null,null,null,null,null,null,null,null,null,null,null,null,null,null,null,null,null,null,null,null,null,null,null,null,null,null,null,null,null,null,null,null,null,null,null,null,null,null,null,null,null,null,null,null,null,null,null,null,null,null,null,null,null,null,null,null,null,null,null,null,null,null,null,null,null,null,null,null,null,null,null,null,null,null,null,null,null,null,null,null,null,null,null,null,null,null,null,null,null,null,null,null,null,null,null,null,null,null,null,null,null,null,null,null,null,null,null,null,null,null,null,null,null,null,null,null,null,null,null,null,null,null,null,null,null,null,null,null,null,null,null,null,null,null,null,null,null,null,null,null,null,null,null,null,null,null,null,null,null,null,null,null,null,null,null,null,null,null,null,null,null,null,null,null,null,null,null,null,null,null,null,null,null,null,null,null,null,null,null,null,null,null,null,null,null,null,null,null,null,null,null,null,null,null,null,null,null,null,null,null,null,null,null,null,null,null,null,null,null,null,null,null,null,null,null,null,null,null,null,null,null,null,null,null,null,null,null,null,null,null,null,null,null,null,null,null,null,null,null,null,null,null,null,null,null,null,null,null,null,null,null,null,null,null,null,null,null,null,null,null,null,null,null,null,null,null,null,null,null,null,null,null,null,null,null,null,null,null,null,null,null,null,null,null,null,null,null,null,null,null,null,null,null,null,null,null,null,null,null,null,null,null,null,null,null,null,null,null,null,null,null,null,null,null,null,null,null,null,null,null,null,null,null,null,null,null,null,null,null,null,null,null,null,null,null,null,null,null,null,null,null,null,null,null,null,null,null,null,null,null,null,null,null,null,null,null,null,null,null,null,null,null,null,null,null,null,null,null,null,null,null,null,null,null,null,null,null,null,null,null,null,null,null,null,null,null,null,null,null,null,null,null,null,null,null,null,null,null,null,null,null,null,null,null,null,null,null,null,null,null,null,null,null,null,null,null,null,null,null,null,null,null,null,null,null,null,null,null,null,null,null,null,null,null,null,null,null,null,null,null,null,null,null,null,null,null,null,null,null,null,null,null,null,null,null,null,null,null,null,null,null,null,null,null,null,null,null,null,null,null,null,null,null,null,null,null,null,null,null,null,null,null,null,null,null,null,null,null,null,null,null,null,null,null,null,null,null,null,null,null,null,null,null,null,null,null,null,null,null,null,null,null,null,null,null,null,null,null,null,null,null,null,null,null,null,null,null,null,null,null,null,null,null,null,null,null,null,null,null,null,null,null,null,null,null,null,null,null,null,null,null,null,null,null,null,null,null,null,null,null,null,null,null,null,null,null,null,null,null,null,null,null,null,null,null,null,null,null,null,null,null,null,null,null,null,null,null,null,null,null,null,null,null,null,null,null,null,null,null,null,null,null,null,null,null,null,null,null,null,null,null,null,null,null,null,null,null,null,null,null,null,null,null,null,null,null,null,null,null,null,null,null,null,null,null,null,null,null,null,null,null,null,null,null,null,null,null,null,null,null,null,null,null,null,null,null,null,null,null,null,null,null,null,null,null,null,null,null,null,null,null,null,null,null,null,null,null,null,null,null,null,null,null,null,null,null,null,null,null,null,null,null,null,null,null,null,null,null,null,null,null,null,null,null,null,null,null,null,null,null,null,null,null,null,null,null,null,null,null,null,null,null,null,null,null,null,null,null,null,null,null,null,null,null,null,null,null,null,null,null,null,null,null,null,null,null,null,null,null,null,null,null,null,null,null,null,null,null,null,null,null,null,null,null,null,null,null,null,null,null,null,null,null,null,null,null,null,null,null,null,null,null,null,null,null,null,null,null,null,null,null,null,null,null,null,null,null,null,null,null,null,null,null,null,null,null,null,null,null,null,null,null,null,null,null,null,null,null,null,null,null,null,null,null,null,null,null,null,null,null,null,null,null,null,null,null,null,null,null,null,null,null,null,null,null,null,null,null,null,null,null,null,null,null,null,null,null,null,null,null,null,null,null,null,null,null,null,null,null,null,null,null,null,null,null,null,null,null,null,null,null,null,null,null,null,null,null,null,null,null,null,null,null,null,null,null,null,null,null,null,null,null,null,null,null,null,null,null,null,null,null,null,null,null,null,null,null,null,null,null,null,null,null,null,null,null,null,null,null,null,null,null,null,null,null,null,null,null,null,null,null,null,null,null,null,null,null,null,null,null,null,null,null,null,null,null,null,null,null,null,null,null,null,null,null,null,null,null,null,null,null,null,null,null,null,null,null,null,null,null,null,null,null,null,null,null,null,null,null,null,null,null,null,null,null,null,null,null,null,null,null,null,null,null,null,null,null,null,null,null,null,null,null,null,null,null,null,null,null,null,null,null,null,null,null,null,null,null,null,null,null,null,null,null,null,null,null,null,null,null,null,null,null,null,null,null,null,null,null,null,null,null,null,null,null,null,null,null,null,null,null,null,null,null,null,null,null,null,null,null,null,null,null,null,null,null,null,null,null,null,null,null,null,null,null,null,null,null,null,null,null,null,null,null,null,null,null,null,null,null,null,null,null,null,null,null,null,null,null,null,null,null,null,null,null,null,null,null,null,null,null,null,null,null,null,null,null,null,null,null,null,null,null,null,null,null,null,null,null,null,null,null,null,null,null,null,null,null,null,null,null,null,null,null,null,null,null,null,null,null,null,null,null,null,null,null,null,null,null,null,null,null,null,null,null,null,null,null,null,null,null,null,null,null,null,null,null,null,null,null,null,null,null,null,null,null,null,null,null,null,null,null,null,null,null,null,null,null,null,null,null,null,null,null,null,null,null,null,null,null,null,null,null,null,null,null,null,null,null,null,null,null,null,null,null,null,null,null,null,null,null,null,null,null,null,null,null,null,null,null,null,null,null,null,null,null,null,null,null,null,null,null,null,null,null,null,null,null,null,null,null,null,null,null,null,null,null,null,null,null,null,null,null,null,null,null,null,null,null,null,null,null,null,null,null,null,null,null,null,null,null,null,null,null,null,null,null,null,null,null,null,null,null,null,null,null,null,null,null,null,null,null,null,null,null,null,null,null,null,null,null,null,null,null,null,null,null,null,null,null,null,null,null,null,null,null,null,null,null,null,null,null,null,null,null,null,null,null,null,null,null,null,null,null,null,null,null,null,null,null,null,null,null,null,null,null,null,null,null,null,null,null,null,null,null,null,null,null,null,null,null,null,null,null,null,null,null,null,null,null,null,null,null,null,null,null,null,null,null,null,null,null,null,null,null,null,null,null,null,null,null,null,null,null,null,null,null,null,null,null,null,null,null,null,null,null,null,null,null,null,null,null,null,null,null,null,null,null,null,null,null,null,null,null,null,null,null,null,null,null,null,null,null,null,null,null,null,null,null,null,null,null,null,null,null,null,null,null,null,null,null,null,null,null,null,null,null,null,null,null,null,null,null,null,null,null,null,null,null,null,null,null,null,null,null,null,null,null,null,null,null,null,null,null,null,null,null,null,null,null,null,null,null,null,null,null,null,null,null,null,null,null,null,null,null,null,null,null,null,null,null,null,null,null,null,null,null,null,null,null,null,null,null,null,null,null,null,null,null,null,null,null,null,null,null,null,null,null,null,null,null,null,null,null,null,null,null,null,null,null,null,null,null,null,null,null,null,null,null,null,null,null,null,null,null,null,null,null,null,null,null,null,null,null,null,null,null,null,null,null,null,null,null,null,null,null,null,null,null,null,null,null,null,null,null,null,null,null,null,null,null,null,null,null,null,null,null,null,null,null,null,null,null,null,null,null,null,null,null,null,null,null,null,null,null,null,null,null,null,null,null,null,null,null,null,null,null,null,null,null,null,null,null,null,null,null,null,null,null,null,null,null,null,null,null,null,null,null,null,null,null,null,null,null,null,null,null,null,null,null,null,null,null,null,null,null,null,null,null,null,null,null,null,null,null,null,null,null,null,null,null,null,null,null,null,null,null,null,null,null,null,null,null,null,null,null,null,null,null,null,null,null,null,null,null,null,null,null,null,null,null,null,null,null,null,null,null,null,null,null,null,null,null,null,null,null,null,null,null,null,null,null,null,null,null,null,null,null,null,null,null,null,null,null,null,null,null,null,null,null,null,null,null,null,null,null,null,null,null,null,null,null,null,null,null,null,null,null,null,null,null,null,null,null,null,null,null,null,null,null,null,null,null,null,null,null,null,null,null,null,null,null,null,null,null,null,null,null,null,null,null,null,null,null,null,null,null,null,null,null,null,null,null,null,null,null,null,null,null,null,null,null,null,null,null,null,null,null,null,null,null,null,null,null,null,null,null,null,null,null,null,null,null,null,null,null,null,null,null,null,null,null,null,null,null,null,null,null,null,null,null,null,null,null,null,null,null,null,null,null,null,null,null,null,null,null,null,null,null,null,null,null,null,null,null,null,null,null,null,null,null,null,null,null,null,null,null,null,null,null,null,null,null,null,null,null,null,null,null,null,null,null,null,null,null,null,null,null,null,null,null,null,null,null,null,null,null,null,null,null,null,null,null,null,null,null,null,null,null,null,null,null,null,null,null,null,null,null,null,null,null,null,null,null,null,null,null,null,null,null,null,null,null,null,null,null,null,null,null,null,null,null,null,null,null,null,null,null,null,null,null,null,null,null,null,null,null,null,null,null,null,null,null,null,null,null,null,null,null,null,null,null,null,null,null,null,null,null,null,null,null,null,null,null,null,null,null,null,null,null,null,null,null,null,null,null,null,null,null,null,null,null,null,null,null,null,null,null,null,null,null,null,null,null,null,null,null,null,null,null,null,null,null,null,null,null,null,null,null,null,null,null,null,null,null,null,null,null,null,null,null,null,null,null,null,null,null,null,null,null,null,null,null,null,null,null,null,null,null,null,null,null,null,null,null,null,null,null,null,null,null,null,null,null,null,null,null,null,null,null,null,null,null,null,null,null,null,null,null,null,null,null,null,null,null,null,null,null,null,null,null,null,null,null,null,null,"96 : Barra de cereal con verduras.",5]
["FRUTOS SECOS",null,null,"EXTINTOR BC 150 LIBRAS / UNIDAD","Servicio de distribucion Region San Andres y Providencia",null,"Colchoneta","Servicio de distribucion Region San Andres y Providencia","230 PISTOLA DE SILICONA PEQUEÑA +TUBOS DE REPUESTO",null,"Servicio de distribucion Region San Andres y Providencia","115 VINILOS",null,"Servicio de distribucion Region San Andres y Providencia","323 JUEGO MONOPOLY COLOMBIA",null,"Servicio de distribucion Region San Andres y Providencia","258 PAQUETE BASICO DE ELECTRONICA",null,"Servicio de distribucion Region San Andres y Providencia","228 BROCHAS",null,"Servicio de distribucion Region San Andres y Providencia",null,null,"Servicio de distribucion Region San Andres y Providencia",null,null,"Servicio de distribucion Region San Andres y Providencia",null,null,"Servicio de distribucion Region San Andres y Providencia",null,null,"Servicio de distribucion Region San Andres y Providencia",null,null,"Servicio de distribucion Region San Andres y Providencia",null,null,"Servicio de distribucion Region San Andres y Providencia",null,null,null,null,null,null,null,null,null,null,null,null,null,null,null,null,null,null,null,null,null,null,null,null,null,null,null,null,null,null,null,null,null,null,null,null,null,null,null,null,null,null,null,null,null,null,null,null,null,null,null,null,null,null,null,null,null,null,null,null,null,null,null,null,null,null,null,null,null,null,null,null,null,null,null,null,null,null,null,null,null,null,null,null,null,null,null,null,null,null,null,null,null,null,null,null,null,null,null,null,null,null,null,null,null,null,null,null,null,null,null,null,null,null,null,null,null,null,null,null,null,null,null,null,null,null,null,null,null,null,null,null,null,null,null,null,null,null,null,null,null,null,null,null,null,null,null,null,null,null,null,null,null,null,null,null,null,null,null,null,null,null,null,null,null,null,null,null,null,null,null,null,null,null,null,null,null,null,null,null,null,null,null,null,null,null,null,null,null,null,null,null,null,null,null,null,null,null,null,null,null,null,null,null,null,null,null,null,null,null,null,null,null,null,null,null,null,null,null,null,null,null,null,null,null,null,null,null,null,null,null,null,null,null,null,null,null,null,null,null,null,null,null,null,null,null,null,null,null,null,null,null,null,null,null,null,null,null,null,null,null,null,null,null,null,null,null,null,null,null,null,null,null,null,null,null,null,null,null,null,null,null,null,null,null,null,null,null,null,null,null,null,null,null,null,null,null,null,null,null,null,null,null,null,null,null,null,null,null,null,null,null,null,null,null,null,null,null,null,null,null,null,null,null,null,null,null,null,null,null,null,null,null,null,null,null,null,null,null,null,null,null,null,null,null,null,null,null,null,null,null,null,null,null,null,null,null,null,null,null,null,null,null,null,null,null,null,null,null,null,null,null,null,null,null,null,null,null,null,null,null,null,null,null,null,null,null,null,null,null,null,null,null,null,null,null,null,null,null,null,null,null,null,null,null,null,null,null,null,null,null,null,null,null,null,null,null,null,null,null,null,null,null,null,null,null,null,null,null,null,null,null,null,null,null,null,null,null,null,null,null,null,null,null,null,null,null,null,null,null,null,null,null,null,null,null,null,null,null,null,null,null,null,null,null,null,null,null,null,null,null,null,null,null,null,null,null,null,null,null,null,null,null,null,null,null,null,null,null,null,null,null,null,null,null,null,null,null,null,null,null,null,null,null,null,null,null,null,null,null,null,null,null,null,null,null,null,null,null,null,null,null,null,null,null,null,null,null,null,null,null,null,null,null,null,null,null,null,null,null,null,null,null,null,null,null,null,null,null,null,null,null,null,null,null,null,null,null,null,null,null,null,null,null,null,null,null,null,null,null,null,null,null,null,null,null,null,null,null,null,null,null,null,null,null,null,null,null,null,null,null,null,null,null,null,null,null,null,null,null,null,null,null,null,null,null,null,null,null,null,null,null,null,null,null,null,null,null,null,null,null,null,null,null,null,null,null,null,null,null,null,null,null,null,null,null,null,null,null,null,null,null,null,null,null,null,null,null,null,null,null,null,null,null,null,null,null,null,null,null,null,null,null,null,null,null,null,null,null,null,null,null,null,null,null,null,null,null,null,null,null,null,null,null,null,null,null,null,null,null,null,null,null,null,null,null,null,null,null,null,null,null,null,null,null,null,null,null,null,null,null,null,null,null,null,null,null,null,null,null,null,null,null,null,null,null,null,null,null,null,null,null,null,null,null,null,null,null,null,null,null,null,null,null,null,null,null,null,null,null,null,null,null,null,null,null,null,null,null,null,null,null,null,null,null,null,null,null,null,null,null,null,null,null,null,null,null,null,null,null,null,null,null,null,null,null,null,null,null,null,null,null,null,null,null,null,null,null,null,null,null,null,null,null,null,null,null,null,null,null,null,null,null,null,null,null,null,null,null,null,null,null,null,null,null,null,null,null,null,null,null,null,null,null,null,null,null,null,null,null,null,null,null,null,null,null,null,null,null,null,null,null,null,null,null,null,null,null,null,null,null,null,null,null,null,null,null,null,null,null,null,null,null,null,null,null,null,null,null,null,null,null,null,null,null,null,null,null,null,null,null,null,null,null,null,null,null,null,null,null,null,null,null,null,null,null,null,null,null,null,null,null,null,null,null,null,null,null,null,null,null,null,null,null,null,null,null,null,null,null,null,null,null,null,null,null,null,null,null,null,null,null,null,null,null,null,null,null,null,null,null,null,null,null,null,null,null,null,null,null,null,null,null,null,null,null,null,null,null,null,null,null,null,null,null,null,null,null,null,null,null,null,null,null,null,null,null,null,null,null,null,null,null,null,null,null,null,null,null,null,null,null,null,null,null,null,null,null,null,null,null,null,null,null,null,null,null,null,null,null,null,null,null,null,null,null,null,null,null,null,null,null,null,null,null,null,null,null,null,null,null,null,null,null,null,null,null,null,null,null,null,null,null,null,null,null,null,null,null,null,null,null,null,null,null,null,null,null,null,null,null,null,null,null,null,null,null,null,null,null,null,null,null,null,null,null,null,null,null,null,null,null,null,null,null,null,null,null,null,null,null,null,null,null,null,null,null,null,null,null,null,null,null,null,null,null,null,null,null,null,null,null,null,null,null,null,null,null,null,null,null,null,null,null,null,null,null,null,null,null,null,null,null,null,null,null,null,null,null,null,null,null,null,null,null,null,null,null,null,null,null,null,null,null,null,null,null,null,null,null,null,null,null,null,null,null,null,null,null,null,null,null,null,null,null,null,null,null,null,null,null,null,null,null,null,null,null,null,null,null,null,null,null,null,null,null,null,null,null,null,null,null,null,null,null,null,null,null,null,null,null,null,null,null,null,null,null,null,null,null,null,null,null,null,null,null,null,null,null,null,null,null,null,null,null,null,null,null,null,null,null,null,null,null,null,null,null,null,null,null,null,null,null,null,null,null,null,null,null,null,null,null,null,null,null,null,null,null,null,null,null,null,null,null,null,null,null,null,null,null,null,null,null,null,null,null,null,null,null,null,null,null,null,null,null,null,null,null,null,null,null,null,null,null,null,null,null,null,null,null,null,null,null,null,null,null,null,null,null,null,null,null,null,null,null,null,null,null,null,null,null,null,null,null,null,null,null,null,null,null,null,null,null,null,null,null,null,null,null,null,null,null,null,null,null,null,null,null,null,null,null,null,null,null,null,null,null,null,null,null,null,null,null,null,null,null,null,null,null,null,null,null,null,null,null,null,null,null,null,null,null,null,null,null,null,null,null,null,null,null,null,null,null,null,null,null,null,null,null,null,null,null,null,null,null,null,null,null,null,null,null,null,null,null,null,null,null,null,null,null,null,null,null,null,null,null,null,null,null,null,null,null,null,null,null,null,null,null,null,null,null,null,null,null,null,null,null,null,null,null,null,null,null,null,null,null,null,null,null,null,null,null,null,null,null,null,null,null,null,null,null,null,null,null,null,null,null,null,null,null,null,null,null,null,null,null,null,null,null,null,null,null,null,null,null,null,null,null,null,null,null,null,null,null,null,null,null,null,null,null,null,null,null,null,null,null,null,null,null,null,null,null,null,null,null,null,null,null,null,null,null,null,null,null,null,null,null,null,null,null,null,null,null,null,null,null,null,null,null,null,null,null,null,null,null,null,null,null,null,null,null,null,null,null,null,null,null,null,null,null,null,null,null,null,null,null,null,null,null,null,null,null,null,null,null,null,null,null,null,null,null,null,null,null,null,null,null,null,null,null,null,null,null,null,null,null,null,null,null,null,null,null,null,null,null,null,null,null,null,null,null,null,null,null,null,null,null,null,null,null,null,null,null,null,null,null,null,null,null,null,null,null,null,null,null,null,null,null,null,null,null,null,null,null,null,null,null,null,null,null,null,null,null,null,null,null,null,null,null,null,null,null,null,null,null,null,null,null,null,null,null,null,null,null,null,null,null,null,null,null,null,null,null,null,null,null,null,null,null,null,null,null,null,null,null,null,null,null,null,null,null,null,null,null,null,null,null,null,null,null,null,null,null,null,null,null,null,null,null,null,null,null,null,null,null,null,null,null,null,null,null,null,null,null,null,null,null,null,null,null,null,null,null,null,null,null,null,null,null,null,null,null,null,null,null,null,null,null,null,null,null,null,null,null,null,null,null,null,null,null,null,null,null,null,null,null,null,null,null,null,null,null,null,null,null,null,null,null,null,null,null,null,null,null,null,null,null,null,null,null,null,null,null,null,null,null,null,null,null,null,null,null,null,null,null,null,null,null,null,null,null,null,null,null,null,null,null,null,null,null,null,null,null,null,null,null,null,null,null,null,null,null,null,null,null,null,null,null,null,null,null,null,null,null,null,null,null,null,null,null,null,null,null,null,null,null,null,null,null,null,null,null,null,null,null,null,null,null,null,null,null,null,null,null,null,null,null,null,null,null,null,null,null,null,null,null,null,null,null,null,null,null,null,null,null,null,null,null,null,null,null,null,null,null,null,null,null,null,null,null,null,null,null,null,null,null,null,null,null,null,null,null,null,null,null,null,null,null,null,null,null,null,null,null,null,null,null,null,null,null,null,null,null,null,null,null,null,null,null,null,null,null,null,null,null,null,null,null,null,null,null,null,null,null,null,null,null,null,null,null,null,null,null,null,null,null,null,null,null,null,null,null,null,null,null,null,null,null,null,null,null,null,null,null,null,null,null,null,null,null,null,null,null,null,null,null,null,null,null,null,null,null,null,null,null,null,null,null,null,null,null,null,null,null,null,null,null,null,null,null,null,null,null,null,null,null,null,null,null,null,null,null,null,null,null,null,null,null,null,null,null,null,null,null,null,null,null,null,null,null,null,null,null,null,null,null,null,null,null,null,null,null,null,null,null,null,null,null,null,null,null,null,null,null,null,null,null,null,null,null,null,null,null,null,null,null,null,null,null,null,null,null,null,null,null,null,null,null,null,null,null,null,null,null,null,null,null,null,null,null,null,null,null,null,null,null,null,null,null,null,null,null,null,null,null,null,null,null,null,null,null,null,null,null,null,null,null,null,null,null,null,null,null,null,null,null,null,null,null,null,null,null,null,null,null,null,null,null,null,null,null,null,null,null,null,null,null,null,null,null,null,null,null,null,null,null,null,null,null,null,null,null,null,null,null,null,null,null,null,null,null,null,null,null,null,null,null,null,null,null,null,null,null,null,null,null,null,null,null,null,null,null,null,null,null,null,null,null,null,null,null,null,null,null,null,null,null,null,null,null,null,null,null,null,null,null,null,null,null,null,null,null,null,null,null,null,null,null,null,null,null,null,null,null,null,null,null,null,null,null,null,null,null,null,null,null,null,null,null,null,null,null,null,null,null,null,null,null,null,null,null,null,null,null,null,null,null,null,null,null,null,null,null,null,null,null,null,null,null,null,null,null,null,null,null,null,null,null,null,null,null,null,null,null,null,null,null,null,null,null,null,null,null,null,null,null,null,null,null,null,null,null,null,null,null,null,null,null,null,null,null,null,null,null,null,null,null,null,null,null,null,null,null,null,null,null,null,null,null,null,null,null,null,null,null,null,null,null,null,null,null,null,null,null,null,null,"99 : Snacks de frutas deshidratadas con cobertura de chocolate (excepto uchuva).",6]
["NECTAR Y CONCENTRADO DE FRUTA",null,null,"EXTINTOR BC 20 LIBRAS / UNIDAD",null,null,"Hamaca Sencilla",null,"251 CALCULADORAS ELEMENTAL",null,null,"116 PALETA DE ACUARELA",null,null,"7 JUEGO DE DOMINÓ DOBLE 12",null,null,"260 CABINA DE SÓNIDO POTENCIADA",null,null,"248 SET DE PINZAS Y ALICATES",null,null,null,null,null,null,null,null,null,null,null,null,null,null,null,null,null,null,null,null,null,null,null,null,null,null,null,null,null,null,null,null,null,null,null,null,null,null,null,null,null,null,null,null,null,null,null,null,null,null,null,null,null,null,null,null,null,null,null,null,null,null,null,null,null,null,null,null,null,null,null,null,null,null,null,null,null,null,null,null,null,null,null,null,null,null,null,null,null,null,null,null,null,null,null,null,null,null,null,null,null,null,null,null,null,null,null,null,null,null,null,null,null,null,null,null,null,null,null,null,null,null,null,null,null,null,null,null,null,null,null,null,null,null,null,null,null,null,null,null,null,null,null,null,null,null,null,null,null,null,null,null,null,null,null,null,null,null,null,null,null,null,null,null,null,null,null,null,null,null,null,null,null,null,null,null,null,null,null,null,null,null,null,null,null,null,null,null,null,null,null,null,null,null,null,null,null,null,null,null,null,null,null,null,null,null,null,null,null,null,null,null,null,null,null,null,null,null,null,null,null,null,null,null,null,null,null,null,null,null,null,null,null,null,null,null,null,null,null,null,null,null,null,null,null,null,null,null,null,null,null,null,null,null,null,null,null,null,null,null,null,null,null,null,null,null,null,null,null,null,null,null,null,null,null,null,null,null,null,null,null,null,null,null,null,null,null,null,null,null,null,null,null,null,null,null,null,null,null,null,null,null,null,null,null,null,null,null,null,null,null,null,null,null,null,null,null,null,null,null,null,null,null,null,null,null,null,null,null,null,null,null,null,null,null,null,null,null,null,null,null,null,null,null,null,null,null,null,null,null,null,null,null,null,null,null,null,null,null,null,null,null,null,null,null,null,null,null,null,null,null,null,null,null,null,null,null,null,null,null,null,null,null,null,null,null,null,null,null,null,null,null,null,null,null,null,null,null,null,null,null,null,null,null,null,null,null,null,null,null,null,null,null,null,null,null,null,null,null,null,null,null,null,null,null,null,null,null,null,null,null,null,null,null,null,null,null,null,null,null,null,null,null,null,null,null,null,null,null,null,null,null,null,null,null,null,null,null,null,null,null,null,null,null,null,null,null,null,null,null,null,null,null,null,null,null,null,null,null,null,null,null,null,null,null,null,null,null,null,null,null,null,null,null,null,null,null,null,null,null,null,null,null,null,null,null,null,null,null,null,null,null,null,null,null,null,null,null,null,null,null,null,null,null,null,null,null,null,null,null,null,null,null,null,null,null,null,null,null,null,null,null,null,null,null,null,null,null,null,null,null,null,null,null,null,null,null,null,null,null,null,null,null,null,null,null,null,null,null,null,null,null,null,null,null,null,null,null,null,null,null,null,null,null,null,null,null,null,null,null,null,null,null,null,null,null,null,null,null,null,null,null,null,null,null,null,null,null,null,null,null,null,null,null,null,null,null,null,null,null,null,null,null,null,null,null,null,null,null,null,null,null,null,null,null,null,null,null,null,null,null,null,null,null,null,null,null,null,null,null,null,null,null,null,null,null,null,null,null,null,null,null,null,null,null,null,null,null,null,null,null,null,null,null,null,null,null,null,null,null,null,null,null,null,null,null,null,null,null,null,null,null,null,null,null,null,null,null,null,null,null,null,null,null,null,null,null,null,null,null,null,null,null,null,null,null,null,null,null,null,null,null,null,null,null,null,null,null,null,null,null,null,null,null,null,null,null,null,null,null,null,null,null,null,null,null,null,null,null,null,null,null,null,null,null,null,null,null,null,null,null,null,null,null,null,null,null,null,null,null,null,null,null,null,null,null,null,null,null,null,null,null,null,null,null,null,null,null,null,null,null,null,null,null,null,null,null,null,null,null,null,null,null,null,null,null,null,null,null,null,null,null,null,null,null,null,null,null,null,null,null,null,null,null,null,null,null,null,null,null,null,null,null,null,null,null,null,null,null,null,null,null,null,null,null,null,null,null,null,null,null,null,null,null,null,null,null,null,null,null,null,null,null,null,null,null,null,null,null,null,null,null,null,null,null,null,null,null,null,null,null,null,null,null,null,null,null,null,null,null,null,null,null,null,null,null,null,null,null,null,null,null,null,null,null,null,null,null,null,null,null,null,null,null,null,null,null,null,null,null,null,null,null,null,null,null,null,null,null,null,null,null,null,null,null,null,null,null,null,null,null,null,null,null,null,null,null,null,null,null,null,null,null,null,null,null,null,null,null,null,null,null,null,null,null,null,null,null,null,null,null,null,null,null,null,null,null,null,null,null,null,null,null,null,null,null,null,null,null,null,null,null,null,null,null,null,null,null,null,null,null,null,null,null,null,null,null,null,null,null,null,null,null,null,null,null,null,null,null,null,null,null,null,null,null,null,null,null,null,null,null,null,null,null,null,null,null,null,null,null,null,null,null,null,null,null,null,null,null,null,null,null,null,null,null,null,null,null,null,null,null,null,null,null,null,null,null,null,null,null,null,null,null,null,null,null,null,null,null,null,null,null,null,null,null,null,null,null,null,null,null,null,null,null,null,null,null,null,null,null,null,null,null,null,null,null,null,null,null,null,null,null,null,null,null,null,null,null,null,null,null,null,null,null,null,null,null,null,null,null,null,null,null,null,null,null,null,null,null,null,null,null,null,null,null,null,null,null,null,null,null,null,null,null,null,null,null,null,null,null,null,null,null,null,null,null,null,null,null,null,null,null,null,null,null,null,null,null,null,null,null,null,null,null,null,null,null,null,null,null,null,null,null,null,null,null,null,null,null,null,null,null,null,null,null,null,null,null,null,null,null,null,null,null,null,null,null,null,null,null,null,null,null,null,null,null,null,null,null,null,null,null,null,null,null,null,null,null,null,null,null,null,null,null,null,null,null,null,null,null,null,null,null,null,null,null,null,null,null,null,null,null,null,null,null,null,null,null,null,null,null,null,null,null,null,null,null,null,null,null,null,null,null,null,null,null,null,null,null,null,null,null,null,null,null,null,null,null,null,null,null,null,null,null,null,null,null,null,null,null,null,null,null,null,null,null,null,null,null,null,null,null,null,null,null,null,null,null,null,null,null,null,null,null,null,null,null,null,null,null,null,null,null,null,null,null,null,null,null,null,null,null,null,null,null,null,null,null,null,null,null,null,null,null,null,null,null,null,null,null,null,null,null,null,null,null,null,null,null,null,null,null,null,null,null,null,null,null,null,null,null,null,null,null,null,null,null,null,null,null,null,null,null,null,null,null,null,null,null,null,null,null,null,null,null,null,null,null,null,null,null,null,null,null,null,null,null,null,null,null,null,null,null,null,null,null,null,null,null,null,null,null,null,null,null,null,null,null,null,null,null,null,null,null,null,null,null,null,null,null,null,null,null,null,null,null,null,null,null,null,null,null,null,null,null,null,null,null,null,null,null,null,null,null,null,null,null,null,null,null,null,null,null,null,null,null,null,null,null,null,null,null,null,null,null,null,null,null,null,null,null,null,null,null,null,null,null,null,null,null,null,null,null,null,null,null,null,null,null,null,null,null,null,null,null,null,null,null,null,null,null,null,null,null,null,null,null,null,null,null,null,null,null,null,null,null,null,null,null,null,null,null,null,null,null,null,null,null,null,null,null,null,null,null,null,null,null,null,null,null,null,null,null,null,null,null,null,null,null,null,null,null,null,null,null,null,null,null,null,null,null,null,null,null,null,null,null,null,null,null,null,null,null,null,null,null,null,null,null,null,null,null,null,null,null,null,null,null,null,null,null,null,null,null,null,null,null,null,null,null,null,null,null,null,null,null,null,null,null,null,null,null,null,null,null,null,null,null,null,null,null,null,null,null,null,null,null,null,null,null,null,null,null,null,null,null,null,null,null,null,null,null,null,null,null,null,null,null,null,null,null,null,null,null,null,null,null,null,null,null,null,null,null,null,null,null,null,null,null,null,null,null,null,null,null,null,null,null,null,null,null,null,null,null,null,null,null,null,null,null,null,null,null,null,null,null,null,null,null,null,null,null,null,null,null,null,null,null,null,null,null,null,null,null,null,null,null,null,null,null,null,null,null,null,null,null,null,null,null,null,null,null,null,null,null,null,null,null,null,null,null,null,null,null,null,null,null,null,null,null,null,null,null,null,null,null,null,null,null,null,null,null,null,null,null,null,null,null,null,null,null,null,null,null,null,null,null,null,null,null,null,null,null,null,null,null,null,null,null,null,null,null,null,null,null,null,null,null,null,null,null,null,null,null,null,null,null,null,null,null,null,null,null,null,null,null,null,null,null,null,null,null,null,null,null,null,null,null,null,null,null,null,null,null,null,null,null,null,null,null,null,null,null,null,null,null,null,null,null,null,null,null,null,null,null,null,null,null,null,null,null,null,null,null,null,null,null,null,null,null,null,null,null,null,null,null,null,null,null,null,null,null,null,null,null,null,null,null,null,null,null,null,null,null,null,null,null,null,null,null,null,null,null,null,null,null,null,null,null,null,null,null,null,null,null,null,null,null,null,null,null,null,null,null,null,null,null,null,null,null,null,null,null,null,null,null,null,null,null,null,null,null,null,null,null,null,null,null,null,null,null,null,null,null,null,null,null,null,null,null,null,null,null,null,null,null,null,null,null,null,null,null,null,null,null,null,null,null,null,null,null,null,null,null,null,null,null,null,null,null,null,null,null,null,null,null,null,null,null,null,null,null,null,null,null,null,null,null,null,null,null,null,null,null,null,null,null,null,null,null,null,null,null,null,null,null,null,null,null,null,null,null,null,null,null,null,null,null,null,null,null,null,null,null,null,null,null,null,null,null,null,null,null,null,null,null,null,null,null,null,null,null,null,null,null,null,null,null,null,null,null,null,null,null,null,null,null,null,null,null,null,null,null,null,null,null,null,null,null,null,null,null,null,null,null,null,null,null,null,null,null,null,null,null,null,null,null,null,null,null,null,null,null,null,null,null,null,null,null,null,null,null,null,null,null,null,null,null,null,null,null,null,null,null,null,null,null,null,null,null,null,null,null,null,null,null,null,null,null,null,null,null,null,null,null,null,null,null,null,null,null,null,null,null,null,null,null,null,null,null,null,null,null,null,null,null,null,null,null,null,null,null,null,null,null,null,null,null,null,null,null,null,null,null,null,null,null,null,null,null,null,null,null,null,null,null,null,null,null,null,null,null,null,null,null,null,null,null,null,null,null,null,null,null,null,null,null,null,null,null,null,null,null,null,null,null,null,null,null,null,null,null,null,null,null,null,null,null,null,null,null,null,null,null,null,null,null,null,null,null,null,null,null,null,null,null,null,null,null,null,null,null,null,null,null,null,null,null,null,null,null,null,null,null,null,null,null,null,null,null,null,null,null,null,null,null,null,null,null,null,null,null,null,null,null,null,null,null,null,null,null,null,null,null,null,null,null,null,null,null,null,null,null,null,null,null,null,null,null,null,null,null,null,null,null,null,null,null,null,null,null,null,null,null,null,null,null,null,null,null,null,null,null,null,null,null,null,null,null,null,null,null,null,null,null,null,null,null,null,null,null,null,null,null,null,null,null,null,null,null,null,null,null,null,null,null,null,null,null,null,null,null,null,null,null,null,null,null,null,null,null,null,null,null,null,null,null,7]
["POSTRES",null,null,"EXTINTOR BC 30 LIBRAS / UNIDAD",null,null,"Juego de sabana con funda",null,"264 BANDAS ELÁSTICAS",null,null,"124 PAPEL SEDA",null,null,"92 JUEGO DE PALABRAS SCRABLE",null,null,"261 KIT DE ROBOTICA",null,null,"382 BANDEJAS PARA CUARTO DE CRECIMIENTO",null,null,null,null,null,null,null,null,null,null,null,null,null,null,null,null,null,null,null,null,null,null,null,null,null,null,null,null,null,null,null,null,null,null,null,null,null,null,null,null,null,null,null,null,null,null,null,null,null,null,null,null,null,null,null,null,null,null,null,null,null,null,null,null,null,null,null,null,null,null,null,null,null,null,null,null,null,null,null,null,null,null,null,null,null,null,null,null,null,null,null,null,null,null,null,null,null,null,null,null,null,null,null,null,null,null,null,null,null,null,null,null,null,null,null,null,null,null,null,null,null,null,null,null,null,null,null,null,null,null,null,null,null,null,null,null,null,null,null,null,null,null,null,null,null,null,null,null,null,null,null,null,null,null,null,null,null,null,null,null,null,null,null,null,null,null,null,null,null,null,null,null,null,null,null,null,null,null,null,null,null,null,null,null,null,null,null,null,null,null,null,null,null,null,null,null,null,null,null,null,null,null,null,null,null,null,null,null,null,null,null,null,null,null,null,null,null,null,null,null,null,null,null,null,null,null,null,null,null,null,null,null,null,null,null,null,null,null,null,null,null,null,null,null,null,null,null,null,null,null,null,null,null,null,null,null,null,null,null,null,null,null,null,null,null,null,null,null,null,null,null,null,null,null,null,null,null,null,null,null,null,null,null,null,null,null,null,null,null,null,null,null,null,null,null,null,null,null,null,null,null,null,null,null,null,null,null,null,null,null,null,null,null,null,null,null,null,null,null,null,null,null,null,null,null,null,null,null,null,null,null,null,null,null,null,null,null,null,null,null,null,null,null,null,null,null,null,null,null,null,null,null,null,null,null,null,null,null,null,null,null,null,null,null,null,null,null,null,null,null,null,null,null,null,null,null,null,null,null,null,null,null,null,null,null,null,null,null,null,null,null,null,null,null,null,null,null,null,null,null,null,null,null,null,null,null,null,null,null,null,null,null,null,null,null,null,null,null,null,null,null,null,null,null,null,null,null,null,null,null,null,null,null,null,null,null,null,null,null,null,null,null,null,null,null,null,null,null,null,null,null,null,null,null,null,null,null,null,null,null,null,null,null,null,null,null,null,null,null,null,null,null,null,null,null,null,null,null,null,null,null,null,null,null,null,null,null,null,null,null,null,null,null,null,null,null,null,null,null,null,null,null,null,null,null,null,null,null,null,null,null,null,null,null,null,null,null,null,null,null,null,null,null,null,null,null,null,null,null,null,null,null,null,null,null,null,null,null,null,null,null,null,null,null,null,null,null,null,null,null,null,null,null,null,null,null,null,null,null,null,null,null,null,null,null,null,null,null,null,null,null,null,null,null,null,null,null,null,null,null,null,null,null,null,null,null,null,null,null,null,null,null,null,null,null,null,null,null,null,null,null,null,null,null,null,null,null,null,null,null,null,null,null,null,null,null,null,null,null,null,null,null,null,null,null,null,null,null,null,null,null,null,null,null,null,null,null,null,null,null,null,null,null,null,null,null,null,null,null,null,null,null,null,null,null,null,null,null,null,null,null,null,null,null,null,null,null,null,null,null,null,null,null,null,null,null,null,null,null,null,null,null,null,null,null,null,null,null,null,null,null,null,null,null,null,null,null,null,null,null,null,null,null,null,null,null,null,null,null,null,null,null,null,null,null,null,null,null,null,null,null,null,null,null,null,null,null,null,null,null,null,null,null,null,null,null,null,null,null,null,null,null,null,null,null,null,null,null,null,null,null,null,null,null,null,null,null,null,null,null,null,null,null,null,null,null,null,null,null,null,null,null,null,null,null,null,null,null,null,null,null,null,null,null,null,null,null,null,null,null,null,null,null,null,null,null,null,null,null,null,null,null,null,null,null,null,null,null,null,null,null,null,null,null,null,null,null,null,null,null,null,null,null,null,null,null,null,null,null,null,null,null,null,null,null,null,null,null,null,null,null,null,null,null,null,null,null,null,null,null,null,null,null,null,null,null,null,null,null,null,null,null,null,null,null,null,null,null,null,null,null,null,null,null,null,null,null,null,null,null,null,null,null,null,null,null,null,null,null,null,null,null,null,null,null,null,null,null,null,null,null,null,null,null,null,null,null,null,null,null,null,null,null,null,null,null,null,null,null,null,null,null,null,null,null,null,null,null,null,null,null,null,null,null,null,null,null,null,null,null,null,null,null,null,null,null,null,null,null,null,null,null,null,null,null,null,null,null,null,null,null,null,null,null,null,null,null,null,null,null,null,null,null,null,null,null,null,null,null,null,null,null,null,null,null,null,null,null,null,null,null,null,null,null,null,null,null,null,null,null,null,null,null,null,null,null,null,null,null,null,null,null,null,null,null,null,null,null,null,null,null,null,null,null,null,null,null,null,null,null,null,null,null,null,null,null,null,null,null,null,null,null,null,null,null,null,null,null,null,null,null,null,null,null,null,null,null,null,null,null,null,null,null,null,null,null,null,null,null,null,null,null,null,null,null,null,null,null,null,null,null,null,null,null,null,null,null,null,null,null,null,null,null,null,null,null,null,null,null,null,null,null,null,null,null,null,null,null,null,null,null,null,null,null,null,null,null,null,null,null,null,null,null,null,null,null,null,null,null,null,null,null,null,null,null,null,null,null,null,null,null,null,null,null,null,null,null,null,null,null,null,null,null,null,null,null,null,null,null,null,null,null,null,null,null,null,null,null,null,null,null,null,null,null,null,null,null,null,null,null,null,null,null,null,null,null,null,null,null,null,null,null,null,null,null,null,null,null,null,null,null,null,null,null,null,null,null,null,null,null,null,null,null,null,null,null,null,null,null,null,null,null,null,null,null,null,null,null,null,null,null,null,null,null,null,null,null,null,null,null,null,null,null,null,null,null,null,null,null,null,null,null,null,null,null,null,null,null,null,null,null,null,null,null,null,null,null,null,null,null,null,null,null,null,null,null,null,null,null,null,null,null,null,null,null,null,null,null,null,null,null,null,null,null,null,null,null,null,null,null,null,null,null,null,null,null,null,null,null,null,null,null,null,null,null,null,null,null,null,null,null,null,null,null,null,null,null,null,null,null,null,null,null,null,null,null,null,null,null,null,null,null,null,null,null,null,null,null,null,null,null,null,null,null,null,null,null,null,null,null,null,null,null,null,null,null,null,null,null,null,null,null,null,null,null,null,null,null,null,null,null,null,null,null,null,null,null,null,null,null,null,null,null,null,null,null,null,null,null,null,null,null,null,null,null,null,null,null,null,null,null,null,null,null,null,null,null,null,null,null,null,null,null,null,null,null,null,null,null,null,null,null,null,null,null,null,null,null,null,null,null,null,null,null,null,null,null,null,null,null,null,null,null,null,null,null,null,null,null,null,null,null,null,null,null,null,null,null,null,null,null,null,null,null,null,null,null,null,null,null,null,null,null,null,null,null,null,null,null,null,null,null,null,null,null,null,null,null,null,null,null,null,null,null,null,null,null,null,null,null,null,null,null,null,null,null,null,null,null,null,null,null,null,null,null,null,null,null,null,null,null,null,null,null,null,null,null,null,null,null,null,null,null,null,null,null,null,null,null,null,null,null,null,null,null,null,null,null,null,null,null,null,null,null,null,null,null,null,null,null,null,null,null,null,null,null,null,null,null,null,null,null,null,null,null,null,null,null,null,null,null,null,null,null,null,null,null,null,null,null,null,null,null,null,null,null,null,null,null,null,null,null,null,null,null,null,null,null,null,null,null,null,null,null,null,null,null,null,null,null,null,null,null,null,null,null,null,null,null,null,null,null,null,null,null,null,null,null,null,null,null,null,null,null,null,null,null,null,null,null,null,null,null,null,null,null,null,null,null,null,null,null,null,null,null,null,null,null,null,null,null,null,null,null,null,null,null,null,null,null,null,null,null,null,null,null,null,null,null,null,null,null,null,null,null,null,null,null,null,null,null,null,null,null,null,null,null,null,null,null,null,null,null,null,null,null,null,null,null,null,null,null,null,null,null,null,null,null,null,null,null,null,null,null,null,null,null,null,null,null,null,null,null,null,null,null,null,null,null,null,null,null,null,null,null,null,null,null,null,null,null,null,null,null,null,null,null,null,null,null,null,null,null,null,null,null,null,null,null,null,null,null,null,null,null,null,null,null,null,null,null,null,null,null,null,null,null,null,null,null,null,null,null,null,null,null,null,null,null,null,null,null,null,null,null,null,null,null,null,null,null,null,null,null,null,null,null,null,null,null,null,null,null,null,null,null,null,null,null,null,null,null,null,null,null,null,null,null,null,null,null,null,null,null,null,null,null,null,null,null,null,null,null,null,null,null,null,null,null,null,null,null,null,null,null,null,null,null,null,null,null,null,null,null,null,null,null,null,null,null,null,null,null,null,null,null,null,null,null,null,null,null,null,null,null,null,null,null,null,null,null,null,null,null,null,null,null,null,null,null,null,null,null,null,null,null,null,null,null,null,null,null,null,null,null,null,null,null,null,null,null,null,null,null,null,null,null,null,null,null,null,null,null,null,null,null,null,null,null,null,null,null,null,null,null,null,null,null,null,null,null,null,null,null,null,null,null,null,null,null,null,null,null,null,null,null,null,null,null,null,null,null,null,null,null,null,null,null,null,null,null,null,null,null,null,null,null,null,null,null,null,null,null,null,null,null,null,null,null,null,null,null,null,null,null,null,null,null,null,null,null,null,null,null,null,null,null,null,null,null,null,null,null,null,null,null,null,null,null,null,null,null,null,null,null,null,null,null,null,null,null,null,null,null,null,null,null,null,null,null,null,null,null,null,null,null,null,null,null,null,null,null,null,null,null,null,null,null,null,null,null,null,null,null,null,null,null,null,null,null,null,null,null,null,null,null,null,null,null,null,null,null,null,null,null,null,null,null,null,null,null,null,null,null,null,null,null,null,null,null,null,null,null,null,null,null,null,null,null,null,null,null,null,null,null,null,null,null,null,null,null,null,null,null,null,null,null,null,null,null,null,null,null,null,null,null,null,null,null,null,null,null,null,null,null,null,null,null,null,null,null,null,null,null,null,null,null,null,null,null,null,null,null,null,null,null,null,null,null,null,null,null,null,null,null,null,null,null,null,null,null,null,null,null,null,null,null,null,null,null,null,null,null,null,null,null,null,null,null,null,null,null,null,null,null,null,null,null,null,null,null,null,null,null,null,null,null,null,null,null,null,null,null,null,null,null,null,null,null,null,null,null,null,null,null,null,null,null,null,null,null,null,null,null,null,null,null,null,null,null,null,null,null,null,null,null,null,null,null,null,null,null,null,null,null,null,null,null,null,null,null,null,null,null,null,null,null,null,null,null,null,null,null,null,null,null,null,null,null,null,null,null,null,null,null,null,null,null,null,null,null,null,null,null,null,null,null,null,null,null,null,null,null,null,null,null,null,null,null,null,null,null,null,null,null,null,null,null,null,null,null,null,null,null,null,null,null,null,null,null,null,null,null,null,null,null,null,null,null,null,null,null,null,null,null,null,null,null,null,null,null,null,null,null,null,null,null,null,null,null,null,null,null,null,null,null,null,null,null,null,null,null,null,null,null,null,null,null,null,null,null,null,null,null,null,null,null,null,null,null,null,null,null,null,null,null,null,8]
["PREPARACIONES COMBINADAS",null,null,"EXTINTOR BC 5 LIBRAS / UNIDAD",null,null,"Pijama para hombre",null,"265 BLOCK HOJAS ADHESIVAS",null,null,"126 BLOCK CUADRICULADO",null,null,"93 PICTIONARY CLÁSICO",null,null,"327 PORTATIL 14\"",null,null,"385 ESCABILADERO",null,null,null,null,null,null,null,null,null,null,null,null,null,null,null,null,null,null,null,null,null,null,null,null,null,null,null,null,null,null,null,null,null,null,null,null,null,null,null,null,null,null,null,null,null,null,null,null,null,null,null,null,null,null,null,null,null,null,null,null,null,null,null,null,null,null,null,null,null,null,null,null,null,null,null,null,null,null,null,null,null,null,null,null,null,null,null,null,null,null,null,null,null,null,null,null,null,null,null,null,null,null,null,null,null,null,null,null,null,null,null,null,null,null,null,null,null,null,null,null,null,null,null,null,null,null,null,null,null,null,null,null,null,null,null,null,null,null,null,null,null,null,null,null,null,null,null,null,null,null,null,null,null,null,null,null,null,null,null,null,null,null,null,null,null,null,null,null,null,null,null,null,null,null,null,null,null,null,null,null,null,null,null,null,null,null,null,null,null,null,null,null,null,null,null,null,null,null,null,null,null,null,null,null,null,null,null,null,null,null,null,null,null,null,null,null,null,null,null,null,null,null,null,null,null,null,null,null,null,null,null,null,null,null,null,null,null,null,null,null,null,null,null,null,null,null,null,null,null,null,null,null,null,null,null,null,null,null,null,null,null,null,null,null,null,null,null,null,null,null,null,null,null,null,null,null,null,null,null,null,null,null,null,null,null,null,null,null,null,null,null,null,null,null,null,null,null,null,null,null,null,null,null,null,null,null,null,null,null,null,null,null,null,null,null,null,null,null,null,null,null,null,null,null,null,null,null,null,null,null,null,null,null,null,null,null,null,null,null,null,null,null,null,null,null,null,null,null,null,null,null,null,null,null,null,null,null,null,null,null,null,null,null,null,null,null,null,null,null,null,null,null,null,null,null,null,null,null,null,null,null,null,null,null,null,null,null,null,null,null,null,null,null,null,null,null,null,null,null,null,null,null,null,null,null,null,null,null,null,null,null,null,null,null,null,null,null,null,null,null,null,null,null,null,null,null,null,null,null,null,null,null,null,null,null,null,null,null,null,null,null,null,null,null,null,null,null,null,null,null,null,null,null,null,null,null,null,null,null,null,null,null,null,null,null,null,null,null,null,null,null,null,null,null,null,null,null,null,null,null,null,null,null,null,null,null,null,null,null,null,null,null,null,null,null,null,null,null,null,null,null,null,null,null,null,null,null,null,null,null,null,null,null,null,null,null,null,null,null,null,null,null,null,null,null,null,null,null,null,null,null,null,null,null,null,null,null,null,null,null,null,null,null,null,null,null,null,null,null,null,null,null,null,null,null,null,null,null,null,null,null,null,null,null,null,null,null,null,null,null,null,null,null,null,null,null,null,null,null,null,null,null,null,null,null,null,null,null,null,null,null,null,null,null,null,null,null,null,null,null,null,null,null,null,null,null,null,null,null,null,null,null,null,null,null,null,null,null,null,null,null,null,null,null,null,null,null,null,null,null,null,null,null,null,null,null,null,null,null,null,null,null,null,null,null,null,null,null,null,null,null,null,null,null,null,null,null,null,null,null,null,null,null,null,null,null,null,null,null,null,null,null,null,null,null,null,null,null,null,null,null,null,null,null,null,null,null,null,null,null,null,null,null,null,null,null,null,null,null,null,null,null,null,null,null,null,null,null,null,null,null,null,null,null,null,null,null,null,null,null,null,null,null,null,null,null,null,null,null,null,null,null,null,null,null,null,null,null,null,null,null,null,null,null,null,null,null,null,null,null,null,null,null,null,null,null,null,null,null,null,null,null,null,null,null,null,null,null,null,null,null,null,null,null,null,null,null,null,null,null,null,null,null,null,null,null,null,null,null,null,null,null,null,null,null,null,null,null,null,null,null,null,null,null,null,null,null,null,null,null,null,null,null,null,null,null,null,null,null,null,null,null,null,null,null,null,null,null,null,null,null,null,null,null,null,null,null,null,null,null,null,null,null,null,null,null,null,null,null,null,null,null,null,null,null,null,null,null,null,null,null,null,null,null,null,null,null,null,null,null,null,null,null,null,null,null,null,null,null,null,null,null,null,null,null,null,null,null,null,null,null,null,null,null,null,null,null,null,null,null,null,null,null,null,null,null,null,null,null,null,null,null,null,null,null,null,null,null,null,null,null,null,null,null,null,null,null,null,null,null,null,null,null,null,null,null,null,null,null,null,null,null,null,null,null,null,null,null,null,null,null,null,null,null,null,null,null,null,null,null,null,null,null,null,null,null,null,null,null,null,null,null,null,null,null,null,null,null,null,null,null,null,null,null,null,null,null,null,null,null,null,null,null,null,null,null,null,null,null,null,null,null,null,null,null,null,null,null,null,null,null,null,null,null,null,null,null,null,null,null,null,null,null,null,null,null,null,null,null,null,null,null,null,null,null,null,null,null,null,null,null,null,null,null,null,null,null,null,null,null,null,null,null,null,null,null,null,null,null,null,null,null,null,null,null,null,null,null,null,null,null,null,null,null,null,null,null,null,null,null,null,null,null,null,null,null,null,null,null,null,null,null,null,null,null,null,null,null,null,null,null,null,null,null,null,null,null,null,null,null,null,null,null,null,null,null,null,null,null,null,null,null,null,null,null,null,null,null,null,null,null,null,null,null,null,null,null,null,null,null,null,null,null,null,null,null,null,null,null,null,null,null,null,null,null,null,null,null,null,null,null,null,null,null,null,null,null,null,null,null,null,null,null,null,null,null,null,null,null,null,null,null,null,null,null,null,null,null,null,null,null,null,null,null,null,null,null,null,null,null,null,null,null,null,null,null,null,null,null,null,null,null,null,null,null,null,null,null,null,null,null,null,null,null,null,null,null,null,null,null,null,null,null,null,null,null,null,null,null,null,null,null,null,null,null,null,null,null,null,null,null,null,null,null,null,null,null,null,null,null,null,null,null,null,null,null,null,null,null,null,null,null,null,null,null,null,null,null,null,null,null,null,null,null,null,null,null,null,null,null,null,null,null,null,null,null,null,null,null,null,null,null,null,null,null,null,null,null,null,null,null,null,null,null,null,null,null,null,null,null,null,null,null,null,null,null,null,null,null,null,null,null,null,null,null,null,null,null,null,null,null,null,null,null,null,null,null,null,null,null,null,null,null,null,null,null,null,null,null,null,null,null,null,null,null,null,null,null,null,null,null,null,null,null,null,null,null,null,null,null,null,null,null,null,null,null,null,null,null,null,null,null,null,null,null,null,null,null,null,null,null,null,null,null,null,null,null,null,null,null,null,null,null,null,null,null,null,null,null,null,null,null,null,null,null,null,null,null,null,null,null,null,null,null,null,null,null,null,null,null,null,null,null,null,null,null,null,null,null,null,null,null,null,null,null,null,null,null,null,null,null,null,null,null,null,null,null,null,null,null,null,null,null,null,null,null,null,null,null,null,null,null,null,null,null,null,null,null,null,null,null,null,null,null,null,null,null,null,null,null,null,null,null,null,null,null,null,null,null,null,null,null,null,null,null,null,null,null,null,null,null,null,null,null,null,null,null,null,null,null,null,null,null,null,null,null,null,null,null,null,null,null,null,null,null,null,null,null,null,null,null,null,null,null,null,null,null,null,null,null,null,null,null,null,null,null,null,null,null,null,null,null,null,null,null,null,null,null,null,null,null,null,null,null,null,null,null,null,null,null,null,null,null,null,null,null,null,null,null,null,null,null,null,null,null,null,null,null,null,null,null,null,null,null,null,null,null,null,null,null,null,null,null,null,null,null,null,null,null,null,null,null,null,null,null,null,null,null,null,null,null,null,null,null,null,null,null,null,null,null,null,null,null,null,null,null,null,null,null,null,null,null,null,null,null,null,null,null,null,null,null,null,null,null,null,null,null,null,null,null,null,null,null,null,null,null,null,null,null,null,null,null,null,null,null,null,null,null,null,null,null,null,null,null,null,null,null,null,null,null,null,null,null,null,null,null,null,null,null,null,null,null,null,null,null,null,null,null,null,null,null,null,null,null,null,null,null,null,null,null,null,null,null,null,null,null,null,null,null,null,null,null,null,null,null,null,null,null,null,null,null,null,null,null,null,null,null,null,null,null,null,null,null,null,null,null,null,null,null,null,null,null,null,null,null,null,null,null,null,null,null,null,null,null,null,null,null,null,null,null,null,null,null,null,null,null,null,null,null,null,null,null,null,null,null,null,null,null,null,null,null,null,null,null,null,null,null,null,null,null,null,null,null,null,null,null,null,null,null,null,null,null,null,null,null,null,null,null,null,null,null,null,null,null,null,null,null,null,null,null,null,null,null,null,null,null,null,null,null,null,null,null,null,null,null,null,null,null,null,null,null,null,null,null,null,null,null,null,null,null,null,null,null,null,null,null,null,null,null,null,null,null,null,null,null,null,null,null,null,null,null,null,null,null,null,null,null,null,null,null,null,null,null,null,null,null,null,null,null,null,null,null,null,null,null,null,null,null,null,null,null,null,null,null,null,null,null,null,null,null,null,null,null,null,null,null,null,null,null,null,null,null,null,null,null,null,null,null,null,null,null,null,null,null,null,null,null,null,null,null,null,null,null,null,null,null,null,null,null,null,null,null,null,null,null,null,null,null,null,null,null,null,null,null,null,null,null,null,null,null,null,null,null,null,null,null,null,null,null,null,null,null,null,null,null,null,null,null,null,null,null,null,null,null,null,null,null,null,null,null,null,null,null,null,null,null,null,null,null,null,null,null,null,null,null,null,null,null,null,null,null,null,null,null,null,null,null,null,null,null,null,null,null,null,null,null,null,null,null,null,null,null,null,null,null,null,null,null,null,null,null,null,null,null,null,null,null,null,null,null,null,null,null,null,null,null,null,null,null,null,null,null,null,null,null,null,null,null,null,null,null,null,null,null,null,null,null,null,null,null,null,null,null,null,null,null,null,null,null,null,null,null,null,null,null,null,null,null,null,null,null,null,null,null,null,null,null,null,null,null,null,null,null,null,null,null,null,null,null,null,null,null,null,null,null,null,null,null,null,null,null,null,null,null,null,null,null,null,null,null,null,null,null,null,null,null,null,null,null,null,null,null,null,null,null,null,null,null,null,null,null,null,null,null,null,null,null,null,null,null,null,null,null,null,null,null,null,null,null,null,null,null,null,null,null,null,null,null,null,null,null,null,null,null,null,null,null,null,null,null,null,null,null,null,null,null,null,null,null,null,null,null,null,null,null,null,null,null,null,null,null,null,null,null,null,null,null,null,null,null,null,null,null,null,null,null,null,null,null,null,null,null,null,null,null,null,null,null,null,null,null,null,null,null,null,null,null,null,null,null,null,null,null,null,null,null,null,null,null,null,null,null,null,null,null,null,null,null,null,null,null,null,null,null,null,null,null,null,null,null,null,null,null,null,null,null,null,null,null,null,null,null,null,null,null,null,null,null,null,null,null,null,null,null,null,null,null,null,null,null,null,null,null,null,null,null,null,null,null,null,null,null,null,null,null,null,null,null,null,null,null,null,null,null,null,null,null,null,null,null,null,null,null,null,null,null,null,null,null,null,null,null,null,null,null,null,null,null,null,null,null,null,null,null,null,null,null,null,null,null,null,null,null,null,null,null,null,null,null,null,null,null,null,null,null,null,null,9]
["QUÉSOS",null,null,"EXTINTOR DE AFFF DE 6 LITROS  / UNIDAD",null,null,"Pijama para mujer",null,"355 TABLAS PARA ESCRIBIR",null,null,"130 TAJALAPIZ",null,null,"94 JUEGO UNO",null,null,"335 AMPLIFICADOR PERSONAL RECARGABLE",null,null,"45 CUCHILLOS MALAYOS",null,null,null,null,null,null,null,null,null,null,null,null,null,null,null,null,null,null,null,null,null,null,null,null,null,null,null,null,null,null,null,null,null,null,null,null,null,null,null,null,null,null,null,null,null,null,null,null,null,null,null,null,null,null,null,null,null,null,null,null,null,null,null,null,null,null,null,null,null,null,null,null,null,null,null,null,null,null,null,null,null,null,null,null,null,null,null,null,null,null,null,null,null,null,null,null,null,null,null,null,null,null,null,null,null,null,null,null,null,null,null,null,null,null,null,null,null,null,null,null,null,null,null,null,null,null,null,null,null,null,null,null,null,null,null,null,null,null,null,null,null,null,null,null,null,null,null,null,null,null,null,null,null,null,null,null,null,null,null,null,null,null,null,null,null,null,null,null,null,null,null,null,null,null,null,null,null,null,null,null,null,null,null,null,null,null,null,null,null,null,null,null,null,null,null,null,null,null,null,null,null,null,null,null,null,null,null,null,null,null,null,null,null,null,null,null,null,null,null,null,null,null,null,null,null,null,null,null,null,null,null,null,null,null,null,null,null,null,null,null,null,null,null,null,null,null,null,null,null,null,null,null,null,null,null,null,null,null,null,null,null,null,null,null,null,null,null,null,null,null,null,null,null,null,null,null,null,null,null,null,null,null,null,null,null,null,null,null,null,null,null,null,null,null,null,null,null,null,null,null,null,null,null,null,null,null,null,null,null,null,null,null,null,null,null,null,null,null,null,null,null,null,null,null,null,null,null,null,null,null,null,null,null,null,null,null,null,null,null,null,null,null,null,null,null,null,null,null,null,null,null,null,null,null,null,null,null,null,null,null,null,null,null,null,null,null,null,null,null,null,null,null,null,null,null,null,null,null,null,null,null,null,null,null,null,null,null,null,null,null,null,null,null,null,null,null,null,null,null,null,null,null,null,null,null,null,null,null,null,null,null,null,null,null,null,null,null,null,null,null,null,null,null,null,null,null,null,null,null,null,null,null,null,null,null,null,null,null,null,null,null,null,null,null,null,null,null,null,null,null,null,null,null,null,null,null,null,null,null,null,null,null,null,null,null,null,null,null,null,null,null,null,null,null,null,null,null,null,null,null,null,null,null,null,null,null,null,null,null,null,null,null,null,null,null,null,null,null,null,null,null,null,null,null,null,null,null,null,null,null,null,null,null,null,null,null,null,null,null,null,null,null,null,null,null,null,null,null,null,null,null,null,null,null,null,null,null,null,null,null,null,null,null,null,null,null,null,null,null,null,null,null,null,null,null,null,null,null,null,null,null,null,null,null,null,null,null,null,null,null,null,null,null,null,null,null,null,null,null,null,null,null,null,null,null,null,null,null,null,null,null,null,null,null,null,null,null,null,null,null,null,null,null,null,null,null,null,null,null,null,null,null,null,null,null,null,null,null,null,null,null,null,null,null,null,null,null,null,null,null,null,null,null,null,null,null,null,null,null,null,null,null,null,null,null,null,null,null,null,null,null,null,null,null,null,null,null,null,null,null,null,null,null,null,null,null,null,null,null,null,null,null,null,null,null,null,null,null,null,null,null,null,null,null,null,null,null,null,null,null,null,null,null,null,null,null,null,null,null,null,null,null,null,null,null,null,null,null,null,null,null,null,null,null,null,null,null,null,null,null,null,null,null,null,null,null,null,null,null,null,null,null,null,null,null,null,null,null,null,null,null,null,null,null,null,null,null,null,null,null,null,null,null,null,null,null,null,null,null,null,null,null,null,null,null,null,null,null,null,null,null,null,null,null,null,null,null,null,null,null,null,null,null,null,null,null,null,null,null,null,null,null,null,null,null,null,null,null,null,null,null,null,null,null,null,null,null,null,null,null,null,null,null,null,null,null,null,null,null,null,null,null,null,null,null,null,null,null,null,null,null,null,null,null,null,null,null,null,null,null,null,null,null,null,null,null,null,null,null,null,null,null,null,null,null,null,null,null,null,null,null,null,null,null,null,null,null,null,null,null,null,null,null,null,null,null,null,null,null,null,null,null,null,null,null,null,null,null,null,null,null,null,null,null,null,null,null,null,null,null,null,null,null,null,null,null,null,null,null,null,null,null,null,null,null,null,null,null,null,null,null,null,null,null,null,null,null,null,null,null,null,null,null,null,null,null,null,null,null,null,null,null,null,null,null,null,null,null,null,null,null,null,null,null,null,null,null,null,null,null,null,null,null,null,null,null,null,null,null,null,null,null,null,null,null,null,null,null,null,null,null,null,null,null,null,null,null,null,null,null,null,null,null,null,null,null,null,null,null,null,null,null,null,null,null,null,null,null,null,null,null,null,null,null,null,null,null,null,null,null,null,null,null,null,null,null,null,null,null,null,null,null,null,null,null,null,null,null,null,null,null,null,null,null,null,null,null,null,null,null,null,null,null,null,null,null,null,null,null,null,null,null,null,null,null,null,null,null,null,null,null,null,null,null,null,null,null,null,null,null,null,null,null,null,null,null,null,null,null,null,null,null,null,null,null,null,null,null,null,null,null,null,null,null,null,null,null,null,null,null,null,null,null,null,null,null,null,null,null,null,null,null,null,null,null,null,null,null,null,null,null,null,null,null,null,null,null,null,null,null,null,null,null,null,null,null,null,null,null,null,null,null,null,null,null,null,null,null,null,null,null,null,null,null,null,null,null,null,null,null,null,null,null,null,null,null,null,null,null,null,null,null,null,null,null,null,null,null,null,null,null,null,null,null,null,null,null,null,null,null,null,null,null,null,null,null,null,null,null,null,null,null,null,null,null,null,null,null,null,null,null,null,null,null,null,null,null,null,null,null,null,null,null,null,null,null,null,null,null,null,null,null,null,null,null,null,null,null,null,null,null,null,null,null,null,null,null,null,null,null,null,null,null,null,null,null,null,null,null,null,null,null,null,null,null,null,null,null,null,null,null,null,null,null,null,null,null,null,null,null,null,null,null,null,null,null,null,null,null,null,null,null,null,null,null,null,null,null,null,null,null,null,null,null,null,null,null,null,null,null,null,null,null,null,null,null,null,null,null,null,null,null,null,null,null,null,null,null,null,null,null,null,null,null,null,null,null,null,null,null,null,null,null,null,null,null,null,null,null,null,null,null,null,null,null,null,null,null,null,null,null,null,null,null,null,null,null,null,null,null,null,null,null,null,null,null,null,null,null,null,null,null,null,null,null,null,null,null,null,null,null,null,null,null,null,null,null,null,null,null,null,null,null,null,null,null,null,null,null,null,null,null,null,null,null,null,null,null,null,null,null,null,null,null,null,null,null,null,null,null,null,null,null,null,null,null,null,null,null,null,null,null,null,null,null,null,null,null,null,null,null,null,null,null,null,null,null,null,null,null,null,null,null,null,null,null,null,null,null,null,null,null,null,null,null,null,null,null,null,null,null,null,null,null,null,null,null,null,null,null,null,null,null,null,null,null,null,null,null,null,null,null,null,null,null,null,null,null,null,null,null,null,null,null,null,null,null,null,null,null,null,null,null,null,null,null,null,null,null,null,null,null,null,null,null,null,null,null,null,null,null,null,null,null,null,null,null,null,null,null,null,null,null,null,null,null,null,null,null,null,null,null,null,null,null,null,null,null,null,null,null,null,null,null,null,null,null,null,null,null,null,null,null,null,null,null,null,null,null,null,null,null,null,null,null,null,null,null,null,null,null,null,null,null,null,null,null,null,null,null,null,null,null,null,null,null,null,null,null,null,null,null,null,null,null,null,null,null,null,null,null,null,null,null,null,null,null,null,null,null,null,null,null,null,null,null,null,null,null,null,null,null,null,null,null,null,null,null,null,null,null,null,null,null,null,null,null,null,null,null,null,null,null,null,null,null,null,null,null,null,null,null,null,null,null,null,null,null,null,null,null,null,null,null,null,null,null,null,null,null,null,null,null,null,null,null,null,null,null,null,null,null,null,null,null,null,null,null,null,null,null,null,null,null,null,null,null,null,null,null,null,null,null,null,null,null,null,null,null,null,null,null,null,null,null,null,null,null,null,null,null,null,null,null,null,null,null,null,null,null,null,null,null,null,null,null,null,null,null,null,null,null,null,null,null,null,null,null,null,null,null,null,null,null,null,null,null,null,null,null,null,null,null,null,null,null,null,null,null,null,null,null,null,null,null,null,null,null,null,null,null,null,null,null,null,null,null,null,null,null,null,null,null,null,null,null,null,null,null,null,null,null,null,null,null,null,null,null,null,null,null,null,null,null,null,null,null,null,null,null,null,null,null,null,null,null,null,null,null,null,null,null,null,null,null,null,null,null,null,null,null,null,null,null,null,null,null,null,null,null,null,null,null,null,null,null,null,null,null,null,null,null,null,null,null,null,null,null,null,null,null,null,null,null,null,null,null,null,null,null,null,null,null,null,null,null,null,null,null,null,null,null,null,null,null,null,null,null,null,null,null,null,null,null,null,null,null,null,null,null,null,null,null,null,null,null,null,null,null,null,null,null,null,null,null,null,null,null,null,null,null,null,null,null,null,null,null,null,null,null,null,null,null,null,null,null,null,null,null,null,null,null,null,null,null,null,null,null,null,null,null,null,null,null,null,null,null,null,null,null,null,null,null,null,null,null,null,null,null,null,null,null,null,null,null,null,null,null,null,null,null,null,null,null,null,null,null,null,null,null,null,null,null,null,null,null,null,null,null,null,null,null,null,null,null,null,null,null,null,null,null,null,null,null,null,null,null,null,null,null,null,null,null,null,null,null,null,null,null,null,null,null,null,null,null,null,null,null,null,null,null,null,null,null,null,null,null,null,null,null,null,null,null,null,null,null,null,null,null,null,null,null,null,null,null,null,null,null,null,null,null,null,null,null,null,null,null,null,null,null,null,null,null,null,null,null,null,null,null,null,null,null,null,null,null,null,null,null,null,null,null,null,null,null,null,null,null,null,null,null,null,null,null,null,null,null,null,null,null,null,null,null,null,null,null,null,null,null,null,null,null,null,null,null,null,null,null,null,null,null,null,null,null,null,null,null,null,null,null,null,null,null,null,null,null,null,null,null,null,null,null,null,null,null,null,null,null,null,null,null,null,null,null,null,null,null,null,null,null,null,null,null,null,null,null,null,null,null,null,null,null,null,null,null,null,null,null,null,null,null,null,null,null,null,null,null,null,null,null,null,null,null,null,null,null,null,null,null,null,null,null,null,null,null,null,null,null,null,null,null,null,null,null,null,null,null,null,null,null,null,null,null,null,null,null,null,null,null,null,null,null,null,null,null,null,null,null,null,null,null,null,null,null,null,null,null,null,null,null,null,null,null,null,null,null,null,null,null,null,null,null,null,null,null,null,null,null,null,null,null,null,null,null,null,null,null,null,null,null,null,null,null,null,null,null,null,null,null,null,null,null,null,null,null,null,null,null,null,null,null,null,null,null,null,null,null,null,null,null,null,null,null,null,null,null,null,null,null,null,null,null,null,null,null,null,null,null,null,null,null,null,null,null,null,null,null,null,null,null,null,null,null,null,null,null,null,null,null,null,null,null,null,null,null,null,null,null,null,null,null,null,null,null,null,null,null,null,null,null,null,null,null,null,null,null,null,null,10]
[null,null,null,"EXTINTOR DE AFFF DE 9,5 LITROS  / UNIDAD",null,null,"Pijama para niña",null,"366 LIBRETA PARA NOTAS",null,null,"135 ACUARELAS",null,null,"95 TORRE JENGA EN MADERA",null,null,"336 RADIO BIDIRECCIONAL",null,null,"46 PALÍN",null,null,null,null,null,null,null,null,null,null,null,null,null,null,null,null,null,null,null,null,null,null,null,null,null,null,null,null,null,null,null,null,null,null,null,null,null,null,null,null,null,null,null,null,null,null,null,null,null,null,null,null,null,null,null,null,null,null,null,null,null,null,null,null,null,null,null,null,null,null,null,null,null,null,null,null,null,null,null,null,null,null,null,null,null,null,null,null,null,null,null,null,null,null,null,null,null,null,null,null,null,null,null,null,null,null,null,null,null,null,null,null,null,null,null,null,null,null,null,null,null,null,null,null,null,null,null,null,null,null,null,null,null,null,null,null,null,null,null,null,null,null,null,null,null,null,null,null,null,null,null,null,null,null,null,null,null,null,null,null,null,null,null,null,null,null,null,null,null,null,null,null,null,null,null,null,null,null,null,null,null,null,null,null,null,null,null,null,null,null,null,null,null,null,null,null,null,null,null,null,null,null,null,null,null,null,null,null,null,null,null,null,null,null,null,null,null,null,null,null,null,null,null,null,null,null,null,null,null,null,null,null,null,null,null,null,null,null,null,null,null,null,null,null,null,null,null,null,null,null,null,null,null,null,null,null,null,null,null,null,null,null,null,null,null,null,null,null,null,null,null,null,null,null,null,null,null,null,null,null,null,null,null,null,null,null,null,null,null,null,null,null,null,null,null,null,null,null,null,null,null,null,null,null,null,null,null,null,null,null,null,null,null,null,null,null,null,null,null,null,null,null,null,null,null,null,null,null,null,null,null,null,null,null,null,null,null,null,null,null,null,null,null,null,null,null,null,null,null,null,null,null,null,null,null,null,null,null,null,null,null,null,null,null,null,null,null,null,null,null,null,null,null,null,null,null,null,null,null,null,null,null,null,null,null,null,null,null,null,null,null,null,null,null,null,null,null,null,null,null,null,null,null,null,null,null,null,null,null,null,null,null,null,null,null,null,null,null,null,null,null,null,null,null,null,null,null,null,null,null,null,null,null,null,null,null,null,null,null,null,null,null,null,null,null,null,null,null,null,null,null,null,null,null,null,null,null,null,null,null,null,null,null,null,null,null,null,null,null,null,null,null,null,null,null,null,null,null,null,null,null,null,null,null,null,null,null,null,null,null,null,null,null,null,null,null,null,null,null,null,null,null,null,null,null,null,null,null,null,null,null,null,null,null,null,null,null,null,null,null,null,null,null,null,null,null,null,null,null,null,null,null,null,null,null,null,null,null,null,null,null,null,null,null,null,null,null,null,null,null,null,null,null,null,null,null,null,null,null,null,null,null,null,null,null,null,null,null,null,null,null,null,null,null,null,null,null,null,null,null,null,null,null,null,null,null,null,null,null,null,null,null,null,null,null,null,null,null,null,null,null,null,null,null,null,null,null,null,null,null,null,null,null,null,null,null,null,null,null,null,null,null,null,null,null,null,null,null,null,null,null,null,null,null,null,null,null,null,null,null,null,null,null,null,null,null,null,null,null,null,null,null,null,null,null,null,null,null,null,null,null,null,null,null,null,null,null,null,null,null,null,null,null,null,null,null,null,null,null,null,null,null,null,null,null,null,null,null,null,null,null,null,null,null,null,null,null,null,null,null,null,null,null,null,null,null,null,null,null,null,null,null,null,null,null,null,null,null,null,null,null,null,null,null,null,null,null,null,null,null,null,null,null,null,null,null,null,null,null,null,null,null,null,null,null,null,null,null,null,null,null,null,null,null,null,null,null,null,null,null,null,null,null,null,null,null,null,null,null,null,null,null,null,null,null,null,null,null,null,null,null,null,null,null,null,null,null,null,null,null,null,null,null,null,null,null,null,null,null,null,null,null,null,null,null,null,null,null,null,null,null,null,null,null,null,null,null,null,null,null,null,null,null,null,null,null,null,null,null,null,null,null,null,null,null,null,null,null,null,null,null,null,null,null,null,null,null,null,null,null,null,null,null,null,null,null,null,null,null,null,null,null,null,null,null,null,null,null,null,null,null,null,null,null,null,null,null,null,null,null,null,null,null,null,null,null,null,null,null,null,null,null,null,null,null,null,null,null,null,null,null,null,null,null,null,null,null,null,null,null,null,null,null,null,null,null,null,null,null,null,null,null,null,null,null,null,null,null,null,null,null,null,null,null,null,null,null,null,null,null,null,null,null,null,null,null,null,null,null,null,null,null,null,null,null,null,null,null,null,null,null,null,null,null,null,null,null,null,null,null,null,null,null,null,null,null,null,null,null,null,null,null,null,null,null,null,null,null,null,null,null,null,null,null,null,null,null,null,null,null,null,null,null,null,null,null,null,null,null,null,null,null,null,null,null,null,null,null,null,null,null,null,null,null,null,null,null,null,null,null,null,null,null,null,null,null,null,null,null,null,null,null,null,null,null,null,null,null,null,null,null,null,null,null,null,null,null,null,null,null,null,null,null,null,null,null,null,null,null,null,null,null,null,null,null,null,null,null,null,null,null,null,null,null,null,null,null,null,null,null,null,null,null,null,null,null,null,null,null,null,null,null,null,null,null,null,null,null,null,null,null,null,null,null,null,null,null,null,null,null,null,null,null,null,null,null,null,null,null,null,null,null,null,null,null,null,null,null,null,null,null,null,null,null,null,null,null,null,null,null,null,null,null,null,null,null,null,null,null,null,null,null,null,null,null,null,null,null,null,null,null,null,null,null,null,null,null,null,null,null,null,null,null,null,null,null,null,null,null,null,null,null,null,null,null,null,null,null,null,null,null,null,null,null,null,null,null,null,null,null,null,null,null,null,null,null,null,null,null,null,null,null,null,null,null,null,null,null,null,null,null,null,null,null,null,null,null,null,null,null,null,null,null,null,null,null,null,null,null,null,null,null,null,null,null,null,null,null,null,null,null,null,null,null,null,null,null,null,null,null,null,null,null,null,null,null,null,null,null,null,null,null,null,null,null,null,null,null,null,null,null,null,null,null,null,null,null,null,null,null,null,null,null,null,null,null,null,null,null,null,null,null,null,null,null,null,null,null,null,null,null,null,null,null,null,null,null,null,null,null,null,null,null,null,null,null,null,null,null,null,null,null,null,null,null,null,null,null,null,null,null,null,null,null,null,null,null,null,null,null,null,null,null,null,null,null,null,null,null,null,null,null,null,null,null,null,null,null,null,null,null,null,null,null,null,null,null,null,null,null,null,null,null,null,null,null,null,null,null,null,null,null,null,null,null,null,null,null,null,null,null,null,null,null,null,null,null,null,null,null,null,null,null,null,null,null,null,null,null,null,null,null,null,null,null,null,null,null,null,null,null,null,null,null,null,null,null,null,null,null,null,null,null,null,null,null,null,null,null,null,null,null,null,null,null,null,null,null,null,null,null,null,null,null,null,null,null,null,null,null,null,null,null,null,null,null,null,null,null,null,null,null,null,null,null,null,null,null,null,null,null,null,null,null,null,null,null,null,null,null,null,null,null,null,null,null,null,null,null,null,null,null,null,null,null,null,null,null,null,null,null,null,null,null,null,null,null,null,null,null,null,null,null,null,null,null,null,null,null,null,null,null,null,null,null,null,null,null,null,null,null,null,null,null,null,null,null,null,null,null,null,null,null,null,null,null,null,null,null,null,null,null,null,null,null,null,null,null,null,null,null,null,null,null,null,null,null,null,null,null,null,null,null,null,null,null,null,null,null,null,null,null,null,null,null,null,null,null,null,null,null,null,null,null,null,null,null,null,null,null,null,null,null,null,null,null,null,null,null,null,null,null,null,null,null,null,null,null,null,null,null,null,null,null,null,null,null,null,null,null,null,null,null,null,null,null,null,null,null,null,null,null,null,null,null,null,null,null,null,null,null,null,null,null,null,null,null,null,null,null,null,null,null,null,null,null,null,null,null,null,null,null,null,null,null,null,null,null,null,null,null,null,null,null,null,null,null,null,null,null,null,null,null,null,null,null,null,null,null,null,null,null,null,null,null,null,null,null,null,null,null,null,null,null,null,null,null,null,null,null,null,null,null,null,null,null,null,null,null,null,null,null,null,null,null,null,null,null,null,null,null,null,null,null,null,null,null,null,null,null,null,null,null,null,null,null,null,null,null,null,null,null,null,null,null,null,null,null,null,null,null,null,null,null,null,null,null,null,null,null,null,null,null,null,null,null,null,null,null,null,null,null,null,null,null,null,null,null,null,null,null,null,null,null,null,null,null,null,null,null,null,null,null,null,null,null,null,null,null,null,null,null,null,null,null,null,null,null,null,null,null,null,null,null,null,null,null,null,null,null,null,null,null,null,null,null,null,null,null,null,null,null,null,null,null,null,null,null,null,null,null,null,null,null,null,null,null,null,null,null,null,null,null,null,null,null,null,null,null,null,null,null,null,null,null,null,null,null,null,null,null,null,null,null,null,null,null,null,null,null,null,null,null,null,null,null,null,null,null,null,null,null,null,null,null,null,null,null,null,null,null,null,null,null,null,null,null,null,null,null,null,null,null,null,null,null,null,null,null,null,null,null,null,null,null,null,null,null,null,null,null,null,null,null,null,null,null,null,null,null,null,null,null,null,null,null,null,null,null,null,null,null,null,null,null,null,null,null,null,null,null,null,null,null,null,null,null,null,null,null,null,null,null,null,null,null,null,null,null,null,null,null,null,null,null,null,null,null,null,null,null,null,null,null,null,null,null,null,null,null,null,null,null,null,null,null,null,null,null,null,null,null,null,null,null,null,null,null,null,null,null,null,null,null,null,null,null,null,null,null,null,null,null,null,null,null,null,null,null,null,null,null,null,null,null,null,null,null,null,null,null,null,null,null,null,null,null,null,null,null,null,null,null,null,null,null,null,null,null,null,null,null,null,null,null,null,null,null,null,null,null,null,null,null,null,null,null,null,null,null,null,null,null,null,null,null,null,null,null,null,null,null,null,null,null,null,null,null,null,null,null,null,null,null,null,null,null,null,null,null,null,null,null,null,null,null,null,null,null,null,null,null,null,null,null,null,null,null,null,null,null,null,null,null,null,null,null,null,null,null,null,null,null,null,null,null,null,null,null,null,null,null,null,null,null,null,null,null,null,null,null,null,null,null,null,null,null,null,null,null,null,null,null,null,null,null,null,null,null,null,null,null,null,null,null,null,null,null,null,null,null,null,null,null,null,null,null,null,null,null,null,null,null,null,null,null,null,null,null,null,null,null,null,null,null,null,null,null,null,null,null,null,null,null,null,null,null,null,null,null,null,null,null,null,null,null,null,null,null,null,null,null,null,null,null,null,null,null,null,null,null,null,null,null,null,null,null,null,null,null,null,null,null,null,null,null,null,null,null,null,null,null,null,null,null,null,null,null,null,null,null,null,null,null,null,null,null,null,null,null,null,null,null,null,null,null,null,null,null,null,null,null,null,null,null,null,null,null,null,null,null,null,null,null,null,null,null,null,null,null,null,null,null,null,null,null,null,null,null,null,null,null,null,null,null,null,null,null,null,null,null,null,null,null,null,null,null,null,null,null,null,null,null,null,null,null,null,null,null,null,null,null,null,null,null,null,null,null,null,null,null,null,null,null,null,null,null,null,null,null,null,null,null,null,null,null,null,11]
[null,null,null,"EXTINTOR DE AGENTE LIMPIO HCFC DE 2500 GRAMOS / UNIDAD",null,null,"Pijama para niño",null,null,null,null,"136 CARTULINA PLIEGO",null,null,null,null,null,"337 GPS BÁSICO",null,null,"47 PALA",null,null,null,null,null,null,null,null,null,null,null,null,null,null,null,null,null,null,null,null,null,null,null,null,null,null,null,null,null,null,null,null,null,null,null,null,null,null,null,null,null,null,null,null,null,null,null,null,null,null,null,null,null,null,null,null,null,null,null,null,null,null,null,null,null,null,null,null,null,null,null,null,null,null,null,null,null,null,null,null,null,null,null,null,null,null,null,null,null,null,null,null,null,null,null,null,null,null,null,null,null,null,null,null,null,null,null,null,null,null,null,null,null,null,null,null,null,null,null,null,null,null,null,null,null,null,null,null,null,null,null,null,null,null,null,null,null,null,null,null,null,null,null,null,null,null,null,null,null,null,null,null,null,null,null,null,null,null,null,null,null,null,null,null,null,null,null,null,null,null,null,null,null,null,null,null,null,null,null,null,null,null,null,null,null,null,null,null,null,null,null,null,null,null,null,null,null,null,null,null,null,null,null,null,null,null,null,null,null,null,null,null,null,null,null,null,null,null,null,null,null,null,null,null,null,null,null,null,null,null,null,null,null,null,null,null,null,null,null,null,null,null,null,null,null,null,null,null,null,null,null,null,null,null,null,null,null,null,null,null,null,null,null,null,null,null,null,null,null,null,null,null,null,null,null,null,null,null,null,null,null,null,null,null,null,null,null,null,null,null,null,null,null,null,null,null,null,null,null,null,null,null,null,null,null,null,null,null,null,null,null,null,null,null,null,null,null,null,null,null,null,null,null,null,null,null,null,null,null,null,null,null,null,null,null,null,null,null,null,null,null,null,null,null,null,null,null,null,null,null,null,null,null,null,null,null,null,null,null,null,null,null,null,null,null,null,null,null,null,null,null,null,null,null,null,null,null,null,null,null,null,null,null,null,null,null,null,null,null,null,null,null,null,null,null,null,null,null,null,null,null,null,null,null,null,null,null,null,null,null,null,null,null,null,null,null,null,null,null,null,null,null,null,null,null,null,null,null,null,null,null,null,null,null,null,null,null,null,null,null,null,null,null,null,null,null,null,null,null,null,null,null,null,null,null,null,null,null,null,null,null,null,null,null,null,null,null,null,null,null,null,null,null,null,null,null,null,null,null,null,null,null,null,null,null,null,null,null,null,null,null,null,null,null,null,null,null,null,null,null,null,null,null,null,null,null,null,null,null,null,null,null,null,null,null,null,null,null,null,null,null,null,null,null,null,null,null,null,null,null,null,null,null,null,null,null,null,null,null,null,null,null,null,null,null,null,null,null,null,null,null,null,null,null,null,null,null,null,null,null,null,null,null,null,null,null,null,null,null,null,null,null,null,null,null,null,null,null,null,null,null,null,null,null,null,null,null,null,null,null,null,null,null,null,null,null,null,null,null,null,null,null,null,null,null,null,null,null,null,null,null,null,null,null,null,null,null,null,null,null,null,null,null,null,null,null,null,null,null,null,null,null,null,null,null,null,null,null,null,null,null,null,null,null,null,null,null,null,null,null,null,null,null,null,null,null,null,null,null,null,null,null,null,null,null,null,null,null,null,null,null,null,null,null,null,null,null,null,null,null,null,null,null,null,null,null,null,null,null,null,null,null,null,null,null,null,null,null,null,null,null,null,null,null,null,null,null,null,null,null,null,null,null,null,null,null,null,null,null,null,null,null,null,null,null,null,null,null,null,null,null,null,null,null,null,null,null,null,null,null,null,null,null,null,null,null,null,null,null,null,null,null,null,null,null,null,null,null,null,null,null,null,null,null,null,null,null,null,null,null,null,null,null,null,null,null,null,null,null,null,null,null,null,null,null,null,null,null,null,null,null,null,null,null,null,null,null,null,null,null,null,null,null,null,null,null,null,null,null,null,null,null,null,null,null,null,null,null,null,null,null,null,null,null,null,null,null,null,null,null,null,null,null,null,null,null,null,null,null,null,null,null,null,null,null,null,null,null,null,null,null,null,null,null,null,null,null,null,null,null,null,null,null,null,null,null,null,null,null,null,null,null,null,null,null,null,null,null,null,null,null,null,null,null,null,null,null,null,null,null,null,null,null,null,null,null,null,null,null,null,null,null,null,null,null,null,null,null,null,null,null,null,null,null,null,null,null,null,null,null,null,null,null,null,null,null,null,null,null,null,null,null,null,null,null,null,null,null,null,null,null,null,null,null,null,null,null,null,null,null,null,null,null,null,null,null,null,null,null,null,null,null,null,null,null,null,null,null,null,null,null,null,null,null,null,null,null,null,null,null,null,null,null,null,null,null,null,null,null,null,null,null,null,null,null,null,null,null,null,null,null,null,null,null,null,null,null,null,null,null,null,null,null,null,null,null,null,null,null,null,null,null,null,null,null,null,null,null,null,null,null,null,null,null,null,null,null,null,null,null,null,null,null,null,null,null,null,null,null,null,null,null,null,null,null,null,null,null,null,null,null,null,null,null,null,null,null,null,null,null,null,null,null,null,null,null,null,null,null,null,null,null,null,null,null,null,null,null,null,null,null,null,null,null,null,null,null,null,null,null,null,null,null,null,null,null,null,null,null,null,null,null,null,null,null,null,null,null,null,null,null,null,null,null,null,null,null,null,null,null,null,null,null,null,null,null,null,null,null,null,null,null,null,null,null,null,null,null,null,null,null,null,null,null,null,null,null,null,null,null,null,null,null,null,null,null,null,null,null,null,null,null,null,null,null,null,null,null,null,null,null,null,null,null,null,null,null,null,null,null,null,null,null,null,null,null,null,null,null,null,null,null,null,null,null,null,null,null,null,null,null,null,null,null,null,null,null,null,null,null,null,null,null,null,null,null,null,null,null,null,null,null,null,null,null,null,null,null,null,null,null,null,null,null,null,null,null,null,null,null,null,null,null,null,null,null,null,null,null,null,null,null,null,null,null,null,null,null,null,null,null,null,null,null,null,null,null,null,null,null,null,null,null,null,null,null,null,null,null,null,null,null,null,null,null,null,null,null,null,null,null,null,null,null,null,null,null,null,null,null,null,null,null,null,null,null,null,null,null,null,null,null,null,null,null,null,null,null,null,null,null,null,null,null,null,null,null,null,null,null,null,null,null,null,null,null,null,null,null,null,null,null,null,null,null,null,null,null,null,null,null,null,null,null,null,null,null,null,null,null,null,null,null,null,null,null,null,null,null,null,null,null,null,null,null,null,null,null,null,null,null,null,null,null,null,null,null,null,null,null,null,null,null,null,null,null,null,null,null,null,null,null,null,null,null,null,null,null,null,null,null,null,null,null,null,null,null,null,null,null,null,null,null,null,null,null,null,null,null,null,null,null,null,null,null,null,null,null,null,null,null,null,null,null,null,null,null,null,null,null,null,null,null,null,null,null,null,null,null,null,null,null,null,null,null,null,null,null,null,null,null,null,null,null,null,null,null,null,null,null,null,null,null,null,null,null,null,null,null,null,null,null,null,null,null,null,null,null,null,null,null,null,null,null,null,null,null,null,null,null,null,null,null,null,null,null,null,null,null,null,null,null,null,null,null,null,null,null,null,null,null,null,null,null,null,null,null,null,null,null,null,null,null,null,null,null,null,null,null,null,null,null,null,null,null,null,null,null,null,null,null,null,null,null,null,null,null,null,null,null,null,null,null,null,null,null,null,null,null,null,null,null,null,null,null,null,null,null,null,null,null,null,null,null,null,null,null,null,null,null,null,null,null,null,null,null,null,null,null,null,null,null,null,null,null,null,null,null,null,null,null,null,null,null,null,null,null,null,null,null,null,null,null,null,null,null,null,null,null,null,null,null,null,null,null,null,null,null,null,null,null,null,null,null,null,null,null,null,null,null,null,null,null,null,null,null,null,null,null,null,null,null,null,null,null,null,null,null,null,null,null,null,null,null,null,null,null,null,null,null,null,null,null,null,null,null,null,null,null,null,null,null,null,null,null,null,null,null,null,null,null,null,null,null,null,null,null,null,null,null,null,null,null,null,null,null,null,null,null,null,null,null,null,null,null,null,null,null,null,null,null,null,null,null,null,null,null,null,null,null,null,null,null,null,null,null,null,null,null,null,null,null,null,null,null,null,null,null,null,null,null,null,null,null,null,null,null,null,null,null,null,null,null,null,null,null,null,null,null,null,null,null,null,null,null,null,null,null,null,null,null,null,null,null,null,null,null,null,null,null,null,null,null,null,null,null,null,null,null,null,null,null,null,null,null,null,null,null,null,null,null,null,null,null,null,null,null,null,null,null,null,null,null,null,null,null,null,null,null,null,null,null,null,null,null,null,null,null,null,null,null,null,null,null,null,null,null,null,null,null,null,null,null,null,null,null,null,null,null,null,null,null,null,null,null,null,null,null,null,null,null,null,null,null,null,null,null,null,null,null,null,null,null,null,null,null,null,null,null,null,null,null,null,null,null,null,null,null,null,null,null,null,null,null,null,null,null,null,null,null,null,null,null,null,null,null,null,null,null,null,null,null,null,null,null,null,null,null,null,null,null,null,null,null,null,null,null,null,null,null,null,null,null,null,null,null,null,null,null,null,null,null,null,null,null,null,null,null,null,null,null,null,null,null,null,null,null,null,null,null,null,null,null,null,null,null,null,null,null,null,null,null,null,null,null,null,null,null,null,null,null,null,null,null,null,null,null,null,null,null,null,null,null,null,null,null,null,null,null,null,null,null,null,null,null,null,null,null,null,null,null,null,null,null,null,null,null,null,null,null,null,null,null,null,null,null,null,null,null,null,null,null,null,null,null,null,null,null,null,null,null,null,null,null,null,null,null,null,null,null,null,null,null,null,null,null,null,null,null,null,null,null,null,null,null,null,null,null,null,null,null,null,null,null,null,null,null,null,null,null,null,null,null,null,null,null,null,null,null,null,null,null,null,null,null,null,null,null,null,null,null,null,null,null,null,null,null,null,null,null,null,null,null,null,null,null,null,null,null,null,null,null,null,null,null,null,null,null,null,null,null,null,null,null,null,null,null,null,null,null,null,null,null,null,null,null,null,null,null,null,null,null,null,null,null,null,null,null,null,null,null,null,null,null,null,null,null,null,null,null,null,null,null,null,null,null,null,null,null,null,null,null,null,null,null,null,null,null,null,null,null,null,null,null,null,null,null,null,null,null,null,null,null,null,null,null,null,null,null,null,null,null,null,null,null,null,null,null,null,null,null,null,null,null,null,null,null,null,null,null,null,null,null,null,null,null,null,null,null,null,null,null,null,null,null,null,null,null,null,null,null,null,null,null,null,null,null,null,null,null,null,null,null,null,null,null,null,null,null,null,null,null,null,null,null,null,null,null,null,null,null,null,null,null,null,null,null,null,null,null,null,null,null,null,null,null,null,null,null,null,null,null,null,null,null,null,null,null,null,null,null,null,null,null,null,null,null,null,null,null,null,null,null,null,null,null,null,null,null,null,null,null,null,null,null,null,null,null,null,null,null,null,null,null,null,null,null,null,null,null,null,null,null,null,null,null,null,null,null,null,null,null,null,null,null,null,null,null,null,null,null,null,null,null,null,null,null,null,null,null,null,null,null,null,null,null,null,null,null,null,null,null,null,null,null,null,null,null,null,null,null,null,null,null,null,null,null,12]
[null,null,null,"EXTINTOR DE AGENTE LIMPIO HCFC DE 3700 GRAMOS / UNIDAD",null,null,"Saco Polipropileno, paquete por 20 unidades",null,null,null,null,"14 ROLLO PAPEL BOND",null,null,null,null,null,"364 CAMARA DE VIDEO Y FOTOS RESISTENTE AL AGUA",null,null,"48 AZADÓN",null,null,null,null,null,null,null,null,null,null,null,null,null,null,null,null,null,null,null,null,null,null,null,null,null,null,null,null,null,null,null,null,null,null,null,null,null,null,null,null,null,null,null,null,null,null,null,null,null,null,null,null,null,null,null,null,null,null,null,null,null,null,null,null,null,null,null,null,null,null,null,null,null,null,null,null,null,null,null,null,null,null,null,null,null,null,null,null,null,null,null,null,null,null,null,null,null,null,null,null,null,null,null,null,null,null,null,null,null,null,null,null,null,null,null,null,null,null,null,null,null,null,null,null,null,null,null,null,null,null,null,null,null,null,null,null,null,null,null,null,null,null,null,null,null,null,null,null,null,null,null,null,null,null,null,null,null,null,null,null,null,null,null,null,null,null,null,null,null,null,null,null,null,null,null,null,null,null,null,null,null,null,null,null,null,null,null,null,null,null,null,null,null,null,null,null,null,null,null,null,null,null,null,null,null,null,null,null,null,null,null,null,null,null,null,null,null,null,null,null,null,null,null,null,null,null,null,null,null,null,null,null,null,null,null,null,null,null,null,null,null,null,null,null,null,null,null,null,null,null,null,null,null,null,null,null,null,null,null,null,null,null,null,null,null,null,null,null,null,null,null,null,null,null,null,null,null,null,null,null,null,null,null,null,null,null,null,null,null,null,null,null,null,null,null,null,null,null,null,null,null,null,null,null,null,null,null,null,null,null,null,null,null,null,null,null,null,null,null,null,null,null,null,null,null,null,null,null,null,null,null,null,null,null,null,null,null,null,null,null,null,null,null,null,null,null,null,null,null,null,null,null,null,null,null,null,null,null,null,null,null,null,null,null,null,null,null,null,null,null,null,null,null,null,null,null,null,null,null,null,null,null,null,null,null,null,null,null,null,null,null,null,null,null,null,null,null,null,null,null,null,null,null,null,null,null,null,null,null,null,null,null,null,null,null,null,null,null,null,null,null,null,null,null,null,null,null,null,null,null,null,null,null,null,null,null,null,null,null,null,null,null,null,null,null,null,null,null,null,null,null,null,null,null,null,null,null,null,null,null,null,null,null,null,null,null,null,null,null,null,null,null,null,null,null,null,null,null,null,null,null,null,null,null,null,null,null,null,null,null,null,null,null,null,null,null,null,null,null,null,null,null,null,null,null,null,null,null,null,null,null,null,null,null,null,null,null,null,null,null,null,null,null,null,null,null,null,null,null,null,null,null,null,null,null,null,null,null,null,null,null,null,null,null,null,null,null,null,null,null,null,null,null,null,null,null,null,null,null,null,null,null,null,null,null,null,null,null,null,null,null,null,null,null,null,null,null,null,null,null,null,null,null,null,null,null,null,null,null,null,null,null,null,null,null,null,null,null,null,null,null,null,null,null,null,null,null,null,null,null,null,null,null,null,null,null,null,null,null,null,null,null,null,null,null,null,null,null,null,null,null,null,null,null,null,null,null,null,null,null,null,null,null,null,null,null,null,null,null,null,null,null,null,null,null,null,null,null,null,null,null,null,null,null,null,null,null,null,null,null,null,null,null,null,null,null,null,null,null,null,null,null,null,null,null,null,null,null,null,null,null,null,null,null,null,null,null,null,null,null,null,null,null,null,null,null,null,null,null,null,null,null,null,null,null,null,null,null,null,null,null,null,null,null,null,null,null,null,null,null,null,null,null,null,null,null,null,null,null,null,null,null,null,null,null,null,null,null,null,null,null,null,null,null,null,null,null,null,null,null,null,null,null,null,null,null,null,null,null,null,null,null,null,null,null,null,null,null,null,null,null,null,null,null,null,null,null,null,null,null,null,null,null,null,null,null,null,null,null,null,null,null,null,null,null,null,null,null,null,null,null,null,null,null,null,null,null,null,null,null,null,null,null,null,null,null,null,null,null,null,null,null,null,null,null,null,null,null,null,null,null,null,null,null,null,null,null,null,null,null,null,null,null,null,null,null,null,null,null,null,null,null,null,null,null,null,null,null,null,null,null,null,null,null,null,null,null,null,null,null,null,null,null,null,null,null,null,null,null,null,null,null,null,null,null,null,null,null,null,null,null,null,null,null,null,null,null,null,null,null,null,null,null,null,null,null,null,null,null,null,null,null,null,null,null,null,null,null,null,null,null,null,null,null,null,null,null,null,null,null,null,null,null,null,null,null,null,null,null,null,null,null,null,null,null,null,null,null,null,null,null,null,null,null,null,null,null,null,null,null,null,null,null,null,null,null,null,null,null,null,null,null,null,null,null,null,null,null,null,null,null,null,null,null,null,null,null,null,null,null,null,null,null,null,null,null,null,null,null,null,null,null,null,null,null,null,null,null,null,null,null,null,null,null,null,null,null,null,null,null,null,null,null,null,null,null,null,null,null,null,null,null,null,null,null,null,null,null,null,null,null,null,null,null,null,null,null,null,null,null,null,null,null,null,null,null,null,null,null,null,null,null,null,null,null,null,null,null,null,null,null,null,null,null,null,null,null,null,null,null,null,null,null,null,null,null,null,null,null,null,null,null,null,null,null,null,null,null,null,null,null,null,null,null,null,null,null,null,null,null,null,null,null,null,null,null,null,null,null,null,null,null,null,null,null,null,null,null,null,null,null,null,null,null,null,null,null,null,null,null,null,null,null,null,null,null,null,null,null,null,null,null,null,null,null,null,null,null,null,null,null,null,null,null,null,null,null,null,null,null,null,null,null,null,null,null,null,null,null,null,null,null,null,null,null,null,null,null,null,null,null,null,null,null,null,null,null,null,null,null,null,null,null,null,null,null,null,null,null,null,null,null,null,null,null,null,null,null,null,null,null,null,null,null,null,null,null,null,null,null,null,null,null,null,null,null,null,null,null,null,null,null,null,null,null,null,null,null,null,null,null,null,null,null,null,null,null,null,null,null,null,null,null,null,null,null,null,null,null,null,null,null,null,null,null,null,null,null,null,null,null,null,null,null,null,null,null,null,null,null,null,null,null,null,null,null,null,null,null,null,null,null,null,null,null,null,null,null,null,null,null,null,null,null,null,null,null,null,null,null,null,null,null,null,null,null,null,null,null,null,null,null,null,null,null,null,null,null,null,null,null,null,null,null,null,null,null,null,null,null,null,null,null,null,null,null,null,null,null,null,null,null,null,null,null,null,null,null,null,null,null,null,null,null,null,null,null,null,null,null,null,null,null,null,null,null,null,null,null,null,null,null,null,null,null,null,null,null,null,null,null,null,null,null,null,null,null,null,null,null,null,null,null,null,null,null,null,null,null,null,null,null,null,null,null,null,null,null,null,null,null,null,null,null,null,null,null,null,null,null,null,null,null,null,null,null,null,null,null,null,null,null,null,null,null,null,null,null,null,null,null,null,null,null,null,null,null,null,null,null,null,null,null,null,null,null,null,null,null,null,null,null,null,null,null,null,null,null,null,null,null,null,null,null,null,null,null,null,null,null,null,null,null,null,null,null,null,null,null,null,null,null,null,null,null,null,null,null,null,null,null,null,null,null,null,null,null,null,null,null,null,null,null,null,null,null,null,null,null,null,null,null,null,null,null,null,null,null,null,null,null,null,null,null,null,null,null,null,null,null,null,null,null,null,null,null,null,null,null,null,null,null,null,null,null,null,null,null,null,null,null,null,null,null,null,null,null,null,null,null,null,null,null,null,null,null,null,null,null,null,null,null,null,null,null,null,null,null,null,null,null,null,null,null,null,null,null,null,null,null,null,null,null,null,null,null,null,null,null,null,null,null,null,null,null,null,null,null,null,null,null,null,null,null,null,null,null,null,null,null,null,null,null,null,null,null,null,null,null,null,null,null,null,null,null,null,null,null,null,null,null,null,null,null,null,null,null,null,null,null,null,null,null,null,null,null,null,null,null,null,null,null,null,null,null,null,null,null,null,null,null,null,null,null,null,null,null,null,null,null,null,null,null,null,null,null,null,null,null,null,null,null,null,null,null,null,null,null,null,null,null,null,null,null,null,null,null,null,null,null,null,null,null,null,null,null,null,null,null,null,null,null,null,null,null,null,null,null,null,null,null,null,null,null,null,null,null,null,null,null,null,null,null,null,null,null,null,null,null,null,null,null,null,null,null,null,null,null,null,null,null,null,null,null,null,null,null,null,null,null,null,null,null,null,null,null,null,null,null,null,null,null,null,null,null,null,null,null,null,null,null,null,null,null,null,null,null,null,null,null,null,null,null,null,null,null,null,null,null,null,null,null,null,null,null,null,null,null,null,null,null,null,null,null,null,null,null,null,null,null,null,null,null,null,null,null,null,null,null,null,null,null,null,null,null,null,null,null,null,null,null,null,null,null,null,null,null,null,null,null,null,null,null,null,null,null,null,null,null,null,null,null,null,null,null,null,null,null,null,null,null,null,null,null,null,null,null,null,null,null,null,null,null,null,null,null,null,null,null,null,null,null,null,null,null,null,null,null,null,null,null,null,null,null,null,null,null,null,null,null,null,null,null,null,null,null,null,null,null,null,null,null,null,null,null,null,null,null,null,null,null,null,null,null,null,null,null,null,null,null,null,null,null,null,null,null,null,null,null,null,null,null,null,null,null,null,null,null,null,null,null,null,null,null,null,null,null,null,null,null,null,null,null,null,null,null,null,null,null,null,null,null,null,null,null,null,null,null,null,null,null,null,null,null,null,null,null,null,null,null,null,null,null,null,null,null,null,null,null,null,null,null,null,null,null,null,null,null,null,null,null,null,null,null,null,null,null,null,null,null,null,null,null,null,null,null,null,null,null,null,null,null,null,null,null,null,null,null,null,null,null,null,null,null,null,null,null,null,null,null,null,null,null,null,null,null,null,null,null,null,null,null,null,null,null,null,null,null,null,null,null,null,null,null,null,null,null,null,null,null,null,null,null,null,null,null,null,null,null,null,null,null,null,null,null,null,null,null,null,null,null,null,null,null,null,null,null,null,null,null,null,null,null,null,null,null,null,null,null,null,null,null,null,null,null,null,null,null,null,null,null,null,null,null,null,null,null,null,null,null,null,null,null,null,null,null,null,null,null,null,null,null,null,null,null,null,null,null,null,null,null,null,null,null,null,null,null,null,null,null,null,null,null,null,null,null,null,null,null,null,null,null,null,null,null,null,null,null,null,null,null,null,null,null,null,null,null,null,null,null,null,null,null,null,null,null,null,null,null,null,null,null,null,null,null,null,null,null,null,null,null,null,null,null,null,null,null,null,null,null,null,null,null,null,null,null,null,null,null,null,null,null,null,null,null,null,null,null,null,null,null,null,null,null,null,null,null,null,null,null,null,null,null,null,null,null,null,null,null,null,null,null,null,null,null,null,null,null,null,null,null,null,null,null,null,null,null,null,null,null,null,null,null,null,null,null,null,null,null,null,null,null,null,null,null,null,null,null,null,null,null,null,null,null,null,null,null,null,null,null,null,null,null,null,null,null,null,null,null,null,null,null,null,null,null,null,null,null,null,null,null,null,null,null,null,null,null,null,null,null,null,null,null,null,null,null,null,null,null,null,null,null,null,null,null,null,null,null,null,null,null,null,null,null,null,null,null,null,null,null,null,null,null,null,null,null,null,13]
[null,null,null,"EXTINTOR DE AGENTE LIMPIO HCFC DE 7000 GRAMOS / UNIDAD",null,null,"Servicio de distribución Región Caribe central",null,null,null,null,"15 ROLLO PAPEL KRAFT",null,null,null,null,null,"374 DRONE",null,null,"49 MACHETE",null,null,null,null,null,null,null,null,null,null,null,null,null,null,null,null,null,null,null,null,null,null,null,null,null,null,null,null,null,null,null,null,null,null,null,null,null,null,null,null,null,null,null,null,null,null,null,null,null,null,null,null,null,null,null,null,null,null,null,null,null,null,null,null,null,null,null,null,null,null,null,null,null,null,null,null,null,null,null,null,null,null,null,null,null,null,null,null,null,null,null,null,null,null,null,null,null,null,null,null,null,null,null,null,null,null,null,null,null,null,null,null,null,null,null,null,null,null,null,null,null,null,null,null,null,null,null,null,null,null,null,null,null,null,null,null,null,null,null,null,null,null,null,null,null,null,null,null,null,null,null,null,null,null,null,null,null,null,null,null,null,null,null,null,null,null,null,null,null,null,null,null,null,null,null,null,null,null,null,null,null,null,null,null,null,null,null,null,null,null,null,null,null,null,null,null,null,null,null,null,null,null,null,null,null,null,null,null,null,null,null,null,null,null,null,null,null,null,null,null,null,null,null,null,null,null,null,null,null,null,null,null,null,null,null,null,null,null,null,null,null,null,null,null,null,null,null,null,null,null,null,null,null,null,null,null,null,null,null,null,null,null,null,null,null,null,null,null,null,null,null,null,null,null,null,null,null,null,null,null,null,null,null,null,null,null,null,null,null,null,null,null,null,null,null,null,null,null,null,null,null,null,null,null,null,null,null,null,null,null,null,null,null,null,null,null,null,null,null,null,null,null,null,null,null,null,null,null,null,null,null,null,null,null,null,null,null,null,null,null,null,null,null,null,null,null,null,null,null,null,null,null,null,null,null,null,null,null,null,null,null,null,null,null,null,null,null,null,null,null,null,null,null,null,null,null,null,null,null,null,null,null,null,null,null,null,null,null,null,null,null,null,null,null,null,null,null,null,null,null,null,null,null,null,null,null,null,null,null,null,null,null,null,null,null,null,null,null,null,null,null,null,null,null,null,null,null,null,null,null,null,null,null,null,null,null,null,null,null,null,null,null,null,null,null,null,null,null,null,null,null,null,null,null,null,null,null,null,null,null,null,null,null,null,null,null,null,null,null,null,null,null,null,null,null,null,null,null,null,null,null,null,null,null,null,null,null,null,null,null,null,null,null,null,null,null,null,null,null,null,null,null,null,null,null,null,null,null,null,null,null,null,null,null,null,null,null,null,null,null,null,null,null,null,null,null,null,null,null,null,null,null,null,null,null,null,null,null,null,null,null,null,null,null,null,null,null,null,null,null,null,null,null,null,null,null,null,null,null,null,null,null,null,null,null,null,null,null,null,null,null,null,null,null,null,null,null,null,null,null,null,null,null,null,null,null,null,null,null,null,null,null,null,null,null,null,null,null,null,null,null,null,null,null,null,null,null,null,null,null,null,null,null,null,null,null,null,null,null,null,null,null,null,null,null,null,null,null,null,null,null,null,null,null,null,null,null,null,null,null,null,null,null,null,null,null,null,null,null,null,null,null,null,null,null,null,null,null,null,null,null,null,null,null,null,null,null,null,null,null,null,null,null,null,null,null,null,null,null,null,null,null,null,null,null,null,null,null,null,null,null,null,null,null,null,null,null,null,null,null,null,null,null,null,null,null,null,null,null,null,null,null,null,null,null,null,null,null,null,null,null,null,null,null,null,null,null,null,null,null,null,null,null,null,null,null,null,null,null,null,null,null,null,null,null,null,null,null,null,null,null,null,null,null,null,null,null,null,null,null,null,null,null,null,null,null,null,null,null,null,null,null,null,null,null,null,null,null,null,null,null,null,null,null,null,null,null,null,null,null,null,null,null,null,null,null,null,null,null,null,null,null,null,null,null,null,null,null,null,null,null,null,null,null,null,null,null,null,null,null,null,null,null,null,null,null,null,null,null,null,null,null,null,null,null,null,null,null,null,null,null,null,null,null,null,null,null,null,null,null,null,null,null,null,null,null,null,null,null,null,null,null,null,null,null,null,null,null,null,null,null,null,null,null,null,null,null,null,null,null,null,null,null,null,null,null,null,null,null,null,null,null,null,null,null,null,null,null,null,null,null,null,null,null,null,null,null,null,null,null,null,null,null,null,null,null,null,null,null,null,null,null,null,null,null,null,null,null,null,null,null,null,null,null,null,null,null,null,null,null,null,null,null,null,null,null,null,null,null,null,null,null,null,null,null,null,null,null,null,null,null,null,null,null,null,null,null,null,null,null,null,null,null,null,null,null,null,null,null,null,null,null,null,null,null,null,null,null,null,null,null,null,null,null,null,null,null,null,null,null,null,null,null,null,null,null,null,null,null,null,null,null,null,null,null,null,null,null,null,null,null,null,null,null,null,null,null,null,null,null,null,null,null,null,null,null,null,null,null,null,null,null,null,null,null,null,null,null,null,null,null,null,null,null,null,null,null,null,null,null,null,null,null,null,null,null,null,null,null,null,null,null,null,null,null,null,null,null,null,null,null,null,null,null,null,null,null,null,null,null,null,null,null,null,null,null,null,null,null,null,null,null,null,null,null,null,null,null,null,null,null,null,null,null,null,null,null,null,null,null,null,null,null,null,null,null,null,null,null,null,null,null,null,null,null,null,null,null,null,null,null,null,null,null,null,null,null,null,null,null,null,null,null,null,null,null,null,null,null,null,null,null,null,null,null,null,null,null,null,null,null,null,null,null,null,null,null,null,null,null,null,null,null,null,null,null,null,null,null,null,null,null,null,null,null,null,null,null,null,null,null,null,null,null,null,null,null,null,null,null,null,null,null,null,null,null,null,null,null,null,null,null,null,null,null,null,null,null,null,null,null,null,null,null,null,null,null,null,null,null,null,null,null,null,null,null,null,null,null,null,null,null,null,null,null,null,null,null,null,null,null,null,null,null,null,null,null,null,null,null,null,null,null,null,null,null,null,null,null,null,null,null,null,null,null,null,null,null,null,null,null,null,null,null,null,null,null,null,null,null,null,null,null,null,null,null,null,null,null,null,null,null,null,null,null,null,null,null,null,null,null,null,null,null,null,null,null,null,null,null,null,null,null,null,null,null,null,null,null,null,null,null,null,null,null,null,null,null,null,null,null,null,null,null,null,null,null,null,null,null,null,null,null,null,null,null,null,null,null,null,null,null,null,null,null,null,null,null,null,null,null,null,null,null,null,null,null,null,null,null,null,null,null,null,null,null,null,null,null,null,null,null,null,null,null,null,null,null,null,null,null,null,null,null,null,null,null,null,null,null,null,null,null,null,null,null,null,null,null,null,null,null,null,null,null,null,null,null,null,null,null,null,null,null,null,null,null,null,null,null,null,null,null,null,null,null,null,null,null,null,null,null,null,null,null,null,null,null,null,null,null,null,null,null,null,null,null,null,null,null,null,null,null,null,null,null,null,null,null,null,null,null,null,null,null,null,null,null,null,null,null,null,null,null,null,null,null,null,null,null,null,null,null,null,null,null,null,null,null,null,null,null,null,null,null,null,null,null,null,null,null,null,null,null,null,null,null,null,null,null,null,null,null,null,null,null,null,null,null,null,null,null,null,null,null,null,null,null,null,null,null,null,null,null,null,null,null,null,null,null,null,null,null,null,null,null,null,null,null,null,null,null,null,null,null,null,null,null,null,null,null,null,null,null,null,null,null,null,null,null,null,null,null,null,null,null,null,null,null,null,null,null,null,null,null,null,null,null,null,null,null,null,null,null,null,null,null,null,null,null,null,null,null,null,null,null,null,null,null,null,null,null,null,null,null,null,null,null,null,null,null,null,null,null,null,null,null,null,null,null,null,null,null,null,null,null,null,null,null,null,null,null,null,null,null,null,null,null,null,null,null,null,null,null,null,null,null,null,null,null,null,null,null,null,null,null,null,null,null,null,null,null,null,null,null,null,null,null,null,null,null,null,null,null,null,null,null,null,null,null,null,null,null,null,null,null,null,null,null,null,null,null,null,null,null,null,null,null,null,null,null,null,null,null,null,null,null,null,null,null,null,null,null,null,null,null,null,null,null,null,null,null,null,null,null,null,null,null,null,null,null,null,null,null,null,null,null,null,null,null,null,null,null,null,null,null,null,null,null,null,null,null,null,null,null,null,null,null,null,null,null,null,null,null,null,null,null,null,null,null,null,null,null,null,null,null,null,null,null,null,null,null,null,null,null,null,null,null,null,null,null,null,null,null,null,null,null,null,null,null,null,null,null,null,null,null,null,null,null,null,null,null,null,null,null,null,null,null,null,null,null,null,null,null,null,null,null,null,null,null,null,null,null,null,null,null,null,null,null,null,null,null,null,null,null,null,null,null,null,null,null,null,null,null,null,null,null,null,null,null,null,null,null,null,null,null,null,null,null,null,null,null,null,null,null,null,null,null,null,null,null,null,null,null,null,null,null,null,null,null,null,null,null,null,null,null,null,null,null,null,null,null,null,null,null,null,null,null,null,null,null,null,null,null,null,null,null,null,null,null,null,null,null,null,null,null,null,null,null,null,null,null,null,null,null,null,null,null,null,null,null,null,null,null,null,null,null,null,null,null,null,null,null,null,null,null,null,null,null,null,null,null,null,null,null,null,null,null,null,null,null,null,null,null,null,null,null,null,null,null,null,null,null,null,null,null,null,null,null,null,null,null,null,null,null,null,null,null,null,null,null,null,null,null,null,null,null,null,null,null,null,null,null,null,null,null,null,null,null,null,null,null,null,null,null,null,null,null,null,null,null,null,null,null,null,null,null,null,null,null,null,null,null,null,null,null,null,null,null,null,null,null,null,null,null,null,null,null,null,null,null,null,null,null,null,null,null,null,null,null,null,null,null,null,null,null,null,null,null,null,null,null,null,null,null,null,null,null,null,null,null,null,null,null,null,null,null,null,null,null,null,null,null,null,null,null,null,null,null,null,null,null,null,null,null,null,null,null,null,null,null,null,null,null,null,null,null,null,null,null,null,null,null,null,null,null,null,null,null,null,null,null,null,null,null,null,null,null,null,null,null,null,null,null,null,null,null,null,null,null,null,null,null,null,null,null,null,null,null,null,null,null,null,null,null,null,null,null,null,null,null,null,null,null,null,null,null,null,null,null,null,null,null,null,null,null,null,null,null,null,null,null,null,null,null,null,null,null,null,null,null,null,null,null,null,null,null,null,null,null,null,null,null,null,null,null,null,null,null,null,null,null,null,null,null,null,null,null,null,null,null,null,null,null,null,null,null,null,null,null,null,null,null,null,null,null,null,null,null,null,null,null,null,null,null,null,null,null,null,null,null,null,null,null,null,null,null,null,null,null,null,null,null,null,null,null,null,null,null,null,null,null,null,null,null,null,null,null,null,null,null,null,null,null,null,null,null,null,null,null,null,null,null,null,null,null,null,null,null,null,null,null,null,null,null,null,null,null,null,null,null,null,null,null,null,null,null,null,null,null,null,null,null,null,null,null,null,null,null,null,null,null,null,null,null,null,null,null,null,null,null,null,null,null,null,null,null,null,null,null,null,null,null,null,null,null,null,null,null,null,null,null,null,null,null,null,null,null,null,null,null,null,null,null,null,null,null,null,null,null,null,null,null,null,null,null,null,14]
[null,null,null,"EXTINTOR DE AGENTE LIMPIO HCFC DE 9000 GRAMOS / UNIDAD",null,null,"Servicio de distribución Región Caribe occidental",null,null,null,null,"16 JUEGO DE PINCELES",null,null,null,null,null,"387 EQUIPO DE CÓMPUTO PARA PROGRAMACIÓN",null,null,"51 TIJERAS DE PODAR",null,null,null,null,null,null,null,null,null,null,null,null,null,null,null,null,null,null,null,null,null,null,null,null,null,null,null,null,null,null,null,null,null,null,null,null,null,null,null,null,null,null,null,null,null,null,null,null,null,null,null,null,null,null,null,null,null,null,null,null,null,null,null,null,null,null,null,null,null,null,null,null,null,null,null,null,null,null,null,null,null,null,null,null,null,null,null,null,null,null,null,null,null,null,null,null,null,null,null,null,null,null,null,null,null,null,null,null,null,null,null,null,null,null,null,null,null,null,null,null,null,null,null,null,null,null,null,null,null,null,null,null,null,null,null,null,null,null,null,null,null,null,null,null,null,null,null,null,null,null,null,null,null,null,null,null,null,null,null,null,null,null,null,null,null,null,null,null,null,null,null,null,null,null,null,null,null,null,null,null,null,null,null,null,null,null,null,null,null,null,null,null,null,null,null,null,null,null,null,null,null,null,null,null,null,null,null,null,null,null,null,null,null,null,null,null,null,null,null,null,null,null,null,null,null,null,null,null,null,null,null,null,null,null,null,null,null,null,null,null,null,null,null,null,null,null,null,null,null,null,null,null,null,null,null,null,null,null,null,null,null,null,null,null,null,null,null,null,null,null,null,null,null,null,null,null,null,null,null,null,null,null,null,null,null,null,null,null,null,null,null,null,null,null,null,null,null,null,null,null,null,null,null,null,null,null,null,null,null,null,null,null,null,null,null,null,null,null,null,null,null,null,null,null,null,null,null,null,null,null,null,null,null,null,null,null,null,null,null,null,null,null,null,null,null,null,null,null,null,null,null,null,null,null,null,null,null,null,null,null,null,null,null,null,null,null,null,null,null,null,null,null,null,null,null,null,null,null,null,null,null,null,null,null,null,null,null,null,null,null,null,null,null,null,null,null,null,null,null,null,null,null,null,null,null,null,null,null,null,null,null,null,null,null,null,null,null,null,null,null,null,null,null,null,null,null,null,null,null,null,null,null,null,null,null,null,null,null,null,null,null,null,null,null,null,null,null,null,null,null,null,null,null,null,null,null,null,null,null,null,null,null,null,null,null,null,null,null,null,null,null,null,null,null,null,null,null,null,null,null,null,null,null,null,null,null,null,null,null,null,null,null,null,null,null,null,null,null,null,null,null,null,null,null,null,null,null,null,null,null,null,null,null,null,null,null,null,null,null,null,null,null,null,null,null,null,null,null,null,null,null,null,null,null,null,null,null,null,null,null,null,null,null,null,null,null,null,null,null,null,null,null,null,null,null,null,null,null,null,null,null,null,null,null,null,null,null,null,null,null,null,null,null,null,null,null,null,null,null,null,null,null,null,null,null,null,null,null,null,null,null,null,null,null,null,null,null,null,null,null,null,null,null,null,null,null,null,null,null,null,null,null,null,null,null,null,null,null,null,null,null,null,null,null,null,null,null,null,null,null,null,null,null,null,null,null,null,null,null,null,null,null,null,null,null,null,null,null,null,null,null,null,null,null,null,null,null,null,null,null,null,null,null,null,null,null,null,null,null,null,null,null,null,null,null,null,null,null,null,null,null,null,null,null,null,null,null,null,null,null,null,null,null,null,null,null,null,null,null,null,null,null,null,null,null,null,null,null,null,null,null,null,null,null,null,null,null,null,null,null,null,null,null,null,null,null,null,null,null,null,null,null,null,null,null,null,null,null,null,null,null,null,null,null,null,null,null,null,null,null,null,null,null,null,null,null,null,null,null,null,null,null,null,null,null,null,null,null,null,null,null,null,null,null,null,null,null,null,null,null,null,null,null,null,null,null,null,null,null,null,null,null,null,null,null,null,null,null,null,null,null,null,null,null,null,null,null,null,null,null,null,null,null,null,null,null,null,null,null,null,null,null,null,null,null,null,null,null,null,null,null,null,null,null,null,null,null,null,null,null,null,null,null,null,null,null,null,null,null,null,null,null,null,null,null,null,null,null,null,null,null,null,null,null,null,null,null,null,null,null,null,null,null,null,null,null,null,null,null,null,null,null,null,null,null,null,null,null,null,null,null,null,null,null,null,null,null,null,null,null,null,null,null,null,null,null,null,null,null,null,null,null,null,null,null,null,null,null,null,null,null,null,null,null,null,null,null,null,null,null,null,null,null,null,null,null,null,null,null,null,null,null,null,null,null,null,null,null,null,null,null,null,null,null,null,null,null,null,null,null,null,null,null,null,null,null,null,null,null,null,null,null,null,null,null,null,null,null,null,null,null,null,null,null,null,null,null,null,null,null,null,null,null,null,null,null,null,null,null,null,null,null,null,null,null,null,null,null,null,null,null,null,null,null,null,null,null,null,null,null,null,null,null,null,null,null,null,null,null,null,null,null,null,null,null,null,null,null,null,null,null,null,null,null,null,null,null,null,null,null,null,null,null,null,null,null,null,null,null,null,null,null,null,null,null,null,null,null,null,null,null,null,null,null,null,null,null,null,null,null,null,null,null,null,null,null,null,null,null,null,null,null,null,null,null,null,null,null,null,null,null,null,null,null,null,null,null,null,null,null,null,null,null,null,null,null,null,null,null,null,null,null,null,null,null,null,null,null,null,null,null,null,null,null,null,null,null,null,null,null,null,null,null,null,null,null,null,null,null,null,null,null,null,null,null,null,null,null,null,null,null,null,null,null,null,null,null,null,null,null,null,null,null,null,null,null,null,null,null,null,null,null,null,null,null,null,null,null,null,null,null,null,null,null,null,null,null,null,null,null,null,null,null,null,null,null,null,null,null,null,null,null,null,null,null,null,null,null,null,null,null,null,null,null,null,null,null,null,null,null,null,null,null,null,null,null,null,null,null,null,null,null,null,null,null,null,null,null,null,null,null,null,null,null,null,null,null,null,null,null,null,null,null,null,null,null,null,null,null,null,null,null,null,null,null,null,null,null,null,null,null,null,null,null,null,null,null,null,null,null,null,null,null,null,null,null,null,null,null,null,null,null,null,null,null,null,null,null,null,null,null,null,null,null,null,null,null,null,null,null,null,null,null,null,null,null,null,null,null,null,null,null,null,null,null,null,null,null,null,null,null,null,null,null,null,null,null,null,null,null,null,null,null,null,null,null,null,null,null,null,null,null,null,null,null,null,null,null,null,null,null,null,null,null,null,null,null,null,null,null,null,null,null,null,null,null,null,null,null,null,null,null,null,null,null,null,null,null,null,null,null,null,null,null,null,null,null,null,null,null,null,null,null,null,null,null,null,null,null,null,null,null,null,null,null,null,null,null,null,null,null,null,null,null,null,null,null,null,null,null,null,null,null,null,null,null,null,null,null,null,null,null,null,null,null,null,null,null,null,null,null,null,null,null,null,null,null,null,null,null,null,null,null,null,null,null,null,null,null,null,null,null,null,null,null,null,null,null,null,null,null,null,null,null,null,null,null,null,null,null,null,null,null,null,null,null,null,null,null,null,null,null,null,null,null,null,null,null,null,null,null,null,null,null,null,null,null,null,null,null,null,null,null,null,null,null,null,null,null,null,null,null,null,null,null,null,null,null,null,null,null,null,null,null,null,null,null,null,null,null,null,null,null,null,null,null,null,null,null,null,null,null,null,null,null,null,null,null,null,null,null,null,null,null,null,null,null,null,null,null,null,null,null,null,null,null,null,null,null,null,null,null,null,null,null,null,null,null,null,null,null,null,null,null,null,null,null,null,null,null,null,null,null,null,null,null,null,null,null,null,null,null,null,null,null,null,null,null,null,null,null,null,null,null,null,null,null,null,null,null,null,null,null,null,null,null,null,null,null,null,null,null,null,null,null,null,null,null,null,null,null,null,null,null,null,null,null,null,null,null,null,null,null,null,null,null,null,null,null,null,null,null,null,null,null,null,null,null,null,null,null,null,null,null,null,null,null,null,null,null,null,null,null,null,null,null,null,null,null,null,null,null,null,null,null,null,null,null,null,null,null,null,null,null,null,null,null,null,null,null,null,null,null,null,null,null,null,null,null,null,null,null,null,null,null,null,null,null,null,null,null,null,null,null,null,null,null,null,null,null,null,null,null,null,null,null,null,null,null,null,null,null,null,null,null,null,null,null,null,null,null,null,null,null,null,null,null,null,null,null,null,null,null,null,null,null,null,null,null,null,null,null,null,null,null,null,null,null,null,null,null,null,null,null,null,null,null,null,null,null,null,null,null,null,null,null,null,null,null,null,null,null,null,null,null,null,null,null,null,null,null,null,null,null,null,null,null,null,null,null,null,null,null,null,null,null,null,null,null,null,null,null,null,null,null,null,null,null,null,null,null,null,null,null,null,null,null,null,null,null,null,null,null,null,null,null,null,null,null,null,null,null,null,null,null,null,null,null,null,null,null,null,null,null,null,null,null,null,null,null,null,null,null,null,null,null,null,null,null,null,null,null,null,null,null,null,null,null,null,null,null,null,null,null,null,null,null,null,null,null,null,null,null,null,null,null,null,null,null,null,null,null,null,null,null,null,null,null,null,null,null,null,null,null,null,null,null,null,null,null,null,null,null,null,null,null,null,null,null,null,null,null,null,null,null,null,null,null,null,null,null,null,null,null,null,null,null,null,null,null,null,null,null,null,null,null,null,null,null,null,null,null,null,null,null,null,null,null,null,null,null,null,null,null,null,null,null,null,null,null,null,null,null,null,null,null,null,null,null,null,null,null,null,null,null,null,null,null,null,null,null,null,null,null,null,null,null,null,null,null,null,null,null,null,null,null,null,null,null,null,null,null,null,null,null,null,null,null,null,null,null,null,null,null,null,null,null,null,null,null,null,null,null,null,null,null,null,null,null,null,null,null,null,null,null,null,null,null,null,null,null,null,null,null,null,null,null,null,null,null,null,null,null,null,null,null,null,null,null,null,null,null,null,null,null,null,null,null,null,null,null,null,null,null,null,null,null,null,null,null,null,null,null,null,null,null,null,null,null,null,null,null,null,null,null,null,null,null,null,null,null,null,null,null,null,null,null,null,null,null,null,null,null,null,null,null,null,null,null,null,null,null,null,null,null,null,null,null,null,null,null,null,null,null,null,null,null,null,null,null,null,null,null,null,null,null,null,null,null,null,null,null,null,null,null,null,null,null,null,null,null,null,null,null,null,null,null,null,null,null,null,null,null,null,null,null,null,null,null,null,null,null,null,null,null,null,null,null,null,null,null,null,null,null,null,null,null,null,null,null,null,null,null,null,null,null,null,null,null,null,null,null,null,null,null,null,null,null,null,null,null,null,null,null,null,null,null,null,null,null,null,null,null,null,null,null,null,null,null,null,null,null,null,null,null,null,null,null,null,null,null,null,null,null,null,null,null,null,null,null,null,null,null,null,null,null,null,null,null,null,null,null,null,null,null,null,null,null,null,null,null,null,null,null,null,null,null,null,null,null,null,null,null,null,null,null,null,null,null,null,null,null,null,null,null,null,null,null,null,null,null,null,null,null,null,null,null,null,null,null,null,null,null,null,null,null,null,null,null,null,null,null,null,null,null,null,null,null,null,null,null,null,null,null,null,null,null,null,null,null,null,null,null,null,null,null,null,null,null,null,null,null,null,null,null,null,null,15]
[null,null,null,"EXTINTOR DE AGUA DE  2 1/2  GALONES / UNIDAD",null,null,"Servicio de distribución Región Orinoquía",null,null,null,null,"211 TRANSPORTADOR PARA TABLERO",null,null,null,null,null,"388 TELÉFONO MÓVIL",null,null,"52 CARRETILLA"]
[null,null,null,"EXTINTOR DE AGUA DE 14 GALONES TIPO SATELITE / UNIDAD",null,null,"Servicio de distribución Región Pacífico sur",null,null,null,null,"214 ESCUADRA PARA TABLERO GRANDE",null,null,null,null,null,"389 GPS PARA PROGRAMACIÓN",null,null,"53 RASTRILLOS METÁLICOS"]
[null,null,null,"EXTINTOR DE CO2 DE 10 LIBRAS / UNIDAD",null,null,"Servicio de distribución Región Resto del país",null,null,null,null,"215 CARBONCILLO VEGETAL",null,null,null,null,null,"391 VIDEO BEAM",null,null,"59 GUADAÑA"]
[null,null,null,"EXTINTOR DE CO2 DE 100 LIBRAS / UNIDAD",null,null,"Servicio de distribución Región San Andrés y Providencia",null,null,null,null,"218 CAJA DE OLEOS",null,null,null,null,null,"399 CABEZAS MÓVILES PARA TEATRO",null,null,"60 PULVERIZADORA ESPALDA"]
[null,null,null,"EXTINTOR DE CO2 DE 100 LIBRAS TIPO CARRETILLA / UNIDAD",null,null,null,null,null,null,null,"219 TREMENTINA",null,null,null,null,null,"400 COMPUTADOR CON SOFTWARE PARA MEZCLA IMÁGENES",null,null,"61 PAR DE GUANTES DE NITRILO"]
[null,null,null,"EXTINTOR DE CO2 DE 15 LIBRAS / UNIDAD",null,null,null,null,null,null,null,"220 ACEITE DE LINAZA",null,null,null,null,null,"401 MICRÓFONOS INALÁMBRICOS",null,null,"64 MOTOBOMBA"]
[null,null,null,"EXTINTOR DE CO2 DE 150 LIBRAS / UNIDAD",null,null,null,null,null,null,null,"222 CAJA DE TIZAS PASTEL",null,null,null,null,null,"402 COMPRESOR DE PINTURA",null,null,"67 ALAMBRE DE PÚAS"]
[null,null,null,"EXTINTOR DE CO2 DE 20 LIBRAS / UNIDAD",null,null,null,null,null,null,null,"275 CONTENEDOR PLÁSTICO",null,null,null,null,null,"403 ESTUDIO DE AUDIO PROFESIONAL",null,null,"68 MARTILLO"]
[null,null,null,"EXTINTOR DE CO2 DE 5 LIBRAS / UNIDAD",null,null,null,null,null,null,null,"292 PAPEL CELOFÁN",null,null,null,null,null,"404 CABLE INSTRUMENTOS",null,null,"71 PALADRAGAS"]
[null,null,null,"EXTINTOR DE CO2 DE 50 LIBRAS TIPO CARRETILLA / UNIDAD",null,null,null,null,null,null,null,"3 COLORES TRIANGULARES",null,null,null,null,null,"405 INTERFAZ DE AUDIO",null,null,"72 ALAMBRE GALVANIZADO"]
[null,null,null,"EXTINTOR POLVO QUÍMICO SECO CLASE ABC PORTÁTIL DE 10 LIBRAS / UNIDAD",null,null,null,null,null,null,null,"315 TIZAS",null,null,null,null,null,"406 CÁMARA DE ACCIÓN",null,null,"73 PICA"]
[null,null,null,"EXTINTOR POLVO QUÍMICO SECO CLASE ABC PORTÁTIL DE 20 LIBRAS / UNIDAD",null,null,null,null,null,null,null,"325 CARTULINA OCTAVOS",null,null,null,null,null,"407 KIT DE SERIGRAFÍA",null,null,"75 MANGUERA"]
[null,null,null,"EXTINTOR POLVO QUÍMICO SECO CLASE ABC PORTÁTIL DE 30 LIBRAS / UNIDAD",null,null,null,null,null,null,null,"5 CRAYONES TRIANGULARES",null,null,null,null,null,"65 ESTACIÓN METEOROLÓGICA"]
[null,null,null,"EXTINTOR POLVO QUÍMICO SECO CLASE ABC PORTÁTIL DE 5 LIBRAS / UNIDAD",null,null,null,null,null,null,null,null,null,null,null,null,null,"82 SOFTWARE BÁSICO REGISTRO DE ANIMALES"]
[null,null,null,"EXTINTOR POLVO QUÍMICO SECO CLASE ABC RODANTE DE 150 LIBRAS / UNIDAD"]
[null,null,null,"EXTINTOR POLVO QUÍMICO SECO CLASE ABC RODANTE DE 50 LIBRAS / UNIDAD"]
[null,null,null,"EXTINTOR POLVO QUÍMICO SECO CLASE ABC TIPO ROBOT DE 150 LIBRAS / UNIDAD"]
[null,null,null,"EXTINTOR POLVO QUÍMICO SECO CLASE ABC TIPO ROBOT DE 75 LIBRAS / UNIDAD"]
[null,null,null,"EXTINTOR POLVO QUÍMICO SECO CLASE BC TIPO ROBOT DE 150 LIBRAS / UNIDAD"]
[null,null,null,"EXTINTOR POLVO QUÍMICO SECO CLASE BC TIPO ROBOT DE 75 LIBRAS / UNIDAD"]
[null,null,null,"EXTINTOR TIPO K DE 2 1/2  GALONES  / UNIDAD"]
[null,null,null,"EXTINTOR TIPO K DE 6 LITROS  / UNIDAD"]
[null,null,null,"GABINETE CONTRA INCENDIOS / UNIDAD"]
[null,null,null,"HACHA PICO PARA GABINETES CONTRAINCENDIOS / UNIDAD"]
[null,null,null,"INSPECCIÓN A GABINETE CONTRA INCENDIOS  / UNIDAD"]
[null,null,null,"INSPECCIÓN DE HERMETICIDAD DE TUBERÍAS  / UNIDAD"]
[null,null,null,"LLAVE SPANNER  / UNIDAD"]
[null,null,null,"MANGUERA CAUCHO LONA EXT 10/20 LBS 200 ACOPLE 14MM / UNIDAD"]
[null,null,null,"MANGUERA DOBLE CHAQUETA 1 1/2 100 PIES / UNIDAD"]
[null,null,null,"MANGUERA DOBLE CHAQUETA DE 2 1/2in POR 100 PIES / UNIDAD"]
[null,null,null,"MANGUERA EN PVC P/EXTINTOR DE 4 KGS C/ACOPLES / UNIDAD"]
[null,null,null,"MANGUERA TERMOPLASTICA AGUA 2.1/2 GL 250 / UNIDAD"]
[null,null,null,"MANGUERA TERMOPLASTICA EXT.AGENTE L. 3.7/9.0 V/PR / UNIDAD"]
[null,null,null,"MANTENIMIENTO CORRECTIVO   SELLO PLÁSTICO  / UNIDAD"]
[null,null,null,"MANTENIMIENTO CORRECTIVO - ANILLO DE VERIFICACIÓN / UNIDAD"]
[null,null,null,"MANTENIMIENTO CORRECTIVO - CALCOMANIA  / UNIDAD"]
[null,null,null,"MANTENIMIENTO CORRECTIVO - PASADOR DE SEGURIDAD / UNIDAD"]
[null,null,null,"MANTENIMIENTO PREVENTIVO DE EXTINTORES / UNIDAD"]
[null,null,null,"MARTILLO DE FRAGMENTACIÓN DE SEGURIDAD PARA VIDRIO CON GUAYA / UNIDAD"]
[null,null,null,"PRUEBA DE MANGUERAS  / UNIDAD"]
[null,null,null,"PRUEBA HIDROSTATICA EXTINTOR CO2 DE 5 A 20 / UNIDAD"]
[null,null,null,"PRUEBA HIDROSTATICA EXTINTOR CO2 DE 50 A 100 LIBRAS / UNIDAD"]
[null,null,null,"PRUEBA HIDROSTATICA EXTINTOR DE 14 GALONES TIPO SATELITE / UNIDAD"]
[null,null,null,"PRUEBA HIDROSTATICA EXTINTOR DE AFFF Y EXTINTOR TIPO K DE 6 LITROS A 10 LITROS / UNIDAD"]
[null,null,null,"PRUEBA HIDROSTATICA EXTINTOR DE AGENTE LIMPIO HCFC DE 2500 GRAMOS Y 3700 GRAMOS / UNIDAD"]
[null,null,null,"PRUEBA HIDROSTATICA EXTINTOR DE AGENTE LIMPIO HCFC DE 7000 GRAMOS Y 9000 GRAMOS / UNIDAD"]
[null,null,null,"PRUEBA HIDROSTATICA EXTINTOR DE AGUA Y EXTINTOR TIPO K DE  2 1/2  GALONES / UNIDAD"]
[null,null,null,"PRUEBA HIDROSTATICA EXTINTOR POLVO QUÍMICO SECO CLASE ABC Y CLASE BC TIPO ROBOT DE 75 Y 150 LIBRAS / UNIDAD"]
[null,null,null,"PRUEBA HIDROSTATICA EXTINTOR POLVO QUÍMICO SECO CLASE ABC Y EXTINTOR BC DE 31 A 150 LIBRAS / UNIDAD"]
[null,null,null,"PRUEBA HIDROSTATICA EXTINTOR POLVO QUÍMICO SECO CLASE ABC Y EXTINTOR BC DE 5 A 30 LIBRAS / UNIDAD"]
[null,null,null,"RECARGA DE EXTINTOR BC 10 LIBRAS / UNIDAD"]
[null,null,null,"RECARGA DE EXTINTOR BC 150 LIBRAS / UNIDAD"]
[null,null,null,"RECARGA DE EXTINTOR BC 20 LIBRAS / UNIDAD"]
[null,null,null,"RECARGA DE EXTINTOR BC 30 LIBRAS / UNIDAD"]
[null,null,null,"RECARGA DE EXTINTOR BC 5 LIBRAS / UNIDAD"]
[null,null,null,"RECARGA DE EXTINTOR DE AFFF DE 6 LITROS  / UNIDAD"]
[null,null,null,"RECARGA DE EXTINTOR DE AFFF DE 9,5 LITROS  / UNIDAD"]
[null,null,null,"RECARGA DE EXTINTOR DE AGENTE LIMPIO HCFC DE 2500 GRAMOS / UNIDAD"]
[null,null,null,"RECARGA DE EXTINTOR DE AGENTE LIMPIO HCFC DE 3700 GRAMOS / UNIDAD"]
[null,null,null,"RECARGA DE EXTINTOR DE AGENTE LIMPIO HCFC DE 7000 GRAMOS / UNIDAD"]
[null,null,null,"RECARGA DE EXTINTOR DE AGENTE LIMPIO HCFC DE 9000 GRAMOS / UNIDAD"]
[null,null,null,"RECARGA DE EXTINTOR DE AGUA DE  2 1/2  GALONES / UNIDAD"]
[null,null,null,"RECARGA DE EXTINTOR DE AGUA DE 14 GALONES TIPO SATELITE / UNIDAD"]
[null,null,null,"RECARGA DE EXTINTOR DE CO2 DE 10 LIBRAS / UNIDAD"]
[null,null,null,"RECARGA DE EXTINTOR DE CO2 DE 100 LIBRAS / UNIDAD"]
[null,null,null,"RECARGA DE EXTINTOR DE CO2 DE 100 LIBRAS TIPO CARRETILLA / UNIDAD"]
[null,null,null,"RECARGA DE EXTINTOR DE CO2 DE 15 LIBRAS / UNIDAD"]
[null,null,null,"RECARGA DE EXTINTOR DE CO2 DE 150 LIBRAS / UNIDAD"]
[null,null,null,"RECARGA DE EXTINTOR DE CO2 DE 20 LIBRAS / UNIDAD"]
[null,null,null,"RECARGA DE EXTINTOR DE CO2 DE 5 LIBRAS / UNIDAD"]
[null,null,null,"RECARGA DE EXTINTOR DE CO2 DE 50 LIBRAS TIPO CARRETILLA / UNIDAD"]
[null,null,null,"RECARGA DE EXTINTOR POLVO QUÍMICO SECO CLASE ABC PORTÁTIL DE 10 LIBRAS / UNIDAD"]
[null,null,null,"RECARGA DE EXTINTOR POLVO QUÍMICO SECO CLASE ABC PORTÁTIL DE 20 LIBRAS / UNIDAD"]
[null,null,null,"RECARGA DE EXTINTOR POLVO QUÍMICO SECO CLASE ABC PORTÁTIL DE 30 LIBRAS / UNIDAD"]
[null,null,null,"RECARGA DE EXTINTOR POLVO QUÍMICO SECO CLASE ABC PORTÁTIL DE 5 LIBRAS / UNIDAD"]
[null,null,null,"RECARGA DE EXTINTOR POLVO QUÍMICO SECO CLASE ABC RODANTE DE 150 LIBRAS / UNIDAD"]
[null,null,null,"RECARGA DE EXTINTOR POLVO QUÍMICO SECO CLASE ABC RODANTE DE 50 LIBRAS / UNIDAD"]
[null,null,null,"RECARGA DE EXTINTOR TIPO FOAM 10 LIBRAS / UNIDAD"]
[null,null,null,"RECARGA DE EXTINTOR TIPO HALOGENO HCFC 123 ABC 10 LIBRAS / UNIDAD"]
[null,null,null,"RECARGA DE EXTINTOR TIPO K DE 2,5 GALONES  / UNIDAD"]
[null,null,null,"RECARGA DE EXTINTOR TIPO K DE 6 LITROS  / UNIDAD"]
[null,null,null,"RECARGA EXTINTOR POLVO QUÍMICO SECO CLASE ABC TIPO ROBOT DE 150 LIBRAS / UNIDAD"]
[null,null,null,"RECARGA EXTINTOR POLVO QUÍMICO SECO CLASE ABC TIPO ROBOT DE 75 LIBRAS / UNIDAD"]
[null,null,null,"RECARGA EXTINTOR POLVO QUÍMICO SECO CLASE BC TIPO ROBOT DE 150 LIBRAS / UNIDAD"]
[null,null,null,"RECARGA EXTINTOR POLVO QUÍMICO SECO CLASE BC TIPO ROBOT DE 75 LIBRAS / UNIDAD"]
[null,null,null,"REPOSICIÓN DE CORNETAS A EXTINTORES CO2 DE 4 A 150 LIBRAS / UNIDAD"]
[null,null,null,"REPOSICIÓN DE CORNETAS A EXTINTORES CO2 DE 5 A 30 LIBRAS / UNIDAD"]
[null,null,null,"REPOSICIÓN DE MAGUERA EXTINTOR BC DE 31 A 150 LIBRAS  / UNIDAD"]
[null,null,null,"REPOSICIÓN DE MAGUERA EXTINTOR BC DE 5 A 30 LIBRAS / UNIDAD"]
[null,null,null,"REPOSICIÓN DE MAGUERA EXTINTOR DE 14 GALONES TIPO SATELITE / UNIDAD"]
[null,null,null,"REPOSICIÓN DE MAGUERA EXTINTOR DE AFFF Y EXTINTOR TIPO K DE 6 LITROS A 10 LITROS / UNIDAD"]
[null,null,null,"REPOSICIÓN DE MAGUERA EXTINTOR DE AGENTE LIMPIO HCFC DE 2500 GRAMOS Y 3700 GRAMOS / UNIDAD"]
[null,null,null,"REPOSICIÓN DE MAGUERA EXTINTOR DE AGENTE LIMPIO HCFC DE 7000 GRAMOS Y 9000 GRAMOS / UNIDAD"]
[null,null,null,"REPOSICIÓN DE MAGUERA EXTINTOR DE AGUA Y EXTINTOR TIPO K DE  2 1/2  GALONES / UNIDAD"]
[null,null,null,"REPOSICIÓN DE MAGUERA EXTINTOR DE CO2 DE 31 A 150 LIBRAS / UNIDAD"]
[null,null,null,"REPOSICIÓN DE MAGUERA EXTINTOR DE CO2 DE 5 A 30 LIBRAS / UNIDAD"]
[null,null,null,"REPOSICIÓN DE MAGUERA EXTINTOR POLVO QUÍMICO SECO CLASE ABC DE 31 A 150 LIBRAS / UNIDAD"]
[null,null,null,"REPOSICIÓN DE MAGUERA EXTINTOR POLVO QUÍMICO SECO CLASE ABC DE 5 A 30 LIBRAS / UNIDAD"]
[null,null,null,"REPOSICIÓN DE MAGUERA EXTINTOR POLVO QUÍMICO SECO CLASE ABC Y CLASE BC TIPO ROBOT DE 75 Y 150 LIBRAS / UNIDAD"]
[null,null,null,"REPOSICIÓN DE MANÓMETRO EXTINTOR DE 14 GALONES TIPO SATELITE / UNIDAD"]
[null,null,null,"REPOSICIÓN DE MANÓMETRO EXTINTOR DE AFFF Y EXTINTOR TIPO K DE 6 LITROS A 10 LITROS / UNIDAD"]
[null,null,null,"REPOSICIÓN DE MANÓMETRO EXTINTOR DE AGENTE LIMPIO HCFC DE 2500 GRAMOS Y 3700 GRAMOS / UNIDAD"]
[null,null,null,"REPOSICIÓN DE MANÓMETRO EXTINTOR DE AGENTE LIMPIO HCFC DE 7000 GRAMOS Y 9000 GRAMOS / UNIDAD"]
[null,null,null,"REPOSICIÓN DE MANÓMETRO EXTINTOR DE AGUA Y EXTINTOR TIPO K DE  2 1/2  GALONES / UNIDAD"]
[null,null,null,"REPOSICIÓN DE MANÓMETRO EXTINTOR POLVO QUÍMICO SECO CLASE ABC; EXTINTOR DE CO2 Y EXTINTOR BC DE 5 A 30 LIBRAS / UNIDAD"]
[null,null,null,"REPOSICIÓN DE MANÓMETRO EXTINTOR POLVO QUÍMICO SECO CLASE ABC; EXTINTOR DE CO2, EXTINTOR BC Y EXTINTOR POLVO QUÍMICO SECO CLASE ABC Y CLASE BC TIPO ROBOT DE 31 A 150 LIBRAS / UNIDAD"]
[null,null,null,"REPOSICIÓN DE VÁLVULA EXTINTOR BC DE 31 A 150 LIBRAS / UNIDAD"]
[null,null,null,"REPOSICIÓN DE VÁLVULA EXTINTOR BC DE 5 A 30 LIBRAS / UNIDAD"]
[null,null,null,"REPOSICIÓN DE VÁLVULA EXTINTOR DE 14 GALONES TIPO SATELITE / UNIDAD"]
[null,null,null,"REPOSICIÓN DE VÁLVULA EXTINTOR DE AFFF Y EXTINTOR TIPO K DE 6 LITROS A 10 LITROS / UNIDAD"]
[null,null,null,"REPOSICIÓN DE VÁLVULA EXTINTOR DE AGENTE LIMPIO HCFC DE 2500 GRAMOS Y 3700 GRAMOS / UNIDAD"]
[null,null,null,"REPOSICIÓN DE VÁLVULA EXTINTOR DE AGENTE LIMPIO HCFC DE 7000 GRAMOS Y 9000 GRAMOS / UNIDAD"]
[null,null,null,"REPOSICIÓN DE VÁLVULA EXTINTOR DE AGUA Y EXTINTOR TIPO K DE  2 1/2  GALONES / UNIDAD"]
[null,null,null,"REPOSICIÓN DE VÁLVULA EXTINTOR DE CO2 DE 31 A 150 LIBRAS / UNIDAD"]
[null,null,null,"REPOSICIÓN DE VÁLVULA EXTINTOR DE CO2 DE 5 A 30 LIBRAS / UNIDAD"]
[null,null,null,"REPOSICIÓN DE VÁLVULA EXTINTOR POLVO QUÍMICO SECO CLASE ABC DE 31 A 150 LIBRAS / UNIDAD"]
[null,null,null,"REPOSICIÓN DE VÁLVULA EXTINTOR POLVO QUÍMICO SECO CLASE ABC DE 5 A 30 LIBRAS / UNIDAD"]
[null,null,null,"REPOSICIÓN DE VÁLVULA EXTINTOR POLVO QUÍMICO SECO CLASE ABC Y CLASE BC TIPO ROBOT DE 75 Y 150 LIBRAS / UNIDAD"]
[null,null,null,"SOPORTE DE PISO TIPO PEDESTAL PARA EXTINTOR 10LB / UNIDAD"]
[null,null,null,"SOPORTE DE PISO TIPO PEDESTAL PARA EXTINTOR 20LB / UNIDAD"]
[null,null,null,"SOPORTE DE PISO TIPO PEDESTAL PARA EXTINTOR 30LB / UNIDAD"]
[null,null,null,"TUBO SIFON EXT. PQS 10/20 LBS PVC / UNIDAD"]

{"sheet":"ListaProveedores","index":22,"n_rows":3,"n_cols":1,"rows_kept":3,"cut":false,"hidden":true,"merged":[]}
["Proveedores"]
["IMPLESEG S.A.S."]
["JM GRUPO"]

{"sheet":"Cuadro Totales","index":23,"n_rows":16,"n_cols":10,"rows_kept":16,"cut":false,"hidden":true,"merged":[[12,0,12,3],[0,0,0,5],[6,0,6,9]]}
["Valores",null,null,null,null,null,"Proveedor Ganador"]
["Precio Unitario","Valor Máximo","Subtotal","IVA","Distribución","Total","Proveedor"]
[]
["Valor Total"]
[]
[]
["Valores"]
["Precio Unitario","Valor Máximo","Descuento adicional","Valor con descuento","Subtotal","IVA","Distribución","Descuento adicional Distribución","Distribución con descuento","Total"]
[]
["Valor Total"]
[]
[]
["Valores",null,null,null,"Proveedor Ganador"]
["Valor Máximo","Subtotal","IVA","Total","Proveedor"]
[]
["Valor Total"]

{"sheet":"TablaDinamicaMinimos","index":24,"n_rows":6,"n_cols":5,"rows_kept":6,"cut":false,"hidden":true,"merged":[]}
[]
[]
[null,null,"Etiquetas de fila","Suma de VALOR"]
[null,{"$f":"$C4&$D4","v":"JM GRUPO240013.85"},"JM GRUPO",240013.85,{"$f":"VLOOKUP(B4,TempMinimos!$M:$N,2,0)","v":{"$error":"#N/A"}}]
[null,{"$f":"$C5&$D5","v":"IMPLESEG S.A.S.497334.64"},"IMPLESEG S.A.S.",497334.64,{"$f":"VLOOKUP(B5,TempMinimos!$M:$N,2,0)","v":{"$error":"#N/A"}}]
[null,null,"Total general",737348.49]

{"sheet":"TempMinimos","index":25,"n_rows":5,"n_cols":17,"rows_kept":5,"cut":false,"hidden":true,"merged":[]}
["llaveTVEC","CÓDIGO MATRIZ ","CATEGORÍA","SEGMENTO","GRUPO","ARTICULO","PROVEEDOR","VALOR","cruce","llaveSimuladorRC","Valor2","llaveSimuladorRC","TablaDinamicProveedor","Proveedor-TablaDinamica","UNIDAD DE MEDIDA","RCDistribucion","Valor3"]
["ate01-C1-009 UNO (1) N/A N/A","C1-009","UNO (1)","N/A","N/A","EXTINTOR DE AGENTE LIMPIO HCFC DE 2500 GRAMOS / UNIDAD","IMPLESEG S.A.S.",422943.32,"C1-009IMPLESEG S.A.S.","UNO (1)N/AN/AEXTINTOR DE AGENTE LIMPIO HCFC DE 2500 GRAMOS / UNIDAD",422943.32,"UNO (1)N/AN/AEXTINTOR DE AGENTE LIMPIO HCFC DE 2500 GRAMOS / UNIDADIMPLESEG S.A.S.","C1-009422943.32","IMPLESEG S.A.S.","Und","UNO (1)N/AN/AEXTINTOR DE AGENTE LIMPIO HCFC DE 2500 GRAMOS / UNIDADIMPLESEG S.A.S.",422943.32]
["ate01-C1-009 UNO (1) N/A N/A","C1-009","UNO (1)","N/A","N/A","EXTINTOR DE AGENTE LIMPIO HCFC DE 2500 GRAMOS / UNIDAD","JM GRUPO",214066.41,"C1-009JM GRUPO","UNO (1)N/AN/AEXTINTOR DE AGENTE LIMPIO HCFC DE 2500 GRAMOS / UNIDAD",214066.41,"UNO (1)N/AN/AEXTINTOR DE AGENTE LIMPIO HCFC DE 2500 GRAMOS / UNIDADJM GRUPO","C1-009214066.41","JM GRUPO","Und","UNO (1)N/AN/AEXTINTOR DE AGENTE LIMPIO HCFC DE 2500 GRAMOS / UNIDADJM GRUPO",214066.41]
["ate01-C1-076 UNO (1) N/A N/A","C1-076","UNO (1)","N/A","N/A","APLICACIÓN DE ESQUEMA DE PINTURA EXTINTOR RODANTE / UNIDAD","IMPLESEG S.A.S.",74391.320000000007,"C1-076IMPLESEG S.A.S.","UNO (1)N/AN/AAPLICACIÓN DE ESQUEMA DE PINTURA EXTINTOR RODANTE / UNIDAD",74391.320000000007,"UNO (1)N/AN/AAPLICACIÓN DE ESQUEMA DE PINTURA EXTINTOR RODANTE / UNIDADIMPLESEG S.A.S.","C1-07674391.32","IMPLESEG S.A.S.","Und","UNO (1)N/AN/AAPLICACIÓN DE ESQUEMA DE PINTURA EXTINTOR RODANTE / UNIDADIMPLESEG S.A.S.",74391.320000000007]
["ate01-C1-076 UNO (1) N/A N/A","C1-076","UNO (1)","N/A","N/A","APLICACIÓN DE ESQUEMA DE PINTURA EXTINTOR RODANTE / UNIDAD","JM GRUPO",25947.439999999999,"C1-076JM GRUPO","UNO (1)N/AN/AAPLICACIÓN DE ESQUEMA DE PINTURA EXTINTOR RODANTE / UNIDAD",25947.439999999999,"UNO (1)N/AN/AAPLICACIÓN DE ESQUEMA DE PINTURA EXTINTOR RODANTE / UNIDADJM GRUPO","C1-07625947.44","JM GRUPO","Und","UNO (1)N/AN/AAPLICACIÓN DE ESQUEMA DE PINTURA EXTINTOR RODANTE / UNIDADJM GRUPO",25947.439999999999]